{"text_format":"3","workbook":"xlsx","n_sheets":18,"sheets":["Presentación","Caracterización","Consulta de Rangos","Consulta de Potencial","Calificación Pública","ResParcial Publico","Resultados Pública","Calificación Privada","ResParcial Privada","Resultados Privada","Calificación Mixta","ResParcial Mixta","Resultados Mixta","Calificación Comunidad","ResParcial Comunidad","Resultados Comunidad","Rangos","Fortalezas_y_Debilidades"],"not_rendered":{"charts":4,"images":5,"macros":1,"external_links":1,"defined_names":76,"comments":2},"read":"whole","date_system":"1900"}

{"sheet":"Presentación","index":0,"n_rows":0,"n_cols":0,"rows_kept":0}

{"sheet":"Caracterización","index":1,"n_rows":77,"n_cols":11,"rows_kept":77,"merged":[[0,0,0,11],[1,0,1,3],[3,1,3,2],[3,3,4,4],[6,0,7,0],[74,0,76,0]]}
["Datos Generales de las Comunidades a Calificar"]
["🔍 ¿Qué hacer aquí?\nIngresa la información general de caracterización de las comunidades energéticas que deseas evaluar y responde las preguntas que permitiran identificar fortalezas y debilidades de las comunidades.\nImportante: Diligencia únicamente las celdas sombreadas en azul/gris.\n\nCuando hayas diligenciado toda la información ... ve a \"Ahora califica las comunidades\" \nCalifica las comunidades en los indicadores para la priorización. Se recomienda solamente calificar las comunidades que obtuvieron más fortalezas, sin embargo queda a discresión del evaluador. \n\n💡 Esta información es clave para la priorización posterior, por eso es muy importante que diligencies toda la información"]
[]
["Nombre o Razón social de la entidad evaluadora ",null,null,{"$f":"HYPERLINK(\"#'Calificación \"&C5&\"'!j7\",\"Ahora califica las comunidades!\")","v":"Ahora califica las comunidades!"}]
["Seleccione el caracter de la empresa o institución evaluadora",null,"Pública"]
[]
["Información básica de la comunidad","Comunidad 1","Comunidad 2","Comunidad 3","Comunidad 4","Comunidad 5","Comunidad 6","Comunidad 7","Comunidad 8","Comunidad 9","Comunidad 10"]
[null,"C1","C2","C3","C4","C5","C6","C7","C8","C9","C10"]
["Fecha de Registro"]
["Departamento \n(Selecciona la opción - Es obligatorio para priorizar)","Tolima","Bogotá, D.C","Caldas","Antioquia","Antioquia","La Guajira","Norte de Santander","Bogotá, D.C","San Andrés y Providencia","Valle del Cauca"]
["Nombre del Municipio \n(Selecciona la opción - Es obligatorio para priorizar)","Casabianca","Bogotá, D.C.","La Dorada","Maceo","Abriaquí","Riohacha","Bochalema","Bogotá, D.C.","San Andrés","Bugalagrande"]
["Número de Identificación ",{"$f":"_xlfn.XLOOKUP(B11,'Consulta de Potencial'!$C$14:$C$1134,'Consulta de Potencial'!$A$14:$A$1134)","v":405},{"$f":"_xlfn.XLOOKUP(C11,'Consulta de Potencial'!$C$14:$C$1134,'Consulta de Potencial'!$A$14:$A$1134)","v":337},{"$f":"_xlfn.XLOOKUP(D11,'Consulta de Potencial'!$C$14:$C$1134,'Consulta de Potencial'!$A$14:$A$1134)","v":565},{"$f":"_xlfn.XLOOKUP(E11,'Consulta de Potencial'!$C$14:$C$1134,'Consulta de Potencial'!$A$14:$A$1134)","v":741},{"$f":"_xlfn.XLOOKUP(F11,'Consulta de Potencial'!$C$14:$C$1134,'Consulta de Potencial'!$A$14:$A$1134)","v":756},{"$f":"_xlfn.XLOOKUP(G11,'Consulta de Potencial'!$C$14:$C$1134,'Consulta de Potencial'!$A$14:$A$1134)","v":1048},{"$f":"_xlfn.XLOOKUP(H11,'Consulta de Potencial'!$C$14:$C$1134,'Consulta de Potencial'!$A$14:$A$1134)","v":842},{"$f":"_xlfn.XLOOKUP(I11,'Consulta de Potencial'!$C$14:$C$1134,'Consulta de Potencial'!$A$14:$A$1134)","v":337},{"$f":"_xlfn.XLOOKUP(J11,'Consulta de Potencial'!$C$14:$C$1134,'Consulta de Potencial'!$A$14:$A$1134)","v":1050},{"$f":"_xlfn.XLOOKUP(K11,'Consulta de Potencial'!$C$14:$C$1134,'Consulta de Potencial'!$A$14:$A$1134)","v":247}]
["Nombre de lider o responsable de la Comunidad "]
["Correo Electrónico de Contacto"]
["Teléfono de Contacto"]
["Tipo de tarifa por usuario \n(Selecciona la opción)","Residencial","Residencial","Residencial","Residencial","Residencial","Residencial","Residencial","Residencial","Residencial","Residencial"]
["Si la opción es otra, indique el tipo de tarifa por usuario"]
["¿Cómo está constituida la organización social/comunitaria? \n(Selecciona la opción) \n\nAsociación de Autoridades Tradicionales: Organización formada por líderes tradicionales que representan los usos y costumbres de comunidades indígenas.\nAsociación de Productores: Grupo organizado de personas que se unen para gestionar y promover actividades productivas específicas, como agrícolas o artesanales.\nAsociación de Usuarios: Entidad conformada por personas que comparten el uso de un servicio o recurso común, organizada para gestionar su acceso y uso.\nCabildo: Estructura de gobierno tradicional indígena que administra los asuntos de una comunidad según su cultura y leyes propias.\nConsejo Comunitario: Organización afrodescendiente encargada de la administración colectiva de su territorio, reconocida por la ley en Colombia.\nCooperativa: Organización autónoma de personas que se asocian voluntariamente para satisfacer necesidades comunes a través de una empresa conjunta y democráticamente gestionada.\nCorporación: Entidad jurídica sin ánimo de lucro que reúne a personas con intereses comunes para promover actividades culturales, sociales o económicas.\nEmpresa Comunitaria Prestadora: Organización creada para prestar servicios públicos o comunitarios, gestionada por la comunidad local.\nJunta de Acción Comunal: Organización de base que representa y gestiona las necesidades de una comunidad en áreas urbanas o rurales.\nResguardo: Territorio de propiedad colectiva administrado por comunidades indígenas bajo un sistema de autogobierno reconocido legalmente.","Asociación de productores","Seleccione...","Seleccione...","Seleccione...","Seleccione...","Seleccione...","Seleccione...","Seleccione...","Seleccione...","Seleccione..."]
["Estado actual de la comunidad energética (Resolución 40136 de 2024) \n(Selecciona la opción)\n\nComunidades Energéticas Iniciales: Aquellas que suministren información del Contrato o convenio asociativo (Art. 3, numeral 1), cumpliendo con la información mínima indicada en dicho numeral. \nComunidades Energéticas en Operación: Aquellas que suministren la información de todos los numerales del artículo 3 de la Resolución 40136 de 2024.","Inicial","En operación","Seleccione...","Seleccione...","Seleccione...","Seleccione...","Seleccione...","Seleccione...","Seleccione...","Seleccione..."]
["Tipo de energía a implementar en la comunidad \n(Selecciona la opción - Es obligatorio para priorizar)\n\nBiomasa vegetal: Energía obtenida de residuos o productos de origen vegetal, como madera, cáscaras y residuos agrícolas.\nBiomasa animal: Energía generada a partir de desechos orgánicos de origen animal, como estiércol o grasas.\nEólica: Energía producida mediante la conversión del viento en electricidad utilizando aerogeneradores.\nHídrica: Energía generada a partir del movimiento del agua, usualmente en ríos o embalses, mediante turbinas.\nFotovoltaica: Energía eléctrica obtenida a partir de la conversión de la luz solar mediante paneles solares.\nMixta: Sistema que combina dos o más tipos de energías renovables para optimizar la generación y el consumo energético.","Biomasa vegetal","Biomasa vegetal","Biomasa vegetal","Biomasa vegetal","Biomasa vegetal","Biomasa vegetal","Biomasa vegetal","Biomasa vegetal","Biomasa vegetal","Biomasa vegetal"]
["Actividad de la comunidad (ver definiciones del decreto 2236 de 2023)\n(Selecciona la opción)\n\nAutogeneración colectiva (AGRC): Actividad realizada por la comunidad energética que produce energía, principalmente, para atender su propia demanda de energía. En el evento en que se generen excedentes de energía a partir de tal actividad, estos podrán entregarse a la red, en los términos que establezca la Comisión de Regulación de Energía y Gas (CREG) para tal fin.\n\nGeneración Distribuida Colectiva (GDC): Es la producción de energía eléctrica realizada por la comunidad energética, cerca de los centros de consumo, conectada a un sistema de distribución local (SDL) o a una microrred. La entrega de la energía al Sistema de Distribución Local (SDL) se rige bajo la regulación que establezca la Comisión de Regulación de Energía y Gas (CREG) para tal fin, dentro del plazo de tres (3) meses siguientes a la expedición del presente decreto.","Autogeneración colectivo","Seleccione...","Seleccione...","Seleccione...","Seleccione...","Seleccione...","Seleccione...","Seleccione...","Seleccione...","Seleccione..."]
["¿Cuál es la capacidad estimada de generación de energía del proyecto? (Kwh)"]
["¿Cuántos miembros tiene la comunidad?"]
["Cuota de autoconsumo comunitario (Es la proporción de la energía generada por la comunidad energética que se utiliza de manera compartida para satisfacer necesidades comunes, como alumbrado público, servicios colectivos o actividades productivas) \nSi es generación distribuida indique no aplica"]
["¿A qué distancia en km se encuentra la comunidad o usuarios finales a la planta de generación de energía eléctrica? \nMide la distancia física entre la zona donde está ubicada la comunidad energética y la planta. Esto permite comparar entre las comunidades. "]
["¿A qué distancia en km se encuentra el punto de conexión de energía eléctrica a la planta de generación de energía eléctrica? \nMide la distancia física entre la zona donde está ubicada la comunidad energética y la planta. (Se sugiere realizar consultas a entidades locales para conocer cual es la plant amás cercana) "]
["Características del área dónde se ubica la comunidad"]
["Descripción del área (Ha)"]
["Vereda/ Referencia de dónde de ubica el área"]
["Localización (Longitud x)"]
["Localización (Latitud y)"]
["¿Cómo definiría la topografía del área donde se establecerá el proyecto?\n(Selecciona la opción)\n\nPlana: Terreno con poca o ninguna inclinación, ideal para construcción y fácil acceso.\nOndulada: Terreno con inclinaciones suaves y áreas ligeramente elevadas o deprimidas.\nEmpinada: Terreno con inclinaciones pronunciadas que dificultan el acceso y la construcción.","Seleccione...","Seleccione...","Seleccione...","Seleccione...","Seleccione...","Seleccione...","Seleccione...","Seleccione...","Seleccione...","Seleccione..."]
["¿Qué uso de suelo tiene hoy el área ofertada?\n(Selecciona la opción)","Rural","Seleccione...","Seleccione...","Seleccione...","Seleccione...","Seleccione...","Seleccione...","Seleccione...","Seleccione...","Seleccione..."]
["Aspectos socioeconómicos y ambientales"]
["¿Cuál es el ingreso promedio mensual de los hogares? SMMLV"]
["¿La comunidad está en zona de áreas protegidas o reservas naturales? \n(Consulte mapa de potencial para seleccionar la opción)","Sí está en área protegida","No está en área protegida ","Seleccione ...","Seleccione ...","Sí está en área protegida","Seleccione ...","No está en área protegida ","Seleccione ...","Seleccione ...","Seleccione ..."]
["¿La comunidad está en zona no interconectada ZNI? "]
["Estratificación (Variable incluida para focalizar a aquellas comunidades de zonas urbanas y centros poblados cuyos miembros se encuentren en estratificación 1, 2 y 3 cuando sea el caso, del territorio nacional) ","Seleccione...","Seleccione...","Seleccione...","Seleccione...","Seleccione...","Seleccione...","Seleccione...","Seleccione...","Seleccione...","Seleccione..."]
["Aspectos financieros"]
["¿Cuál es el costo total del proyecto? (COP)",50]
["Nivel de inversión que puede aportar la comunidad (porcentaje del monto total del proyecto que puede aportar la comunidad)",{"v":0,"d":"0.00%"}]
["Porcentaje de los costos de capital que se requiere sean cubiertos por donaciones y ayudas externas. (Porcentaje de los costos totales del proyecto cubiertos mediante apoyo externo, como donaciones.)\nEs un valor automático = 100% - Nivel de inversión que puede aportar la comunidad",{"$f":"100%-B41","v":{"v":1,"d":"100.00%"}}]
["Fortalezas y Debilidades (selecciona SI o NO en cada pregunta para cada una de las comunidades "]
["Ambiental: ¿Se han realizado estudios de impacto ambiental para asegurar que la infraestructura no afecta negativamente al entorno natural?","Si","Si","Si","Si","Si","Si","Si","Si","Si","Si"]
["Ambiental: ¿La Comunidad Energética ya tiene identificado los permisos ambientales y la gestión administrativa que se requiere para la implementación del proyecto","Si","Si","Si","Si","Si","Si","Si","Si","Si","Si"]
["Económica: ¿Existe capacidad y disposición de los miembros de la comunidad para financiar parcialmente el proyecto?","Si","Si","Si","Si","Si","Si","Si","Si","Si","Si"]
["Económica: ¿La comunidad cuenta con algún ente financiador o acceso a recursos para llevar a cabo el proyecto de generación de energía?","Si","Si","Si","Si","Si","Si","Si","Si","Si","Si"]
["Social: ¿Hay disposición por parte de los miembros de la comunidad para participar en actividades de voluntariado relacionadas con el proyecto?","Seleccione...","Seleccione...","Seleccione...","Seleccione...","Seleccione...","Seleccione...","Seleccione...","Seleccione...","Seleccione...","Seleccione..."]
["Social: ¿La comunidad cuenta con experiencias previas que reflejen cohesión y organización social para implementar proyectos similares? (Identificar si existen iniciativas comunitarias previas y evaluar su éxito o las razones de su fracaso).","Si","Si","Si","Si","Si","Si","Si","Si","Si","Si"]
["Social:  ¿La comunidad incluye poblaciones de especial protección constitucional* o comunidades étnicas?\n*Entre los grupos de especial protección se encuentran los niños, los ancianos, los disminuidos físicos, síquicos y sensoriales, las mujeres cabeza de familia, las personas desplazadas por la violencia, y aquellas que se encuentran en extrema pobreza .","Si","Si","Si","Si","Si","Si","Si","Si","Si","Si"]
["Social:  ¿Se observa una activa participación femenina en las actividades comunitarias?","Si","Si","Si","Si","Si","Si","Si","Si","Si","Si"]
["Social: ¿Se han cuantificado los beneficios a los miembros de la comunidad, en términos de acceso a energía, generación de empleo o mejoras de infraestructura?","Si","Si","Si","Si","Si","Si","Si","Si","Si","Si"]
["Social:  ¿Se tienen estructuradas actividades educativas sobre energías renovables, eficiencia energética y la importancia de la participación en el proyecto?","Si","Si","Si","Si","Si","Si","Si","Si","Si","Si"]
["Social: ¿Existe un sistema de gobernanza establecido y están definidos los mecanismos de participación en el área donde se implementará la comunidad energética?","Si","Si","Si","Si","Si","Si","Si","Si","Si","Si"]
["Social: ¿Están definidas las formas de distribución de la energía y las actividades de la Comunidad Energética, desde su uso hasta la distribución de los beneficios?","Si","Si","Si","Si","Si","Si","Si","Si","Si","Si"]
["Normativa: ¿Se dispone de una regulación adecuada para el almacenamiento de energía?","Si","Si","Si","Si","Si","Si","Si","Si","Si","Si"]
["Normativa: ¿Alguna institución externa apoya o respalda la comunidad en el desarrollo del proyecto?","Si","Si","Si","Si","Si","Si","Si","Si","Si","Si"]
["Normativa: ¿La comunidad tiene acceso a asesoramiento legal para cumplir con los trámites normativos? ","Si","Si","Si","Si","Si","Si","Si","Si","Si","Si"]
["Normativa: ¿Se cuenta con permisos de uso de suelo y otros derechos para instalar las infraestructuras de generación de energía?","Si","Si","Si","Si","Si","Si","Si","Si","Si","Si"]
["Normativa: ¿La Comunidad Energética está o se encuentra en proceso de estar reconocida legalmente como entidad jurídica (asociación, cooperativa o consorcio)?","Si","Si","Si","Si","Si","Si","Si","Si","Si","Si"]
["Técnica: ¿El circuito de distribución local tiene capacidad para soportar la generación estimada (límite del 50%)?","Si","Si","Si","Si","Si","Si","Si","Si","Si","Si"]
["Técnica: ¿En la Comunidad se cuentan con espacios accesibles para la instalación de infraestructura requerida para la generación de energía?","No","Si","No","No","No","No","No","No","No","No"]
["Técnica: ¿Se han evaluado los posibles riesgos financieros, operativos y/o sociales que pueden afectar el funcionamiento de la Comunidad Energética?","No sé","No sé","No sé","No sé","No sé","No sé","No sé","No sé","No sé","No sé"]
["¿La comunidad presenta deudas con la empresa prestadora de servicios públicos?","No","No","Si","No","No","No","No","No","No","No"]
["¿La comunidad cuenta con vías de acceso adecuadas para el transporte de insumos y equipos necesarios para el proyecto?","No","No","No","No","No","No","No","No","No","No"]
["Especifique si las vías son pavimentadas, de tierra o trochas, y su estado actual."]
["¿Existen antecedentes o situaciones actuales de conflicto armado en la región que puedan afectar el desarrollo del proyecto?","No","No","No","No","No","No","No","No","No","No"]
["¿La comunidad tiene acceso a internet de banda ancha o conexiones limitadas?","No","No","No","No","No","No","No","No","No","No"]
["Seleccione el tipo de acceso acceso residencial y comunitario)."]
["¿Existe cobertura de señal celular en la comunidad para servicios básicos de comunicación?","No","No","No","No","No","No","No","No","No","No"]
["(Especificar si la cobertura incluye GSM únicamente o también acceso a datos móviles)."]
["Porcentaje Fortalezas ",{"$f":"COUNTIF(B$44:B$71, \"Si\") / COUNTA(B$44:B$71)","v":{"v":0.68,"d":"68%"}},{"$f":"COUNTIF(C$44:C$71, \"Si\") / COUNTA(C$44:C$71)","v":{"v":0.72,"d":"72%"}},{"$f":"COUNTIF(D$44:D$71, \"Si\") / COUNTA(D$44:D$71)","v":{"v":0.72,"d":"72%"}},{"v":0.68,"d":"68%"},{"v":0.68,"d":"68%"},{"v":0.68,"d":"68%"},{"v":0.68,"d":"68%"},{"v":0.68,"d":"68%"},{"v":0.68,"d":"68%"},{"v":0.68,"d":"68%"}]
["Porcentaje Debilidades ",{"$f":"COUNTIF($B$44:$B$64, \"No\") / COUNTA($B$44:$B$64)","v":{"v":0.09523809523809523,"d":"10%"}},{"v":0.09523809523809523,"d":"10%"},{"v":0.09523809523809523,"d":"10%"},{"v":0.09523809523809523,"d":"10%"},{"v":0.09523809523809523,"d":"10%"},{"v":0.09523809523809523,"d":"10%"},{"v":0.09523809523809523,"d":"10%"},{"v":0.09523809523809523,"d":"10%"},{"v":0.09523809523809523,"d":"10%"},{"v":0.09523809523809523,"d":"10%"}]
["Porcentaje Desconocimiento",{"$f":"COUNTIF(B$44:B$71, \"No Sé\") / COUNTA(B$44:B$71)","v":{"v":0.04,"d":"4%"}},{"$f":"COUNTIF(C$44:C$71, \"No Sé\") / COUNTA(C$44:C$71)","v":{"v":0.04,"d":"4%"}},{"v":0.04,"d":"4%"},{"v":0.04,"d":"4%"},{"v":0.04,"d":"4%"},{"v":0.04,"d":"4%"},{"v":0.04,"d":"4%"},{"v":0.04,"d":"4%"},{"v":0.04,"d":"4%"},{"v":0.04,"d":"4%"}]
["🔍 ¿Cómo interpretar el resultado? \n Para las comunidades con color verde se recomienda continuar con la calificación, sin embargo queda a discresión de quien esta evaluando ","Verde:  Más del 70% son fortalezas"]
[null,"Amarillo:  Más del 50% son fortalezas "]
[null,"Rojo:  Menos del 50% son fortalezas"]

{"sheet":"Consulta de Rangos","index":2,"n_rows":46,"n_cols":43,"rows_kept":46,"merged":[[0,0,0,11],[1,0,1,9],[2,1,2,2],[2,4,3,5],[3,1,3,2],[4,0,4,6]]}
["Consulta de Variables",{"$nulls":34},{"$f":"_xlfn.XLOOKUP(B4,B8:B56,C8:J56)","v":"El periodo de tiempo necesario para que las ganancias acumuladas de un proyecto igualen el costo total de la inversión. "},"Obligatorio","Cuantitativa","Años","> 15 años","10-15 años","6-10 años","< 6 años"]
["Bienvenido a la sección de consulta de indicadores de la herramienta. Aquí puedes obtener información detallada sobre cada una de ellas.\nSelecciona a continuación el tipo y el indicador de tu interés, la información correspondiente aparecerá automáticamente a continuación."]
["Tipo de indicador","Económico",null,null,{"$f":"HYPERLINK(\"#'Calificación \"&Caracterización!$C$5&\"'!j7\",\"Regresa a la calificación\")","v":"Regresa a la calificación"}]
["Indicador","Tiempo de retorno de la inversión"]
[{"$f":"\"El indicador: \"&B4&\", se define como: \"&AJ1&CHAR(10)&\"Se considera un indicador \"&AK1&CHAR(10)&\"Es una variable \"&AL1&\". Sus unidades son: \"&AM1&CHAR(10)&\"Los niveles de priorización son: \"&CHAR(10)&G7&\": \"&AN1&CHAR(10)&H7&\": \"&AO1&CHAR(10)&I7&\": \"&AP1&CHAR(10)&J7&\": \"&AQ1","v":"El indicador: Tiempo de retorno de la inversión, se define como: El periodo de tiempo necesario para que las ganancias acumuladas de un proyecto igualen el costo total de la inversión. \nSe considera un indicador Obligatorio\nEs una variable Cuantitativa. Sus unidades son: Años\nLos niveles de priorización son: \n1 - Nivel Rojo: > 15 años\n2 - Nivel Naranja: 10-15 años\n3 - Nivel Amarillo: 6-10 años\n4 - Nivel Verde: < 6 años"}]
[]
["Categoría","Indicador / Criterios","Definición","Opcional/ Obligatoria","Tipo de variable","Unidades","1 - Nivel Rojo","2 - Nivel Naranja","3 - Nivel Amarillo","4 - Nivel Verde"]
["Ambiental"," EROI (tasa de retorno energético)","Mide la relación entre la energía obtenida de un proyecto y la energía invertida para producirla. Un valor mayor indica mayor eficiencia energética. (Relación de energía generada/energía invertida)","Opcional","Cuantitativa","Adimensional","< 3","3-5","5-10","> 10 ",{"$nulls":22},{"$f":"_xlfn.UNIQUE(A8:A51)","v":"Ambiental"},{"$f":"IF(B3=\"Seleccione…\",\"\",_xlfn._xlws.FILTER($B$8:$B$61,$A$8:$A$61=B3))","v":"Ahorro monetario del usuario en la factura eléctrica"}]
["Ambiental","Reducción anual de gases de efecto invernadero","Reducción estimada de gases de efecto invernadero (CO2e) que se espera reducir cada año debido al cambio en la fuene de energía.","Opcional","Cuantitativa","Porcentaje (%)","< 10% reducción","10%-20% reducción","20%-30% reducción","> 30% reducción",{"$nulls":22},"Económico","Coste de generación de energía ($/MWh)"]
["Ambiental","Territorios de alta dependencia de carbón térmico","Variable incluida para focalizar aquellas comunidades ubicadas en entes territoriales cuya estructura económica muestre altos grados de dependencia de la explotación de carbón térmico, bien sea para la exportación de este mineral o para su uso interno en el país, conforme lo informado por la Unidad de Planeación Minero-Energética (UPME) en el portal del Sistema de Información Minero Colombiano (SIMCO).","Opcional","Cuantitativa","Porcentaje (%)","< 10% dependencia","10%-20% dependencia","20%-30% dependencia","> 30% dependencia",{"$nulls":22},"Legislativo/ normativo","La comunidad realiza el pago por servicio de energía de manera cumplida"]
["Económico","Ahorro monetario del usuario en la factura eléctrica","Ahorros monetarios que experimenta el usuario final al formar parte de la Comunidad Energética (CEC) y consumir energía renovable.","Obligatorio","Cuantitativa","Porcentaje (%)","< 10% ahorro","10%-20% ahorro","20%-30% ahorro","> 30% ahorro",{"$nulls":22},"Social","Tiempo de retorno de la inversión"]
["Económico","Coste de generación de energía ($/MWh)","Mide el costo promedio de producir energía eléctrica desde el Sistema Interconectado Nacional (SIN). Este costo incluye los gastos de inversión inicial, operación, mantenimiento y combustibles asociados a la generación de un megavatio-hora (MWh).","Obligatorio","Cuantitativa","USD/MWh","< 230 USD/MWh","230-250 USD/MWh"," 250-280 USD/MWh","> 280 USD/MWh",{"$nulls":22},"Técnico","Tasa interna de rentabilidad (TIR)"]
["Económico","La comunidad realiza el pago por servicio de energía de manera cumplida","Porcentaje de usuarios de la comunidad energética que realizan el pago del servicio energético de manera regular y dentro de los plazos establecidos.","Obligatorio","Porcentual","Porcentaje de Usuarios (%)","> 60% ","40%-60% ","20%-40% ","< 20% ",{"$nulls":22},0,"Identificación de fuentes de financiación alternativas viables"]
["Económico","Tiempo de retorno de la inversión","El periodo de tiempo necesario para que las ganancias acumuladas de un proyecto igualen el costo total de la inversión. ","Obligatorio","Cuantitativa","Años","> 15 años","10-15 años","6-10 años","< 6 años",{"$nulls":23},"Capacidad de cofinanciación local"]
["Económico","Tasa interna de rentabilidad (TIR)","Medida de la rentabilidad de una inversión. ","Obligatorio","Cuantitativa","Porcentaje (%)","< 5%","5%-7% ","7%-10%","> 10%",{"$nulls":23},"Capacidad y voluntad de los miembros de la comunidad para financiar el proyecto"]
["Económico","Identificación de fuentes de financiación alternativas viables","Mide la existencia y diversidad de fuentes de financiación alternativas (subsidios, donaciones, préstamos) para el proyecto.","Obligatorio","Cualitativa","Categórica","No se han identificado fuentes alternativas viables.","Identificación limitada con alta dependencia de una fuente.","Identificación moderada con al menos dos fuentes viables.","Identificación robusta con múltiples fuentes viables y diversificadas.",{"$nulls":23},"Costos energéticos promedio por usuario"]
["Económico","Capacidad de cofinanciación local","Evalúa el porcentaje de recursos que la comunidad puede aportar para financiar el proyecto.","Obligatorio","Cuantitativa","Porcentaje (%)","< 10% ","10%-30% ","30%-50% ","> 50% "]
["Económico","Capacidad y voluntad de los miembros de la comunidad para financiar el proyecto","Grado en que los miembros de la comunidad pueden y desean contribuir financieramente al proyecto.","Opcional","Cuantitativa","% miembros de la comunidad","< 15% ","15%-30% ","30%-50% ","> 50% "]
["Económico","Costos energéticos promedio por usuario","Promedio de gastos en energía por hogar en la comunidad evaluada.","Opcional","Cuantitativa","$ COP/ vivienda","< 40.000 COP","40.000-80.000 COP","80.000-120.000","> 120.000 COP"]
["Legislativo/ normativo","Disposición de instituciones externas para representar a la comunidad energética ","Evalúa cualitativamente la disposición de instituciones externas para representar formalmente a una comunidad energética en aspectos legales, técnicos, financieros o de gobernanza.","Obligatorio","Cualitativa","Categórica","Baja disposición","Media disposición","Alta disposición","Muy alta disposición"]
["Legislativo/ normativo","¿Se cuenta con avances en lineamientos para la distribución y almacenamiento de energía? Autoconsumo","Existencia de lineamiento  que faciliten el autoconsumo y el almacenamiento energético en la comunidad.","Obligatorio","Cualitativa","Categórica","Sin avances regulatorios","Avances iniciales","Avances moderados","Lineamientos establecidos"]
["Legislativo/ normativo","Políticas de Inclusión de Género en la Gobernanza de las Comunidades Energéticas","Evalúa la existencia, alcance y efectividad de medidas específicas orientadas a promover la inclusión de género en la gobernanza de las comunidades energéticas. ","Obligatorio","Cualitativa","Categórica","Sin medidas de inclusión","Avances iniciales en medidas","Medidas parcialmente implementadas","Medidas plenamente implementadas"]
["Legislativo/ normativo","Facilidad de trámites y permisos","Evalúa el nivel de complejidad, costo y tiempo necesario para obtener permisos legales y normativos para el proyecto.","Obligatorio","Cualitativa","Categórica","Procesos complejos, costosos y prolongados \n(> 12 meses)","Procesos moderadamente complejos \n(6-12 meses)","Procesos simplificados \n(3-6 meses)","Procesos rápidos y accesibles \n(< 3 meses)"]
["Social","Participación Femenina en la Comunidad Energética","Nivel de involucramiento de las mujeres en las actividades y decisiones de la comunidad energética.","Obligatorio","Cuantitativa","Porcentaje de mujeres en la comunidad (%)","< 20% ","20%-35% ","35%-50% ","> 50% "]
["Social","Población de especial protección constitucional del sector Paz (víctimas, personas en proceso de reincorporación)","Variable incluida para focalizar poblacionalmente a aquellas comunidades que en su constitución cuente con personas registradas en el Registro Único de Víctimas (RUV), conforme a los parámetros establecidos en la Ley 1448 de 2011, o que hayan sido reconocidas como sujetos de reparación colectiva, así como personas que se encuentren activas en el proceso de reincorporación de acuerdo con el Acto Legislativo 001 del 2017 y su normatividad regulatoria.","Obligatorio","Cuantitativa","Porcentaje (%)","< 30% ","30%-40% ","40%-60% ","> 60% "]
["Social","Presencia de comunidades étnicas","Variable incluida para focalizar poblacionalmente a aquellas comunidades que en su constitución cuenten con personas o comunidades autorreconocidas como étnicas según el Censo Nacional de Población y Vivienda, y/o el último registro que dé cuenta de la población étnica con fuente DANE, y lo que en la materia haya dispuesto el Ministerio del Interior.","Obligatorio","Cualitativa","Categórica","Sin presencia de comunidades étnicas","Moderada presencia de comunidades étnicas","Alta presencia de comunidades étnicas","Corresponde a una comunidad étnica"]
["Social","Territorios colectivos de pueblos originarios o comunidades indígenas","Variable incluida para focalizar a aquellas comunidades ubicadas en estos territorios legalmente establecidos.","Obligatorio","Cualitativa","Categórica","Sin presencia de comunidades indígenas","Moderada presencia de comunidades indígenas","Alta presencia de comunidades indígenas","Corresponde a una comunidad indígena"]
["Social","Territorios de Antiguos espacios territoriales de capacitación y reincorporación y áreas especiales de reincorporación colectiva","Variable incluida para focalizar a aquellas comunidades ubicadas en los AETCR en los cuales residen firmantes del Acuerdo Final de Paz, sus familias y comunidades contemplados en Decreto número 1274 del 2017, y de las AERC contemplados en el decreto del Programa de Reincorporación Integral.","Obligatorio","Cualitativa","Categórica","Sin presencia de comunidades","Moderada presencia de comunidades","Alta presencia de comunidades","Corresponde a una comunidad "]
["Social","Territorios de Paz","Variable incluida para focalizar a aquellas comunidades ubicadas en entidades territoriales que están contempladas en el Programa de Desarrollo con Enfoque Territorial (PDET) y en las Zonas Más Afectadas por el Conflicto Armado (ZOMAC) que se constituyen dentro del marco para la paz, en relación con lo establecido por la Ley 2272 de 2022 “Ley de Paz Total”.","Obligatorio","Cualitativa","Categórica","Sin proyectos de paz","Proyectos en planeación","Proyectos implementados","Proyectos activos"]
["Social","Territorios de Sistema Nacional de la Reforma Agraria y Desarrollo Rural, entre otras","Variable incluida para focalizar a aquellas comunidades ubicadas en territorios constituidos en el marco de los términos de la Ley 160 de 1994 o demás normas concordantes o las normas que lo modifiquen o complementen.","Obligatorio","Cualitativa","Categórica","No están priorizados","Priorización en fase de planeación","Priorización en etapas iniciales","Priorización avanzada"]
["Social","Redes de cooperación intercomunitaria","Grado de colaboración entre la comunidad y otras localidades o instituciones.","Obligatorio","Cualitativa","Categórica","No existen redes de cooperación.","Cooperación limitada y ocasional.","Cooperación moderada con al menos dos comunidades o instituciones.","Cooperación activa y sólida con múltiples comunidades o instituciones."]
["Social","Transparencia de los datos","Grado de acceso y claridad de la información del proyecto proporcionada a la comunidad.","Obligatorio","Cualitativa","Categórica","No existe acceso a datos","Información limitada y poco clara.","Información moderadamente accesible y clara.","Información completamente accesible, clara y actualizada."]
["Social","¿Cómo es la relación entre los miembros de la comunidad y las instituciones públicas y privadas pertinentes?","Evaluar la calidad de las interacciones entre la comunidad y las instituciones que podrían apoyar el proyecto.","Opcional","Cuantitativa","% miembros de la comunidad que considerar que su relación con las instituciones es buena","< 30% ","30%-50% ","50%-70% ","> 70% "]
["Social","¿Están dispuestos los miembros de la comunidad a invertir tiempo en actividades comunitarias de voluntariado?","Grado de disposición de los miembros de la comunidad para contribuir con tiempo y esfuerzo al proyecto.","Opcional","Cuantitativa","Porcentaje de miembros de la comunidad (%)","< 15% ","15%-30% ","30%-50% ","> 50% "]
["Social","¿Los techos o superficies de tierra potencialmente viables son propiedad de los miembros de la comunidad?","Evaluación de la titularidad de las áreas donde se implementará el proyecto.","Opcional","Cuantitativa","Porcentaje (%)","Ninguna superficie viable es de propiedad comunitaria.","Menos del 50% de las superficies viables son de propiedad comunitaria.","Entre 50%-80% de las superficies viables son de propiedad comunitaria.","> 80% de las superficies viables son de propiedad comunitaria."]
["Social","Aceptación del usuario","Grado de aprobación de los usuarios hacia el proyecto energético propuesto.","Opcional","Cuantitativa","Porcentaje (%)","< 50% aceptación","50%-60% aceptación","60-70% aceptación","> 70% aceptación"]
["Social","Impacto de las Iniciativas Energéticas en las Mujeres de la Comunidad","Evaluación de los beneficios específicos que las mujeres obtendrán del proyecto energético.","Opcional","Cuantitativa","Porcentaje de mujeres esperado que pueden obtener empleo en estos proyectos (%)","< 30% ","30%-40% ","40%-60% ","> 60% "]
["Social","Cumplimiento de consultas previas","Verificar si se han realizado las consultas previas requeridas por la normativa legal en la comunidad.","Opcional","Cualitativa","Categórica","No se han realizado consultas previas","Consultas previas en proceso","Consultas previas completamente realizadas, no documentadas","Consultas previas completamente realizadas y documentadas"]
["Social","Capacitación en Energías Renovables con Enfoque de Género","Formación técnica ofrecida a los miembros de la comunidad, garantizando la inclusión equitativa de género.","Opcional","Cualitativa","Categórica","No se han realizado capacitaciones","Capacitaciones no completadas ","Capacitaciones completamente  ejecutadas, no documentadas","Capacitaciones completamente ejecutadas y documentadas"]
["Técnico","¿Hay capacidad disponible en el circuito de distribución local para la capacidad de generación estimada?\n(límite del 50%)","Verificación técnica de que el circuito de distribución puede manejar el incremento de generación sin exceder el límite del 50% de capacidad.","Obligatorio","Cuantitativa","Porcentaje (%)","< 10% ","10%-30% ","30%-50% ","> 50% "]
["Técnico","¿Se trata de una comunidad ya postulada y focalizada?","Indica si la comunidad ha sido identificada previamente en programas o estrategias relacionadas con comunidades energéticas.","Obligatorio","Cualitativa","Categórica","Ni postulada ni focalizada","En proceso de postulación","Postulada y parcialmente focalizada ","Postulada y focalizada"]
["Técnico","Ahorro de energía de la red","Reducción estimada en el consumo de energía de la red eléctrica del SIN como resultado del proyecto.","Obligatorio","Cuantitativa","Porcentaje (%)","< 20% ","20%-35% ","35%-50% ","> 50% "]
["Técnico","Capacidad técnica local (no siempre es esencial, ya que la capacitación puede ser parte del proyecto.)","Habilidad de los miembros de la comunidad para operar y mantener los sistemas energéticos. ","Opcional","Cuantitativa","Porcentaje de miembros de la comunidad (%)","< 10% ","10%-20% ","20%-30% ","> 30% "]
["Técnico","Grado de avance del sistema energético que se proyecta implementar","Nivel de preparación técnica, operativa y administrativa del sistema energético que se busca desarrollar.","Opcional","Cualitativa","Categórica","Sin planificación","Planificación inicial","Planificación intermedia","Sistema listo para implementación"]
["Técnico","Pérdidas de Energía Eléctrica","Evaluar las pérdidas eléctricas en áreas específicas es esencial para identificar zonas con problemáticas de conexiones irregulares. En estos casos, las soluciones orientadas a Comunidades Energéticas pueden actuar como habilitadoras para la normalización de redes eléctricas, contribuyendo a la mejora de la infraestructura, la formalización del acceso al servicio y disminución de riesgos de recaer en comportamientos ilegales o pasar a condiciones de morosidad en los pagos.","Opcional","Cuantitativa","Porcentaje","< 10% ","10%-15% ","15%-20% ","> 20% "]
["Técnico","Calidad del servicio (Frecuencia y duración de interrupciones)","Incorporar variables de calidad del servicio permitirá reflejar la continuidad percibida del servicio eléctrico en áreas específicas. Esto puede aportar información valiosa para priorizar aquellas zonas con deficiencias en la calidad del servicio, donde las Comunidades Energéticas podrían generar impactos positivos.","Opcional","Cualitativa","Categórica","Alta calidad: Menos de 3 interrupciones al mes con duración promedio inferior a 1 hora.","Moderada calidad - alta: Entre 3 y 6 interrupciones al mes con duración promedio entre 1 y 2 horas.","Moderada calidad - baja: Entre 7 y 10 interrupciones al mes con duración promedio entre 2 y 4 horas.","Baja calidad: Más de 10 interrupciones al mes con duración promedio superior a 4 horas."]

{"sheet":"Consulta de Potencial","index":3,"n_rows":1134,"n_cols":54,"rows_kept":1134,"merged":[[0,0,0,11],[1,0,1,7],[3,1,3,2],[4,1,4,2],[6,6,8,7],[12,27,12,28]]}
["Consulta de Potenciales por municipio"]
["Estos valores representan los resultados del potencial energético, evaluados según lo descrito en la Sección 4 de la Hoja de Ruta para el Despliegue de Comunidades Energéticas. El análisis integra variables ambientales, económicas, sociales y técnicas de cada municipio basadas en la información disponible.\nSelecciona a continuación el departamento y el municipio, los potenciales calculados correspondientes aparecerán automáticamente a continuación.\n\n💡 ¿Tienes datos más actualizados?\nPuedes enriquecer estos resultados actualizando el Anexo 3 de la Hoja de Ruta con información más reciente o detallada."]
[]
["Departamento","Antioquia"]
["Municipio","Caldas"]
[]
["Código del municipio ","Fotovoltáica","Eólica","Biomasa vegetal","Biomasa animal","Hídrica",{"$f":"HYPERLINK(\"#'Resultados \"&Caracterización!$C$5&\"'!j7\",\"Regresa a los Resultados\")","v":"Regresa a los Resultados"}]
[{"$f":"_xlfn.XLOOKUP(B5,Potenciales[Municipio],Potenciales[[Código del municipio ]],,0)","v":636},{"$f":"_xlfn.XLOOKUP(B5,Potenciales[Municipio],Potenciales[[Fotovoltáica]:[Hídrica]],,0)","v":{"v":0.8087324123,"d":"0.8087"}},{"v":0.7207077964,"d":"0.7207"},{"v":0.302203066,"d":"0.3022"},{"v":0.2914183427,"d":"0.2914"},{"v":0.3199492875,"d":"0.3199"}]
[]
[]
[]
[]
["Código del municipio ","Departamento","Municipio","Fotovoltáica","Eólica","Biomasa vegetal","Biomasa animal","Hídrica",{"$nulls":18},"Potencial","Estas columnas hacen parte de la base de las celdas de selección ",null,{"$f":"Caracterización!B8","v":"C1"},{"$f":"Caracterización!C8","v":"C2"},{"$f":"Caracterización!D8","v":"C3"},{"$f":"Caracterización!E8","v":"C4"},{"$f":"Caracterización!F8","v":"C5"},{"$f":"Caracterización!G8","v":"C6"},{"$f":"Caracterización!H8","v":"C7"},{"$f":"Caracterización!I8","v":"C8"},{"$f":"Caracterización!J8","v":"C9"},{"$f":"Caracterización!K8","v":"C10"}]
[1110,"Amazonas","El Encanto",{"v":0.9922446995,"d":"0.9922"},{"v":0.5442238753,"d":"0.5442"},{"v":0.5442238753,"d":"0.5442"},{"v":0.5442238753,"d":"0.5442"},{"v":0.7646079902,"d":"0.7646"},{"$nulls":18},{"$f":"_xlfn._xlws.FILTER($C$14:$C$1134,$B$14:$B$1134=B4)","v":"Abejorral"},"Seleccione...",{"$f":"_xlfn.UNIQUE(B14:B1134)","v":"Amazonas"},{"$f":"_xlfn._xlws.FILTER($C$14:$C$1134,$B$14:$B$1134=Caracterización!B10)","v":"Alpujarra"},{"$f":"_xlfn._xlws.FILTER($C$14:$C$1134,$B$14:$B$1134=Caracterización!C10)","v":"Bogotá, D.C."},{"$f":"_xlfn._xlws.FILTER($C$14:$C$1134,$B$14:$B$1134=Caracterización!D10)","v":"Aguadas"},{"$f":"_xlfn._xlws.FILTER($C$14:$C$1134,$B$14:$B$1134=Caracterización!E10)","v":"Abejorral"},{"$f":"_xlfn._xlws.FILTER($C$14:$C$1134,$B$14:$B$1134=Caracterización!F10)","v":"Abejorral"},{"$f":"_xlfn._xlws.FILTER($C$14:$C$1134,$B$14:$B$1134=Caracterización!G10)","v":"Albania"},{"$f":"_xlfn._xlws.FILTER($C$14:$C$1134,$B$14:$B$1134=Caracterización!H10)","v":"Ábrego"},{"$f":"_xlfn._xlws.FILTER($C$14:$C$1134,$B$14:$B$1134=Caracterización!I10)","v":"Bogotá, D.C."},{"$f":"_xlfn._xlws.FILTER($C$14:$C$1134,$B$14:$B$1134=Caracterización!J10)","v":"Providencia y Santa Catalina"},{"$f":"_xlfn._xlws.FILTER($C$14:$C$1134,$B$14:$B$1134=Caracterización!K10)","v":"Alcalá"},{"$nulls":11},"Junta de Acción Comunal","Resguardo","No sé cómo se encuentra constituida","Otra"]
[1,"Amazonas","La Chorrera",{"v":0.8707592767,"d":"0.8708"},{"v":0.4450507615,"d":"0.4451"},{"v":0.4296611359,"d":"0.4297"},{"v":0.4295775634,"d":"0.4296"},{"v":0.8571364154,"d":"0.8571"},{"$nulls":18},"Abriaquí","Asociación de Autoridades tradicionales","Antioquia","Alvarado",null,"Anserma","Abriaquí","Abriaquí","Barrancas","Arboledas",null,"San Andrés","Andalucía"]
[1113,"Amazonas","La Pedrera",{"v":1.02312499,"d":"1.0231"},{"v":0.5751252809,"d":"0.5751"},{"v":0.5851401334,"d":"0.5851"},{"v":0.5851252809,"d":"0.5851"},{"v":1.029047667,"d":"1.0290"},{"$nulls":18},"Alejandría","Asociación de productores","Arauca","Ambalema",null,"Aranzazu","Alejandría","Alejandría","Dibulla","Bochalema",null,null,"Ansermanuevo"]
[4,"Amazonas","La Victoria",{"v":0.9803871243,"d":"0.9804"},{"v":0.312183051,"d":"0.3122"},{"v":0.2887084977,"d":"0.2887"},{"v":0.3237910988,"d":"0.3238"},{"v":0.369044927,"d":"0.3690"},{"$nulls":18},"Amagá","Asociación de usuarios","Atlántico","Anzoátegui",null,"Belalcázar","Amagá","Amagá","Distracción","Bucarasica",null,null,"Argelia"]
[1055,"Amazonas","Leticia",{"v":0.8230197271,"d":"0.8230"},{"v":0.3745969731,"d":"0.3746"},{"v":0.391628859,"d":"0.3916"},{"v":0.3843846849,"d":"0.3844"},{"v":0.406583536,"d":"0.4066"},{"$nulls":18},"Amalfi","Cabildo","Bogotá, D.C","Armero",null,"Chinchiná","Amalfi","Amalfi","El Molino","Cáchira",null,null,"Bolívar"]
[3,"Amazonas","Mirití-Paraná",{"v":1.031797526,"d":"1.0318"},{"v":0.6039011571,"d":"0.6039"},{"v":0.5984500261,"d":"0.5985"},{"v":0.5984500261,"d":"0.5985"},{"v":1.153848908,"d":"1.1538"},{"$nulls":18},"Andes","Consejo Comunitario","Bolívar","Ataco",null,"Filadelfia","Andes","Andes","Fonseca","Cácota",null,null,"Buenaventura"]
[1112,"Amazonas","Puerto Alegría",{"v":0.979644435,"d":"0.9796"},{"v":0.5471742076,"d":"0.5472"},{"v":0.5471742076,"d":"0.5472"},{"v":0.5471742076,"d":"0.5472"},{"v":0.864600622,"d":"0.8646"},{"$nulls":18},"Angelópolis","Cooperativa","Boyacá","Cajamarca",null,"La Dorada","Angelópolis","Angelópolis","Hatonuevo","Chinácota",null,null,"Buga"]
[1111,"Amazonas","Puerto Arica",{"v":0.8908845883,"d":"0.8909"},{"v":0.4487171374,"d":"0.4487"},{"v":0.4587320299,"d":"0.4587"},{"v":0.4587171374,"d":"0.4587"},{"v":0.7691443229,"d":"0.7691"},{"$nulls":18},"Angostura","Corporación","Caldas","Carmen De Apicalá",null,"La Merced","Angostura","Angostura","La Jagua Del Pilar","Chitagá",null,null,"Bugalagrande"]
[1054,"Amazonas","Puerto Nariño",{"v":0.8970560878,"d":"0.8971"},{"v":0.4367142181,"d":"0.4367"},{"v":0.4541485708,"d":"0.4541"},{"v":0.4371444103,"d":"0.4371"},{"v":0.4391988368,"d":"0.4392"},{"$nulls":18},"Anorí","Empresa Comunitaria prestadora","Caquetá","Casabianca",null,"Manizales","Anorí","Anorí","Maicao","Convención",null,null,"Caicedonia"]
[2,"Amazonas","Santander",{"v":0.9847608886,"d":"0.9848"},{"v":0.5488257229,"d":"0.5488"},{"v":0.5432812594,"d":"0.5433"},{"v":0.5432796156,"d":"0.5433"},{"v":0.8978944982,"d":"0.8979"},{"$nulls":18},"Anzá","Junta de Acción Comunal","Casanare","Chaparral",null,"Manzanares","Anzá","Anzá","Manaure","Cúcuta",null,null,"Cali"]
[1109,"Amazonas","Tarapacá",{"v":0.9120770182,"d":"0.9121"},{"v":0.473564242,"d":"0.4736"},{"v":0.4735973669,"d":"0.4736"},{"v":0.4748702729,"d":"0.4749"},{"v":0.5020521485,"d":"0.5021"},{"$nulls":18},"Apartadó","Resguardo","Cauca","Coello",null,"Marmato","Apartadó","Apartadó","Riohacha","Cucutilla",null,null,"Calima"]
[600,"Antioquia","Abejorral",{"v":0.9708833441,"d":"0.9709"},{"v":0.2925531443,"d":"0.2926"},{"v":0.2662168588,"d":"0.2662"},{"v":0.2756529553,"d":"0.2757"},{"v":0.2926785415,"d":"0.2927"},{"$nulls":18},"Arboletes","No sé cómo se encuentra constituida","Cesar","Coyaima",null,"Marquetalia","Arboletes","Arboletes","San Juan Del Cesar","Durania",null,null,"Candelaria"]
[756,"Antioquia","Abriaquí",{"v":0.6932718829,"d":"0.6933"},{"v":0.3558444928,"d":"0.3558"},{"v":0.2726994114,"d":"0.2727"},{"v":0.267946928,"d":"0.2679"},{"v":0.4829082349,"d":"0.4829"},{"$nulls":18},"Argelia","Otra","Chocó","Cunday",null,"Marulanda","Argelia","Argelia","Uribia","El Carmen",null,null,"Cartago"]
[696,"Antioquia","Alejandría",{"v":0.9225106362,"d":"0.9225"},{"v":0.2316616013,"d":"0.2317"},{"v":0.2541795828,"d":"0.2542"},{"v":0.2381954664,"d":"0.2382"},{"v":0.2864895592,"d":"0.2865"},{"$nulls":18},"Armenia",null,"Córdoba","Dolores",null,"Neira","Armenia","Armenia","Urumita","El Tarra",null,null,"Dagua"]
[630,"Antioquia","Amagá",{"v":0.9793817615,"d":"0.9794"},{"v":0.3072926416,"d":"0.3073"},{"v":0.288556748,"d":"0.2886"},{"v":0.4160312748,"d":"0.4160"},{"v":0.3958570329,"d":"0.3959"},{"$nulls":18},"Barbosa",null,"Cundinamarca","Espinal",null,"Norcasia","Barbosa","Barbosa","Villanueva","El Zulia",null,null,"El Águila"]
[813,"Antioquia","Amalfi",{"v":0.8285074234,"d":"0.8285"},{"v":0.2950794658,"d":"0.2951"},{"v":0.3005733792,"d":"0.3006"},{"v":0.316346011,"d":"0.3163"},{"v":0.3342138878,"d":"0.3342"},{"$nulls":18},"Bello",null,"Guainía","Falan",null,"Pácora","Bello","Bello",null,"Gramalote",null,null,"El Cairo"]
[567,"Antioquia","Andes",{"v":0.6571552886,"d":"0.6572"},{"v":0.2809551303,"d":"0.2810"},{"v":0.3483719211,"d":"0.3484"},{"v":0.2767221201,"d":"0.2767"},{"v":0.417484942,"d":"0.4175"},{"$nulls":18},"Belmira",null,"Guaviare","Flandes",null,"Palestina","Belmira","Belmira",null,"Hacarí",null,null,"El Cerrito"]
[654,"Antioquia","Angelópolis",{"v":0.8867129312,"d":"0.8867"},{"v":0.3625196249,"d":"0.3625"},{"v":0.2981668821,"d":"0.2982"},{"v":0.3258541347,"d":"0.3259"},{"v":0.4215379515,"d":"0.4215"},{"$nulls":18},"Betania",null,"Huila","Fresno",null,"Pensilvania","Betania","Betania",null,"Herrán",null,null,"El Dovio"]
[784,"Antioquia","Angostura",{"v":0.8862192277,"d":"0.8862"},{"v":0.2385901824,"d":"0.2386"},{"v":0.2545345837,"d":"0.2545"},{"v":0.2293461111,"d":"0.2293"},{"v":0.2312215491,"d":"0.2312"},{"$nulls":18},"Betulia",null,"La Guajira","Guamo",null,"Riosucio","Betulia","Betulia",null,"La Esperanza",null,null,"Florida"]
[825,"Antioquia","Anorí",{"v":0.8689398651,"d":"0.8689"},{"v":0.3821590534,"d":"0.3822"},{"v":0.3877034138,"d":"0.3877"},{"v":0.3871857532,"d":"0.3872"},{"v":0.3840007651,"d":"0.3840"},{"$nulls":18},"Briceño",null,"Magdalena","Herveo",null,"Risaralda","Briceño","Briceño",null,"La Playa",null,null,"Ginebra"]
[695,"Antioquia","Anzá",{"v":1.018887651,"d":"1.0189"},{"v":0.3066416116,"d":"0.3066"},{"v":0.2908775251,"d":"0.2909"},{"v":0.2837310075,"d":"0.2837"},{"v":0.5503825577,"d":"0.5504"},{"$nulls":18},"Buriticá",null,"Meta","Honda",null,"Salamina","Buriticá","Buriticá",null,"Labateca",null,null,"Guacarí"]
[859,"Antioquia","Apartadó",{"v":0.5459399759,"d":"0.5459"},{"v":0.374374167,"d":"0.3744"},{"v":0.3506591418,"d":"0.3507"},{"v":0.2751924767,"d":"0.2752"},{"v":0.2650857342,"d":"0.2651"},{"$nulls":18},"Cáceres",null,"Nariño","Ibagué",null,"Samaná","Cáceres","Cáceres",null,"Los Patios",null,null,"Jamundí"]
[908,"Antioquia","Arboletes",{"v":0.7850971932,"d":"0.7851"},{"v":0.3763979032,"d":"0.3764"},{"v":0.2900474547,"d":"0.2900"},{"v":0.3982724183,"d":"0.3983"},{"v":0.2623081702,"d":"0.2623"},{"$nulls":18},"Caicedo",null,"Norte de Santander","Icononzo",null,"San José","Caicedo","Caicedo",null,"Lourdes",null,null,"La Cumbre"]
[562,"Antioquia","Argelia",{"v":0.6727914138,"d":"0.6728"},{"v":0.412487715,"d":"0.4125"},{"v":0.3245581816,"d":"0.3246"},{"v":0.302374702,"d":"0.3024"},{"v":0.3206871517,"d":"0.3207"},{"$nulls":18},"Caldas",null,"Putumayo","Lérida",null,"Supia","Caldas","Caldas",null,"Mutiscua",null,null,"La Unión"]
[664,"Antioquia","Armenia",{"v":0.7696175355,"d":"0.7696"},{"v":0.2644760389,"d":"0.2645"},{"v":0.283130702,"d":"0.2831"},{"v":0.405545416,"d":"0.4055"},{"v":0.2554512043,"d":"0.2555"},{"$nulls":18},"Campamento",null,"Quindío","Líbano",null,"Victoria","Campamento","Campamento",null,"Ocaña",null,null,"La Victoria"]
[715,"Antioquia","Barbosa",{"v":1.128480145,"d":"1.1285"},{"v":0.3007990643,"d":"0.3008"},{"v":0.2817557088,"d":"0.2818"},{"v":0.393741755,"d":"0.3937"},{"v":0.3112917451,"d":"0.3113"},{"$nulls":18},"Cañasgordas",null,"Risaralda","Mariquita",null,"Villamaria","Cañasgordas","Cañasgordas",null,"Pamplona",null,null,"Obando"]
[701,"Antioquia","Bello",{"v":0.9929830212,"d":"0.9930"},{"v":0.3597056048,"d":"0.3597"},{"v":0.2624959878,"d":"0.2625"},{"v":0.2951096873,"d":"0.2951"},{"v":0.3878628659,"d":"0.3879"},{"$nulls":18},"Caracolí",null,"San Andrés y Providencia","Melgar",null,"Viterbo","Caracolí","Caracolí",null,"Pamplonita",null,null,"Palmira"]
[762,"Antioquia","Belmira",{"v":0.8966497285,"d":"0.8966"},{"v":0.4152908969,"d":"0.4153"},{"v":0.308304727,"d":"0.3083"},{"v":0.3277118398,"d":"0.3277"},{"v":0.4343525354,"d":"0.4344"},{"$nulls":18},"Caramanta",null,"Santander","Murillo",null,null,"Caramanta","Caramanta",null,"Puerto Santander",null,null,"Pradera"]
[572,"Antioquia","Betania",{"v":0.7657385453,"d":"0.7657"},{"v":0.3016219281,"d":"0.3016"},{"v":0.3247467454,"d":"0.3247"},{"v":0.2885125107,"d":"0.2885"},{"v":0.3042026078,"d":"0.3042"},{"$nulls":18},"Carepa",null,"Sucre","Natagaima",null,null,"Carepa","Carepa",null,"Ragonvalia",null,null,"Restrepo"]
[669,"Antioquia","Betulia",{"v":0.7492130457,"d":"0.7492"},{"v":0.3339758095,"d":"0.3340"},{"v":0.3013119169,"d":"0.3013"},{"v":0.3088108347,"d":"0.3088"},{"v":0.2974356795,"d":"0.2974"},{"$nulls":18},"Carmen De Viboral",null,"Tolima","Ortega",null,null,"Carmen De Viboral","Carmen De Viboral",null,"Salazar",null,null,"Riofrío"]
[807,"Antioquia","Briceño",{"v":0.501187075,"d":"0.5012"},{"v":0.4343900812,"d":"0.4344"},{"v":0.3199391985,"d":"0.3199"},{"v":0.3038875766,"d":"0.3039"},{"v":0.337782159,"d":"0.3378"},{"$nulls":18},"Carolina",null,"Valle del Cauca","Palocabildo",null,null,"Carolina","Carolina",null,"San Calixto",null,null,"Roldanillo"]
[785,"Antioquia","Buriticá",{"v":0.8608323066,"d":"0.8608"},{"v":0.4540765887,"d":"0.4541"},{"v":0.3031479491,"d":"0.3031"},{"v":0.2894791889,"d":"0.2895"},{"v":0.6279618224,"d":"0.6280"},{"$nulls":18},"Caucasia",null,"Vaupés","Piedras",null,null,"Caucasia","Caucasia",null,"San Cayetano",null,null,"San Pedro"]
[852,"Antioquia","Cáceres",{"v":0.913421035,"d":"0.9134"},{"v":0.3378812194,"d":"0.3379"},{"v":0.3409479654,"d":"0.3409"},{"v":0.4555109424,"d":"0.4555"},{"v":0.5263775146,"d":"0.5264"},{"$nulls":18},"Chigorodó",null,"Vichada","Planadas",null,null,"Chigorodó","Chigorodó",null,"Santiago",null,null,"Sevilla"]
[714,"Antioquia","Caicedo",{"v":0.7836389954,"d":"0.7836"},{"v":0.2806474712,"d":"0.2806"},{"v":0.2564561701,"d":"0.2565"},{"v":0.2422210281,"d":"0.2422"},{"v":0.3849008467,"d":"0.3849"},{"$nulls":18},"Cisneros",null,null,"Prado",null,null,"Cisneros","Cisneros",null,"Sardinata",null,null,"Toro"]
[636,"Antioquia","Caldas",{"v":0.8087324123,"d":"0.8087"},{"v":0.7207077964,"d":"0.7207"},{"v":0.302203066,"d":"0.3022"},{"v":0.2914183427,"d":"0.2914"},{"v":0.3199492875,"d":"0.3199"},{"$nulls":18},"Ciudad Bolívar",null,null,"Purificación",null,null,"Ciudad Bolívar","Ciudad Bolívar",null,"Silos",null,null,"Trujillo"]
[803,"Antioquia","Campamento",{"v":0.976640108,"d":"0.9766"},{"v":0.3555004862,"d":"0.3555"},{"v":0.3734239421,"d":"0.3734"},{"v":0.3204346282,"d":"0.3204"},{"v":0.3188111752,"d":"0.3188"},{"$nulls":18},"Cocorná",null,null,"Rioblanco",null,null,"Cocorná","Cocorná",null,"Teorama",null,null,"Tuluá"]
[786,"Antioquia","Cañasgordas",{"v":0.828834768,"d":"0.8288"},{"v":0.3561819026,"d":"0.3562"},{"v":0.307186522,"d":"0.3072"},{"v":0.3037560581,"d":"0.3038"},{"v":0.4982139369,"d":"0.4982"},{"$nulls":18},"Concepción",null,null,"Roncesvalles",null,null,"Concepción","Concepción",null,"Tibú",null,null,"Ulloa"]
[705,"Antioquia","Caracolí",{"v":1.022468087,"d":"1.0225"},{"v":0.2974247957,"d":"0.2974"},{"v":0.2899748855,"d":"0.2900"},{"v":0.3001616631,"d":"0.3002"},{"v":0.3243811096,"d":"0.3244"},{"$nulls":18},"Concordia",null,null,"Rovira",null,null,"Concordia","Concordia",null,"Toledo",null,null,"Versalles"]
[525,"Antioquia","Caramanta",{"v":0.888370252,"d":"0.8884"},{"v":0.3542602885,"d":"0.3543"},{"v":0.2951919795,"d":"0.2952"},{"v":0.2837141161,"d":"0.2837"},{"v":0.5354911894,"d":"0.5355"},{"$nulls":18},"Copacabana",null,null,"Saldaña",null,null,"Copacabana","Copacabana",null,"Villa Caro",null,null,"Vijes"]
[848,"Antioquia","Carepa",{"v":0.5867608004,"d":"0.5868"},{"v":0.3499602385,"d":"0.3500"},{"v":0.3039846889,"d":"0.3040"},{"v":0.2672908791,"d":"0.2673"},{"v":0.2395303615,"d":"0.2395"},{"$nulls":18},"Dabeiba",null,null,"San Antonio",null,null,"Dabeiba","Dabeiba",null,"Villa Del Rosario",null,null,"Yotoco"]
[643,"Antioquia","Carmen De Viboral",{"v":0.9172279747,"d":"0.9172"},{"v":0.2859852463,"d":"0.2860"},{"v":0.2739246185,"d":"0.2739"},{"v":0.317626354,"d":"0.3176"},{"v":0.3142731117,"d":"0.3143"},{"$nulls":18},"Donmatías",null,null,"San Luis",null,null,"Donmatías","Donmatías",{"$nulls":4},"Yumbo"]
[766,"Antioquia","Carolina",{"v":0.9613252134,"d":"0.9613"},{"v":0.288199769,"d":"0.2882"},{"v":0.2804845148,"d":"0.2805"},{"v":0.271767426,"d":"0.2718"},{"v":0.2841833751,"d":"0.2842"},{"$nulls":18},"Ebéjico",null,null,"Santa Isabel",null,null,"Ebéjico","Ebéjico",{"$nulls":4},"Zarzal"]
[861,"Antioquia","Caucasia",{"v":0.8555376644,"d":"0.8555"},{"v":0.2443571156,"d":"0.2444"},{"v":0.2418220551,"d":"0.2418"},{"v":0.4458170595,"d":"0.4458"},{"v":0.426683463,"d":"0.4267"},{"$nulls":18},"El Bagre",null,null,"Suárez",null,null,"El Bagre","El Bagre"]
[843,"Antioquia","Chigorodó",{"v":0.5319437732,"d":"0.5319"},{"v":0.3567585714,"d":"0.3568"},{"v":0.2711241599,"d":"0.2711"},{"v":0.3288260186,"d":"0.3288"},{"v":0.2289791091,"d":"0.2290"},{"$nulls":18},"El Retiro",null,null,"Valle De San Juan",null,null,"El Retiro","El Retiro"]
[730,"Antioquia","Cisneros",{"v":1.023346666,"d":"1.0233"},{"v":0.3092977931,"d":"0.3093"},{"v":0.3025880583,"d":"0.3026"},{"v":0.2809903604,"d":"0.2810"},{"v":0.3415707295,"d":"0.3416"},{"$nulls":18},"Entrerrios",null,null,"Venadillo",null,null,"Entrerrios","Entrerrios"]
[598,"Antioquia","Ciudad Bolívar",{"v":0.9090489853,"d":"0.9090"},{"v":0.3476544649,"d":"0.3477"},{"v":0.3475865593,"d":"0.3476"},{"v":0.305519028,"d":"0.3055"},{"v":0.3024921344,"d":"0.3025"},{"$nulls":18},"Envigado",null,null,"Villahermosa",null,null,"Envigado","Envigado"]
[637,"Antioquia","Cocorná",{"v":0.9748276413,"d":"0.9748"},{"v":0.2982249645,"d":"0.2982"},{"v":0.3376601991,"d":"0.3377"},{"v":0.320315312,"d":"0.3203"},{"v":0.3614834848,"d":"0.3615"},{"$nulls":18},"Fredonia",null,null,"Villarrica",null,null,"Fredonia","Fredonia"]
[704,"Antioquia","Concepción",{"v":0.9784686356,"d":"0.9785"},{"v":0.2414410522,"d":"0.2414"},{"v":0.2362305977,"d":"0.2362"},{"v":0.2324578792,"d":"0.2325"},{"v":0.3641089613,"d":"0.3641"},{"$nulls":18},"Frontino",{"$nulls":5},"Frontino","Frontino"]
[650,"Antioquia","Concordia",{"v":1.05491406,"d":"1.0549"},{"v":0.3968032852,"d":"0.3968"},{"v":0.3172701962,"d":"0.3173"},{"v":0.3346694151,"d":"0.3347"},{"v":0.4392659836,"d":"0.4393"},{"$nulls":18},"Giraldo",{"$nulls":5},"Giraldo","Giraldo"]
[699,"Antioquia","Copacabana",{"v":0.9511837722,"d":"0.9512"},{"v":0.3608281241,"d":"0.3608"},{"v":0.2509699482,"d":"0.2510"},{"v":0.2437016734,"d":"0.2437"},{"v":0.2954880398,"d":"0.2955"},{"$nulls":18},"Girardota",{"$nulls":5},"Girardota","Girardota"]
[801,"Antioquia","Dabeiba",{"v":0.5051465604,"d":"0.5051"},{"v":0.3122926875,"d":"0.3123"},{"v":0.3035227002,"d":"0.3035"},{"v":0.2995954408,"d":"0.2996"},{"v":0.557498969,"d":"0.5575"},{"$nulls":18},"Gómez Plata",{"$nulls":5},"Gómez Plata","Gómez Plata"]
[728,"Antioquia","Donmatías",{"v":1.012528631,"d":"1.0125"},{"v":0.2859636793,"d":"0.2860"},{"v":0.2700728749,"d":"0.2701"},{"v":0.3497161688,"d":"0.3497"},{"v":0.2636578076,"d":"0.2637"},{"$nulls":18},"Granada",{"$nulls":5},"Granada","Granada"]
[698,"Antioquia","Ebéjico",{"v":0.9726587393,"d":"0.9727"},{"v":0.3551658298,"d":"0.3552"},{"v":0.3038792234,"d":"0.3039"},{"v":0.2994208141,"d":"0.2994"},{"v":0.5395156301,"d":"0.5395"},{"$nulls":18},"Guadalupe",{"$nulls":5},"Guadalupe","Guadalupe"]
[855,"Antioquia","El Bagre",{"v":0.8713685546,"d":"0.8714"},{"v":0.2921462499,"d":"0.2921"},{"v":0.3001359708,"d":"0.3001"},{"v":0.2977693643,"d":"0.2978"},{"v":0.3948714638,"d":"0.3949"},{"$nulls":18},"Guarne",{"$nulls":5},"Guarne","Guarne"]
[646,"Antioquia","El Retiro",{"v":0.8906624126,"d":"0.8907"},{"v":0.3139556291,"d":"0.3140"},{"v":0.2545302034,"d":"0.2545"},{"v":0.257659431,"d":"0.2577"},{"v":0.3077926914,"d":"0.3078"},{"$nulls":18},"Guatapé",{"$nulls":5},"Guatapé","Guatapé"]
[743,"Antioquia","Entrerrios",{"v":0.985853067,"d":"0.9859"},{"v":0.2983708425,"d":"0.2984"},{"v":0.2633773381,"d":"0.2634"},{"v":0.3236129225,"d":"0.3236"},{"v":0.2598225767,"d":"0.2598"},{"$nulls":18},"Heliconia",{"$nulls":5},"Heliconia","Heliconia"]
[656,"Antioquia","Envigado",{"v":0.8674143482,"d":"0.8674"},{"v":0.3315740063,"d":"0.3316"},{"v":0.2547315478,"d":"0.2547"},{"v":0.2538345274,"d":"0.2538"},{"v":0.3028096198,"d":"0.3028"},{"$nulls":18},"Hispania",{"$nulls":5},"Hispania","Hispania"]
[610,"Antioquia","Fredonia",{"v":1.099105829,"d":"1.0991"},{"v":0.2880064311,"d":"0.2880"},{"v":0.2828130238,"d":"0.2828"},{"v":0.3529152738,"d":"0.3529"},{"v":0.5125699188,"d":"0.5126"},{"$nulls":18},"Itagüí",{"$nulls":5},"Itagüí","Itagüí"]
[781,"Antioquia","Frontino",{"v":0.4662624271,"d":"0.4663"},{"v":0.2664147526,"d":"0.2664"},{"v":0.2834121714,"d":"0.2834"},{"v":0.2823192428,"d":"0.2823"},{"v":0.3879986398,"d":"0.3880"},{"$nulls":18},"Ituango",{"$nulls":5},"Ituango","Ituango"]
[751,"Antioquia","Giraldo",{"v":0.9601986027,"d":"0.9602"},{"v":0.4293189348,"d":"0.4293"},{"v":0.3095205607,"d":"0.3095"},{"v":0.2934809605,"d":"0.2935"},{"v":0.5046614999,"d":"0.5047"},{"$nulls":18},"Jardín",{"$nulls":5},"Jardín","Jardín"]
[702,"Antioquia","Girardota",{"v":0.9689885298,"d":"0.9690"},{"v":0.3334448718,"d":"0.3334"},{"v":0.2607739409,"d":"0.2608"},{"v":0.3220040948,"d":"0.3220"},{"v":0.2989752083,"d":"0.2990"},{"$nulls":18},"Jericó",{"$nulls":5},"Jericó","Jericó"]
[771,"Antioquia","Gómez Plata",{"v":1.029621287,"d":"1.0296"},{"v":0.2803709946,"d":"0.2804"},{"v":0.2682489001,"d":"0.2682"},{"v":0.2644749897,"d":"0.2645"},{"v":0.2594765411,"d":"0.2595"},{"$nulls":18},"La Ceja",{"$nulls":5},"La Ceja","La Ceja"]
[661,"Antioquia","Granada",{"v":0.8401642918,"d":"0.8402"},{"v":0.2998039121,"d":"0.2998"},{"v":0.2688111185,"d":"0.2688"},{"v":0.2605872541,"d":"0.2606"},{"v":0.2603162318,"d":"0.2603"},{"$nulls":18},"La Estrella",{"$nulls":5},"La Estrella","La Estrella"]
[782,"Antioquia","Guadalupe",{"v":0.5065918426,"d":"0.5066"},{"v":0.3086754881,"d":"0.3087"},{"v":0.3225693089,"d":"0.3226"},{"v":0.3128347321,"d":"0.3128"},{"v":0.2713471584,"d":"0.2713"},{"$nulls":18},"La Pintada",{"$nulls":5},"La Pintada","La Pintada"]
[682,"Antioquia","Guarne",{"v":1.03200056,"d":"1.0320"},{"v":0.3347325682,"d":"0.3347"},{"v":0.270413052,"d":"0.2704"},{"v":0.2974518252,"d":"0.2975"},{"v":0.3185277059,"d":"0.3185"},{"$nulls":18},"La Unión",{"$nulls":5},"La Unión","La Unión"]
[678,"Antioquia","Guatapé",{"v":0.9965794555,"d":"0.9966"},{"v":0.2637129091,"d":"0.2637"},{"v":0.2610598841,"d":"0.2611"},{"v":0.2465788032,"d":"0.2466"},{"v":0.2963419383,"d":"0.2963"},{"$nulls":18},"Liborina",{"$nulls":5},"Liborina","Liborina"]
[666,"Antioquia","Heliconia",{"v":0.9248361382,"d":"0.9248"},{"v":0.3707334087,"d":"0.3707"},{"v":0.3089001907,"d":"0.3089"},{"v":0.3003449843,"d":"0.3003"},{"v":0.4312287148,"d":"0.4312"},{"$nulls":18},"Maceo",{"$nulls":5},"Maceo","Maceo"]
[583,"Antioquia","Hispania",{"v":1.072045785,"d":"1.0720"},{"v":0.2984130871,"d":"0.2984"},{"v":0.3000431171,"d":"0.3000"},{"v":0.2850958819,"d":"0.2851"},{"v":0.4085388646,"d":"0.4085"},{"$nulls":18},"Marinilla",{"$nulls":5},"Marinilla","Marinilla"]
[658,"Antioquia","Itagüí",{"v":0.9644441584,"d":"0.9644"},{"v":0.3201829764,"d":"0.3202"},{"v":0.2582773867,"d":"0.2583"},{"v":0.24290619,"d":"0.2429"},{"v":0.2538236112,"d":"0.2538"},{"$nulls":18},"Medellín",{"$nulls":5},"Medellín","Medellín"]
[831,"Antioquia","Ituango",{"v":0.5650341533,"d":"0.5650"},{"v":0.312066022,"d":"0.3121"},{"v":0.3002728367,"d":"0.3003"},{"v":0.3087125561,"d":"0.3087"},{"v":0.6836943123,"d":"0.6837"},{"$nulls":18},"Montebello",{"$nulls":5},"Montebello","Montebello"]
[538,"Antioquia","Jardín",{"v":0.6599677519,"d":"0.6600"},{"v":0.280902797,"d":"0.2809"},{"v":0.2892813904,"d":"0.2893"},{"v":0.2684349915,"d":"0.2684"},{"v":0.4072085507,"d":"0.4072"},{"$nulls":18},"Murindó",{"$nulls":5},"Murindó","Murindó"]
[591,"Antioquia","Jericó",{"v":0.9786574812,"d":"0.9787"},{"v":0.6740087758,"d":"0.6740"},{"v":0.3411831961,"d":"0.3412"},{"v":0.3257833842,"d":"0.3258"},{"v":0.3495652652,"d":"0.3496"},{"$nulls":18},"Mutatá",{"$nulls":5},"Mutatá","Mutatá"]
[625,"Antioquia","La Ceja",{"v":0.9671134382,"d":"0.9671"},{"v":0.2954865427,"d":"0.2955"},{"v":0.252428867,"d":"0.2524"},{"v":0.3074138032,"d":"0.3074"},{"v":0.2921984043,"d":"0.2922"},{"$nulls":18},"Nariño",{"$nulls":5},"Nariño","Nariño"]
[651,"Antioquia","La Estrella",{"v":0.8304647327,"d":"0.8305"},{"v":0.3446487357,"d":"0.3446"},{"v":0.2730587541,"d":"0.2731"},{"v":0.2747696962,"d":"0.2748"},{"v":0.3993099125,"d":"0.3993"},{"$nulls":18},"Nechí",{"$nulls":5},"Nechí","Nechí"]
[578,"Antioquia","La Pintada",{"v":1.137722449,"d":"1.1377"},{"v":0.2769834053,"d":"0.2770"},{"v":0.2658664098,"d":"0.2659"},{"v":0.297185327,"d":"0.2972"},{"v":0.6478337612,"d":"0.6478"},{"$nulls":18},"Necoclí",{"$nulls":5},"Necoclí","Necoclí"]
[619,"Antioquia","La Unión",{"v":1.061159089,"d":"1.0612"},{"v":0.3253920547,"d":"0.3254"},{"v":0.2911815865,"d":"0.2912"},{"v":0.318414785,"d":"0.3184"},{"v":0.367392712,"d":"0.3674"},{"$nulls":18},"Olaya",{"$nulls":5},"Olaya","Olaya"]
[763,"Antioquia","Liborina",{"v":0.8062291058,"d":"0.8062"},{"v":0.4306713508,"d":"0.4307"},{"v":0.2993081815,"d":"0.2993"},{"v":0.2847808797,"d":"0.2848"},{"v":0.5511901279,"d":"0.5512"},{"$nulls":18},"Peñol",{"$nulls":5},"Peñol","Peñol"]
[741,"Antioquia","Maceo",{"v":0.9768683865,"d":"0.9769"},{"v":0.314702218,"d":"0.3147"},{"v":0.292302467,"d":"0.2923"},{"v":0.3180529353,"d":"0.3181"},{"v":0.3735227962,"d":"0.3735"},{"$nulls":18},"Peque",{"$nulls":5},"Peque","Peque"]
[665,"Antioquia","Marinilla",{"v":1.104694319,"d":"1.1047"},{"v":0.2899627529,"d":"0.2900"},{"v":0.258118601,"d":"0.2581"},{"v":0.2674090481,"d":"0.2674"},{"v":0.2938863939,"d":"0.2939"},{"$nulls":18},"Pueblorrico",{"$nulls":5},"Pueblorrico","Pueblorrico"]
[686,"Antioquia","Medellín",{"v":0.8398069959,"d":"0.8398"},{"v":0.305227799,"d":"0.3052"},{"v":0.2176338437,"d":"0.2176"},{"v":0.3384374763,"d":"0.3384"},{"v":0.393662678,"d":"0.3937"},{"$nulls":18},"Puerto Berrío",{"$nulls":5},"Puerto Berrío","Puerto Berrío"]
[603,"Antioquia","Montebello",{"v":0.9372852156,"d":"0.9373"},{"v":0.3054708669,"d":"0.3055"},{"v":0.2711589848,"d":"0.2712"},{"v":0.2500577012,"d":"0.2501"},{"v":0.2526209524,"d":"0.2526"},{"$nulls":18},"Puerto Nare",{"$nulls":5},"Puerto Nare","Puerto Nare"]
[792,"Antioquia","Murindó",{"v":0.6798791402,"d":"0.6799"},{"v":0.4933087733,"d":"0.4933"},{"v":0.4881251213,"d":"0.4881"},{"v":0.4706275273,"d":"0.4706"},{"v":0.613268601,"d":"0.6133"},{"$nulls":18},"Puerto Triunfo",{"$nulls":5},"Puerto Triunfo","Puerto Triunfo"]
[829,"Antioquia","Mutatá",{"v":0.4280560063,"d":"0.4281"},{"v":0.3206219439,"d":"0.3206"},{"v":0.3007156061,"d":"0.3007"},{"v":0.4439507124,"d":"0.4440"},{"v":0.4441555804,"d":"0.4442"},{"$nulls":18},"Remedios",{"$nulls":5},"Remedios","Remedios"]
[541,"Antioquia","Nariño",{"v":0.7699244273,"d":"0.7699"},{"v":0.5690923733,"d":"0.5691"},{"v":0.2604361705,"d":"0.2604"},{"v":0.2435163342,"d":"0.2435"},{"v":0.2904307069,"d":"0.2904"},{"$nulls":18},"Rionegro",{"$nulls":5},"Rionegro","Rionegro"]
[869,"Antioquia","Nechí",{"v":0.9148286086,"d":"0.9148"},{"v":0.2952479444,"d":"0.2952"},{"v":0.3164821285,"d":"0.3165"},{"v":0.3384684589,"d":"0.3385"},{"v":0.52094924,"d":"0.5209"},{"$nulls":18},"Sabanalarga",{"$nulls":5},"Sabanalarga","Sabanalarga"]
[897,"Antioquia","Necoclí",{"v":0.7655389862,"d":"0.7655"},{"v":0.3583088619,"d":"0.3583"},{"v":0.2915411615,"d":"0.2915"},{"v":0.3899201962,"d":"0.3899"},{"v":0.2411373763,"d":"0.2411"},{"$nulls":18},"Sabaneta",{"$nulls":5},"Sabaneta","Sabaneta"]
[742,"Antioquia","Olaya",{"v":0.9874215175,"d":"0.9874"},{"v":0.3861206366,"d":"0.3861"},{"v":0.2848516072,"d":"0.2849"},{"v":0.2716378676,"d":"0.2716"},{"v":0.5461990495,"d":"0.5462"},{"$nulls":18},"Salgar",{"$nulls":5},"Salgar","Salgar"]
[676,"Antioquia","Peñol",{"v":1.053841205,"d":"1.0538"},{"v":0.2855744553,"d":"0.2856"},{"v":0.2802504723,"d":"0.2803"},{"v":0.2741190253,"d":"0.2741"},{"v":0.3144534871,"d":"0.3145"},{"$nulls":18},"San Andrés de Cuerquia",{"$nulls":5},"San Andrés de Cuerquia","San Andrés de Cuerquia"]
[804,"Antioquia","Peque",{"v":0.8729623366,"d":"0.8730"},{"v":0.4409773789,"d":"0.4410"},{"v":0.3383161338,"d":"0.3383"},{"v":0.3254272931,"d":"0.3254"},{"v":0.6683330291,"d":"0.6683"},{"$nulls":18},"San Carlos",{"$nulls":5},"San Carlos","San Carlos"]
[594,"Antioquia","Pueblorrico",{"v":1.013583102,"d":"1.0136"},{"v":0.3145464638,"d":"0.3145"},{"v":0.3120610658,"d":"0.3121"},{"v":0.2869934477,"d":"0.2870"},{"v":0.4118627865,"d":"0.4119"},{"$nulls":18},"San Francisco",{"$nulls":5},"San Francisco","San Francisco"]
[753,"Antioquia","Puerto Berrío",{"v":1.01531983,"d":"1.0153"},{"v":0.3181290606,"d":"0.3181"},{"v":0.2855792286,"d":"0.2856"},{"v":0.4017262479,"d":"0.4017"},{"v":0.5099366912,"d":"0.5099"},{"$nulls":18},"San Jerónimo",{"$nulls":5},"San Jerónimo","San Jerónimo"]
[670,"Antioquia","Puerto Nare",{"v":1.060967285,"d":"1.0610"},{"v":0.3222975618,"d":"0.3223"},{"v":0.2893209447,"d":"0.2893"},{"v":0.3478038476,"d":"0.3478"},{"v":0.4810352748,"d":"0.4810"},{"$nulls":18},"San José De La Montaña",{"$nulls":5},"San José De La Montaña","San José De La Montaña"]
[621,"Antioquia","Puerto Triunfo",{"v":1.06741386,"d":"1.0674"},{"v":0.3258968075,"d":"0.3259"},{"v":0.2853421617,"d":"0.2853"},{"v":0.3317729886,"d":"0.3318"},{"v":0.373444324,"d":"0.3734"},{"$nulls":18},"San Juan De Urabá",{"$nulls":5},"San Juan De Urabá","San Juan De Urabá"]
[811,"Antioquia","Remedios",{"v":0.9568469888,"d":"0.9568"},{"v":0.3505362156,"d":"0.3505"},{"v":0.2992897551,"d":"0.2993"},{"v":0.3458045423,"d":"0.3458"},{"v":0.4293291394,"d":"0.4293"},{"$nulls":18},"San Luis",{"$nulls":5},"San Luis","San Luis"]
[662,"Antioquia","Rionegro",{"v":1.062650095,"d":"1.0627"},{"v":0.2921162868,"d":"0.2921"},{"v":0.2650284702,"d":"0.2650"},{"v":0.2882094009,"d":"0.2882"},{"v":0.3271531714,"d":"0.3272"},{"$nulls":18},"San Pedro De Los Milagros",{"$nulls":5},"San Pedro De Los Milagros","San Pedro De Los Milagros"]
[793,"Antioquia","Sabanalarga",{"v":0.7735767082,"d":"0.7736"},{"v":0.4107474981,"d":"0.4107"},{"v":0.2404577455,"d":"0.2405"},{"v":0.3244817308,"d":"0.3245"},{"v":0.3249942427,"d":"0.3250"},{"$nulls":18},"San Pedro De Urabá",{"$nulls":5},"San Pedro De Urabá","San Pedro De Urabá"]
[647,"Antioquia","Sabaneta",{"v":0.8512874747,"d":"0.8513"},{"v":0.2900629943,"d":"0.2901"},{"v":0.2610909649,"d":"0.2611"},{"v":0.2809051286,"d":"0.2809"},{"v":0.2562418186,"d":"0.2562"},{"$nulls":18},"San Rafael",{"$nulls":5},"San Rafael","San Rafael"]
[626,"Antioquia","Salgar",{"v":0.9574800694,"d":"0.9575"},{"v":0.2724326794,"d":"0.2724"},{"v":0.2910826969,"d":"0.2911"},{"v":0.2623358704,"d":"0.2623"},{"v":0.6622745973,"d":"0.6623"},{"$nulls":18},"San Roque",{"$nulls":5},"San Roque","San Roque"]
[791,"Antioquia","San Andrés de Cuerquia",{"v":0.6495248177,"d":"0.6495"},{"v":0.3393162283,"d":"0.3393"},{"v":0.2583874418,"d":"0.2584"},{"v":0.2502180871,"d":"0.2502"},{"v":0.3673818506,"d":"0.3674"},{"$nulls":18},"San Vicente",{"$nulls":5},"San Vicente","San Vicente"]
[679,"Antioquia","San Carlos",{"v":0.9316627273,"d":"0.9317"},{"v":0.2693940564,"d":"0.2694"},{"v":0.293006457,"d":"0.2930"},{"v":0.2773240973,"d":"0.2773"},{"v":0.3840607572,"d":"0.3841"},{"$nulls":18},"Santa Bárbara",{"$nulls":5},"Santa Bárbara","Santa Bárbara"]
[609,"Antioquia","San Francisco",{"v":0.5164812485,"d":"0.5165"},{"v":0.5652799839,"d":"0.5653"},{"v":0.2786158094,"d":"0.2786"},{"v":0.308184189,"d":"0.3082"},{"v":0.342194733,"d":"0.3422"},{"$nulls":18},"Santa Fe De Antioquia",{"$nulls":5},"Santa Fe De Antioquia","Santa Fe De Antioquia"]
[713,"Antioquia","San Jerónimo",{"v":0.9123517047,"d":"0.9124"},{"v":0.342176285,"d":"0.3422"},{"v":0.3024710433,"d":"0.3025"},{"v":0.2980260277,"d":"0.2980"},{"v":0.4266143901,"d":"0.4266"},{"$nulls":18},"Santa Rosa De Osos",{"$nulls":5},"Santa Rosa De Osos","Santa Rosa De Osos"]
[776,"Antioquia","San José De La Montaña",{"v":0.8096751831,"d":"0.8097"},{"v":0.4093375268,"d":"0.4093"},{"v":0.2689283429,"d":"0.2689"},{"v":0.2718376711,"d":"0.2718"},{"v":0.3951609825,"d":"0.3952"},{"$nulls":18},"Santo Domingo",{"$nulls":5},"Santo Domingo","Santo Domingo"]
[901,"Antioquia","San Juan De Urabá",{"v":0.8809424889,"d":"0.8809"},{"v":0.4249191187,"d":"0.4249"},{"v":0.3375503345,"d":"0.3376"},{"v":0.347675695,"d":"0.3477"},{"v":0.3106214177,"d":"0.3106"},{"$nulls":18},"Santuario",{"$nulls":5},"Santuario","Santuario"]
[640,"Antioquia","San Luis",{"v":0.9836629053,"d":"0.9837"},{"v":0.3673905344,"d":"0.3674"},{"v":0.2692593358,"d":"0.2693"},{"v":0.2760210813,"d":"0.2760"},{"v":0.3082403138,"d":"0.3082"},{"$nulls":18},"Segovia",{"$nulls":5},"Segovia","Segovia"]
[718,"Antioquia","San Pedro De Los Milagros",{"v":0.986734816,"d":"0.9867"},{"v":0.3269803088,"d":"0.3270"},{"v":0.2509872845,"d":"0.2510"},{"v":0.3607736727,"d":"0.3608"},{"v":0.3779052872,"d":"0.3779"},{"$nulls":18},"Sonsón",{"$nulls":5},"Sonsón","Sonsón"]
[892,"Antioquia","San Pedro De Urabá",{"v":0.7165355389,"d":"0.7165"},{"v":0.3612729569,"d":"0.3613"},{"v":0.248872495,"d":"0.2489"},{"v":0.3212778705,"d":"0.3213"},{"v":0.2472031859,"d":"0.2472"},{"$nulls":18},"Sopetrán",{"$nulls":5},"Sopetrán","Sopetrán"]
[693,"Antioquia","San Rafael",{"v":0.9003582445,"d":"0.9004"},{"v":0.2306874856,"d":"0.2307"},{"v":0.2523803103,"d":"0.2524"},{"v":0.2380254077,"d":"0.2380"},{"v":0.2818552307,"d":"0.2819"},{"$nulls":18},"Támesis",{"$nulls":5},"Támesis","Támesis"]
[721,"Antioquia","San Roque",{"v":0.992752116,"d":"0.9928"},{"v":0.2737288224,"d":"0.2737"},{"v":0.3371844246,"d":"0.3372"},{"v":0.2922748079,"d":"0.2923"},{"v":0.3182141887,"d":"0.3182"},{"$nulls":18},"Tarazá",{"$nulls":5},"Tarazá","Tarazá"]
[692,"Antioquia","San Vicente",{"v":1.056776586,"d":"1.0568"},{"v":0.2980294764,"d":"0.2980"},{"v":0.2766982758,"d":"0.2767"},{"v":0.2667629009,"d":"0.2668"},{"v":0.3222911677,"d":"0.3223"},{"$nulls":18},"Tarso",{"$nulls":5},"Tarso","Tarso"]
[611,"Antioquia","Santa Bárbara",{"v":1.065482069,"d":"1.0655"},{"v":0.3120890049,"d":"0.3121"},{"v":0.2925838765,"d":"0.2926"},{"v":0.2890796318,"d":"0.2891"},{"v":0.4651737488,"d":"0.4652"},{"$nulls":18},"Titiribí",{"$nulls":5},"Titiribí","Titiribí"]
[744,"Antioquia","Santa Fe De Antioquia",{"v":0.9017137674,"d":"0.9017"},{"v":0.3164007921,"d":"0.3164"},{"v":0.2379741119,"d":"0.2380"},{"v":0.2410622732,"d":"0.2411"},{"v":0.5602373056,"d":"0.5602"},{"$nulls":18},"Toledo",{"$nulls":5},"Toledo","Toledo"]
[777,"Antioquia","Santa Rosa De Osos",{"v":0.9805615264,"d":"0.9806"},{"v":0.2974806684,"d":"0.2975"},{"v":0.280410569,"d":"0.2804"},{"v":0.4392009365,"d":"0.4392"},{"v":0.4053115048,"d":"0.4053"},{"$nulls":18},"Turbo",{"$nulls":5},"Turbo","Turbo"]
[724,"Antioquia","Santo Domingo",{"v":0.9308796078,"d":"0.9309"},{"v":0.2415694293,"d":"0.2416"},{"v":0.2678449555,"d":"0.2678"},{"v":0.3036727543,"d":"0.3037"},{"v":0.2838787289,"d":"0.2839"},{"$nulls":18},"Uramita",{"$nulls":5},"Uramita","Uramita"]
[649,"Antioquia","Santuario",{"v":1.053222891,"d":"1.0532"},{"v":0.2867694112,"d":"0.2868"},{"v":0.2667914904,"d":"0.2668"},{"v":0.2647326567,"d":"0.2647"},{"v":0.3138839909,"d":"0.3139"},{"$nulls":18},"Urrao",{"$nulls":5},"Urrao","Urrao"]
[828,"Antioquia","Segovia",{"v":0.9155083135,"d":"0.9155"},{"v":0.2955248191,"d":"0.2955"},{"v":0.2866318193,"d":"0.2866"},{"v":0.2860945939,"d":"0.2861"},{"v":0.3689711694,"d":"0.3690"},{"$nulls":18},"Valdivia",{"$nulls":5},"Valdivia","Valdivia"]
[597,"Antioquia","Sonsón",{"v":0.8931110184,"d":"0.8931"},{"v":0.286996515,"d":"0.2870"},{"v":0.2578535337,"d":"0.2579"},{"v":0.3231477463,"d":"0.3231"},{"v":0.4019294801,"d":"0.4019"},{"$nulls":18},"Valparaiso",{"$nulls":5},"Valparaiso","Valparaiso"]
[738,"Antioquia","Sopetrán",{"v":1.03190556,"d":"1.0319"},{"v":0.3793655175,"d":"0.3794"},{"v":0.3391163663,"d":"0.3391"},{"v":0.3385413082,"d":"0.3385"},{"v":0.598124884,"d":"0.5981"},{"$nulls":18},"Vegachí",{"$nulls":5},"Vegachí","Vegachí"]
[575,"Antioquia","Támesis",{"v":0.8533399065,"d":"0.8533"},{"v":0.2879756935,"d":"0.2880"},{"v":0.3002334441,"d":"0.3002"},{"v":0.3040885003,"d":"0.3041"},{"v":0.5343529905,"d":"0.5344"},{"$nulls":18},"Venecia",{"$nulls":5},"Venecia","Venecia"]
[841,"Antioquia","Tarazá",{"v":0.759612089,"d":"0.7596"},{"v":0.3171017656,"d":"0.3171"},{"v":0.3319417968,"d":"0.3319"},{"v":0.3706698709,"d":"0.3707"},{"v":0.5711171265,"d":"0.5711"},{"$nulls":18},"Vigía Del Fuerte",{"$nulls":5},"Vigía Del Fuerte","Vigía Del Fuerte"]
[599,"Antioquia","Tarso",{"v":1.038576074,"d":"1.0386"},{"v":0.2993785331,"d":"0.2994"},{"v":0.2910875111,"d":"0.2911"},{"v":0.2827540466,"d":"0.2828"},{"v":0.5298289905,"d":"0.5298"},{"$nulls":18},"Yalí",{"$nulls":5},"Yalí","Yalí"]
[642,"Antioquia","Titiribí",{"v":1.067800291,"d":"1.0678"},{"v":0.3309270725,"d":"0.3309"},{"v":0.2945298576,"d":"0.2945"},{"v":0.2954332785,"d":"0.2954"},{"v":0.5425251995,"d":"0.5425"},{"$nulls":18},"Yarumal",{"$nulls":5},"Yarumal","Yarumal"]
[795,"Antioquia","Toledo",{"v":0.7316613648,"d":"0.7317"},{"v":0.3345487754,"d":"0.3345"},{"v":0.2446749095,"d":"0.2447"},{"v":0.2277295767,"d":"0.2277"},{"v":0.4979481233,"d":"0.4979"},{"$nulls":18},"Yolombó",{"$nulls":5},"Yolombó","Yolombó"]
[884,"Antioquia","Turbo",{"v":0.7764147861,"d":"0.7764"},{"v":0.45098878,"d":"0.4510"},{"v":0.4798615886,"d":"0.4799"},{"v":0.5733987539,"d":"0.5734"},{"v":0.4227815963,"d":"0.4228"},{"$nulls":18},"Yondó",{"$nulls":5},"Yondó","Yondó"]
[790,"Antioquia","Uramita",{"v":0.9120050386,"d":"0.9120"},{"v":0.3560363781,"d":"0.3560"},{"v":0.2707675982,"d":"0.2708"},{"v":0.2530819572,"d":"0.2531"},{"v":0.4519462346,"d":"0.4519"},{"$nulls":18},"Zaragoza",{"$nulls":5},"Zaragoza","Zaragoza"]
[733,"Antioquia","Urrao",{"v":0.5520657342,"d":"0.5521"},{"v":0.3375457384,"d":"0.3375"},{"v":0.3293888411,"d":"0.3294"},{"v":0.3356409778,"d":"0.3356"},{"v":0.6178931803,"d":"0.6179"}]
[824,"Antioquia","Valdivia",{"v":0.7305758377,"d":"0.7306"},{"v":0.2930385917,"d":"0.2930"},{"v":0.2913411276,"d":"0.2913"},{"v":0.2991674038,"d":"0.2992"},{"v":0.6597139839,"d":"0.6597"}]
[563,"Antioquia","Valparaiso",{"v":0.9811032554,"d":"0.9811"},{"v":0.2724550675,"d":"0.2725"},{"v":0.2726639113,"d":"0.2727"},{"v":0.2766284485,"d":"0.2766"},{"v":0.5137576369,"d":"0.5138"}]
[787,"Antioquia","Vegachí",{"v":0.8642740635,"d":"0.8643"},{"v":0.2563412299,"d":"0.2563"},{"v":0.2475914466,"d":"0.2476"},{"v":0.2223268233,"d":"0.2223"},{"v":0.2630354447,"d":"0.2630"}]
[612,"Antioquia","Venecia",{"v":1.075601511,"d":"1.0756"},{"v":0.2812136509,"d":"0.2812"},{"v":0.2761400888,"d":"0.2761"},{"v":0.2737906462,"d":"0.2738"},{"v":0.6541650837,"d":"0.6542"}]
[772,"Antioquia","Vigía Del Fuerte",{"v":0.5178914128,"d":"0.5179"},{"v":0.3008779,"d":"0.3009"},{"v":0.3082305287,"d":"0.3082"},{"v":0.2898223634,"d":"0.2898"},{"v":0.5876828556,"d":"0.5877"}]
[761,"Antioquia","Yalí",{"v":0.9028309566,"d":"0.9028"},{"v":0.2667047107,"d":"0.2667"},{"v":0.2450635398,"d":"0.2451"},{"v":0.2318427512,"d":"0.2318"},{"v":0.261377122,"d":"0.2614"}]
[805,"Antioquia","Yarumal",{"v":0.7792546312,"d":"0.7793"},{"v":0.333820026,"d":"0.3338"},{"v":0.306518893,"d":"0.3065"},{"v":0.3564750509,"d":"0.3565"},{"v":0.4808514955,"d":"0.4809"}]
[769,"Antioquia","Yolombó",{"v":0.9923991422,"d":"0.9924"},{"v":0.2920099284,"d":"0.2920"},{"v":0.3494952412,"d":"0.3495"},{"v":0.2949294134,"d":"0.2949"},{"v":0.3775963842,"d":"0.3776"}]
[812,"Antioquia","Yondó",{"v":1.078468332,"d":"1.0785"},{"v":0.353295379,"d":"0.3533"},{"v":0.3609477079,"d":"0.3609"},{"v":0.4500892421,"d":"0.4501"},{"v":0.7604943708,"d":"0.7605"}]
[838,"Antioquia","Zaragoza",{"v":1.005168682,"d":"1.0052"},{"v":0.3621249342,"d":"0.3621"},{"v":0.3705472122,"d":"0.3705"},{"v":0.3796878837,"d":"0.3797"},{"v":0.3944549523,"d":"0.3945"}]
[1076,"Arauca","Arauca",{"v":1.051667271,"d":"1.0517"},{"v":0.3991156922,"d":"0.3991"},{"v":0.4058552256,"d":"0.4059"},{"v":0.7528650856,"d":"0.7529"},{"v":0.3967392279,"d":"0.3967"}]
[1074,"Arauca","Arauquita",{"v":1.05381041,"d":"1.0538"},{"v":0.4299463198,"d":"0.4299"},{"v":0.4542611014,"d":"0.4543"},{"v":0.6137991162,"d":"0.6138"},{"v":0.4307256074,"d":"0.4307"}]
[1072,"Arauca","Cravo Norte",{"v":0.9698364785,"d":"0.9698"},{"v":0.4824247905,"d":"0.4824"},{"v":0.3262211973,"d":"0.3262"},{"v":0.3634128264,"d":"0.3634"},{"v":0.439847172,"d":"0.4398"}]
[773,"Arauca","Fortul",{"v":0.7696129727,"d":"0.7696"},{"v":0.5022752404,"d":"0.5023"},{"v":0.4450243347,"d":"0.4450"},{"v":0.5395426257,"d":"0.5395"},{"v":0.467199299,"d":"0.4672"}]
[735,"Arauca","Puerto Rondón",{"v":0.9709789185,"d":"0.9710"},{"v":0.4744346342,"d":"0.4744"},{"v":0.3200831149,"d":"0.3201"},{"v":0.4171133021,"d":"0.4171"},{"v":0.3157835892,"d":"0.3158"}]
[1075,"Arauca","Saravena",{"v":0.8026672936,"d":"0.8027"},{"v":0.3573883363,"d":"0.3574"},{"v":0.3798254577,"d":"0.3798"},{"v":0.478620625,"d":"0.4786"},{"v":0.3868326626,"d":"0.3868"}]
[747,"Arauca","Tame",{"v":0.8826042961,"d":"0.8826"},{"v":0.5671948889,"d":"0.5672"},{"v":0.4431095718,"d":"0.4431"},{"v":0.7477455216,"d":"0.7477"},{"v":0.4697172113,"d":"0.4697"}]
[1031,"Atlántico","Baranoa",{"v":1.027840565,"d":"1.0278"},{"v":0.4645844546,"d":"0.4646"},{"v":0.2341434064,"d":"0.2341"},{"v":0.2697013438,"d":"0.2697"},{"v":0.2959218112,"d":"0.2959"}]
[1045,"Atlántico","Barranquilla",{"v":1.155155376,"d":"1.1552"},{"v":0.6849361719,"d":"0.6849"},{"v":0.2431146427,"d":"0.2431"},{"v":0.233075361,"d":"0.2331"},{"v":0.3750965881,"d":"0.3751"}]
[1007,"Atlántico","Campo De La Cruz",{"v":1.101318603,"d":"1.1013"},{"v":0.3577332576,"d":"0.3577"},{"v":0.2604698829,"d":"0.2605"},{"v":0.2621233937,"d":"0.2621"},{"v":0.4607749797,"d":"0.4608"}]
[1011,"Atlántico","Candelaria",{"v":1.046136102,"d":"1.0461"},{"v":0.3676354536,"d":"0.3676"},{"v":0.2721877242,"d":"0.2722"},{"v":0.2868147777,"d":"0.2868"},{"v":0.3320553293,"d":"0.3321"}]
[1037,"Atlántico","Galapa",{"v":1.122726302,"d":"1.1227"},{"v":0.5173228885,"d":"0.5173"},{"v":0.2959006767,"d":"0.2959"},{"v":0.370500923,"d":"0.3705"},{"v":0.3519482434,"d":"0.3519"}]
[1034,"Atlántico","Juan De Acosta",{"v":1.081562115,"d":"1.0816"},{"v":0.5816125394,"d":"0.5816"},{"v":0.2632701241,"d":"0.2633"},{"v":0.2678228502,"d":"0.2678"},{"v":0.2459498314,"d":"0.2459"}]
[1017,"Atlántico","Luruaco",{"v":1.022751124,"d":"1.0228"},{"v":0.4166205199,"d":"0.4166"},{"v":0.2719414609,"d":"0.2719"},{"v":0.2848441044,"d":"0.2848"},{"v":0.2575798878,"d":"0.2576"}]
[1035,"Atlántico","Malambo",{"v":1.105511018,"d":"1.1055"},{"v":0.451910142,"d":"0.4519"},{"v":0.25884042,"d":"0.2588"},{"v":0.3217261032,"d":"0.3217"},{"v":0.3886921969,"d":"0.3887"}]
[1009,"Atlántico","Manatí",{"v":1.072205503,"d":"1.0722"},{"v":0.4129515549,"d":"0.4130"},{"v":0.274395084,"d":"0.2744"},{"v":0.2939648543,"d":"0.2940"},{"v":0.3363593328,"d":"0.3364"}]
[1022,"Atlántico","Palmar De Varela",{"v":1.087497801,"d":"1.0875"},{"v":0.3912304883,"d":"0.3912"},{"v":0.255981105,"d":"0.2560"},{"v":0.2584197506,"d":"0.2584"},{"v":0.3854889939,"d":"0.3855"}]
[1029,"Atlántico","Piojó",{"v":1.069295144,"d":"1.0693"},{"v":0.550408753,"d":"0.5504"},{"v":0.267400645,"d":"0.2674"},{"v":0.2671514953,"d":"0.2672"},{"v":0.2555952743,"d":"0.2556"}]
[1028,"Atlántico","Polonuevo",{"v":1.055884981,"d":"1.0559"},{"v":0.4424504151,"d":"0.4425"},{"v":0.2569621123,"d":"0.2570"},{"v":0.3224649416,"d":"0.3225"},{"v":0.3133141765,"d":"0.3133"}]
[1020,"Atlántico","Ponedera",{"v":1.084749355,"d":"1.0847"},{"v":0.3910553746,"d":"0.3911"},{"v":0.2638471052,"d":"0.2638"},{"v":0.2929362968,"d":"0.2929"},{"v":0.3918670668,"d":"0.3919"}]
[1042,"Atlántico","Puerto Colombia",{"v":1.111679802,"d":"1.1117"},{"v":0.6125811566,"d":"0.6126"},{"v":0.6125811566,"d":"0.6126"},{"v":0.6125811566,"d":"0.6126"},{"v":0.2665906905,"d":"0.2666"}]
[1013,"Atlántico","Repelón",{"v":1.119521392,"d":"1.1195"},{"v":0.5007989501,"d":"0.5008"},{"v":0.3215029836,"d":"0.3215"},{"v":0.3194677478,"d":"0.3195"},{"v":0.3085924172,"d":"0.3086"}]
[1030,"Atlántico","Sabanagrande",{"v":1.117743102,"d":"1.1177"},{"v":0.4322409415,"d":"0.4322"},{"v":0.2602960566,"d":"0.2603"},{"v":0.2541138474,"d":"0.2541"},{"v":0.3163093497,"d":"0.3163"}]
[1019,"Atlántico","Sabanalarga",{"v":0.7678350418,"d":"0.7678"},{"v":0.3115021806,"d":"0.3115"},{"v":0.2485973363,"d":"0.2486"},{"v":0.2777941921,"d":"0.2778"},{"v":0.302160295,"d":"0.3022"}]
[1000,"Atlántico","Santa Lucía",{"v":1.085530329,"d":"1.0855"},{"v":0.3408252422,"d":"0.3408"},{"v":0.2589271459,"d":"0.2589"},{"v":0.2516187962,"d":"0.2516"},{"v":0.2582194249,"d":"0.2582"}]
[1025,"Atlántico","Santo Tomás",{"v":1.077431251,"d":"1.0774"},{"v":0.4094956545,"d":"0.4095"},{"v":0.2568885074,"d":"0.2569"},{"v":0.2516372,"d":"0.2516"},{"v":0.3129563884,"d":"0.3130"}]
[1036,"Atlántico","Soledad",{"v":1.14808081,"d":"1.1481"},{"v":0.4820699946,"d":"0.4821"},{"v":0.2460667145,"d":"0.2461"},{"v":0.2318306376,"d":"0.2318"},{"v":0.3764419167,"d":"0.3764"}]
[995,"Atlántico","Suan",{"v":1.092862621,"d":"1.0929"},{"v":0.3246882209,"d":"0.3247"},{"v":0.2414899269,"d":"0.2415"},{"v":0.2335786695,"d":"0.2336"},{"v":0.3796353667,"d":"0.3796"}]
[1039,"Atlántico","Tubará",{"v":1.116767076,"d":"1.1168"},{"v":0.6572740676,"d":"0.6573"},{"v":0.2724492634,"d":"0.2724"},{"v":0.2664884777,"d":"0.2665"},{"v":0.2535328389,"d":"0.2535"}]
[1026,"Atlántico","Usiacurí",{"v":1.026573638,"d":"1.0266"},{"v":0.519794732,"d":"0.5198"},{"v":0.2499966045,"d":"0.2500"},{"v":0.2440301197,"d":"0.2440"},{"v":0.3120203561,"d":"0.3120"}]
[337,"Bogotá, D.C","Bogotá, D.C.",{"v":0.6069322191,"d":"0.6069"},{"v":0.4884061884,"d":"0.4884"},{"v":0.2207527931,"d":"0.2208"},{"v":0.2891340995,"d":"0.2891"},{"v":0.2048603773,"d":"0.2049"}]
[904,"Bolívar","Achí",{"v":1.043513674,"d":"1.0435"},{"v":0.3648127909,"d":"0.3648"},{"v":0.374954495,"d":"0.3750"},{"v":0.3744958329,"d":"0.3745"},{"v":0.4987459779,"d":"0.4987"}]
[903,"Bolívar","Altos Del Rosario",{"v":1.143791642,"d":"1.1438"},{"v":0.4184771835,"d":"0.4185"},{"v":0.4015220829,"d":"0.4015"},{"v":0.3942618859,"d":"0.3943"},{"v":0.6292776229,"d":"0.6293"}]
[882,"Bolívar","Arenal",{"v":0.9261451669,"d":"0.9261"},{"v":0.4645458822,"d":"0.4645"},{"v":0.436792185,"d":"0.4368"},{"v":0.4276767211,"d":"0.4277"},{"v":0.5934024992,"d":"0.5934"}]
[993,"Bolívar","Arjona",{"v":1.10578091,"d":"1.1058"},{"v":0.4137989612,"d":"0.4138"},{"v":0.3476160728,"d":"0.3476"},{"v":0.4167148826,"d":"0.4167"},{"v":0.3382101891,"d":"0.3382"}]
[992,"Bolívar","Arroyohondo",{"v":1.059532975,"d":"1.0595"},{"v":0.3791060826,"d":"0.3791"},{"v":0.3073117472,"d":"0.3073"},{"v":0.3163645508,"d":"0.3164"},{"v":0.3653525482,"d":"0.3654"}]
[913,"Bolívar","Barranco De Loba",{"v":1.165068426,"d":"1.1651"},{"v":0.4322845862,"d":"0.4323"},{"v":0.4043759798,"d":"0.4044"},{"v":0.4177527823,"d":"0.4178"},{"v":0.6330234734,"d":"0.6330"}]
[996,"Bolívar","Calamar",{"v":1.003154337,"d":"1.0032"},{"v":0.5252984992,"d":"0.5253"},{"v":0.5139891481,"d":"0.5140"},{"v":0.5337180291,"d":"0.5337"},{"v":0.5139453259,"d":"0.5139"}]
[823,"Bolívar","Cantagallo",{"v":1.157640885,"d":"1.1576"},{"v":0.469485377,"d":"0.4695"},{"v":0.4352708033,"d":"0.4353"},{"v":0.4223468041,"d":"0.4223"},{"v":0.5684374602,"d":"0.5684"}]
[1018,"Bolívar","Cartagena De Indias",{"v":1.183390974,"d":"1.1834"},{"v":0.5708136025,"d":"0.5708"},{"v":0.3664404289,"d":"0.3664"},{"v":0.39301373,"d":"0.3930"},{"v":0.3662390478,"d":"0.3662"}]
[939,"Bolívar","Cicuco",{"v":1.157298682,"d":"1.1573"},{"v":0.4011472422,"d":"0.4011"},{"v":0.3208574908,"d":"0.3209"},{"v":0.3090670758,"d":"0.3091"},{"v":0.5328045793,"d":"0.5328"}]
[1014,"Bolívar","Clemencia",{"v":1.047898645,"d":"1.0479"},{"v":0.4614396627,"d":"0.4614"},{"v":0.3148317745,"d":"0.3148"},{"v":0.3059393944,"d":"0.3059"},{"v":0.2952312259,"d":"0.2952"}]
[969,"Bolívar","Córdoba",{"v":0.5132016448,"d":"0.5132"},{"v":0.4338548058,"d":"0.4339"},{"v":0.3149616662,"d":"0.3150"},{"v":0.3092923443,"d":"0.3093"},{"v":0.3239520574,"d":"0.3240"}]
[975,"Bolívar","El Carmen De Bolívar",{"v":0.895550422,"d":"0.8956"},{"v":0.2750931814,"d":"0.2751"},{"v":0.2466672251,"d":"0.2467"},{"v":0.2396357804,"d":"0.2396"},{"v":0.3719851566,"d":"0.3720"}]
[984,"Bolívar","El Guamo",{"v":1.051918231,"d":"1.0519"},{"v":0.3470508213,"d":"0.3471"},{"v":0.2764172829,"d":"0.2764"},{"v":0.2904846297,"d":"0.2905"},{"v":0.3883144949,"d":"0.3883"}]
[917,"Bolívar","El Peñón",{"v":0.6760732363,"d":"0.6761"},{"v":0.3362293013,"d":"0.3362"},{"v":0.3211205536,"d":"0.3211"},{"v":0.3132936126,"d":"0.3133"},{"v":0.2597865709,"d":"0.2598"}]
[919,"Bolívar","Hatillo De Loba",{"v":1.233504867,"d":"1.2335"},{"v":0.4707260892,"d":"0.4707"},{"v":0.4218677782,"d":"0.4219"},{"v":0.434669877,"d":"0.4347"},{"v":0.5603683563,"d":"0.5604"}]
[955,"Bolívar","Magangué",{"v":1.092253847,"d":"1.0923"},{"v":0.3624688896,"d":"0.3625"},{"v":0.3149946114,"d":"0.3150"},{"v":0.4937809085,"d":"0.4938"},{"v":0.6123255472,"d":"0.6123"}]
[990,"Bolívar","Mahates",{"v":1.066637251,"d":"1.0666"},{"v":0.419342372,"d":"0.4193"},{"v":0.346628513,"d":"0.3466"},{"v":0.4035190736,"d":"0.4035"},{"v":0.4093506635,"d":"0.4094"}]
[931,"Bolívar","Margarita",{"v":1.198655035,"d":"1.1987"},{"v":0.4446174691,"d":"0.4446"},{"v":0.3886598061,"d":"0.3887"},{"v":0.4130875317,"d":"0.4131"},{"v":0.5252837194,"d":"0.5253"}]
[982,"Bolívar","María La Baja",{"v":0.9719234024,"d":"0.9719"},{"v":0.3047744018,"d":"0.3048"},{"v":0.2930989988,"d":"0.2931"},{"v":0.3027465522,"d":"0.3027"},{"v":0.2605515211,"d":"0.2606"}]
[937,"Bolívar","Mompós",{"v":1.130877248,"d":"1.1309"},{"v":0.3786364015,"d":"0.3786"},{"v":0.3186804853,"d":"0.3187"},{"v":0.3524990819,"d":"0.3525"},{"v":0.5256091829,"d":"0.5256"}]
[879,"Bolívar","Montecristo",{"v":0.7892309752,"d":"0.7892"},{"v":0.3162788868,"d":"0.3163"},{"v":0.2973722422,"d":"0.2974"},{"v":0.2847912121,"d":"0.2848"},{"v":0.4662758235,"d":"0.4663"}]
[881,"Bolívar","Morales",{"v":1.165088932,"d":"1.1651"},{"v":0.5379016139,"d":"0.5379"},{"v":0.4953471974,"d":"0.4953"},{"v":0.5589957601,"d":"0.5590"},{"v":0.7974679091,"d":"0.7975"}]
[893,"Bolívar","Norosí",{"v":0.9541565613,"d":"0.9542"},{"v":0.3359711591,"d":"0.3360"},{"v":0.300570431,"d":"0.3006"},{"v":0.2832870977,"d":"0.2833"},{"v":0.6166235707,"d":"0.6166"}]
[924,"Bolívar","Pinillos",{"v":1.154485341,"d":"1.1545"},{"v":0.4123651198,"d":"0.4124"},{"v":0.3750291389,"d":"0.3750"},{"v":0.397247531,"d":"0.3972"},{"v":0.6764803098,"d":"0.6765"}]
[902,"Bolívar","Regidor",{"v":1.178644223,"d":"1.1786"},{"v":0.428703189,"d":"0.4287"},{"v":0.369737804,"d":"0.3697"},{"v":0.3667192407,"d":"0.3667"},{"v":0.7894920791,"d":"0.7895"}]
[896,"Bolívar","Rioviejo",{"v":1.040959135,"d":"1.0410"},{"v":0.4131989304,"d":"0.4132"},{"v":0.3855327835,"d":"0.3855"},{"v":0.3906174364,"d":"0.3906"},{"v":0.7663452174,"d":"0.7663"}]
[1003,"Bolívar","San Cristóbal",{"v":1.12927848,"d":"1.1293"},{"v":0.4258760938,"d":"0.4259"},{"v":0.3015648891,"d":"0.3016"},{"v":0.291629219,"d":"0.2916"},{"v":0.3008056792,"d":"0.3008"}]
[1005,"Bolívar","San Estanislao",{"v":1.123957587,"d":"1.1240"},{"v":0.4724797992,"d":"0.4725"},{"v":0.3522169841,"d":"0.3522"},{"v":0.35603596,"d":"0.3560"},{"v":0.333978586,"d":"0.3340"}]
[933,"Bolívar","San Fernando",{"v":1.164374295,"d":"1.1644"},{"v":0.4035570239,"d":"0.4036"},{"v":0.3567786032,"d":"0.3568"},{"v":0.3742593284,"d":"0.3743"},{"v":0.4942487273,"d":"0.4942"}]
[976,"Bolívar","San Jacinto",{"v":1.003137976,"d":"1.0031"},{"v":0.371255403,"d":"0.3713"},{"v":0.3299284622,"d":"0.3299"},{"v":0.31503294,"d":"0.3150"},{"v":0.3810205058,"d":"0.3810"}]
[878,"Bolívar","San Jacinto Del Cauca",{"v":1.062018381,"d":"1.0620"},{"v":0.4143855272,"d":"0.4144"},{"v":0.4558838529,"d":"0.4559"},{"v":0.4186129602,"d":"0.4186"},{"v":0.5808554855,"d":"0.5809"}]
[983,"Bolívar","San Juan Nepomuceno",{"v":0.9648629947,"d":"0.9649"},{"v":0.3285553299,"d":"0.3286"},{"v":0.2897243263,"d":"0.2897"},{"v":0.3169456178,"d":"0.3169"},{"v":0.3442199137,"d":"0.3442"}]
[915,"Bolívar","San Martín De Loba",{"v":1.135235033,"d":"1.1352"},{"v":0.4238020486,"d":"0.4238"},{"v":0.3754032036,"d":"0.3754"},{"v":0.388556971,"d":"0.3886"},{"v":0.5992988887,"d":"0.5993"}]
[837,"Bolívar","San Pablo",{"v":0.7970256598,"d":"0.7970"},{"v":0.7721329132,"d":"0.7721"},{"v":0.3608695775,"d":"0.3609"},{"v":0.3451367152,"d":"0.3451"},{"v":0.3474643986,"d":"0.3475"}]
[1027,"Bolívar","Santa Catalina",{"v":1.132382747,"d":"1.1324"},{"v":0.5399238688,"d":"0.5399"},{"v":0.338382538,"d":"0.3384"},{"v":0.341368439,"d":"0.3414"},{"v":0.3246048019,"d":"0.3246"}]
[1010,"Bolívar","Santa Rosa",{"v":1.100077488,"d":"1.1001"},{"v":0.5378765877,"d":"0.5379"},{"v":0.3701369612,"d":"0.3701"},{"v":0.3772148233,"d":"0.3772"},{"v":0.5666557605,"d":"0.5667"}]
[865,"Bolívar","Santa Rosa Del Sur",{"v":0.8325128037,"d":"0.8325"},{"v":0.3146448735,"d":"0.3146"},{"v":0.31695,"d":"0.3170"},{"v":0.3486431237,"d":"0.3486"},{"v":0.5540699833,"d":"0.5541"}]
[866,"Bolívar","Simití",{"v":1.129655316,"d":"1.1297"},{"v":0.4070183055,"d":"0.4070"},{"v":0.4012502469,"d":"0.4013"},{"v":0.4440669384,"d":"0.4441"},{"v":0.5373172502,"d":"0.5373"}]
[1002,"Bolívar","Soplaviento",{"v":1.107997707,"d":"1.1080"},{"v":0.4541764772,"d":"0.4542"},{"v":0.3062486854,"d":"0.3062"},{"v":0.2917952793,"d":"0.2918"},{"v":0.3048065107,"d":"0.3048"}]
[950,"Bolívar","Talaigua Nuevo",{"v":1.152343688,"d":"1.1523"},{"v":0.3932227098,"d":"0.3932"},{"v":0.3143179134,"d":"0.3143"},{"v":0.3078710388,"d":"0.3079"},{"v":0.5259286739,"d":"0.5259"}]
[895,"Bolívar","Tiquisio",{"v":0.9152590627,"d":"0.9153"},{"v":0.3490003765,"d":"0.3490"},{"v":0.3536166817,"d":"0.3536"},{"v":0.341536981,"d":"0.3415"},{"v":0.6657593764,"d":"0.6658"}]
[1004,"Bolívar","Turbaco",{"v":1.003549193,"d":"1.0035"},{"v":0.3826564712,"d":"0.3827"},{"v":0.279443848,"d":"0.2794"},{"v":0.2873829177,"d":"0.2874"},{"v":0.2598683702,"d":"0.2599"}]
[991,"Bolívar","Turbana",{"v":1.111208048,"d":"1.1112"},{"v":0.4406774467,"d":"0.4407"},{"v":0.3229797619,"d":"0.3230"},{"v":0.3336899202,"d":"0.3337"},{"v":0.3201925397,"d":"0.3202"}]
[1008,"Bolívar","Villanueva",{"v":1.079154873,"d":"1.0792"},{"v":0.3307889665,"d":"0.3308"},{"v":0.3103096839,"d":"0.3103"},{"v":0.3175328149,"d":"0.3175"},{"v":0.3460551013,"d":"0.3461"}]
[973,"Bolívar","Zambrano",{"v":1.108618898,"d":"1.1086"},{"v":0.3637450113,"d":"0.3637"},{"v":0.3081740352,"d":"0.3082"},{"v":0.2938145783,"d":"0.2938"},{"v":0.5860992719,"d":"0.5861"}]
[377,"Boyacá","Almeida",{"v":0.8076185178,"d":"0.8076"},{"v":0.3846315561,"d":"0.3846"},{"v":0.3038833539,"d":"0.3039"},{"v":0.2918176574,"d":"0.2918"},{"v":0.3439570066,"d":"0.3440"}]
[533,"Boyacá","Aquitania",{"v":0.581280774,"d":"0.5813"},{"v":0.4315561704,"d":"0.4316"},{"v":0.3196078716,"d":"0.3196"},{"v":0.3089752173,"d":"0.3090"},{"v":0.4523467409,"d":"0.4523"}]
[582,"Boyacá","Arcabuco",{"v":0.7909106568,"d":"0.7909"},{"v":0.5184489081,"d":"0.5184"},{"v":0.2972837403,"d":"0.2973"},{"v":0.2875789712,"d":"0.2876"},{"v":0.3003030164,"d":"0.3003"}]
[631,"Boyacá","Belén",{"v":0.9279637086,"d":"0.9280"},{"v":0.4050437557,"d":"0.4050"},{"v":0.2896007113,"d":"0.2896"},{"v":0.2878306864,"d":"0.2878"},{"v":0.3247949847,"d":"0.3248"}]
[450,"Boyacá","Berbeo",{"v":0.7897724728,"d":"0.7898"},{"v":0.366206733,"d":"0.3662"},{"v":0.3368533928,"d":"0.3369"},{"v":0.3209202542,"d":"0.3209"},{"v":0.3270756638,"d":"0.3271"}]
[602,"Boyacá","Betéitiva",{"v":1.092075837,"d":"1.0921"},{"v":0.5206330296,"d":"0.5206"},{"v":0.3410998315,"d":"0.3411"},{"v":0.3268178844,"d":"0.3268"},{"v":0.3491583388,"d":"0.3492"}]
[703,"Boyacá","Boavita",{"v":1.276613951,"d":"1.2766"},{"v":0.5598214901,"d":"0.5598"},{"v":0.3088180193,"d":"0.3088"},{"v":0.2980963153,"d":"0.2981"},{"v":0.3153528099,"d":"0.3154"}]
[492,"Boyacá","Boyacá",{"v":0.7795904071,"d":"0.7796"},{"v":0.3995583673,"d":"0.3996"},{"v":0.2411185229,"d":"0.2411"},{"v":0.2297735522,"d":"0.2298"},{"v":0.247332249,"d":"0.2473"}]
[552,"Boyacá","Briceño",{"v":0.7083340784,"d":"0.7083"},{"v":0.3589450474,"d":"0.3589"},{"v":0.2806682427,"d":"0.2807"},{"v":0.2825283193,"d":"0.2825"},{"v":0.5286046115,"d":"0.5286"}]
[506,"Boyacá","Buenavista",{"v":1.035451184,"d":"1.0355"},{"v":0.5499378598,"d":"0.5499"},{"v":0.3463133975,"d":"0.3463"},{"v":0.3332004887,"d":"0.3332"},{"v":0.3639478205,"d":"0.3639"}]
[588,"Boyacá","Busbanzá",{"v":1.183533974,"d":"1.1835"},{"v":0.5965588224,"d":"0.5966"},{"v":0.3147435098,"d":"0.3147"},{"v":0.2986789559,"d":"0.2987"},{"v":0.3226538343,"d":"0.3227"}]
[531,"Boyacá","Caldas",{"v":0.8393752504,"d":"0.8394"},{"v":0.3420689126,"d":"0.3421"},{"v":0.2698732223,"d":"0.2699"},{"v":0.4086047244,"d":"0.4086"},{"v":0.4531854981,"d":"0.4532"}]
[401,"Boyacá","Campohermoso",{"v":0.6592222045,"d":"0.6592"},{"v":0.3244206958,"d":"0.3244"},{"v":0.3282709277,"d":"0.3283"},{"v":0.3239574775,"d":"0.3240"},{"v":0.3562865382,"d":"0.3563"}]
[613,"Boyacá","Cerinza",{"v":0.9033858783,"d":"0.9034"},{"v":0.4135711366,"d":"0.4136"},{"v":0.2912116953,"d":"0.2912"},{"v":0.2798649656,"d":"0.2799"},{"v":0.3029810979,"d":"0.3030"}]
[442,"Boyacá","Chinavita",{"v":0.6107523165,"d":"0.6108"},{"v":0.3593765897,"d":"0.3594"},{"v":0.2856228029,"d":"0.2856"},{"v":0.2880546026,"d":"0.2881"},{"v":0.2980617083,"d":"0.2981"}]
[547,"Boyacá","Chiquinquirá",{"v":0.8542164768,"d":"0.8542"},{"v":0.4238914761,"d":"0.4239"},{"v":0.2615920037,"d":"0.2616"},{"v":0.2700897547,"d":"0.2701"},{"v":0.2788367924,"d":"0.2788"}]
[548,"Boyacá","Chíquiza",{"v":1.005505444,"d":"1.0055"},{"v":0.9465602191,"d":"0.9466"},{"v":0.2881182495,"d":"0.2881"},{"v":0.2728787676,"d":"0.2729"},{"v":0.3165414965,"d":"0.3165"}]
[770,"Boyacá","Chiscas",{"v":0.6533351984,"d":"0.6533"},{"v":0.4162395068,"d":"0.4162"},{"v":0.3217544462,"d":"0.3218"},{"v":0.3177299397,"d":"0.3177"},{"v":0.4034896964,"d":"0.4035"}]
[672,"Boyacá","Chita",{"v":0.7562511387,"d":"0.7563"},{"v":0.6269059922,"d":"0.6269"},{"v":0.3463711157,"d":"0.3464"},{"v":0.3310066568,"d":"0.3310"},{"v":0.4392795089,"d":"0.4393"}]
[627,"Boyacá","Chitaraque",{"v":1.142083,"d":"1.1421"},{"v":0.3828502667,"d":"0.3829"},{"v":0.5173535117,"d":"0.5174"},{"v":0.362896655,"d":"0.3629"},{"v":0.3784549741,"d":"0.3785"}]
[529,"Boyacá","Chivatá",{"v":1.019382915,"d":"1.0194"},{"v":0.5259821183,"d":"0.5260"},{"v":0.2710746874,"d":"0.2711"},{"v":0.2559142789,"d":"0.2559"},{"v":0.2791514823,"d":"0.2792"}]
[354,"Boyacá","Chivor",{"v":0.6113109594,"d":"0.6113"},{"v":0.2915747229,"d":"0.2916"},{"v":0.274288869,"d":"0.2743"},{"v":0.258698232,"d":"0.2587"},{"v":0.3139514196,"d":"0.3140"}]
[483,"Boyacá","Ciénega",{"v":0.6771806787,"d":"0.6772"},{"v":0.4284636119,"d":"0.4285"},{"v":0.2814132823,"d":"0.2814"},{"v":0.269132685,"d":"0.2691"},{"v":0.2943186212,"d":"0.2943"}]
[574,"Boyacá","Cómbita",{"v":0.936287227,"d":"0.9363"},{"v":0.5231916084,"d":"0.5232"},{"v":0.2817318712,"d":"0.2817"},{"v":0.2713544499,"d":"0.2714"},{"v":0.3107606959,"d":"0.3108"}]
[500,"Boyacá","Coper",{"v":0.5620956568,"d":"0.5621"},{"v":0.3901799641,"d":"0.3902"},{"v":0.3305900827,"d":"0.3306"},{"v":0.3200827722,"d":"0.3201"},{"v":0.328041772,"d":"0.3280"}]
[590,"Boyacá","Corrales",{"v":1.139150698,"d":"1.1392"},{"v":0.5371323824,"d":"0.5371"},{"v":0.2955471608,"d":"0.2955"},{"v":0.2800958579,"d":"0.2801"},{"v":0.3042445439,"d":"0.3042"}]
[729,"Boyacá","Covarachía",{"v":1.333933709,"d":"1.3339"},{"v":0.5694394808,"d":"0.5694"},{"v":0.3443691396,"d":"0.3444"},{"v":0.3289844874,"d":"0.3290"},{"v":0.3526087373,"d":"0.3526"}]
[1073,"Boyacá","Cubará",{"v":0.4974585598,"d":"0.4975"},{"v":0.4573220126,"d":"0.4573"},{"v":0.4758307329,"d":"0.4758"},{"v":0.4768258742,"d":"0.4768"},{"v":0.5602756929,"d":"0.5603"}]
[511,"Boyacá","Cucaita",{"v":1.047427955,"d":"1.0474"},{"v":0.843378732,"d":"0.8434"},{"v":0.2579169651,"d":"0.2579"},{"v":0.2415631689,"d":"0.2416"},{"v":0.3073023757,"d":"0.3073"}]
[527,"Boyacá","Cuítiva",{"v":1.103273298,"d":"1.1033"},{"v":0.6114541904,"d":"0.6115"},{"v":0.2920198391,"d":"0.2920"},{"v":0.2764358575,"d":"0.2764"},{"v":0.3001929888,"d":"0.3002"}]
[616,"Boyacá","Duitama",{"v":0.9428307314,"d":"0.9428"},{"v":0.5359596526,"d":"0.5360"},{"v":0.2611967413,"d":"0.2612"},{"v":0.2623179971,"d":"0.2623"},{"v":0.2942116264,"d":"0.2942"}]
[700,"Boyacá","El Cocuy",{"v":0.9628978881,"d":"0.9629"},{"v":0.67338351,"d":"0.6734"},{"v":0.2980595525,"d":"0.2981"},{"v":0.2928655506,"d":"0.2929"},{"v":0.3143628603,"d":"0.3144"}]
[720,"Boyacá","El Espino",{"v":1.169417996,"d":"1.1694"},{"v":0.3431056917,"d":"0.3431"},{"v":0.3072219155,"d":"0.3072"},{"v":0.2991342892,"d":"0.2991"},{"v":0.3154690577,"d":"0.3155"}]
[549,"Boyacá","Firavitoba",{"v":1.038513502,"d":"1.0385"},{"v":0.4492876589,"d":"0.4493"},{"v":0.2735724662,"d":"0.2736"},{"v":0.2672342274,"d":"0.2672"},{"v":0.281490918,"d":"0.2815"}]
[596,"Boyacá","Floresta",{"v":1.107842307,"d":"1.1078"},{"v":0.4854807088,"d":"0.4855"},{"v":0.3031137461,"d":"0.3031"},{"v":0.292361596,"d":"0.2924"},{"v":0.3109154199,"d":"0.3109"}]
[573,"Boyacá","Gachantivá",{"v":1.041010513,"d":"1.0410"},{"v":0.5715205839,"d":"0.5715"},{"v":0.2910490771,"d":"0.2910"},{"v":0.2766446862,"d":"0.2766"},{"v":0.2941699847,"d":"0.2942"}]
[585,"Boyacá","Gámeza",{"v":0.8559604489,"d":"0.8560"},{"v":0.612496911,"d":"0.6125"},{"v":0.2979420633,"d":"0.2979"},{"v":0.2825625088,"d":"0.2826"},{"v":0.3458370404,"d":"0.3458"}]
[419,"Boyacá","Garagoa",{"v":0.7326838823,"d":"0.7327"},{"v":0.3159437786,"d":"0.3159"},{"v":0.2754365683,"d":"0.2754"},{"v":0.2758631695,"d":"0.2759"},{"v":0.287956342,"d":"0.2880"}]
[710,"Boyacá","Guacamayas",{"v":1.068784272,"d":"1.0688"},{"v":0.362984571,"d":"0.3630"},{"v":0.2995611421,"d":"0.2996"},{"v":0.2856443532,"d":"0.2856"},{"v":0.3073045809,"d":"0.3073"}]
[389,"Boyacá","Guateque",{"v":0.8836790766,"d":"0.8837"},{"v":0.3956106638,"d":"0.3956"},{"v":0.2751951878,"d":"0.2752"},{"v":0.2829021356,"d":"0.2829"},{"v":0.2786766973,"d":"0.2787"}]
[370,"Boyacá","Guayatá",{"v":0.5960024317,"d":"0.5960"},{"v":0.3363666677,"d":"0.3364"},{"v":0.3168947127,"d":"0.3169"},{"v":0.310983353,"d":"0.3110"},{"v":0.3559135597,"d":"0.3559"}]
[755,"Boyacá","Güicán De La Sierra",{"v":0.7562596093,"d":"0.7563"},{"v":0.4885209075,"d":"0.4885"},{"v":0.3445576901,"d":"0.3446"},{"v":0.3352951219,"d":"0.3353"},{"v":0.4263106098,"d":"0.4263"}]
[535,"Boyacá","Iza",{"v":1.112642613,"d":"1.1126"},{"v":0.4824735803,"d":"0.4825"},{"v":0.2767331671,"d":"0.2767"},{"v":0.2625211469,"d":"0.2625"},{"v":0.2848860897,"d":"0.2849"}]
[479,"Boyacá","Jenesano",{"v":0.7812518356,"d":"0.7813"},{"v":0.3756517266,"d":"0.3757"},{"v":0.2731181576,"d":"0.2731"},{"v":0.2603203601,"d":"0.2603"},{"v":0.2763854992,"d":"0.2764"}]
[659,"Boyacá","Jericó",{"v":1.170989353,"d":"1.1710"},{"v":0.2773187831,"d":"0.2773"},{"v":0.2859374064,"d":"0.2859"},{"v":0.2866950548,"d":"0.2867"},{"v":0.5198701296,"d":"0.5199"}]
[416,"Boyacá","La Capilla",{"v":0.7986691285,"d":"0.7987"},{"v":0.3537634749,"d":"0.3538"},{"v":0.2912127533,"d":"0.2912"},{"v":0.2761039415,"d":"0.2761"},{"v":0.2943079388,"d":"0.2943"}]
[681,"Boyacá","La Uvita",{"v":1.2223663,"d":"1.2224"},{"v":0.7002858777,"d":"0.7003"},{"v":0.3061108572,"d":"0.3061"},{"v":0.2935975374,"d":"0.2936"},{"v":0.3142173031,"d":"0.3142"}]
[508,"Boyacá","La Victoria",{"v":1.061044586,"d":"1.0610"},{"v":0.3981390481,"d":"0.3981"},{"v":0.3834732749,"d":"0.3835"},{"v":0.3688509366,"d":"0.3689"},{"v":0.799285826,"d":"0.7993"}]
[546,"Boyacá","Labranzagrande",{"v":0.7403925463,"d":"0.7404"},{"v":0.4195926507,"d":"0.4196"},{"v":0.4194715452,"d":"0.4195"},{"v":0.3984942851,"d":"0.3985"},{"v":0.4649143826,"d":"0.4649"}]
[391,"Boyacá","Macanal",{"v":0.7184992002,"d":"0.7185"},{"v":0.3227956157,"d":"0.3228"},{"v":0.2989627511,"d":"0.2990"},{"v":0.2849500175,"d":"0.2850"},{"v":0.3116879789,"d":"0.3117"}]
[536,"Boyacá","Maripí",{"v":0.7770926252,"d":"0.7771"},{"v":0.3816116208,"d":"0.3816"},{"v":0.3707321235,"d":"0.3707"},{"v":0.3526735015,"d":"0.3527"},{"v":0.3847750173,"d":"0.3848"}]
[434,"Boyacá","Miraflores",{"v":0.5720424586,"d":"0.5720"},{"v":0.5915722731,"d":"0.5916"},{"v":0.5828788299,"d":"0.5829"},{"v":0.574117635,"d":"0.5741"},{"v":0.3191960358,"d":"0.3192"}]
[568,"Boyacá","Mongua",{"v":0.6395252942,"d":"0.6395"},{"v":0.4812371978,"d":"0.4812"},{"v":0.3340711752,"d":"0.3341"},{"v":0.3202283866,"d":"0.3202"},{"v":0.4211925333,"d":"0.4212"}]
[559,"Boyacá","Monguí",{"v":0.9248747524,"d":"0.9249"},{"v":0.7743257542,"d":"0.7743"},{"v":0.2930087034,"d":"0.2930"},{"v":0.2762997056,"d":"0.2763"},{"v":0.3403289979,"d":"0.3403"}]
[601,"Boyacá","Moniquirá",{"v":1.045221495,"d":"1.0452"},{"v":0.431952577,"d":"0.4320"},{"v":0.3808092816,"d":"0.3808"},{"v":0.399555943,"d":"0.3996"},{"v":0.3380597705,"d":"0.3381"}]
[540,"Boyacá","Motavita",{"v":1.028173204,"d":"1.0282"},{"v":0.6233208578,"d":"0.6233"},{"v":0.2800976854,"d":"0.2801"},{"v":0.265999532,"d":"0.2660"},{"v":0.3084193231,"d":"0.3084"}]
[524,"Boyacá","Muzo",{"v":0.8483203728,"d":"0.8483"},{"v":0.3519217438,"d":"0.3519"},{"v":0.3467716245,"d":"0.3468"},{"v":0.3407635328,"d":"0.3408"},{"v":0.3458906056,"d":"0.3459"}]
[576,"Boyacá","Nobsa",{"v":1.070245256,"d":"1.0702"},{"v":0.4476231042,"d":"0.4476"},{"v":0.2365545043,"d":"0.2366"},{"v":0.2253715424,"d":"0.2254"},{"v":0.244854555,"d":"0.2449"}]
[475,"Boyacá","Nuevo Colón",{"v":0.8657060032,"d":"0.8657"},{"v":0.3999686663,"d":"0.4000"},{"v":0.2624858928,"d":"0.2625"},{"v":0.2477613943,"d":"0.2478"},{"v":0.2660268262,"d":"0.2660"}]
[539,"Boyacá","Oicatá",{"v":1.026376779,"d":"1.0264"},{"v":0.5074552216,"d":"0.5075"},{"v":0.2607536206,"d":"0.2608"},{"v":0.2501923795,"d":"0.2502"},{"v":0.2689713462,"d":"0.2690"}]
[592,"Boyacá","Otanche",{"v":0.8625763424,"d":"0.8626"},{"v":0.3647045487,"d":"0.3647"},{"v":0.3593917688,"d":"0.3594"},{"v":0.3614807374,"d":"0.3615"},{"v":0.3646074192,"d":"0.3646"}]
[430,"Boyacá","Pachavita",{"v":0.7575870586,"d":"0.7576"},{"v":0.3647114266,"d":"0.3647"},{"v":0.2831875745,"d":"0.2832"},{"v":0.2692504939,"d":"0.2693"},{"v":0.2864542781,"d":"0.2865"}]
[429,"Boyacá","Páez",{"v":0.6069097824,"d":"0.6069"},{"v":0.6107605837,"d":"0.6108"},{"v":0.5056019691,"d":"0.5056"},{"v":0.482169333,"d":"0.4822"},{"v":0.3947593311,"d":"0.3948"}]
[608,"Boyacá","Paipa",{"v":0.9395665391,"d":"0.9396"},{"v":0.4057990636,"d":"0.4058"},{"v":0.2596791261,"d":"0.2597"},{"v":0.2793262241,"d":"0.2793"},{"v":0.2924168061,"d":"0.2924"}]
[495,"Boyacá","Pajarito",{"v":0.4291578045,"d":"0.4292"},{"v":0.2786317259,"d":"0.2786"},{"v":0.269547147,"d":"0.2695"},{"v":0.2674795804,"d":"0.2675"},{"v":0.3278586885,"d":"0.3279"}]
[711,"Boyacá","Panqueba",{"v":1.123942979,"d":"1.1239"},{"v":0.3741121144,"d":"0.3741"},{"v":0.3099792116,"d":"0.3100"},{"v":0.295386659,"d":"0.2954"},{"v":0.3176279115,"d":"0.3176"}]
[579,"Boyacá","Pauna",{"v":0.7591507647,"d":"0.7592"},{"v":0.3966585751,"d":"0.3967"},{"v":0.3481323456,"d":"0.3481"},{"v":0.3341754002,"d":"0.3342"},{"v":0.3660995735,"d":"0.3661"}]
[560,"Boyacá","Paya",{"v":0.9945623564,"d":"0.9946"},{"v":0.5601255399,"d":"0.5601"},{"v":0.4911253071,"d":"0.4911"},{"v":0.4786140306,"d":"0.4786"},{"v":0.5132906449,"d":"0.5133"}]
[632,"Boyacá","Paz De Rio",{"v":1.045011907,"d":"1.0450"},{"v":0.4372059578,"d":"0.4372"},{"v":0.2793017114,"d":"0.2793"},{"v":0.2644420909,"d":"0.2644"},{"v":0.287527025,"d":"0.2875"}]
[534,"Boyacá","Pesca",{"v":0.7121517231,"d":"0.7122"},{"v":0.4535848299,"d":"0.4536"},{"v":0.332772339,"d":"0.3328"},{"v":0.323112528,"d":"0.3231"},{"v":0.3502737612,"d":"0.3503"}]
[584,"Boyacá","Pisba",{"v":0.7298009471,"d":"0.7298"},{"v":0.4669700538,"d":"0.4670"},{"v":0.436228479,"d":"0.4362"},{"v":0.4209765232,"d":"0.4210"},{"v":0.5349356726,"d":"0.5349"}]
[667,"Boyacá","Puerto Boyacá",{"v":0.9912051996,"d":"0.9912"},{"v":0.3457381888,"d":"0.3457"},{"v":0.2941124813,"d":"0.2941"},{"v":0.5142245455,"d":"0.5142"},{"v":0.5907574655,"d":"0.5908"}]
[532,"Boyacá","Quípama",{"v":0.8982454489,"d":"0.8982"},{"v":0.4444191595,"d":"0.4444"},{"v":0.4356913938,"d":"0.4357"},{"v":0.4276711063,"d":"0.4277"},{"v":0.4419820334,"d":"0.4420"}]
[484,"Boyacá","Ramiriquí",{"v":0.605360937,"d":"0.6054"},{"v":0.3682669396,"d":"0.3683"},{"v":0.2809468155,"d":"0.2809"},{"v":0.2681392485,"d":"0.2681"},{"v":0.2937341372,"d":"0.2937"}]
[520,"Boyacá","Ráquira",{"v":0.9836961107,"d":"0.9837"},{"v":0.6474176832,"d":"0.6474"},{"v":0.3000072765,"d":"0.3000"},{"v":0.2870684343,"d":"0.2871"},{"v":0.3036070223,"d":"0.3036"}]
[494,"Boyacá","Rondón",{"v":0.4880514459,"d":"0.4881"},{"v":0.3847712094,"d":"0.3848"},{"v":0.3280212506,"d":"0.3280"},{"v":0.3149170551,"d":"0.3149"},{"v":0.3660373356,"d":"0.3660"}]
[566,"Boyacá","Saboyá",{"v":0.9250509388,"d":"0.9251"},{"v":0.4835954094,"d":"0.4836"},{"v":0.2895965611,"d":"0.2896"},{"v":0.2907737216,"d":"0.2908"},{"v":0.3085695054,"d":"0.3086"}]
[528,"Boyacá","Sáchica",{"v":1.189683038,"d":"1.1897"},{"v":0.8851889317,"d":"0.8852"},{"v":0.2696657334,"d":"0.2697"},{"v":0.2534298753,"d":"0.2534"},{"v":0.2727343398,"d":"0.2727"}]
[510,"Boyacá","Samacá",{"v":0.8545482911,"d":"0.8545"},{"v":0.8916780629,"d":"0.8917"},{"v":0.2492735749,"d":"0.2493"},{"v":0.2412077978,"d":"0.2412"},{"v":0.2742858136,"d":"0.2743"}]
[452,"Boyacá","San Eduardo",{"v":0.6248819261,"d":"0.6249"},{"v":0.3358536525,"d":"0.3359"},{"v":0.31562481,"d":"0.3156"},{"v":0.3044112642,"d":"0.3044"},{"v":0.3433848414,"d":"0.3434"}]
[620,"Boyacá","San José De Pare",{"v":1.209081671,"d":"1.2091"},{"v":0.3330073333,"d":"0.3330"},{"v":0.3857767887,"d":"0.3858"},{"v":0.2780630841,"d":"0.2781"},{"v":0.2935509809,"d":"0.2936"}]
[372,"Boyacá","San Luis De Gaceno",{"v":0.8051735437,"d":"0.8052"},{"v":0.3185429489,"d":"0.3185"},{"v":0.31594573,"d":"0.3159"},{"v":0.3034464234,"d":"0.3034"},{"v":0.3790511952,"d":"0.3791"}]
[709,"Boyacá","San Mateo",{"v":1.072000506,"d":"1.0720"},{"v":0.3918927559,"d":"0.3919"},{"v":0.3153860798,"d":"0.3154"},{"v":0.3034539961,"d":"0.3035"},{"v":0.3232592879,"d":"0.3233"}]
[522,"Boyacá","San Miguel De Sema",{"v":1.022177512,"d":"1.0222"},{"v":0.4081607594,"d":"0.4082"},{"v":0.2922685254,"d":"0.2923"},{"v":0.3006822913,"d":"0.3007"},{"v":0.2955549992,"d":"0.2956"}]
[561,"Boyacá","San Pablo De Borbur",{"v":0.8703594316,"d":"0.8704"},{"v":0.398115573,"d":"0.3981"},{"v":0.3873653974,"d":"0.3874"},{"v":0.3795780838,"d":"0.3796"},{"v":0.3856879486,"d":"0.3857"}]
[364,"Boyacá","Santa María",{"v":0.6798488395,"d":"0.6798"},{"v":0.2895672709,"d":"0.2896"},{"v":0.2979340913,"d":"0.2979"},{"v":0.3070569883,"d":"0.3071"},{"v":0.4576380297,"d":"0.4576"}]
[614,"Boyacá","Santa Rosa De Viterbo",{"v":1.013756006,"d":"1.0138"},{"v":0.4699381764,"d":"0.4699"},{"v":0.2902577653,"d":"0.2903"},{"v":0.2900397602,"d":"0.2900"},{"v":0.3024637078,"d":"0.3025"}]
[570,"Boyacá","Santa Sofía",{"v":1.059522058,"d":"1.0595"},{"v":0.6483462677,"d":"0.6483"},{"v":0.2633190867,"d":"0.2633"},{"v":0.2510531754,"d":"0.2511"},{"v":0.266400879,"d":"0.2664"}]
[634,"Boyacá","Santana",{"v":1.217768756,"d":"1.2178"},{"v":0.2975663631,"d":"0.2976"},{"v":0.3610244399,"d":"0.3610"},{"v":0.2634781437,"d":"0.2635"},{"v":0.2783813638,"d":"0.2784"}]
[652,"Boyacá","Sativanorte",{"v":1.068093749,"d":"1.0681"},{"v":0.4747917924,"d":"0.4748"},{"v":0.3156740966,"d":"0.3157"},{"v":0.3016520458,"d":"0.3017"},{"v":0.3240517704,"d":"0.3241"}]
[633,"Boyacá","Sativasur",{"v":1.110365646,"d":"1.1104"},{"v":0.4340864968,"d":"0.4341"},{"v":0.2969369986,"d":"0.2969"},{"v":0.2833049497,"d":"0.2833"},{"v":0.3055448805,"d":"0.3055"}]
[507,"Boyacá","Siachoque",{"v":0.7049229482,"d":"0.7049"},{"v":0.5379359996,"d":"0.5379"},{"v":0.2854675644,"d":"0.2855"},{"v":0.2728745786,"d":"0.2729"},{"v":0.3235174657,"d":"0.3235"}]
[689,"Boyacá","Soatá",{"v":1.216182401,"d":"1.2162"},{"v":0.6504093525,"d":"0.6504"},{"v":0.2983575585,"d":"0.2984"},{"v":0.2855775598,"d":"0.2856"},{"v":0.3063487584,"d":"0.3063"}]
[622,"Boyacá","Socha",{"v":0.9049423857,"d":"0.9049"},{"v":0.7655383131,"d":"0.7655"},{"v":0.3088563119,"d":"0.3089"},{"v":0.2965093778,"d":"0.2965"},{"v":0.3572813941,"d":"0.3573"}]
[635,"Boyacá","Socotá",{"v":0.6899103384,"d":"0.6899"},{"v":0.5620264596,"d":"0.5620"},{"v":0.35395724,"d":"0.3540"},{"v":0.3426803771,"d":"0.3427"},{"v":0.4775932923,"d":"0.4776"}]
[564,"Boyacá","Sogamoso",{"v":0.9456955027,"d":"0.9457"},{"v":0.5301292628,"d":"0.5301"},{"v":0.2645614756,"d":"0.2646"},{"v":0.2592791808,"d":"0.2593"},{"v":0.3126960267,"d":"0.3127"}]
[378,"Boyacá","Somondoco",{"v":0.8096471159,"d":"0.8096"},{"v":0.385151984,"d":"0.3852"},{"v":0.3077661281,"d":"0.3078"},{"v":0.2942081658,"d":"0.2942"},{"v":0.311012887,"d":"0.3110"}]
[526,"Boyacá","Sora",{"v":1.153474677,"d":"1.1535"},{"v":0.9072464025,"d":"0.9072"},{"v":0.2654292635,"d":"0.2654"},{"v":0.2494009577,"d":"0.2494"},{"v":0.2939776789,"d":"0.2940"}]
[502,"Boyacá","Soracá",{"v":0.8964337362,"d":"0.8964"},{"v":0.5024615623,"d":"0.5025"},{"v":0.2632286786,"d":"0.2632"},{"v":0.2510448779,"d":"0.2510"},{"v":0.2916586468,"d":"0.2917"}]
[587,"Boyacá","Sotaquirá",{"v":0.8786999434,"d":"0.8787"},{"v":0.53074679,"d":"0.5307"},{"v":0.2898506531,"d":"0.2899"},{"v":0.2919048208,"d":"0.2919"},{"v":0.3183517239,"d":"0.3184"}]
[671,"Boyacá","Susacón",{"v":1.091515352,"d":"1.0915"},{"v":0.5417887903,"d":"0.5418"},{"v":0.2981455927,"d":"0.2981"},{"v":0.2869695483,"d":"0.2870"},{"v":0.3060187491,"d":"0.3060"}]
[543,"Boyacá","Sutamarchán",{"v":1.0768959,"d":"1.0769"},{"v":0.4441644297,"d":"0.4442"},{"v":0.2816629851,"d":"0.2817"},{"v":0.2687982919,"d":"0.2688"},{"v":0.2846877255,"d":"0.2847"}]
[387,"Boyacá","Sutatenza",{"v":0.9627001124,"d":"0.9627"},{"v":0.3873550657,"d":"0.3874"},{"v":0.2966729077,"d":"0.2967"},{"v":0.2821778085,"d":"0.2822"},{"v":0.2998773659,"d":"0.2999"}]
[605,"Boyacá","Tasco",{"v":0.8252946471,"d":"0.8253"},{"v":0.6106911319,"d":"0.6107"},{"v":0.2817131509,"d":"0.2817"},{"v":0.2686749303,"d":"0.2687"},{"v":0.3294978884,"d":"0.3295"}]
[404,"Boyacá","Tenza",{"v":0.9579964366,"d":"0.9580"},{"v":0.3710413858,"d":"0.3710"},{"v":0.3030175797,"d":"0.3030"},{"v":0.2889909562,"d":"0.2890"},{"v":0.3062283711,"d":"0.3062"}]
[462,"Boyacá","Tibaná",{"v":0.7788573164,"d":"0.7789"},{"v":0.3814873616,"d":"0.3815"},{"v":0.2859844859,"d":"0.2860"},{"v":0.2735506255,"d":"0.2736"},{"v":0.2885736162,"d":"0.2886"}]
[577,"Boyacá","Tibasosa",{"v":1.000299925,"d":"1.0003"},{"v":0.3934449976,"d":"0.3934"},{"v":0.2405849265,"d":"0.2406"},{"v":0.2934364797,"d":"0.2934"},{"v":0.2485031401,"d":"0.2485"}]
[530,"Boyacá","Tinjacá",{"v":1.005834566,"d":"1.0058"},{"v":0.3790545302,"d":"0.3791"},{"v":0.2864536102,"d":"0.2865"},{"v":0.2735282784,"d":"0.2735"},{"v":0.289427525,"d":"0.2894"}]
[707,"Boyacá","Tipacoque",{"v":1.249938661,"d":"1.2499"},{"v":0.5893418951,"d":"0.5893"},{"v":0.3102531766,"d":"0.3103"},{"v":0.296112381,"d":"0.2961"},{"v":0.3183038931,"d":"0.3183"}]
[537,"Boyacá","Toca",{"v":0.9028039517,"d":"0.9028"},{"v":0.4952881664,"d":"0.4953"},{"v":0.2666053809,"d":"0.2666"},{"v":0.2581682587,"d":"0.2582"},{"v":0.2746293025,"d":"0.2746"}]
[604,"Boyacá","Togüí",{"v":1.058142679,"d":"1.0581"},{"v":0.3680044489,"d":"0.3680"},{"v":0.4410743122,"d":"0.4411"},{"v":0.3446048278,"d":"0.3446"},{"v":0.3622980433,"d":"0.3623"}]
[571,"Boyacá","Tópaga",{"v":1.080690582,"d":"1.0807"},{"v":0.7000194796,"d":"0.7000"},{"v":0.2908434995,"d":"0.2908"},{"v":0.2746514357,"d":"0.2747"},{"v":0.2991223525,"d":"0.2991"}]
[521,"Boyacá","Tota",{"v":0.7238635078,"d":"0.7239"},{"v":0.5083068124,"d":"0.5083"},{"v":0.3007114948,"d":"0.3007"},{"v":0.2846575706,"d":"0.2847"},{"v":0.3542919693,"d":"0.3543"}]
[518,"Boyacá","Tunja",{"v":0.9300330716,"d":"0.9300"},{"v":0.574636754,"d":"0.5746"},{"v":0.2427174349,"d":"0.2427"},{"v":0.2343441677,"d":"0.2343"},{"v":0.2931473037,"d":"0.2931"}]
[555,"Boyacá","Tununguá",{"v":0.728262683,"d":"0.7283"},{"v":0.2930591495,"d":"0.2931"},{"v":0.3003289301,"d":"0.3003"},{"v":0.2841637641,"d":"0.2842"},{"v":0.2992709817,"d":"0.2993"}]
[461,"Boyacá","Turmequé",{"v":0.7805775425,"d":"0.7806"},{"v":0.3870331063,"d":"0.3870"},{"v":0.2744778183,"d":"0.2745"},{"v":0.2658786025,"d":"0.2659"},{"v":0.2825335117,"d":"0.2825"}]
[553,"Boyacá","Tuta",{"v":0.9338074608,"d":"0.9338"},{"v":0.3725921833,"d":"0.3726"},{"v":0.2339672799,"d":"0.2340"},{"v":0.2726290591,"d":"0.2726"},{"v":0.2421348765,"d":"0.2421"}]
[644,"Boyacá","Tutazá",{"v":0.9358561053,"d":"0.9359"},{"v":0.385806433,"d":"0.3858"},{"v":0.2753856308,"d":"0.2754"},{"v":0.2632994046,"d":"0.2633"},{"v":0.2872914933,"d":"0.2873"}]
[451,"Boyacá","Úmbita",{"v":0.6445429061,"d":"0.6445"},{"v":0.3922694207,"d":"0.3923"},{"v":0.2879638142,"d":"0.2880"},{"v":0.2762788655,"d":"0.2763"},{"v":0.2963197337,"d":"0.2963"}]
[488,"Boyacá","Ventaquemada",{"v":0.7617458934,"d":"0.7617"},{"v":0.4491434109,"d":"0.4491"},{"v":0.2671339967,"d":"0.2671"},{"v":0.2636850154,"d":"0.2637"},{"v":0.2909053989,"d":"0.2909"}]
[550,"Boyacá","Villa De Leiva",{"v":0.9876498303,"d":"0.9876"},{"v":0.7502032256,"d":"0.7502"},{"v":0.2564765811,"d":"0.2565"},{"v":0.244156984,"d":"0.2442"},{"v":0.2597039201,"d":"0.2597"}]
[496,"Boyacá","Viracachá",{"v":0.7261855032,"d":"0.7262"},{"v":0.4293007166,"d":"0.4293"},{"v":0.2762055187,"d":"0.2762"},{"v":0.2648037371,"d":"0.2648"},{"v":0.3144333755,"d":"0.3144"}]
[464,"Boyacá","Zetaquirá",{"v":0.5906458159,"d":"0.5906"},{"v":0.3862429162,"d":"0.3862"},{"v":0.3502951138,"d":"0.3503"},{"v":0.337579472,"d":"0.3376"},{"v":0.3965426124,"d":"0.3965"}]
[554,"Caldas","Aguadas",{"v":0.8817323492,"d":"0.8817"},{"v":0.3296897832,"d":"0.3297"},{"v":0.2878912197,"d":"0.2879"},{"v":0.2943354962,"d":"0.2943"},{"v":0.5260953876,"d":"0.5261"}]
[444,"Caldas","Anserma",{"v":0.9412553845,"d":"0.9413"},{"v":0.3276675129,"d":"0.3277"},{"v":0.2786609911,"d":"0.2787"},{"v":0.2463286665,"d":"0.2463"},{"v":0.5238638878,"d":"0.5239"}]
[459,"Caldas","Aranzazu",{"v":0.6490196508,"d":"0.6490"},{"v":0.3273260722,"d":"0.3273"},{"v":0.2895465884,"d":"0.2895"},{"v":0.276466922,"d":"0.2765"},{"v":0.401832087,"d":"0.4018"}]
[397,"Caldas","Belalcázar",{"v":0.9463836243,"d":"0.9464"},{"v":0.2223427279,"d":"0.2223"},{"v":0.2296295422,"d":"0.2296"},{"v":0.2061051036,"d":"0.2061"},{"v":0.3519286855,"d":"0.3519"}]
[399,"Caldas","Chinchiná",{"v":0.8532975411,"d":"0.8533"},{"v":0.257982303,"d":"0.2580"},{"v":0.2987094041,"d":"0.2987"},{"v":0.2545108363,"d":"0.2545"},{"v":0.3991292672,"d":"0.3991"}]
[470,"Caldas","Filadelfia",{"v":0.987647989,"d":"0.9876"},{"v":0.2961362904,"d":"0.2961"},{"v":0.3033200136,"d":"0.3033"},{"v":0.2810307709,"d":"0.2810"},{"v":0.5171156129,"d":"0.5171"}]
[565,"Caldas","La Dorada",{"v":1.03215901,"d":"1.0322"},{"v":0.3407268921,"d":"0.3407"},{"v":0.2603108106,"d":"0.2603"},{"v":0.3325379758,"d":"0.3325"},{"v":0.4648588865,"d":"0.4649"}]
[487,"Caldas","La Merced",{"v":0.9656028523,"d":"0.9656"},{"v":0.3208609006,"d":"0.3209"},{"v":0.2881426999,"d":"0.2881"},{"v":0.2773326345,"d":"0.2773"},{"v":0.5282455823,"d":"0.5282"}]
[420,"Caldas","Manizales",{"v":0.6883683071,"d":"0.6884"},{"v":0.2949756186,"d":"0.2950"},{"v":0.2967819065,"d":"0.2968"},{"v":0.3049351555,"d":"0.3049"},{"v":0.5593315454,"d":"0.5593"}]
[453,"Caldas","Manzanares",{"v":0.8400814334,"d":"0.8401"},{"v":0.2890894938,"d":"0.2891"},{"v":0.3207741578,"d":"0.3208"},{"v":0.2867146664,"d":"0.2867"},{"v":0.3093448604,"d":"0.3093"}]
[501,"Caldas","Marmato",{"v":0.9419774441,"d":"0.9420"},{"v":0.3287121921,"d":"0.3287"},{"v":0.2720207363,"d":"0.2720"},{"v":0.2561087628,"d":"0.2561"},{"v":0.5140610848,"d":"0.5141"}]
[458,"Caldas","Marquetalia",{"v":0.8909275793,"d":"0.8909"},{"v":0.3063210489,"d":"0.3063"},{"v":0.3181885777,"d":"0.3182"},{"v":0.2860954563,"d":"0.2861"},{"v":0.3163122121,"d":"0.3163"}]
[469,"Caldas","Marulanda",{"v":0.6555492088,"d":"0.6555"},{"v":0.3479839085,"d":"0.3480"},{"v":0.2552893667,"d":"0.2553"},{"v":0.2501990411,"d":"0.2502"},{"v":0.4153030452,"d":"0.4153"}]
[441,"Caldas","Neira",{"v":0.7596364331,"d":"0.7596"},{"v":0.3222546462,"d":"0.3223"},{"v":0.2888284721,"d":"0.2888"},{"v":0.2817643639,"d":"0.2818"},{"v":0.5214306047,"d":"0.5214"}]
[557,"Caldas","Norcasia",{"v":0.9616514348,"d":"0.9617"},{"v":0.265846493,"d":"0.2658"},{"v":0.2421479902,"d":"0.2421"},{"v":0.2427193088,"d":"0.2427"},{"v":0.242371416,"d":"0.2424"}]
[519,"Caldas","Pácora",{"v":0.8172665944,"d":"0.8173"},{"v":0.3212585028,"d":"0.3213"},{"v":0.3107502787,"d":"0.3108"},{"v":0.279595738,"d":"0.2796"},{"v":0.528383781,"d":"0.5284"}]
[411,"Caldas","Palestina",{"v":0.903798458,"d":"0.9038"},{"v":0.2148017102,"d":"0.2148"},{"v":0.2249537688,"d":"0.2250"},{"v":0.2150508131,"d":"0.2151"},{"v":0.4898998926,"d":"0.4899"}]
[504,"Caldas","Pensilvania",{"v":0.6406899372,"d":"0.6407"},{"v":0.3022606197,"d":"0.3023"},{"v":0.2572613048,"d":"0.2573"},{"v":0.2292825167,"d":"0.2293"},{"v":0.2579978705,"d":"0.2580"}]
[512,"Caldas","Riosucio",{"v":0.8229224886,"d":"0.8229"},{"v":0.6502374922,"d":"0.6502"},{"v":0.6959727158,"d":"0.6960"},{"v":0.6624949405,"d":"0.6625"},{"v":0.5971665548,"d":"0.5972"}]
[424,"Caldas","Risaralda",{"v":0.9780214367,"d":"0.9780"},{"v":0.3204256284,"d":"0.3204"},{"v":0.271875621,"d":"0.2719"},{"v":0.2581667764,"d":"0.2582"},{"v":0.3919927653,"d":"0.3920"}]
[490,"Caldas","Salamina",{"v":0.784656537,"d":"0.7847"},{"v":0.4132451192,"d":"0.4132"},{"v":0.3182982135,"d":"0.3183"},{"v":0.3405241231,"d":"0.3405"},{"v":0.4283635742,"d":"0.4284"}]
[556,"Caldas","Samaná",{"v":0.7776765679,"d":"0.7777"},{"v":0.2457931908,"d":"0.2458"},{"v":0.3263653386,"d":"0.3264"},{"v":0.2514890094,"d":"0.2515"},{"v":0.2451271054,"d":"0.2451"}]
[406,"Caldas","San José",{"v":1.010832064,"d":"1.0108"},{"v":0.2898671541,"d":"0.2899"},{"v":0.2680739704,"d":"0.2681"},{"v":0.2472311672,"d":"0.2472"},{"v":0.3673972986,"d":"0.3674"}]
[503,"Caldas","Supia",{"v":1.056687458,"d":"1.0567"},{"v":0.3306106626,"d":"0.3306"},{"v":0.3409288059,"d":"0.3409"},{"v":0.3049001646,"d":"0.3049"},{"v":0.5556951529,"d":"0.5557"}]
[523,"Caldas","Victoria",{"v":1.036447087,"d":"1.0364"},{"v":0.3746536181,"d":"0.3747"},{"v":0.3015322221,"d":"0.3015"},{"v":0.3528755178,"d":"0.3529"},{"v":0.3586598022,"d":"0.3587"}]
[388,"Caldas","Villamaria",{"v":0.4553104494,"d":"0.4553"},{"v":0.3858016522,"d":"0.3858"},{"v":0.2839774451,"d":"0.2840"},{"v":0.2948860244,"d":"0.2949"},{"v":0.3859073439,"d":"0.3859"}]
[409,"Caldas","Viterbo",{"v":1.063317548,"d":"1.0633"},{"v":0.2870401734,"d":"0.2870"},{"v":0.3444313459,"d":"0.3444"},{"v":0.2603674431,"d":"0.2604"},{"v":0.2451715815,"d":"0.2452"}]
[39,"Caquetá","Albania",{"v":0.7832170668,"d":"0.7832"},{"v":0.367491106,"d":"0.3675"},{"v":0.2898088642,"d":"0.2898"},{"v":0.2790510659,"d":"0.2791"},{"v":0.3025851077,"d":"0.3026"}]
[70,"Caquetá","Belén De Los Andaquíes",{"v":0.6626556449,"d":"0.6627"},{"v":0.4052279152,"d":"0.4052"},{"v":0.3762095918,"d":"0.3762"},{"v":0.4042748576,"d":"0.4043"},{"v":0.512078873,"d":"0.5121"}]
[52,"Caquetá","Cartagena Del Chairá",{"v":0.8097108515,"d":"0.8097"},{"v":0.3764910214,"d":"0.3765"},{"v":0.3693886882,"d":"0.3694"},{"v":0.4943740482,"d":"0.4944"},{"v":0.7237411992,"d":"0.7237"}]
[22,"Caquetá","Curillo",{"v":0.7800776081,"d":"0.7801"},{"v":0.341057267,"d":"0.3411"},{"v":0.3517218348,"d":"0.3517"},{"v":0.3502996672,"d":"0.3503"},{"v":0.4588042384,"d":"0.4588"}]
[109,"Caquetá","El Doncello",{"v":0.6928512328,"d":"0.6929"},{"v":0.3497426803,"d":"0.3497"},{"v":0.3295848771,"d":"0.3296"},{"v":0.4079821542,"d":"0.4080"},{"v":0.3634272127,"d":"0.3634"}]
[106,"Caquetá","El Paujil",{"v":0.7712104999,"d":"0.7712"},{"v":0.4170731049,"d":"0.4171"},{"v":0.3873174542,"d":"0.3873"},{"v":0.4283231033,"d":"0.4283"},{"v":0.4745698934,"d":"0.4746"}]
[97,"Caquetá","Florencia",{"v":0.6003049505,"d":"0.6003"},{"v":0.3683034343,"d":"0.3683"},{"v":0.337677698,"d":"0.3377"},{"v":0.3122497117,"d":"0.3122"},{"v":0.3192529248,"d":"0.3193"}]
[38,"Caquetá","Milán",{"v":0.8923882227,"d":"0.8924"},{"v":0.4528052517,"d":"0.4528"},{"v":0.4415998607,"d":"0.4416"},{"v":0.5080602376,"d":"0.5081"},{"v":0.4549533589,"d":"0.4550"}]
[71,"Caquetá","Montañita",{"v":0.9670548075,"d":"0.9671"},{"v":0.5431618708,"d":"0.5432"},{"v":0.4872864681,"d":"0.4873"},{"v":0.5517514434,"d":"0.5518"},{"v":0.54217343,"d":"0.5422"}]
[54,"Caquetá","Morelia",{"v":0.7374917435,"d":"0.7375"},{"v":0.2792755862,"d":"0.2793"},{"v":0.281541354,"d":"0.2815"},{"v":0.369765422,"d":"0.3698"},{"v":0.2952474526,"d":"0.2952"}]
[123,"Caquetá","Puerto Rico",{"v":0.8465285298,"d":"0.8465"},{"v":0.5188100573,"d":"0.5188"},{"v":0.4650386167,"d":"0.4650"},{"v":0.5180374978,"d":"0.5180"},{"v":0.5219321776,"d":"0.5219"}]
[55,"Caquetá","San José Del Fragua",{"v":0.6112018623,"d":"0.6112"},{"v":0.3704066918,"d":"0.3704"},{"v":0.3797439994,"d":"0.3797"},{"v":0.3992158575,"d":"0.3992"},{"v":0.4863871716,"d":"0.4864"}]
[147,"Caquetá","San Vicente Del Caguán",{"v":0.8799648178,"d":"0.8800"},{"v":0.4657531627,"d":"0.4658"},{"v":0.4578502602,"d":"0.4579"},{"v":1.414851505,"d":"1.4149"},{"v":0.7279323545,"d":"0.7279"}]
[23,"Caquetá","Solano",{"v":0.9175264227,"d":"0.9175"},{"v":0.4811841063,"d":"0.4812"},{"v":0.4788305959,"d":"0.4788"},{"v":0.4692140383,"d":"0.4692"},{"v":1.45872948,"d":"1.4587"}]
[13,"Caquetá","Solita",{"v":0.8311807522,"d":"0.8312"},{"v":0.3979006728,"d":"0.3979"},{"v":0.3990134536,"d":"0.3990"},{"v":0.4189719604,"d":"0.4190"},{"v":0.5312365931,"d":"0.5312"}]
[36,"Caquetá","Valparaíso",{"v":0.8692279223,"d":"0.8692"},{"v":0.4307342674,"d":"0.4307"},{"v":0.4279412778,"d":"0.4279"},{"v":0.4854439285,"d":"0.4854"},{"v":0.5646824465,"d":"0.5647"}]
[463,"Casanare","Aguazul",{"v":0.8580827892,"d":"0.8581"},{"v":0.3412631327,"d":"0.3413"},{"v":0.273855433,"d":"0.2739"},{"v":0.4142425155,"d":"0.4142"},{"v":0.2670632031,"d":"0.2671"}]
[466,"Casanare","Chámeza",{"v":0.5234642869,"d":"0.5235"},{"v":0.3729641738,"d":"0.3730"},{"v":0.3666285618,"d":"0.3666"},{"v":0.3619093761,"d":"0.3619"},{"v":0.4244817349,"d":"0.4245"}]
[673,"Casanare","Hato Corozal",{"v":1.018444168,"d":"1.0184"},{"v":0.5570223072,"d":"0.5570"},{"v":0.3756047368,"d":"0.3756"},{"v":0.7191700769,"d":"0.7192"},{"v":0.4372525505,"d":"0.4373"}]
[680,"Casanare","La Salina",{"v":0.4670137071,"d":"0.4670"},{"v":0.3601279451,"d":"0.3601"},{"v":0.3268412083,"d":"0.3268"},{"v":0.3119374094,"d":"0.3119"},{"v":0.3432582834,"d":"0.3433"}]
[394,"Casanare","Maní",{"v":0.8509865484,"d":"0.8510"},{"v":0.3648615609,"d":"0.3649"},{"v":0.2347792097,"d":"0.2348"},{"v":0.4518557439,"d":"0.4519"},{"v":0.5228322373,"d":"0.5228"}]
[390,"Casanare","Monterrey",{"v":0.7707035894,"d":"0.7707"},{"v":0.3147030141,"d":"0.3147"},{"v":0.1823185195,"d":"0.1823"},{"v":0.2696421475,"d":"0.2696"},{"v":0.2881587052,"d":"0.2882"}]
[551,"Casanare","Nunchía",{"v":1.093591684,"d":"1.0936"},{"v":0.5654121375,"d":"0.5654"},{"v":0.4229651112,"d":"0.4230"},{"v":0.4865544079,"d":"0.4866"},{"v":0.5453749491,"d":"0.5454"}]
[432,"Casanare","Orocué",{"v":1.019438799,"d":"1.0194"},{"v":0.5593492305,"d":"0.5593"},{"v":0.3794938354,"d":"0.3795"},{"v":0.5326809185,"d":"0.5327"},{"v":0.5943700591,"d":"0.5944"}]
[641,"Casanare","Paz De Ariporo",{"v":0.8976429047,"d":"0.8976"},{"v":0.4169628283,"d":"0.4170"},{"v":0.2491379784,"d":"0.2491"},{"v":0.9155397,"d":"0.9155"},{"v":0.5621057163,"d":"0.5621"}]
[581,"Casanare","Pore",{"v":0.9374684472,"d":"0.9375"},{"v":0.4449885232,"d":"0.4450"},{"v":0.2496087338,"d":"0.2496"},{"v":0.3141162231,"d":"0.3141"},{"v":0.3038092786,"d":"0.3038"}]
[471,"Casanare","Recetor",{"v":0.7314495851,"d":"0.7314"},{"v":0.4352984927,"d":"0.4353"},{"v":0.4363222732,"d":"0.4363"},{"v":0.4365049297,"d":"0.4365"},{"v":0.4582329807,"d":"0.4582"}]
[374,"Casanare","Sabanalarga",{"v":1.007682258,"d":"1.0077"},{"v":0.4703501126,"d":"0.4704"},{"v":0.3209734077,"d":"0.3210"},{"v":0.308123532,"d":"0.3081"},{"v":0.5677249684,"d":"0.5677"}]
[639,"Casanare","Sácama",{"v":0.5325415487,"d":"0.5325"},{"v":0.2980339118,"d":"0.2980"},{"v":0.2879089332,"d":"0.2879"},{"v":0.2767582396,"d":"0.2768"},{"v":0.3623636843,"d":"0.3624"}]
[505,"Casanare","San Luis De Palenque",{"v":0.992051659,"d":"0.9921"},{"v":0.512797973,"d":"0.5128"},{"v":0.3284661477,"d":"0.3285"},{"v":0.5586312833,"d":"0.5586"},{"v":0.555193284,"d":"0.5552"}]
[624,"Casanare","Támara",{"v":0.815801017,"d":"0.8158"},{"v":0.4364210453,"d":"0.4364"},{"v":0.378146735,"d":"0.3781"},{"v":0.3890249361,"d":"0.3890"},{"v":0.4894808034,"d":"0.4895"}]
[425,"Casanare","Tauramena",{"v":0.8392861314,"d":"0.8393"},{"v":0.3415642612,"d":"0.3416"},{"v":0.2599251688,"d":"0.2599"},{"v":0.435038409,"d":"0.4350"},{"v":0.4061031427,"d":"0.4061"}]
[515,"Casanare","Trinidad",{"v":0.9722887,"d":"0.9723"},{"v":0.483431511,"d":"0.4834"},{"v":0.326545768,"d":"0.3265"},{"v":0.5481150795,"d":"0.5481"},{"v":0.5214903522,"d":"0.5215"}]
[313,"Casanare","Villanueva",{"v":1.207274238,"d":"1.2073"},{"v":0.4449723196,"d":"0.4450"},{"v":0.2947349299,"d":"0.2947"},{"v":0.2824277891,"d":"0.2824"},{"v":0.3586251231,"d":"0.3586"}]
[513,"Casanare","Yopal",{"v":0.9701641653,"d":"0.9702"},{"v":0.4635210166,"d":"0.4635"},{"v":0.3207281738,"d":"0.3207"},{"v":0.5776671259,"d":"0.5777"},{"v":0.411392674,"d":"0.4114"}]
[80,"Cauca","Almaguer",{"v":0.8818594936,"d":"0.8819"},{"v":1.070362785,"d":"1.0704"},{"v":0.3816340469,"d":"0.3816"},{"v":0.3659622731,"d":"0.3660"},{"v":0.3708612662,"d":"0.3709"}]
[119,"Cauca","Argelia",{"v":0.8974414816,"d":"0.8974"},{"v":0.4339198372,"d":"0.4339"},{"v":0.3571868205,"d":"0.3572"},{"v":0.3354381025,"d":"0.3354"},{"v":0.3587451074,"d":"0.3587"}]
[98,"Cauca","Balboa",{"v":1.037676003,"d":"1.0377"},{"v":0.4254046104,"d":"0.4254"},{"v":0.3339781374,"d":"0.3340"},{"v":0.3212040884,"d":"0.3212"},{"v":0.3592144121,"d":"0.3592"}]
[88,"Cauca","Bolívar",{"v":0.5047378776,"d":"0.5047"},{"v":0.3697067111,"d":"0.3697"},{"v":0.2977349205,"d":"0.2977"},{"v":0.297147495,"d":"0.2971"},{"v":0.3666230805,"d":"0.3666"}]
[164,"Cauca","Buenos Aires",{"v":1.020237886,"d":"1.0202"},{"v":0.4013255053,"d":"0.4013"},{"v":0.3967195905,"d":"0.3967"},{"v":0.3799451104,"d":"0.3799"},{"v":0.3946379106,"d":"0.3946"}]
[136,"Cauca","Cajibío",{"v":1.051476896,"d":"1.0515"},{"v":0.42772783,"d":"0.4277"},{"v":0.473020526,"d":"0.4730"},{"v":0.4789991,"d":"0.4790"},{"v":0.4440319802,"d":"0.4440"}]
[144,"Cauca","Caldono",{"v":0.8046753277,"d":"0.8047"},{"v":0.4854691913,"d":"0.4855"},{"v":0.4121277099,"d":"0.4121"},{"v":0.3937945853,"d":"0.3938"},{"v":0.3955562373,"d":"0.3956"}]
[161,"Cauca","Caloto",{"v":0.8442839081,"d":"0.8443"},{"v":0.3894414135,"d":"0.3894"},{"v":0.4611368879,"d":"0.4611"},{"v":0.4189328555,"d":"0.4189"},{"v":0.3545642589,"d":"0.3546"}]
[163,"Cauca","Corinto",{"v":0.4876048879,"d":"0.4876"},{"v":0.5237506127,"d":"0.5238"},{"v":0.3905419041,"d":"0.3905"},{"v":0.2580090153,"d":"0.2580"},{"v":0.2741660423,"d":"0.2742"}]
[141,"Cauca","El Tambo",{"v":0.9052211378,"d":"0.9052"},{"v":0.405595285,"d":"0.4056"},{"v":0.4858998858,"d":"0.4859"},{"v":0.4272346485,"d":"0.4272"},{"v":0.4647594114,"d":"0.4648"}]
[69,"Cauca","Florencia",{"v":0.8860773096,"d":"0.8861"},{"v":0.3492008357,"d":"0.3492"},{"v":0.3412084731,"d":"0.3412"},{"v":0.4454785683,"d":"0.4455"},{"v":0.3985799136,"d":"0.3986"}]
[162,"Cauca","Guachené",{"v":0.9741157214,"d":"0.9741"},{"v":0.3570485142,"d":"0.3570"},{"v":0.3178450219,"d":"0.3178"},{"v":0.3000688539,"d":"0.3001"},{"v":0.3107468752,"d":"0.3107"}]
[135,"Cauca","Guapi",{"v":0.4687736703,"d":"0.4688"},{"v":0.3853345544,"d":"0.3853"},{"v":0.4044857394,"d":"0.4045"},{"v":0.3871244141,"d":"0.3871"},{"v":0.4566761416,"d":"0.4567"}]
[131,"Cauca","Inzá",{"v":0.592195276,"d":"0.5922"},{"v":0.5081926545,"d":"0.5082"},{"v":0.4561618289,"d":"0.4562"},{"v":0.4315776744,"d":"0.4316"},{"v":0.4378728087,"d":"0.4379"}]
[150,"Cauca","Jambaló",{"v":0.6037936586,"d":"0.6038"},{"v":0.9333093803,"d":"0.9333"},{"v":0.3699748099,"d":"0.3700"},{"v":0.3543418107,"d":"0.3543"},{"v":0.3625038138,"d":"0.3625"}]
[101,"Cauca","La Sierra",{"v":0.9792102279,"d":"0.9792"},{"v":0.5270382443,"d":"0.5270"},{"v":0.4602065104,"d":"0.4602"},{"v":0.4352318283,"d":"0.4352"},{"v":0.4459015479,"d":"0.4459"}]
[93,"Cauca","La Vega",{"v":0.5787725625,"d":"0.5788"},{"v":0.4139437345,"d":"0.4139"},{"v":0.2849743855,"d":"0.2850"},{"v":0.350187306,"d":"0.3502"},{"v":0.2732542478,"d":"0.2733"}]
[166,"Cauca","López",{"v":0.493429744,"d":"0.4934"},{"v":0.3798391325,"d":"0.3798"},{"v":0.4765396989,"d":"0.4765"},{"v":0.4149967171,"d":"0.4150"},{"v":0.4628136613,"d":"0.4628"}]
[78,"Cauca","Mercaderes",{"v":1.095835647,"d":"1.0958"},{"v":0.5523060141,"d":"0.5523"},{"v":0.3918593687,"d":"0.3919"},{"v":0.419155907,"d":"0.4192"},{"v":0.385603891,"d":"0.3856"}]
[169,"Cauca","Miranda",{"v":0.6091559041,"d":"0.6092"},{"v":0.5384953262,"d":"0.5385"},{"v":0.4366058456,"d":"0.4366"},{"v":0.2749915734,"d":"0.2750"},{"v":0.2838685201,"d":"0.2839"}]
[148,"Cauca","Morales",{"v":0.9304856326,"d":"0.9305"},{"v":0.3760512779,"d":"0.3761"},{"v":0.3992012698,"d":"0.3992"},{"v":0.3573920883,"d":"0.3574"},{"v":0.4041072192,"d":"0.4041"}]
[165,"Cauca","Padilla",{"v":0.9116541726,"d":"0.9117"},{"v":0.3372600271,"d":"0.3373"},{"v":0.4282561833,"d":"0.4283"},{"v":0.2717062151,"d":"0.2717"},{"v":0.2783507156,"d":"0.2784"}]
[153,"Cauca","Páez",{"v":0.7156567668,"d":"0.7157"},{"v":0.3257512778,"d":"0.3258"},{"v":0.3097549161,"d":"0.3098"},{"v":0.3110586832,"d":"0.3111"},{"v":0.5246921092,"d":"0.5247"}]
[110,"Cauca","Patía",{"v":1.036849383,"d":"1.0368"},{"v":0.3776202971,"d":"0.3776"},{"v":0.347410504,"d":"0.3474"},{"v":0.3851226156,"d":"0.3851"},{"v":0.3641102908,"d":"0.3641"}]
[56,"Cauca","Piamonte",{"v":0.7645034103,"d":"0.7645"},{"v":0.4676993658,"d":"0.4677"},{"v":0.4970425447,"d":"0.4970"},{"v":0.4812158205,"d":"0.4812"},{"v":0.6378645029,"d":"0.6379"}]
[142,"Cauca","Piendamó Tunia",{"v":0.8963546486,"d":"0.8964"},{"v":0.3649789276,"d":"0.3650"},{"v":0.3589379607,"d":"0.3589"},{"v":0.3273182656,"d":"0.3273"},{"v":0.3247085637,"d":"0.3247"}]
[121,"Cauca","Popayán",{"v":0.8894976182,"d":"0.8895"},{"v":0.4761325635,"d":"0.4761"},{"v":0.3893859901,"d":"0.3894"},{"v":0.3799112825,"d":"0.3799"},{"v":0.3597907684,"d":"0.3598"}]
[172,"Cauca","Puerto Tejada",{"v":1.033838574,"d":"1.0338"},{"v":0.315901391,"d":"0.3159"},{"v":0.4032535104,"d":"0.4033"},{"v":0.3025229722,"d":"0.3025"},{"v":0.2635052937,"d":"0.2635"}]
[114,"Cauca","Puracé",{"v":0.7082357828,"d":"0.7082"},{"v":1.019896244,"d":"1.0199"},{"v":0.406822756,"d":"0.4068"},{"v":0.417227775,"d":"0.4172"},{"v":0.4095752807,"d":"0.4096"}]
[108,"Cauca","Rosas",{"v":0.9167934623,"d":"0.9168"},{"v":0.4242166247,"d":"0.4242"},{"v":0.3909336878,"d":"0.3909"},{"v":0.3725452815,"d":"0.3725"},{"v":0.3796334138,"d":"0.3796"}]
[79,"Cauca","San Sebastián",{"v":0.7460273217,"d":"0.7460"},{"v":1.238620904,"d":"1.2386"},{"v":0.428999125,"d":"0.4290"},{"v":0.4149194931,"d":"0.4149"},{"v":0.4534956713,"d":"0.4535"}]
[74,"Cauca","Santa Rosa",{"v":0.4465150449,"d":"0.4465"},{"v":0.4609901591,"d":"0.4610"},{"v":0.4185868662,"d":"0.4186"},{"v":0.4060264453,"d":"0.4060"},{"v":0.3617984622,"d":"0.3618"}]
[158,"Cauca","Santander De Quilichao",{"v":0.987049527,"d":"0.9870"},{"v":0.3760569794,"d":"0.3761"},{"v":0.5930234696,"d":"0.5930"},{"v":0.4466069085,"d":"0.4466"},{"v":0.3482135044,"d":"0.3482"}]
[139,"Cauca","Silvia",{"v":0.768049661,"d":"0.7680"},{"v":1.065250888,"d":"1.0653"},{"v":0.4243908473,"d":"0.4244"},{"v":0.4192616928,"d":"0.4193"},{"v":0.4257222326,"d":"0.4257"}]
[113,"Cauca","Sotará",{"v":0.7271443473,"d":"0.7271"},{"v":1.069209186,"d":"1.0692"},{"v":0.3839730667,"d":"0.3840"},{"v":0.3815142331,"d":"0.3815"},{"v":0.3896939811,"d":"0.3897"}]
[154,"Cauca","Suárez",{"v":0.8788788111,"d":"0.8789"},{"v":0.3463650471,"d":"0.3464"},{"v":0.284863943,"d":"0.2849"},{"v":0.2789002362,"d":"0.2789"},{"v":0.4160151472,"d":"0.4160"}]
[92,"Cauca","Sucre",{"v":0.8249089037,"d":"0.8249"},{"v":0.2955608738,"d":"0.2956"},{"v":0.282245295,"d":"0.2822"},{"v":0.2729059003,"d":"0.2729"},{"v":0.3826329922,"d":"0.3826"}]
[116,"Cauca","Timbío",{"v":0.9384968646,"d":"0.9385"},{"v":0.3872378434,"d":"0.3872"},{"v":0.3583141147,"d":"0.3583"},{"v":0.3510680341,"d":"0.3511"},{"v":0.350710656,"d":"0.3507"}]
[146,"Cauca","Timbiquí",{"v":0.478180747,"d":"0.4782"},{"v":0.3737121992,"d":"0.3737"},{"v":0.4159618671,"d":"0.4160"},{"v":0.3953802367,"d":"0.3954"},{"v":0.4569984416,"d":"0.4570"}]
[156,"Cauca","Toribío",{"v":0.4895977857,"d":"0.4896"},{"v":0.7970346664,"d":"0.7970"},{"v":0.3185166067,"d":"0.3185"},{"v":0.300108189,"d":"0.3001"},{"v":0.3142081394,"d":"0.3142"}]
[122,"Cauca","Totoró",{"v":0.8097465698,"d":"0.8097"},{"v":0.8758848196,"d":"0.8759"},{"v":0.440610852,"d":"0.4406"},{"v":0.429940619,"d":"0.4299"},{"v":0.4319439911,"d":"0.4319"}]
[167,"Cauca","Villa Rica",{"v":1.024124233,"d":"1.0241"},{"v":0.2887943631,"d":"0.2888"},{"v":0.3324505247,"d":"0.3325"},{"v":0.2565055647,"d":"0.2565"},{"v":0.257435881,"d":"0.2574"}]
[886,"Cesar","Aguachica",{"v":0.8991769623,"d":"0.8992"},{"v":0.5148330204,"d":"0.5148"},{"v":0.2488718538,"d":"0.2489"},{"v":0.4226855279,"d":"0.4227"},{"v":0.3656421092,"d":"0.3656"}]
[1095,"Cesar","Agustín Codazzi",{"v":1.049823298,"d":"1.0498"},{"v":0.3334566023,"d":"0.3335"},{"v":0.3745491615,"d":"0.3745"},{"v":0.5625153538,"d":"0.5625"},{"v":0.4121061905,"d":"0.4121"}]
[963,"Cesar","Astrea",{"v":1.12249875,"d":"1.1225"},{"v":0.3846654533,"d":"0.3847"},{"v":0.2811885258,"d":"0.2812"},{"v":0.3763429746,"d":"0.3763"},{"v":0.5394006234,"d":"0.5394"}]
[1094,"Cesar","Becerrill",{"v":1.084468192,"d":"1.0845"},{"v":0.3336860337,"d":"0.3337"},{"v":0.3350025454,"d":"0.3350"},{"v":0.4088135233,"d":"0.4088"},{"v":0.4023356219,"d":"0.4023"}]
[981,"Cesar","Bosconia",{"v":1.13833124,"d":"1.1383"},{"v":0.3915759113,"d":"0.3916"},{"v":0.2446311593,"d":"0.2446"},{"v":0.3446392225,"d":"0.3446"},{"v":0.3150072483,"d":"0.3150"}]
[960,"Cesar","Chimichagua",{"v":1.13664494,"d":"1.1366"},{"v":0.5551866254,"d":"0.5552"},{"v":0.3484589306,"d":"0.3485"},{"v":0.464384438,"d":"0.4644"},{"v":0.6114293784,"d":"0.6114"}]
[1092,"Cesar","Chiriguaná",{"v":1.084566703,"d":"1.0846"},{"v":0.3086589677,"d":"0.3087"},{"v":0.3018100033,"d":"0.3018"},{"v":0.4145199368,"d":"0.4145"},{"v":0.4036710902,"d":"0.4037"}]
[1091,"Cesar","Curumaní",{"v":0.9514442597,"d":"0.9514"},{"v":0.3067378587,"d":"0.3067"},{"v":0.3004473038,"d":"0.3004"},{"v":0.4107484625,"d":"0.4107"},{"v":0.4026682476,"d":"0.4027"}]
[1001,"Cesar","El Copey",{"v":1.104326496,"d":"1.1043"},{"v":0.3452291188,"d":"0.3452"},{"v":0.3337938897,"d":"0.3338"},{"v":0.3817559287,"d":"0.3818"},{"v":0.3892334956,"d":"0.3892"}]
[974,"Cesar","El Paso",{"v":1.175499458,"d":"1.1755"},{"v":0.5139104385,"d":"0.5139"},{"v":0.2954693144,"d":"0.2955"},{"v":0.4317428282,"d":"0.4317"},{"v":0.4982761653,"d":"0.4983"}]
[883,"Cesar","Gamarra",{"v":1.128747418,"d":"1.1287"},{"v":0.4563457115,"d":"0.4563"},{"v":0.3466935985,"d":"0.3467"},{"v":0.4521313876,"d":"0.4521"},{"v":0.4859939423,"d":"0.4860"}]
[880,"Cesar","González",{"v":1.081214405,"d":"1.0812"},{"v":0.6832634009,"d":"0.6833"},{"v":0.3986117254,"d":"0.3986"},{"v":0.3545338294,"d":"0.3545"},{"v":0.427876631,"d":"0.4279"}]
[900,"Cesar","La Gloria",{"v":0.9811066189,"d":"0.9811"},{"v":0.5225964242,"d":"0.5226"},{"v":0.3346640856,"d":"0.3347"},{"v":0.4207594614,"d":"0.4208"},{"v":0.7278336151,"d":"0.7278"}]
[1093,"Cesar","La Jagua De Ibirico",{"v":0.9844514109,"d":"0.9845"},{"v":0.3146400781,"d":"0.3146"},{"v":0.319904753,"d":"0.3199"},{"v":0.349651273,"d":"0.3497"},{"v":0.5083017888,"d":"0.5083"}]
[1097,"Cesar","La Paz",{"v":1.055556829,"d":"1.0556"},{"v":0.3361712941,"d":"0.3362"},{"v":0.3432318507,"d":"0.3432"},{"v":0.4866517206,"d":"0.4867"},{"v":0.4823852655,"d":"0.4824"}]
[1096,"Cesar","Manaure Balcón Del Cesar",{"v":0.9826025945,"d":"0.9826"},{"v":0.3628231736,"d":"0.3628"},{"v":0.3513899372,"d":"0.3514"},{"v":0.3978039731,"d":"0.3978"},{"v":0.499037145,"d":"0.4990"}]
[923,"Cesar","Pailitas",{"v":0.9234232641,"d":"0.9234"},{"v":0.7019680074,"d":"0.7020"},{"v":0.3290218781,"d":"0.3290"},{"v":0.4003504794,"d":"0.4004"},{"v":0.5065463552,"d":"0.5065"}]
[909,"Cesar","Pelaya",{"v":1.006508111,"d":"1.0065"},{"v":0.4503545911,"d":"0.4504"},{"v":0.3229320794,"d":"0.3229"},{"v":0.3559106276,"d":"0.3559"},{"v":0.4907859902,"d":"0.4908"}]
[1021,"Cesar","Pueblo Bello",{"v":1.112177563,"d":"1.1122"},{"v":0.4901473284,"d":"0.4901"},{"v":0.3610385518,"d":"0.3610"},{"v":0.3831900854,"d":"0.3832"},{"v":0.5732845849,"d":"0.5733"}]
[873,"Cesar","Río De Oro",{"v":0.8959154059,"d":"0.8959"},{"v":0.6607518849,"d":"0.6608"},{"v":0.2989328723,"d":"0.2989"},{"v":0.3583421257,"d":"0.3583"},{"v":0.4295651448,"d":"0.4296"}]
[854,"Cesar","San Alberto",{"v":0.9688337486,"d":"0.9688"},{"v":0.344311021,"d":"0.3443"},{"v":0.3643800813,"d":"0.3644"},{"v":0.4343958075,"d":"0.4344"},{"v":0.3924817972,"d":"0.3925"}]
[994,"Cesar","San Diego",{"v":1.112718449,"d":"1.1127"},{"v":0.6869925739,"d":"0.6870"},{"v":0.2597238236,"d":"0.2597"},{"v":0.3606966414,"d":"0.3607"},{"v":0.3398633326,"d":"0.3399"}]
[862,"Cesar","San Martín",{"v":0.7689358135,"d":"0.7689"},{"v":0.3539359146,"d":"0.3539"},{"v":0.2820680442,"d":"0.2821"},{"v":0.5305507002,"d":"0.5306"},{"v":0.3568377651,"d":"0.3568"}]
[922,"Cesar","Tamalameque",{"v":1.170028656,"d":"1.1700"},{"v":0.3957971227,"d":"0.3958"},{"v":0.3558943472,"d":"0.3559"},{"v":0.4022087754,"d":"0.4022"},{"v":0.6129377243,"d":"0.6129"}]
[1032,"Cesar","Valledupar",{"v":1.28300728,"d":"1.2830"},{"v":0.6737715511,"d":"0.6738"},{"v":0.4356401416,"d":"0.4356"},{"v":0.9244533953,"d":"0.9245"},{"v":0.6154555587,"d":"0.6155"}]
[1086,"Chocó","Acandí",{"v":0.743175034,"d":"0.7432"},{"v":0.4288478382,"d":"0.4288"},{"v":0.4477666219,"d":"0.4478"},{"v":0.4943844347,"d":"0.4944"},{"v":0.4288584518,"d":"0.4289"}]
[623,"Chocó","Alto Baudó",{"v":0.6699307475,"d":"0.6699"},{"v":0.5208730991,"d":"0.5209"},{"v":0.5397475117,"d":"0.5397"},{"v":0.5175061644,"d":"0.5175"},{"v":0.6279374838,"d":"0.6279"}]
[545,"Chocó","Atrato",{"v":0.7920197242,"d":"0.7920"},{"v":0.5226316063,"d":"0.5226"},{"v":0.5646726021,"d":"0.5647"},{"v":0.5459862672,"d":"0.5460"},{"v":0.5863383845,"d":"0.5863"}]
[542,"Chocó","Bagadó",{"v":0.6080581541,"d":"0.6081"},{"v":0.5074152783,"d":"0.5074"},{"v":0.5247159174,"d":"0.5247"},{"v":0.507237951,"d":"0.5072"},{"v":0.5631185226,"d":"0.5631"}]
[767,"Chocó","Bahía Solano",{"v":0.5527498778,"d":"0.5527"},{"v":0.5035612522,"d":"0.5036"},{"v":0.4941218405,"d":"0.4941"},{"v":0.480564587,"d":"0.4806"},{"v":0.613689668,"d":"0.6137"}]
[517,"Chocó","Bajo Baudó",{"v":0.591261172,"d":"0.5913"},{"v":0.4500103311,"d":"0.4500"},{"v":0.4654577148,"d":"0.4655"},{"v":0.4451457795,"d":"0.4451"},{"v":0.557739047,"d":"0.5577"}]
[774,"Chocó","Bojayá",{"v":0.5392756955,"d":"0.5393"},{"v":0.384499819,"d":"0.3845"},{"v":0.3865766378,"d":"0.3866"},{"v":0.3663596458,"d":"0.3664"},{"v":0.6512414619,"d":"0.6512"}]
[816,"Chocó","Carmen Del Darién",{"v":0.8032155032,"d":"0.8032"},{"v":0.5533126379,"d":"0.5533"},{"v":0.56710735,"d":"0.5671"},{"v":0.5281950198,"d":"0.5282"},{"v":0.7496457113,"d":"0.7496"}]
[498,"Chocó","Cértegui",{"v":0.7710284058,"d":"0.7710"},{"v":0.5272767114,"d":"0.5273"},{"v":0.5577864602,"d":"0.5578"},{"v":0.5399256308,"d":"0.5399"},{"v":0.5898406673,"d":"0.5898"}]
[431,"Chocó","Condoto",{"v":0.6141405699,"d":"0.6141"},{"v":0.4272515685,"d":"0.4273"},{"v":0.4544656256,"d":"0.4545"},{"v":0.4356417979,"d":"0.4356"},{"v":0.479054756,"d":"0.4791"}]
[499,"Chocó","El Cantón Del San Pablo",{"v":0.6846715444,"d":"0.6847"},{"v":0.4472202703,"d":"0.4472"},{"v":0.4581401536,"d":"0.4581"},{"v":0.4415999932,"d":"0.4416"},{"v":0.4857968597,"d":"0.4858"}]
[617,"Chocó","El Carmen",{"v":0.9734556755,"d":"0.9735"},{"v":0.4922584203,"d":"0.4923"},{"v":0.4978332104,"d":"0.4978"},{"v":0.4845332722,"d":"0.4845"},{"v":0.6585958687,"d":"0.6586"}]
[287,"Chocó","El Litoral Del San Juán",{"v":0.5805691443,"d":"0.5806"},{"v":0.4675885909,"d":"0.4676"},{"v":0.5084154639,"d":"0.5084"},{"v":0.4828663389,"d":"0.4829"},{"v":0.6421113605,"d":"0.6421"}]
[446,"Chocó","Istmina",{"v":0.6135241584,"d":"0.6135"},{"v":0.3922698291,"d":"0.3923"},{"v":0.422415961,"d":"0.4224"},{"v":0.4011628865,"d":"0.4012"},{"v":0.6426214639,"d":"0.6426"}]
[1078,"Chocó","Juradó",{"v":0.7337702216,"d":"0.7338"},{"v":0.4740475065,"d":"0.4740"},{"v":0.5018606664,"d":"0.5019"},{"v":0.4845705408,"d":"0.4846"},{"v":0.518030992,"d":"0.5180"}]
[558,"Chocó","Lloró",{"v":0.7540545755,"d":"0.7541"},{"v":0.5736482019,"d":"0.5736"},{"v":0.610966763,"d":"0.6110"},{"v":0.5932216876,"d":"0.5932"},{"v":0.6710013194,"d":"0.6710"}]
[660,"Chocó","Medio Atrato",{"v":0.6765252573,"d":"0.6765"},{"v":0.4647160793,"d":"0.4647"},{"v":0.4903231597,"d":"0.4903"},{"v":0.4709615061,"d":"0.4710"},{"v":0.598648854,"d":"0.5986"}]
[473,"Chocó","Medio Baudó",{"v":0.6807663119,"d":"0.6808"},{"v":0.4753084641,"d":"0.4753"},{"v":0.5039979539,"d":"0.5040"},{"v":0.4805887988,"d":"0.4806"},{"v":0.5555011778,"d":"0.5555"}]
[408,"Chocó","Medio San Juan",{"v":0.5928509659,"d":"0.5929"},{"v":0.3466464559,"d":"0.3466"},{"v":0.3767566996,"d":"0.3768"},{"v":0.3528921924,"d":"0.3529"},{"v":0.491209016,"d":"0.4912"}]
[381,"Chocó","Nóvita",{"v":0.5788528146,"d":"0.5789"},{"v":0.4373624297,"d":"0.4374"},{"v":0.4657628362,"d":"0.4658"},{"v":0.4424943014,"d":"0.4425"},{"v":0.4862593387,"d":"0.4863"}]
[615,"Chocó","Nuquí",{"v":0.6328966529,"d":"0.6329"},{"v":0.5296539377,"d":"0.5297"},{"v":0.5327692664,"d":"0.5328"},{"v":0.5153874637,"d":"0.5154"},{"v":0.5470069345,"d":"0.5470"}]
[683,"Chocó","Quibdó",{"v":0.5437533849,"d":"0.5438"},{"v":0.4136645367,"d":"0.4137"},{"v":0.4688913149,"d":"0.4689"},{"v":0.4266794622,"d":"0.4267"},{"v":0.6521001846,"d":"0.6521"}]
[439,"Chocó","Rio Iró",{"v":0.6751869074,"d":"0.6752"},{"v":0.5191021745,"d":"0.5191"},{"v":0.5505979237,"d":"0.5506"},{"v":0.5313945943,"d":"0.5314"},{"v":0.5747075133,"d":"0.5747"}]
[544,"Chocó","Rio Quito",{"v":0.6553072818,"d":"0.6553"},{"v":0.4188583012,"d":"0.4189"},{"v":0.4453208648,"d":"0.4453"},{"v":0.425388066,"d":"0.4254"},{"v":0.5334699237,"d":"0.5335"}]
[1082,"Chocó","Riosucio",{"v":1.021745966,"d":"1.0217"},{"v":0.3133802648,"d":"0.3134"},{"v":0.3251769559,"d":"0.3252"},{"v":0.2999678173,"d":"0.3000"},{"v":0.9101463877,"d":"0.9101"}]
[426,"Chocó","San José Del Palmar",{"v":0.5978360754,"d":"0.5978"},{"v":0.5773178381,"d":"0.5773"},{"v":0.5840779617,"d":"0.5841"},{"v":0.570243912,"d":"0.5702"},{"v":0.624083374,"d":"0.6241"}]
[332,"Chocó","Sipí",{"v":0.4153781578,"d":"0.4154"},{"v":0.3533660364,"d":"0.3534"},{"v":0.3751746966,"d":"0.3752"},{"v":0.3578927019,"d":"0.3579"},{"v":0.4539989746,"d":"0.4540"}]
[477,"Chocó","Tadó",{"v":0.3941856755,"d":"0.3942"},{"v":0.3985460231,"d":"0.3985"},{"v":0.4278485072,"d":"0.4278"},{"v":0.4117707767,"d":"0.4118"},{"v":0.4763797092,"d":"0.4764"}]
[1083,"Chocó","Unguía",{"v":1.025364122,"d":"1.0254"},{"v":0.5150949162,"d":"0.5151"},{"v":0.5387049393,"d":"0.5387"},{"v":0.617774782,"d":"0.6178"},{"v":0.594948718,"d":"0.5949"}]
[476,"Chocó","Unión Panamericana",{"v":0.6596283427,"d":"0.6596"},{"v":0.408714434,"d":"0.4087"},{"v":0.4331133208,"d":"0.4331"},{"v":0.4155467797,"d":"0.4155"},{"v":0.4511017666,"d":"0.4511"}]
[889,"Córdoba","Ayapel",{"v":1.000259932,"d":"1.0003"},{"v":0.3756544877,"d":"0.3757"},{"v":0.3574853616,"d":"0.3575"},{"v":0.5544496737,"d":"0.5544"},{"v":0.4059287192,"d":"0.4059"}]
[875,"Córdoba","Buenavista",{"v":0.7205122164,"d":"0.7205"},{"v":0.3090164651,"d":"0.3090"},{"v":0.3161087142,"d":"0.3161"},{"v":0.2905376293,"d":"0.2905"},{"v":0.3521401532,"d":"0.3521"}]
[905,"Córdoba","Canalete",{"v":0.8431157709,"d":"0.8431"},{"v":0.4379489444,"d":"0.4379"},{"v":0.3202323735,"d":"0.3202"},{"v":0.3753552755,"d":"0.3754"},{"v":0.3034043723,"d":"0.3034"}]
[916,"Córdoba","Cereté",{"v":0.9056603058,"d":"0.9057"},{"v":0.3766677232,"d":"0.3767"},{"v":0.3125284564,"d":"0.3125"},{"v":0.3246006961,"d":"0.3246"},{"v":0.2778531082,"d":"0.2779"}]
[934,"Córdoba","Chima",{"v":1.100826955,"d":"1.1008"},{"v":0.3887832113,"d":"0.3888"},{"v":0.3088076729,"d":"0.3088"},{"v":0.3183499719,"d":"0.3183"},{"v":0.4243513372,"d":"0.4244"}]
[930,"Córdoba","Chinú",{"v":0.9334095568,"d":"0.9334"},{"v":0.3543946135,"d":"0.3544"},{"v":0.2695113066,"d":"0.2695"},{"v":0.4233383588,"d":"0.4233"},{"v":0.3333464184,"d":"0.3333"}]
[921,"Córdoba","Ciénaga De Oro",{"v":0.8982948949,"d":"0.8983"},{"v":0.3845191429,"d":"0.3845"},{"v":0.2999194198,"d":"0.2999"},{"v":0.4360661294,"d":"0.4361"},{"v":0.34567219,"d":"0.3457"}]
[928,"Córdoba","Cotorra",{"v":0.9500322218,"d":"0.9500"},{"v":0.3702322176,"d":"0.3702"},{"v":0.2898263326,"d":"0.2898"},{"v":0.2716069023,"d":"0.2716"},{"v":0.2742029535,"d":"0.2742"}]
[864,"Córdoba","La Apartada",{"v":0.9410891831,"d":"0.9411"},{"v":0.3531526967,"d":"0.3532"},{"v":0.313177363,"d":"0.3132"},{"v":0.3507771728,"d":"0.3508"},{"v":0.4302352249,"d":"0.4302"}]
[942,"Córdoba","Lorica",{"v":0.9378836422,"d":"0.9379"},{"v":0.3749768478,"d":"0.3750"},{"v":0.3009813133,"d":"0.3010"},{"v":0.4730897669,"d":"0.4731"},{"v":0.2732223442,"d":"0.2732"}]
[912,"Córdoba","Los Córdobas",{"v":0.9189797692,"d":"0.9190"},{"v":0.4448325688,"d":"0.4448"},{"v":0.3446955783,"d":"0.3447"},{"v":0.4683241297,"d":"0.4683"},{"v":0.3217438309,"d":"0.3217"}]
[944,"Córdoba","Momil",{"v":0.968050422,"d":"0.9681"},{"v":0.3598393456,"d":"0.3598"},{"v":0.2724571519,"d":"0.2725"},{"v":0.2924942145,"d":"0.2925"},{"v":0.2668264859,"d":"0.2668"}]
[867,"Córdoba","Montelíbano",{"v":0.7919013387,"d":"0.7919"},{"v":0.3449477739,"d":"0.3449"},{"v":0.3199581065,"d":"0.3200"},{"v":0.5078368043,"d":"0.5078"},{"v":0.4458329351,"d":"0.4458"}]
[914,"Córdoba","Montería",{"v":0.8621797499,"d":"0.8622"},{"v":0.4015594865,"d":"0.4016"},{"v":0.3186368764,"d":"0.3186"},{"v":1.080479174,"d":"1.0805"},{"v":0.3720081056,"d":"0.3720"}]
[940,"Córdoba","Moñitos",{"v":0.9630534722,"d":"0.9631"},{"v":0.3902254754,"d":"0.3902"},{"v":0.3270453892,"d":"0.3270"},{"v":0.3232626875,"d":"0.3233"},{"v":0.315230111,"d":"0.3152"}]
[890,"Córdoba","Planeta Rica",{"v":0.914522365,"d":"0.9145"},{"v":0.4509992068,"d":"0.4510"},{"v":0.3355972799,"d":"0.3356"},{"v":0.5898055952,"d":"0.5898"},{"v":0.3935645559,"d":"0.3936"}]
[894,"Córdoba","Pueblo Nuevo",{"v":0.926895001,"d":"0.9269"},{"v":0.4017072633,"d":"0.4017"},{"v":0.3086731767,"d":"0.3087"},{"v":0.4344661385,"d":"0.4345"},{"v":0.3593694578,"d":"0.3594"}]
[927,"Córdoba","Puerto Escondido",{"v":0.9813718178,"d":"0.9814"},{"v":0.4521554522,"d":"0.4522"},{"v":0.3421700348,"d":"0.3422"},{"v":0.4352254615,"d":"0.4352"},{"v":0.3189391625,"d":"0.3189"}]
[858,"Córdoba","Puerto Libertador",{"v":0.7037699872,"d":"0.7038"},{"v":0.3760075689,"d":"0.3760"},{"v":0.3612758674,"d":"0.3613"},{"v":0.5125531855,"d":"0.5126"},{"v":0.4042748367,"d":"0.4043"}]
[945,"Córdoba","Purísima",{"v":1.000534201,"d":"1.0005"},{"v":0.3962308877,"d":"0.3962"},{"v":0.3025895022,"d":"0.3026"},{"v":0.3067669881,"d":"0.3068"},{"v":0.2965414034,"d":"0.2965"}]
[918,"Córdoba","Sahagún",{"v":0.876114636,"d":"0.8761"},{"v":0.3597372153,"d":"0.3597"},{"v":0.2566854126,"d":"0.2567"},{"v":0.4901838013,"d":"0.4902"},{"v":0.3138753341,"d":"0.3139"}]
[936,"Córdoba","San Andrés De Sotavento",{"v":0.9990164087,"d":"0.9990"},{"v":0.4251015054,"d":"0.4251"},{"v":0.3494522899,"d":"0.3495"},{"v":0.3817209462,"d":"0.3817"},{"v":0.3343022279,"d":"0.3343"}]
[952,"Córdoba","San Antero",{"v":1.023767179,"d":"1.0238"},{"v":0.4477098375,"d":"0.4477"},{"v":0.3475525105,"d":"0.3476"},{"v":0.3552136751,"d":"0.3552"},{"v":0.3406848027,"d":"0.3407"}]
[954,"Córdoba","San Bernardo Del Viento",{"v":1.032382704,"d":"1.0324"},{"v":0.4282658513,"d":"0.4283"},{"v":0.3299860652,"d":"0.3300"},{"v":0.3402254677,"d":"0.3402"},{"v":0.3145966282,"d":"0.3146"}]
[906,"Córdoba","San Carlos",{"v":0.8844795239,"d":"0.8845"},{"v":0.3789409796,"d":"0.3789"},{"v":0.2974044399,"d":"0.2974"},{"v":0.3793361317,"d":"0.3793"},{"v":0.2973986889,"d":"0.2974"}]
[851,"Córdoba","San José De Uré",{"v":0.8362892379,"d":"0.8363"},{"v":0.3751930951,"d":"0.3752"},{"v":0.3584610611,"d":"0.3585"},{"v":0.3410593941,"d":"0.3411"},{"v":0.4780360303,"d":"0.4780"}]
[925,"Córdoba","San Pelayo",{"v":0.9039581265,"d":"0.9040"},{"v":0.3856193437,"d":"0.3856"},{"v":0.2971342219,"d":"0.2971"},{"v":0.3605093884,"d":"0.3605"},{"v":0.2722282423,"d":"0.2722"}]
[872,"Córdoba","Tierralta",{"v":0.7532824969,"d":"0.7533"},{"v":0.4241266902,"d":"0.4241"},{"v":0.4287288998,"d":"0.4287"},{"v":0.6020234869,"d":"0.6020"},{"v":0.3806439292,"d":"0.3806"}]
[938,"Córdoba","Tuchín",{"v":0.9497164498,"d":"0.9497"},{"v":0.3823870924,"d":"0.3824"},{"v":0.2994134702,"d":"0.2994"},{"v":0.281986436,"d":"0.2820"},{"v":0.2941108149,"d":"0.2941"}]
[877,"Córdoba","Valencia",{"v":0.7424001237,"d":"0.7424"},{"v":0.355276451,"d":"0.3553"},{"v":0.2699461268,"d":"0.2699"},{"v":0.3553563659,"d":"0.3554"},{"v":0.2504081022,"d":"0.2504"}]
[261,"Cundinamarca","Agua De Dios",{"v":0.9616638862,"d":"0.9617"},{"v":0.3116348794,"d":"0.3116"},{"v":0.2297626363,"d":"0.2298"},{"v":0.2485234983,"d":"0.2485"},{"v":0.2457886176,"d":"0.2458"}]
[360,"Cundinamarca","Albán",{"v":0.5110921223,"d":"0.5111"},{"v":0.7707370036,"d":"0.7707"},{"v":0.3400235567,"d":"0.3400"},{"v":0.3192532435,"d":"0.3193"},{"v":0.2483072139,"d":"0.2483"}]
[298,"Cundinamarca","Anapoima",{"v":0.7963603582,"d":"0.7964"},{"v":0.2915250209,"d":"0.2915"},{"v":0.2732873952,"d":"0.2733"},{"v":0.295036237,"d":"0.2950"},{"v":0.3033921704,"d":"0.3034"}]
[341,"Cundinamarca","Anolaima",{"v":0.6006816867,"d":"0.6007"},{"v":0.3860347567,"d":"0.3860"},{"v":0.2705716875,"d":"0.2706"},{"v":0.3022261442,"d":"0.3022"},{"v":0.261258672,"d":"0.2613"}]
[295,"Cundinamarca","Apulo",{"v":0.8915316894,"d":"0.8915"},{"v":0.3251157686,"d":"0.3251"},{"v":0.2965166006,"d":"0.2965"},{"v":0.2896946034,"d":"0.2897"},{"v":0.3305343664,"d":"0.3305"}]
[242,"Cundinamarca","Arbeláez",{"v":0.5353207644,"d":"0.5353"},{"v":0.3992147325,"d":"0.3992"},{"v":0.3205405377,"d":"0.3205"},{"v":0.5318665997,"d":"0.5319"},{"v":0.31174113,"d":"0.3117"}]
[339,"Cundinamarca","Beltrán",{"v":0.9919075619,"d":"0.9919"},{"v":0.5022179974,"d":"0.5022"},{"v":0.2556718668,"d":"0.2557"},{"v":0.2422661076,"d":"0.2423"},{"v":0.3623613111,"d":"0.3624"}]
[356,"Cundinamarca","Bituima",{"v":0.683125189,"d":"0.6831"},{"v":0.4764069488,"d":"0.4764"},{"v":0.2920747448,"d":"0.2921"},{"v":0.2751991022,"d":"0.2752"},{"v":0.3340700387,"d":"0.3341"}]
[324,"Cundinamarca","Bojacá",{"v":0.6380163776,"d":"0.6380"},{"v":0.4483279425,"d":"0.4483"},{"v":0.3071591015,"d":"0.3072"},{"v":0.3172418423,"d":"0.3172"},{"v":0.2954544631,"d":"0.2955"}]
[216,"Cundinamarca","Cabrera",{"v":1.265222046,"d":"1.2652"},{"v":0.392852351,"d":"0.3929"},{"v":0.270609586,"d":"0.2706"},{"v":0.261646195,"d":"0.2616"},{"v":0.2935773354,"d":"0.2936"}]
[325,"Cundinamarca","Cachipay",{"v":0.6799202384,"d":"0.6799"},{"v":0.3107952783,"d":"0.3108"},{"v":0.277961585,"d":"0.2780"},{"v":0.2983861786,"d":"0.2984"},{"v":0.2635452832,"d":"0.2635"}]
[368,"Cundinamarca","Cajicá",{"v":0.8147474754,"d":"0.8147"},{"v":0.3582628235,"d":"0.3583"},{"v":0.2408487173,"d":"0.2408"},{"v":0.2694786656,"d":"0.2695"},{"v":0.2288000598,"d":"0.2288"}]
[509,"Cundinamarca","Caparrapí",{"v":0.9151447421,"d":"0.9151"},{"v":0.3975943654,"d":"0.3976"},{"v":0.446610281,"d":"0.4466"},{"v":0.3163910792,"d":"0.3164"},{"v":0.3446489023,"d":"0.3446"}]
[268,"Cundinamarca","Cáqueza",{"v":0.752994867,"d":"0.7530"},{"v":0.4484770181,"d":"0.4485"},{"v":0.2735316544,"d":"0.2735"},{"v":0.3114336847,"d":"0.3114"},{"v":0.2660774951,"d":"0.2661"}]
[489,"Cundinamarca","Carmen De Carupa",{"v":0.6886141029,"d":"0.6886"},{"v":0.8317166313,"d":"0.8317"},{"v":0.2646353515,"d":"0.2646"},{"v":0.2622552468,"d":"0.2623"},{"v":0.2889303073,"d":"0.2889"}]
[376,"Cundinamarca","Chaguaní",{"v":0.706458017,"d":"0.7065"},{"v":0.5035270989,"d":"0.5035"},{"v":0.2540544202,"d":"0.2541"},{"v":0.200449869,"d":"0.2004"},{"v":0.2988315249,"d":"0.2988"}]
[351,"Cundinamarca","Chía",{"v":0.8292691128,"d":"0.8293"},{"v":0.3997790679,"d":"0.3998"},{"v":0.303316454,"d":"0.3033"},{"v":0.3211848575,"d":"0.3212"},{"v":0.2909515665,"d":"0.2910"}]
[277,"Cundinamarca","Chipaque",{"v":0.6679190045,"d":"0.6679"},{"v":0.4504376749,"d":"0.4504"},{"v":0.2766214166,"d":"0.2766"},{"v":0.2669699769,"d":"0.2670"},{"v":0.2749842048,"d":"0.2750"}]
[299,"Cundinamarca","Choachí",{"v":0.5744475168,"d":"0.5744"},{"v":0.4299519953,"d":"0.4300"},{"v":0.2789867201,"d":"0.2790"},{"v":0.3059588057,"d":"0.3060"},{"v":0.2839046203,"d":"0.2839"}]
[435,"Cundinamarca","Chocontá",{"v":0.7895441424,"d":"0.7895"},{"v":0.4423295453,"d":"0.4423"},{"v":0.2473334491,"d":"0.2473"},{"v":0.2943859879,"d":"0.2944"},{"v":0.276331551,"d":"0.2763"}]
[423,"Cundinamarca","Cogua",{"v":0.701795153,"d":"0.7018"},{"v":0.4005615516,"d":"0.4006"},{"v":0.2510320737,"d":"0.2510"},{"v":0.2603919669,"d":"0.2604"},{"v":0.2462348771,"d":"0.2462"}]
[342,"Cundinamarca","Cota",{"v":0.8675912483,"d":"0.8676"},{"v":0.4124116951,"d":"0.4124"},{"v":0.2754541477,"d":"0.2755"},{"v":0.2958054859,"d":"0.2958"},{"v":0.2643402342,"d":"0.2643"}]
[449,"Cundinamarca","Cucunubá",{"v":0.9446744064,"d":"0.9447"},{"v":0.5486924595,"d":"0.5487"},{"v":0.265794323,"d":"0.2658"},{"v":0.2555027892,"d":"0.2555"},{"v":0.2748301498,"d":"0.2748"}]
[294,"Cundinamarca","El Colegio",{"v":0.5248855571,"d":"0.5249"},{"v":0.3383302217,"d":"0.3383"},{"v":0.3218740046,"d":"0.3219"},{"v":0.3315329408,"d":"0.3315"},{"v":0.3110715606,"d":"0.3111"}]
[456,"Cundinamarca","El Peñón",{"v":0.7891971103,"d":"0.7892"},{"v":0.2968199422,"d":"0.2968"},{"v":0.2680154818,"d":"0.2680"},{"v":0.2404633825,"d":"0.2405"},{"v":0.3231435032,"d":"0.3231"}]
[357,"Cundinamarca","El Rosal",{"v":0.7945315532,"d":"0.7945"},{"v":0.5429635268,"d":"0.5430"},{"v":0.2500548798,"d":"0.2501"},{"v":0.2764912865,"d":"0.2765"},{"v":0.2449653832,"d":"0.2450"}]
[347,"Cundinamarca","Facatativá",{"v":0.715621879,"d":"0.7156"},{"v":0.5195847989,"d":"0.5196"},{"v":0.2565244639,"d":"0.2565"},{"v":0.3872264423,"d":"0.3872"},{"v":0.2516086065,"d":"0.2516"}]
[307,"Cundinamarca","Fómeque",{"v":0.5320474474,"d":"0.5320"},{"v":0.370377198,"d":"0.3704"},{"v":0.2765189003,"d":"0.2765"},{"v":0.3450832586,"d":"0.3451"},{"v":0.3131304549,"d":"0.3131"}]
[251,"Cundinamarca","Fosca",{"v":0.6297569038,"d":"0.6298"},{"v":0.3781648885,"d":"0.3782"},{"v":0.300830838,"d":"0.3008"},{"v":0.2929122081,"d":"0.2929"},{"v":0.2914361383,"d":"0.2914"}]
[328,"Cundinamarca","Funza",{"v":0.8276782044,"d":"0.8277"},{"v":0.3435255864,"d":"0.3435"},{"v":0.2363969212,"d":"0.2364"},{"v":0.2784583827,"d":"0.2785"},{"v":0.2214311369,"d":"0.2214"}]
[493,"Cundinamarca","Fúquene",{"v":0.9078006051,"d":"0.9078"},{"v":0.4782378254,"d":"0.4782"},{"v":0.2539736082,"d":"0.2540"},{"v":0.2473437596,"d":"0.2473"},{"v":0.2570276909,"d":"0.2570"}]
[263,"Cundinamarca","Fusagasugá",{"v":0.619370859,"d":"0.6194"},{"v":0.3406336777,"d":"0.3406"},{"v":0.3205606083,"d":"0.3206"},{"v":0.8117811284,"d":"0.8118"},{"v":0.3073344902,"d":"0.3073"}]
[330,"Cundinamarca","Gachalá",{"v":0.5417679712,"d":"0.5418"},{"v":0.3202364935,"d":"0.3202"},{"v":0.3079305375,"d":"0.3079"},{"v":0.3063707225,"d":"0.3064"},{"v":0.3426601822,"d":"0.3427"}]
[383,"Cundinamarca","Gachancipá",{"v":0.7917955955,"d":"0.7918"},{"v":0.3281343034,"d":"0.3281"},{"v":0.2364376632,"d":"0.2364"},{"v":0.2824649935,"d":"0.2825"},{"v":0.2242036142,"d":"0.2242"}]
[361,"Cundinamarca","Gachetá",{"v":0.6793899708,"d":"0.6794"},{"v":0.3348373807,"d":"0.3348"},{"v":0.2941877679,"d":"0.2942"},{"v":0.3080900167,"d":"0.3081"},{"v":0.3330455585,"d":"0.3330"}]
[327,"Cundinamarca","Gama",{"v":0.6958211264,"d":"0.6958"},{"v":0.3477496486,"d":"0.3477"},{"v":0.3039111464,"d":"0.3039"},{"v":0.3050678505,"d":"0.3051"},{"v":0.3214582362,"d":"0.3215"}]
[265,"Cundinamarca","Girardot",{"v":1.028423865,"d":"1.0284"},{"v":0.4856845011,"d":"0.4857"},{"v":0.2414144648,"d":"0.2414"},{"v":0.2348960354,"d":"0.2349"},{"v":0.3671935668,"d":"0.3672"}]
[282,"Cundinamarca","Granada",{"v":1.024618612,"d":"1.0246"},{"v":0.2864774317,"d":"0.2865"},{"v":0.3002846437,"d":"0.3003"},{"v":0.2816095916,"d":"0.2816"},{"v":0.3281566691,"d":"0.3282"}]
[486,"Cundinamarca","Guachetá",{"v":0.893745338,"d":"0.8937"},{"v":0.6332970717,"d":"0.6333"},{"v":0.2600566671,"d":"0.2601"},{"v":0.2635486215,"d":"0.2635"},{"v":0.2820032373,"d":"0.2820"}]
[482,"Cundinamarca","Guaduas",{"v":0.947820778,"d":"0.9478"},{"v":0.5227115097,"d":"0.5227"},{"v":0.3275211609,"d":"0.3275"},{"v":0.6039326859,"d":"0.6039"},{"v":0.5748796388,"d":"0.5749"}]
[353,"Cundinamarca","Guasca",{"v":0.5780130767,"d":"0.5780"},{"v":0.4683712079,"d":"0.4684"},{"v":0.2705845237,"d":"0.2706"},{"v":0.2815542407,"d":"0.2816"},{"v":0.3051869546,"d":"0.3052"}]
[291,"Cundinamarca","Guataquí",{"v":1.06945065,"d":"1.0695"},{"v":0.5297371211,"d":"0.5297"},{"v":0.2733459983,"d":"0.2733"},{"v":0.2630203504,"d":"0.2630"},{"v":0.3744125899,"d":"0.3744"}]
[369,"Cundinamarca","Guatavita",{"v":0.7419864222,"d":"0.7420"},{"v":0.479030969,"d":"0.4790"},{"v":0.2781358808,"d":"0.2781"},{"v":0.2689599892,"d":"0.2690"},{"v":0.3226232034,"d":"0.3226"}]
[358,"Cundinamarca","Guayabal De Síquima",{"v":0.5981209099,"d":"0.5981"},{"v":0.4587675761,"d":"0.4588"},{"v":0.233598555,"d":"0.2336"},{"v":0.3126504346,"d":"0.3127"},{"v":0.2207758366,"d":"0.2208"}]
[250,"Cundinamarca","Guayabetal",{"v":0.4558996277,"d":"0.4559"},{"v":0.3047121242,"d":"0.3047"},{"v":0.2583785822,"d":"0.2584"},{"v":0.2727390382,"d":"0.2727"},{"v":0.256177264,"d":"0.2562"}]
[244,"Cundinamarca","Gutiérrez",{"v":0.4676448748,"d":"0.4676"},{"v":0.3410472431,"d":"0.3410"},{"v":0.2968182083,"d":"0.2968"},{"v":0.2944972648,"d":"0.2945"},{"v":0.3115677345,"d":"0.3116"}]
[301,"Cundinamarca","Jerusalén",{"v":0.9573802334,"d":"0.9574"},{"v":0.4130824671,"d":"0.4131"},{"v":0.2858709792,"d":"0.2859"},{"v":0.2642737044,"d":"0.2643"},{"v":0.3180011194,"d":"0.3180"}]
[338,"Cundinamarca","Junín",{"v":0.5421573125,"d":"0.5422"},{"v":0.3342745257,"d":"0.3343"},{"v":0.3104683766,"d":"0.3105"},{"v":0.3308102024,"d":"0.3308"},{"v":0.3461321543,"d":"0.3461"}]
[336,"Cundinamarca","La Calera",{"v":0.6612160817,"d":"0.6612"},{"v":0.4464435233,"d":"0.4464"},{"v":0.2567609504,"d":"0.2568"},{"v":0.2630757108,"d":"0.2631"},{"v":0.2621649712,"d":"0.2622"}]
[312,"Cundinamarca","La Mesa",{"v":0.782318373,"d":"0.7823"},{"v":0.3429980446,"d":"0.3430"},{"v":0.3242684714,"d":"0.3243"},{"v":0.3829135449,"d":"0.3829"},{"v":0.3572513709,"d":"0.3573"}]
[481,"Cundinamarca","La Palma",{"v":0.8265683332,"d":"0.8266"},{"v":0.3263221659,"d":"0.3263"},{"v":0.2853085388,"d":"0.2853"},{"v":0.2588242741,"d":"0.2588"},{"v":0.2595514602,"d":"0.2596"}]
[443,"Cundinamarca","La Peña",{"v":0.9581598559,"d":"0.9582"},{"v":0.3797060376,"d":"0.3797"},{"v":0.3840779189,"d":"0.3841"},{"v":0.2916616233,"d":"0.2917"},{"v":0.2974348833,"d":"0.2974"}]
[398,"Cundinamarca","La Vega",{"v":0.7234740283,"d":"0.7235"},{"v":0.905316423,"d":"0.9053"},{"v":0.4166024742,"d":"0.4166"},{"v":0.3797256386,"d":"0.3797"},{"v":0.4204830591,"d":"0.4205"}]
[467,"Cundinamarca","Lenguazaque",{"v":0.839775558,"d":"0.8398"},{"v":0.6086528081,"d":"0.6087"},{"v":0.2731964287,"d":"0.2732"},{"v":0.2694341996,"d":"0.2694"},{"v":0.2978923755,"d":"0.2979"}]
[414,"Cundinamarca","Machetá",{"v":0.6423782025,"d":"0.6424"},{"v":0.3906481375,"d":"0.3906"},{"v":0.2791735645,"d":"0.2792"},{"v":0.2680635079,"d":"0.2681"},{"v":0.3222977881,"d":"0.3223"}]
[343,"Cundinamarca","Madrid",{"v":0.8384912321,"d":"0.8385"},{"v":0.3941174716,"d":"0.3941"},{"v":0.2383292348,"d":"0.2383"},{"v":0.2413285315,"d":"0.2413"},{"v":0.226147096,"d":"0.2261"}]
[393,"Cundinamarca","Manta",{"v":0.5744924771,"d":"0.5745"},{"v":0.3115295903,"d":"0.3115"},{"v":0.2728394469,"d":"0.2728"},{"v":0.2543564527,"d":"0.2544"},{"v":0.308979583,"d":"0.3090"}]
[305,"Cundinamarca","Medina",{"v":0.5677651503,"d":"0.5678"},{"v":0.2798637389,"d":"0.2799"},{"v":0.2643517965,"d":"0.2644"},{"v":0.3397548022,"d":"0.3398"},{"v":0.3116108504,"d":"0.3116"}]
[319,"Cundinamarca","Mosquera",{"v":0.910645156,"d":"0.9106"},{"v":0.4087430177,"d":"0.4087"},{"v":0.2842536408,"d":"0.2843"},{"v":0.2825847376,"d":"0.2826"},{"v":0.3718532293,"d":"0.3719"}]
[273,"Cundinamarca","Nariño",{"v":0.6551318005,"d":"0.6551"},{"v":1.150046502,"d":"1.1500"},{"v":0.2980194483,"d":"0.2980"},{"v":0.2839275419,"d":"0.2839"},{"v":0.2492600734,"d":"0.2493"}]
[418,"Cundinamarca","Nemocón",{"v":0.7891943396,"d":"0.7892"},{"v":0.3623137994,"d":"0.3623"},{"v":0.2475889643,"d":"0.2476"},{"v":0.2736745156,"d":"0.2737"},{"v":0.235277925,"d":"0.2353"}]
[253,"Cundinamarca","Nilo",{"v":0.8622076186,"d":"0.8622"},{"v":0.2800044586,"d":"0.2800"},{"v":0.2587042943,"d":"0.2587"},{"v":0.3119047233,"d":"0.3119"},{"v":0.2516361544,"d":"0.2516"}]
[428,"Cundinamarca","Nimaima",{"v":0.8914383985,"d":"0.8914"},{"v":0.3811800599,"d":"0.3812"},{"v":0.3325000386,"d":"0.3325"},{"v":0.2709918659,"d":"0.2710"},{"v":0.2727744495,"d":"0.2728"}]
[402,"Cundinamarca","Nocaima",{"v":0.8707537378,"d":"0.8708"},{"v":0.3628698407,"d":"0.3629"},{"v":0.3323814261,"d":"0.3324"},{"v":0.2758740438,"d":"0.2759"},{"v":0.2727292007,"d":"0.2727"}]
[448,"Cundinamarca","Pacho",{"v":0.5877303649,"d":"0.5877"},{"v":0.4786257379,"d":"0.4786"},{"v":0.2875838255,"d":"0.2876"},{"v":0.2955735603,"d":"0.2956"},{"v":0.2872574478,"d":"0.2873"}]
[491,"Cundinamarca","Paime",{"v":0.7924710689,"d":"0.7925"},{"v":0.3514682437,"d":"0.3515"},{"v":0.3663986787,"d":"0.3664"},{"v":0.3435480901,"d":"0.3435"},{"v":0.3549265599,"d":"0.3549"}]
[231,"Cundinamarca","Pandi",{"v":0.5973645985,"d":"0.5974"},{"v":0.3638485953,"d":"0.3638"},{"v":0.3540571021,"d":"0.3541"},{"v":0.3527346615,"d":"0.3527"},{"v":0.335087619,"d":"0.3351"}]
[320,"Cundinamarca","Paratebueno",{"v":0.7955042357,"d":"0.7955"},{"v":0.2771284469,"d":"0.2771"},{"v":0.2454255812,"d":"0.2454"},{"v":0.2925836174,"d":"0.2926"},{"v":0.3055695727,"d":"0.3056"}]
[257,"Cundinamarca","Pasca",{"v":0.4481086131,"d":"0.4481"},{"v":0.6662582496,"d":"0.6663"},{"v":0.323290568,"d":"0.3233"},{"v":0.3216759935,"d":"0.3217"},{"v":0.3266699563,"d":"0.3267"}]
[569,"Cundinamarca","Puerto Salgar",{"v":0.990845373,"d":"0.9908"},{"v":0.3263690008,"d":"0.3264"},{"v":0.2686131154,"d":"0.2686"},{"v":0.3393256233,"d":"0.3393"},{"v":0.4399726577,"d":"0.4400"}]
[323,"Cundinamarca","Pulí",{"v":0.8716543182,"d":"0.8717"},{"v":0.4298720328,"d":"0.4299"},{"v":0.2343291568,"d":"0.2343"},{"v":0.2179131009,"d":"0.2179"},{"v":0.2664661782,"d":"0.2665"}]
[415,"Cundinamarca","Quebradanegra",{"v":0.8482255638,"d":"0.8482"},{"v":0.5522372658,"d":"0.5522"},{"v":0.3765240968,"d":"0.3765"},{"v":0.3148764504,"d":"0.3149"},{"v":0.3189311217,"d":"0.3189"}]
[258,"Cundinamarca","Quetame",{"v":0.6259370928,"d":"0.6259"},{"v":0.4585908121,"d":"0.4586"},{"v":0.3089548107,"d":"0.3090"},{"v":0.3042196071,"d":"0.3042"},{"v":0.3062717394,"d":"0.3063"}]
[329,"Cundinamarca","Quipile",{"v":0.7316120496,"d":"0.7316"},{"v":0.3813529895,"d":"0.3814"},{"v":0.3239265138,"d":"0.3239"},{"v":0.2704723683,"d":"0.2705"},{"v":0.3242561943,"d":"0.3243"}]
[254,"Cundinamarca","Ricaurte",{"v":0.9671195866,"d":"0.9671"},{"v":0.3196475653,"d":"0.3196"},{"v":0.2416367113,"d":"0.2416"},{"v":0.2498947518,"d":"0.2499"},{"v":0.5208594966,"d":"0.5209"}]
[300,"Cundinamarca","San Antonio Del Tequendama",{"v":0.4427325785,"d":"0.4427"},{"v":0.3664611528,"d":"0.3665"},{"v":0.3259974345,"d":"0.3260"},{"v":0.3901241532,"d":"0.3901"},{"v":0.3187395003,"d":"0.3187"}]
[230,"Cundinamarca","San Bernardo",{"v":0.43324622,"d":"0.4332"},{"v":1.032200974,"d":"1.0322"},{"v":0.3713041991,"d":"0.3713"},{"v":0.3558756712,"d":"0.3559"},{"v":0.3217223698,"d":"0.3217"}]
[480,"Cundinamarca","San Cayetano",{"v":1.033496979,"d":"1.0335"},{"v":0.4764529142,"d":"0.4765"},{"v":0.2984761814,"d":"0.2985"},{"v":0.3006078163,"d":"0.3006"},{"v":0.3876933967,"d":"0.3877"}]
[382,"Cundinamarca","San Francisco",{"v":0.9521211469,"d":"0.9521"},{"v":0.2709575131,"d":"0.2710"},{"v":0.287061215,"d":"0.2871"},{"v":0.2688089365,"d":"0.2688"},{"v":0.4326827192,"d":"0.4327"}]
[366,"Cundinamarca","San Juan De Rioseco",{"v":0.8247840577,"d":"0.8248"},{"v":0.5238083874,"d":"0.5238"},{"v":0.262387192,"d":"0.2624"},{"v":0.2530066437,"d":"0.2530"},{"v":0.3435974652,"d":"0.3436"}]
[379,"Cundinamarca","Sasaima",{"v":0.5946053458,"d":"0.5946"},{"v":0.4009542768,"d":"0.4010"},{"v":0.3003001102,"d":"0.3003"},{"v":0.4466520154,"d":"0.4467"},{"v":0.2842135602,"d":"0.2842"}]
[400,"Cundinamarca","Sesquilé",{"v":0.7731037519,"d":"0.7731"},{"v":0.4765501238,"d":"0.4766"},{"v":0.3064006708,"d":"0.3064"},{"v":0.3353344827,"d":"0.3353"},{"v":0.3509361524,"d":"0.3509"}]
[281,"Cundinamarca","Sibaté",{"v":0.4614038202,"d":"0.4614"},{"v":0.4340690255,"d":"0.4341"},{"v":0.2457278448,"d":"0.2457"},{"v":0.2449243009,"d":"0.2449"},{"v":0.2385368373,"d":"0.2385"}]
[275,"Cundinamarca","Silvania",{"v":0.4525814463,"d":"0.4526"},{"v":0.2587987072,"d":"0.2588"},{"v":0.2316417651,"d":"0.2316"},{"v":0.440565066,"d":"0.4406"},{"v":0.2243028382,"d":"0.2243"}]
[514,"Cundinamarca","Simijaca",{"v":0.9041677491,"d":"0.9042"},{"v":0.5917325544,"d":"0.5917"},{"v":0.2684857937,"d":"0.2685"},{"v":0.2663027389,"d":"0.2663"},{"v":0.2815851363,"d":"0.2816"}]
[297,"Cundinamarca","Soacha",{"v":0.7327587638,"d":"0.7328"},{"v":0.5567443874,"d":"0.5567"},{"v":0.2523470051,"d":"0.2523"},{"v":0.2508163362,"d":"0.2508"},{"v":0.2448340114,"d":"0.2448"}]
[365,"Cundinamarca","Sopó",{"v":0.7620312576,"d":"0.7620"},{"v":0.3316567831,"d":"0.3317"},{"v":0.2277173079,"d":"0.2277"},{"v":0.2344690713,"d":"0.2345"},{"v":0.2146132597,"d":"0.2146"}]
[396,"Cundinamarca","Subachoque",{"v":0.7497324965,"d":"0.7497"},{"v":0.5908928414,"d":"0.5909"},{"v":0.2709864591,"d":"0.2710"},{"v":0.2686782905,"d":"0.2687"},{"v":0.266034313,"d":"0.2660"}]
[433,"Cundinamarca","Suesca",{"v":0.8915744589,"d":"0.8916"},{"v":0.497944724,"d":"0.4979"},{"v":0.2532272844,"d":"0.2532"},{"v":0.2937745605,"d":"0.2938"},{"v":0.2615294586,"d":"0.2615"}]
[403,"Cundinamarca","Supatá",{"v":0.4703667323,"d":"0.4704"},{"v":0.4602170201,"d":"0.4602"},{"v":0.2905736219,"d":"0.2906"},{"v":0.2862583538,"d":"0.2863"},{"v":0.2812529373,"d":"0.2813"}]
[497,"Cundinamarca","Susa",{"v":0.8871937231,"d":"0.8872"},{"v":0.6675637676,"d":"0.6676"},{"v":0.2583518781,"d":"0.2584"},{"v":0.2515853502,"d":"0.2516"},{"v":0.2611862672,"d":"0.2612"}]
[445,"Cundinamarca","Sutatausa",{"v":0.8177739731,"d":"0.8178"},{"v":0.4311759948,"d":"0.4312"},{"v":0.2650185858,"d":"0.2650"},{"v":0.2503086983,"d":"0.2503"},{"v":0.2688459638,"d":"0.2688"}]
[375,"Cundinamarca","Tabio",{"v":0.8009883973,"d":"0.8010"},{"v":0.4196446984,"d":"0.4196"},{"v":0.2645345989,"d":"0.2645"},{"v":0.2627977836,"d":"0.2628"},{"v":0.2512709815,"d":"0.2513"}]
[437,"Cundinamarca","Tausa",{"v":0.673017734,"d":"0.6730"},{"v":0.5796177101,"d":"0.5796"},{"v":0.2583055562,"d":"0.2583"},{"v":0.2527535005,"d":"0.2528"},{"v":0.290358401,"d":"0.2904"}]
[308,"Cundinamarca","Tena",{"v":0.6628783225,"d":"0.6629"},{"v":0.3544661789,"d":"0.3545"},{"v":0.3178830455,"d":"0.3179"},{"v":0.394888213,"d":"0.3949"},{"v":0.3055540755,"d":"0.3056"}]
[349,"Cundinamarca","Tenjo",{"v":0.8132670772,"d":"0.8133"},{"v":0.3754184633,"d":"0.3754"},{"v":0.2296576385,"d":"0.2297"},{"v":0.2381299404,"d":"0.2381"},{"v":0.2164113142,"d":"0.2164"}]
[256,"Cundinamarca","Tibacuy",{"v":0.8568458787,"d":"0.8568"},{"v":0.3642732279,"d":"0.3643"},{"v":0.3359212671,"d":"0.3359"},{"v":0.3598394262,"d":"0.3598"},{"v":0.3287496937,"d":"0.3287"}]
[407,"Cundinamarca","Tibirita",{"v":0.8213050218,"d":"0.8213"},{"v":0.3640691791,"d":"0.3641"},{"v":0.2726851947,"d":"0.2727"},{"v":0.2580768359,"d":"0.2581"},{"v":0.2757608212,"d":"0.2758"}]
[293,"Cundinamarca","Tocaima",{"v":0.9424046611,"d":"0.9424"},{"v":0.35890701,"d":"0.3589"},{"v":0.2658516368,"d":"0.2659"},{"v":0.2708106932,"d":"0.2708"},{"v":0.3069947219,"d":"0.3070"}]
[380,"Cundinamarca","Tocancipá",{"v":0.8239111663,"d":"0.8239"},{"v":0.3609799046,"d":"0.3610"},{"v":0.2432237995,"d":"0.2432"},{"v":0.3215027603,"d":"0.3215"},{"v":0.2314650988,"d":"0.2315"}]
[478,"Cundinamarca","Topaipí",{"v":0.8071718172,"d":"0.8072"},{"v":0.2987762897,"d":"0.2988"},{"v":0.2853779675,"d":"0.2854"},{"v":0.26735843,"d":"0.2674"},{"v":0.2851275114,"d":"0.2851"}]
[344,"Cundinamarca","Ubalá",{"v":0.6933854253,"d":"0.6934"},{"v":0.3059160368,"d":"0.3059"},{"v":0.3165001809,"d":"0.3165"},{"v":0.3223661293,"d":"0.3224"},{"v":0.3528847549,"d":"0.3529"}]
[283,"Cundinamarca","Ubaque",{"v":0.734237202,"d":"0.7342"},{"v":0.4226225009,"d":"0.4226"},{"v":0.2804566529,"d":"0.2805"},{"v":0.3560054314,"d":"0.3560"},{"v":0.2789511114,"d":"0.2790"}]
[465,"Cundinamarca","Ubaté",{"v":0.8556019464,"d":"0.8556"},{"v":0.3764849497,"d":"0.3765"},{"v":0.2384973699,"d":"0.2385"},{"v":0.2508834222,"d":"0.2509"},{"v":0.2420772091,"d":"0.2421"}]
[264,"Cundinamarca","Une",{"v":0.5614115724,"d":"0.5614"},{"v":0.3626997668,"d":"0.3627"},{"v":0.2658660068,"d":"0.2659"},{"v":0.2524910164,"d":"0.2525"},{"v":0.2592837188,"d":"0.2593"}]
[438,"Cundinamarca","Útica",{"v":0.9928053639,"d":"0.9928"},{"v":0.4237536732,"d":"0.4238"},{"v":0.3723352866,"d":"0.3723"},{"v":0.321161733,"d":"0.3212"},{"v":0.3232923176,"d":"0.3233"}]
[222,"Cundinamarca","Venecia",{"v":0.4949274708,"d":"0.4949"},{"v":0.4131655396,"d":"0.4132"},{"v":0.3935736605,"d":"0.3936"},{"v":0.3784216317,"d":"0.3784"},{"v":0.3814111497,"d":"0.3814"}]
[427,"Cundinamarca","Vergara",{"v":0.7342693566,"d":"0.7343"},{"v":0.3179858086,"d":"0.3180"},{"v":0.3061844664,"d":"0.3062"},{"v":0.2742107901,"d":"0.2742"},{"v":0.2746544813,"d":"0.2747"}]
[362,"Cundinamarca","Vianí",{"v":0.6350596018,"d":"0.6351"},{"v":0.4896799044,"d":"0.4897"},{"v":0.2898797447,"d":"0.2899"},{"v":0.2697731138,"d":"0.2698"},{"v":0.3256952462,"d":"0.3257"}]
[457,"Cundinamarca","Villagómez",{"v":0.6360303905,"d":"0.6360"},{"v":0.3076497698,"d":"0.3076"},{"v":0.3055864887,"d":"0.3056"},{"v":0.2923895634,"d":"0.2924"},{"v":0.311545706,"d":"0.3115"}]
[460,"Cundinamarca","Villapinzón",{"v":0.6977644139,"d":"0.6978"},{"v":0.426424473,"d":"0.4264"},{"v":0.2531038329,"d":"0.2531"},{"v":0.2503767327,"d":"0.2504"},{"v":0.2818349197,"d":"0.2818"}]
[395,"Cundinamarca","Villeta",{"v":0.785076521,"d":"0.7851"},{"v":0.4713533328,"d":"0.4714"},{"v":0.3347537407,"d":"0.3348"},{"v":0.4347606621,"d":"0.4348"},{"v":0.2698588312,"d":"0.2699"}]
[280,"Cundinamarca","Viotá",{"v":0.5829497948,"d":"0.5829"},{"v":0.3008293004,"d":"0.3008"},{"v":0.2966858181,"d":"0.2967"},{"v":0.2856980453,"d":"0.2857"},{"v":0.2731173261,"d":"0.2731"}]
[580,"Cundinamarca","Yacopí",{"v":0.9496227841,"d":"0.9496"},{"v":0.4142276653,"d":"0.4142"},{"v":0.4072196181,"d":"0.4072"},{"v":0.454340109,"d":"0.4543"},{"v":0.4003913108,"d":"0.4004"}]
[331,"Cundinamarca","Zipacón",{"v":0.4625674536,"d":"0.4626"},{"v":0.4294018283,"d":"0.4294"},{"v":0.2658018287,"d":"0.2658"},{"v":0.2609472344,"d":"0.2609"},{"v":0.2533672899,"d":"0.2534"}]
[417,"Cundinamarca","Zipaquirá",{"v":0.7218125768,"d":"0.7218"},{"v":0.5446359423,"d":"0.5446"},{"v":0.2564626047,"d":"0.2565"},{"v":0.2664718039,"d":"0.2665"},{"v":0.2516026354,"d":"0.2516"}]
[191,"Guainía","Barrancominas",{"v":1.017581621,"d":"1.0176"},{"v":0.537240224,"d":"0.5372"},{"v":0.508282806,"d":"0.5083"},{"v":0.508282806,"d":"0.5083"},{"v":1.018965396,"d":"1.0190"}]
[1121,"Guainía","Cacahual",{"v":1.122698511,"d":"1.1227"},{"v":0.5556928945,"d":"0.5557"},{"v":0.5556928945,"d":"0.5557"},{"v":0.5556928945,"d":"0.5557"},{"v":0.6368338158,"d":"0.6368"}]
[1068,"Guainía","Inírida",{"v":0.9219683058,"d":"0.9220"},{"v":0.3993169573,"d":"0.3993"},{"v":0.416556797,"d":"0.4166"},{"v":0.4072699199,"d":"0.4073"},{"v":0.9564261278,"d":"0.9564"}]
[1116,"Guainía","La Guadalupe",{"v":1.012777857,"d":"1.0128"},{"v":0.4699256148,"d":"0.4699"},{"v":0.4699256148,"d":"0.4699"},{"v":0.4699256148,"d":"0.4699"},{"v":0.4703803285,"d":"0.4704"}]
[1052,"Guainía","Morichal",{"v":1.114421425,"d":"1.1144"},{"v":0.6616468631,"d":"0.6616"},{"v":0.6451858793,"d":"0.6452"},{"v":0.6451858793,"d":"0.6452"},{"v":0.8452166579,"d":"0.8452"}]
[1118,"Guainía","Paná-Paná",{"v":1.055653616,"d":"1.0557"},{"v":0.6069080875,"d":"0.6069"},{"v":0.6069080875,"d":"0.6069"},{"v":0.6069080875,"d":"0.6069"},{"v":0.6713183307,"d":"0.6713"}]
[1120,"Guainía","Puerto Colombia",{"v":1.151282957,"d":"1.1513"},{"v":0.8644120689,"d":"0.8644"},{"v":0.2302138762,"d":"0.2302"},{"v":0.2274655127,"d":"0.2275"},{"v":0.9366883087,"d":"0.9367"}]
[1119,"Guainía","San Felipe",{"v":1.165496646,"d":"1.1655"},{"v":0.6209380215,"d":"0.6209"},{"v":0.6209380215,"d":"0.6209"},{"v":0.6209380215,"d":"0.6209"},{"v":0.6236767791,"d":"0.6237"}]
[95,"Guaviare","Calamar",{"v":1.125332933,"d":"1.1253"},{"v":0.4367871292,"d":"0.4368"},{"v":0.3669727255,"d":"0.3670"},{"v":0.3907170513,"d":"0.3907"},{"v":0.6321292765,"d":"0.6321"}]
[115,"Guaviare","El Retorno",{"v":1.062181198,"d":"1.0622"},{"v":0.5770499529,"d":"0.5770"},{"v":0.5695038337,"d":"0.5695"},{"v":0.6742859887,"d":"0.6743"},{"v":0.7019801516,"d":"0.7020"}]
[82,"Guaviare","Miraflores",{"v":1.053902899,"d":"1.0539"},{"v":0.3120850243,"d":"0.3121"},{"v":0.2932645559,"d":"0.2933"},{"v":0.2994226849,"d":"0.2994"},{"v":0.7061895696,"d":"0.7062"}]
[145,"Guaviare","San José Del Guaviare",{"v":0.9187068682,"d":"0.9187"},{"v":0.4157811532,"d":"0.4158"},{"v":0.3965443875,"d":"0.3965"},{"v":0.5040239767,"d":"0.5040"},{"v":0.6078110153,"d":"0.6078"}]
[73,"Huila","Acevedo",{"v":0.5442586887,"d":"0.5443"},{"v":0.3634138273,"d":"0.3634"},{"v":0.2731162358,"d":"0.2731"},{"v":0.2310012251,"d":"0.2310"},{"v":0.3862551791,"d":"0.3863"}]
[112,"Huila","Agrado",{"v":0.8480963265,"d":"0.8481"},{"v":0.4593577611,"d":"0.4594"},{"v":0.289076399,"d":"0.2891"},{"v":0.2778161412,"d":"0.2778"},{"v":0.3001802142,"d":"0.3002"}]
[175,"Huila","Aipe",{"v":0.9670234044,"d":"0.9670"},{"v":0.3492303856,"d":"0.3492"},{"v":0.2836542479,"d":"0.2837"},{"v":0.3021019412,"d":"0.3021"},{"v":0.4893159571,"d":"0.4893"}]
[134,"Huila","Algeciras",{"v":0.4164388846,"d":"0.4164"},{"v":0.3923105795,"d":"0.3923"},{"v":0.2818516731,"d":"0.2819"},{"v":0.2558831248,"d":"0.2559"},{"v":0.3362351929,"d":"0.3362"}]
[94,"Huila","Altamira",{"v":0.7676182058,"d":"0.7676"},{"v":0.4698479664,"d":"0.4698"},{"v":0.2684117092,"d":"0.2684"},{"v":0.2660884758,"d":"0.2661"},{"v":0.2602466892,"d":"0.2602"}]
[170,"Huila","Baraya",{"v":0.6134524971,"d":"0.6135"},{"v":0.419272714,"d":"0.4193"},{"v":0.2493393442,"d":"0.2493"},{"v":0.2611237887,"d":"0.2611"},{"v":0.2463980868,"d":"0.2464"}]
[138,"Huila","Campoalegre",{"v":0.7248730425,"d":"0.7249"},{"v":0.4682895428,"d":"0.4683"},{"v":0.3481874923,"d":"0.3482"},{"v":0.3081116811,"d":"0.3081"},{"v":0.376149468,"d":"0.3761"}]
[202,"Huila","Colombia",{"v":0.6114715872,"d":"0.6115"},{"v":0.685608528,"d":"0.6856"},{"v":0.396035542,"d":"0.3960"},{"v":0.3951736897,"d":"0.3952"},{"v":0.4052879471,"d":"0.4053"}]
[86,"Huila","Elías",{"v":0.7691556212,"d":"0.7692"},{"v":0.4577770397,"d":"0.4578"},{"v":0.3347441544,"d":"0.3347"},{"v":0.3222748816,"d":"0.3223"},{"v":0.3231330835,"d":"0.3231"}]
[107,"Huila","Garzón",{"v":0.4880706053,"d":"0.4881"},{"v":0.3926800606,"d":"0.3927"},{"v":0.322227008,"d":"0.3222"},{"v":0.2883517193,"d":"0.2884"},{"v":0.3549406061,"d":"0.3549"}]
[120,"Huila","Gigante",{"v":0.5735793136,"d":"0.5736"},{"v":0.4138546067,"d":"0.4139"},{"v":0.2900613278,"d":"0.2901"},{"v":0.2784845892,"d":"0.2785"},{"v":0.3228736324,"d":"0.3229"}]
[87,"Huila","Guadalupe",{"v":1.245798912,"d":"1.2458"},{"v":0.2822827477,"d":"0.2823"},{"v":0.2610413382,"d":"0.2610"},{"v":0.2492422379,"d":"0.2492"},{"v":0.3069611431,"d":"0.3070"}]
[130,"Huila","Hobo",{"v":0.6742087092,"d":"0.6742"},{"v":0.4762336115,"d":"0.4762"},{"v":0.2133437031,"d":"0.2133"},{"v":0.2013474856,"d":"0.2013"},{"v":0.2276974797,"d":"0.2277"}]
[140,"Huila","Íquira",{"v":0.7910685184,"d":"0.7911"},{"v":0.4377339942,"d":"0.4377"},{"v":0.3492128859,"d":"0.3492"},{"v":0.3329084243,"d":"0.3329"},{"v":0.3355113492,"d":"0.3355"}]
[103,"Huila","Isnos",{"v":0.6590664429,"d":"0.6591"},{"v":0.3551564268,"d":"0.3552"},{"v":0.5611770466,"d":"0.5612"},{"v":0.282582574,"d":"0.2826"},{"v":0.2901976126,"d":"0.2902"}]
[104,"Huila","La Argentina",{"v":0.5948214598,"d":"0.5948"},{"v":0.466111015,"d":"0.4661"},{"v":0.4392237967,"d":"0.4392"},{"v":0.4062702642,"d":"0.4063"},{"v":0.4131477259,"d":"0.4131"}]
[118,"Huila","La Plata",{"v":0.7708956526,"d":"0.7709"},{"v":0.4534222828,"d":"0.4534"},{"v":0.4348963955,"d":"0.4349"},{"v":0.4169304613,"d":"0.4169"},{"v":0.397247124,"d":"0.3972"}]
[132,"Huila","Nátaga",{"v":0.8877209538,"d":"0.8877"},{"v":0.3760127384,"d":"0.3760"},{"v":0.3424628903,"d":"0.3425"},{"v":0.3258578831,"d":"0.3259"},{"v":0.3318372786,"d":"0.3318"}]
[168,"Huila","Neiva",{"v":0.8434289775,"d":"0.8434"},{"v":0.5627943445,"d":"0.5628"},{"v":0.4028596137,"d":"0.4029"},{"v":0.4367065335,"d":"0.4367"},{"v":0.6204808204,"d":"0.6205"}]
[91,"Huila","Oporapa",{"v":0.7776831227,"d":"0.7777"},{"v":0.4342200433,"d":"0.4342"},{"v":0.3931225961,"d":"0.3931"},{"v":0.37370445,"d":"0.3737"},{"v":0.3816772498,"d":"0.3817"}]
[117,"Huila","Paicol",{"v":0.8186332701,"d":"0.8186"},{"v":0.4981627097,"d":"0.4982"},{"v":0.2794015757,"d":"0.2794"},{"v":0.2747151944,"d":"0.2747"},{"v":0.2986590309,"d":"0.2987"}]
[157,"Huila","Palermo",{"v":0.9235246097,"d":"0.9235"},{"v":0.5349806783,"d":"0.5350"},{"v":0.3638073024,"d":"0.3638"},{"v":0.3792745673,"d":"0.3793"},{"v":0.5769629744,"d":"0.5770"}]
[72,"Huila","Palestina",{"v":0.5690501309,"d":"0.5691"},{"v":0.3473783391,"d":"0.3474"},{"v":0.3136502534,"d":"0.3137"},{"v":0.2807086832,"d":"0.2807"},{"v":0.4403955968,"d":"0.4404"}]
[111,"Huila","Pital",{"v":0.7821681557,"d":"0.7822"},{"v":0.371630444,"d":"0.3716"},{"v":0.2923865055,"d":"0.2924"},{"v":0.2641200801,"d":"0.2641"},{"v":0.2653736647,"d":"0.2654"}]
[84,"Huila","Pitalito",{"v":0.8223002116,"d":"0.8223"},{"v":0.4881114257,"d":"0.4881"},{"v":0.5001991286,"d":"0.5002"},{"v":0.4827441457,"d":"0.4827"},{"v":0.4544696937,"d":"0.4545"}]
[143,"Huila","Rivera",{"v":0.6275986685,"d":"0.6276"},{"v":0.4612918192,"d":"0.4613"},{"v":0.3136037006,"d":"0.3136"},{"v":0.3359705412,"d":"0.3360"},{"v":0.4055422168,"d":"0.4055"}]
[102,"Huila","Saladoblanco",{"v":0.4889458491,"d":"0.4889"},{"v":0.3283761647,"d":"0.3284"},{"v":0.3060732004,"d":"0.3061"},{"v":0.285709522,"d":"0.2857"},{"v":0.293271263,"d":"0.2933"}]
[96,"Huila","San Agustín",{"v":0.5500071944,"d":"0.5500"},{"v":0.5283973742,"d":"0.5284"},{"v":0.4904721596,"d":"0.4905"},{"v":0.4418857802,"d":"0.4419"},{"v":0.4843363866,"d":"0.4843"}]
[152,"Huila","Santa María",{"v":0.6198496747,"d":"0.6198"},{"v":0.3164474798,"d":"0.3164"},{"v":0.2980747213,"d":"0.2981"},{"v":0.2750730759,"d":"0.2751"},{"v":0.3372988956,"d":"0.3373"}]
[83,"Huila","Suaza",{"v":0.5880696118,"d":"0.5881"},{"v":0.4479853526,"d":"0.4480"},{"v":0.2894425612,"d":"0.2894"},{"v":0.2690198564,"d":"0.2690"},{"v":0.2865735581,"d":"0.2866"}]
[99,"Huila","Tarqui",{"v":0.7328798655,"d":"0.7329"},{"v":0.4270496281,"d":"0.4270"},{"v":0.276780757,"d":"0.2768"},{"v":0.2722300302,"d":"0.2722"},{"v":0.2578974755,"d":"0.2579"}]
[159,"Huila","Tello",{"v":0.6431585022,"d":"0.6432"},{"v":0.4193991093,"d":"0.4194"},{"v":0.2481206072,"d":"0.2481"},{"v":0.2374671949,"d":"0.2375"},{"v":0.3061286152,"d":"0.3061"}]
[149,"Huila","Teruel",{"v":0.5597391407,"d":"0.5597"},{"v":0.3530265593,"d":"0.3530"},{"v":0.2866029798,"d":"0.2866"},{"v":0.268321586,"d":"0.2683"},{"v":0.2814254384,"d":"0.2814"}]
[126,"Huila","Tesalia",{"v":0.8530660026,"d":"0.8531"},{"v":0.3570310411,"d":"0.3570"},{"v":0.2725418161,"d":"0.2725"},{"v":0.2736443907,"d":"0.2736"},{"v":0.2858423617,"d":"0.2858"}]
[85,"Huila","Timaná",{"v":0.6465513077,"d":"0.6466"},{"v":0.3949712786,"d":"0.3950"},{"v":0.2686319739,"d":"0.2686"},{"v":0.2465539061,"d":"0.2466"},{"v":0.2381980684,"d":"0.2382"}]
[176,"Huila","Villavieja",{"v":0.9938124446,"d":"0.9938"},{"v":0.4922593638,"d":"0.4923"},{"v":0.3128623128,"d":"0.3129"},{"v":0.2977687946,"d":"0.2978"},{"v":0.6673351571,"d":"0.6673"}]
[137,"Huila","Yaguará",{"v":0.8807074596,"d":"0.8807"},{"v":0.5303588996,"d":"0.5304"},{"v":0.2626631049,"d":"0.2627"},{"v":0.2583276743,"d":"0.2583"},{"v":0.3139387825,"d":"0.3139"}]
[1106,"La Guajira","Albania",{"v":0.7999235295,"d":"0.7999"},{"v":0.4785352418,"d":"0.4785"},{"v":0.4391857251,"d":"0.4392"},{"v":0.4722612008,"d":"0.4723"},{"v":0.4388716761,"d":"0.4389"}]
[1104,"La Guajira","Barrancas",{"v":1.300198555,"d":"1.3002"},{"v":0.489399397,"d":"0.4894"},{"v":0.467466204,"d":"0.4675"},{"v":0.4935133062,"d":"0.4935"},{"v":0.4497405954,"d":"0.4497"}]
[1046,"La Guajira","Dibulla",{"v":0.9181694879,"d":"0.9182"},{"v":0.5750476117,"d":"0.5750"},{"v":0.4094265578,"d":"0.4094"},{"v":0.4215560159,"d":"0.4216"},{"v":0.4522844913,"d":"0.4523"}]
[1041,"La Guajira","Distracción",{"v":1.364718814,"d":"1.3647"},{"v":0.9654682699,"d":"0.9655"},{"v":0.4094868591,"d":"0.4095"},{"v":0.4103003322,"d":"0.4103"},{"v":0.3898104289,"d":"0.3898"}]
[1101,"La Guajira","El Molino",{"v":1.058480682,"d":"1.0585"},{"v":0.3484278151,"d":"0.3484"},{"v":0.3284191487,"d":"0.3284"},{"v":0.3238928793,"d":"0.3239"},{"v":0.3763187562,"d":"0.3763"}]
[1103,"La Guajira","Fonseca",{"v":1.236044564,"d":"1.2360"},{"v":0.4035221594,"d":"0.4035"},{"v":0.3844736513,"d":"0.3845"},{"v":0.4188174846,"d":"0.4188"},{"v":0.3638633578,"d":"0.3639"}]
[1105,"La Guajira","Hatonuevo",{"v":1.339647379,"d":"1.3396"},{"v":0.4316168223,"d":"0.4316"},{"v":0.4005218338,"d":"0.4005"},{"v":0.3971191941,"d":"0.3971"},{"v":0.3819433803,"d":"0.3819"}]
[1098,"La Guajira","La Jagua Del Pilar",{"v":1.130822285,"d":"1.1308"},{"v":0.3121553712,"d":"0.3122"},{"v":0.2997790991,"d":"0.2998"},{"v":0.3051697852,"d":"0.3052"},{"v":0.4483693426,"d":"0.4484"}]
[1107,"La Guajira","Maicao",{"v":1.20187878,"d":"1.2019"},{"v":0.3973665001,"d":"0.3974"},{"v":0.3799432096,"d":"0.3799"},{"v":0.4002077457,"d":"0.4002"},{"v":0.3577029344,"d":"0.3577"}]
[1049,"La Guajira","Manaure",{"v":1.410817985,"d":"1.4108"},{"v":0.9628286649,"d":"0.9628"},{"v":0.5044369632,"d":"0.5044"},{"v":0.4985791091,"d":"0.4986"},{"v":0.4871692928,"d":"0.4872"}]
[1048,"La Guajira","Riohacha",{"v":1.185963181,"d":"1.1860"},{"v":0.6517033404,"d":"0.6517"},{"v":0.4280307356,"d":"0.4280"},{"v":0.5305603087,"d":"0.5306"},{"v":0.4776853374,"d":"0.4777"}]
[1102,"La Guajira","San Juan Del Cesar",{"v":1.30807336,"d":"1.3081"},{"v":0.3540795527,"d":"0.3541"},{"v":0.3621406048,"d":"0.3621"},{"v":0.4676069354,"d":"0.4676"},{"v":0.4128709518,"d":"0.4129"}]
[1108,"La Guajira","Uribia",{"v":1.57896569,"d":"1.5790"},{"v":0.6061021744,"d":"0.6061"},{"v":0.573740223,"d":"0.5737"},{"v":0.5751489793,"d":"0.5751"},{"v":0.5561120508,"d":"0.5561"}]
[1099,"La Guajira","Urumita",{"v":0.9938940413,"d":"0.9939"},{"v":0.368486129,"d":"0.3685"},{"v":0.3596828419,"d":"0.3597"},{"v":0.3556708568,"d":"0.3557"},{"v":0.5047001004,"d":"0.5047"}]
[1100,"La Guajira","Villanueva",{"v":1.004450774,"d":"1.0045"},{"v":0.5711320187,"d":"0.5711"},{"v":0.2620621552,"d":"0.2621"},{"v":0.2490341432,"d":"0.2490"},{"v":0.2939155317,"d":"0.2939"}]
[999,"Magdalena","Algarrobo",{"v":1.135497613,"d":"1.1355"},{"v":0.3190245199,"d":"0.3190"},{"v":0.2849034882,"d":"0.2849"},{"v":0.3561932804,"d":"0.3562"},{"v":0.3332641597,"d":"0.3333"}]
[1033,"Magdalena","Aracataca",{"v":0.9528949398,"d":"0.9529"},{"v":0.3559592327,"d":"0.3560"},{"v":0.2981716718,"d":"0.2982"},{"v":0.2885467739,"d":"0.2885"},{"v":0.4059463649,"d":"0.4059"}]
[978,"Magdalena","Ariguaní",{"v":1.130191139,"d":"1.1302"},{"v":0.3805679243,"d":"0.3806"},{"v":0.2856057594,"d":"0.2856"},{"v":0.5030248892,"d":"0.5030"},{"v":0.2630419569,"d":"0.2630"}]
[997,"Magdalena","Cerro De San Antonio",{"v":1.121940828,"d":"1.1219"},{"v":0.3795432252,"d":"0.3795"},{"v":0.292423339,"d":"0.2924"},{"v":0.2878676077,"d":"0.2879"},{"v":0.4121199454,"d":"0.4121"}]
[986,"Magdalena","Chivolo",{"v":1.081703044,"d":"1.0817"},{"v":0.349187081,"d":"0.3492"},{"v":0.2950003792,"d":"0.2950"},{"v":0.3690262214,"d":"0.3690"},{"v":0.3431365514,"d":"0.3431"}]
[1043,"Magdalena","Ciénaga",{"v":0.8740971109,"d":"0.8741"},{"v":0.3751431203,"d":"0.3751"},{"v":0.3701086499,"d":"0.3701"},{"v":0.326778086,"d":"0.3268"},{"v":0.3995402294,"d":"0.3995"}]
[989,"Magdalena","Concordia",{"v":1.117972699,"d":"1.1180"},{"v":0.3013720025,"d":"0.3014"},{"v":0.3289723013,"d":"0.3290"},{"v":0.2865150484,"d":"0.2865"},{"v":0.5532589265,"d":"0.5533"}]
[941,"Magdalena","El Banco",{"v":1.194408257,"d":"1.1944"},{"v":0.4412512189,"d":"0.4413"},{"v":0.356754109,"d":"0.3568"},{"v":0.4328289279,"d":"0.4328"},{"v":0.6200231381,"d":"0.6200"}]
[1006,"Magdalena","El Piñón",{"v":1.103581695,"d":"1.1036"},{"v":0.3587679334,"d":"0.3588"},{"v":0.2890303391,"d":"0.2890"},{"v":0.395570808,"d":"0.3956"},{"v":0.4825656892,"d":"0.4826"}]
[1024,"Magdalena","El Retén",{"v":1.222840773,"d":"1.2228"},{"v":0.3600250803,"d":"0.3600"},{"v":0.3402104723,"d":"0.3402"},{"v":0.3160213919,"d":"0.3160"},{"v":0.3664889496,"d":"0.3665"}]
[1015,"Magdalena","Fundación",{"v":1.053637389,"d":"1.0536"},{"v":0.3731859043,"d":"0.3732"},{"v":0.3160391883,"d":"0.3160"},{"v":0.3373757646,"d":"0.3374"},{"v":0.432201232,"d":"0.4322"}]
[946,"Magdalena","Guamal",{"v":0.4761099133,"d":"0.4761"},{"v":0.2971487088,"d":"0.2971"},{"v":0.2797247957,"d":"0.2797"},{"v":0.3085798685,"d":"0.3086"},{"v":0.2951554019,"d":"0.2952"}]
[977,"Magdalena","Nueva Granada",{"v":1.153759697,"d":"1.1538"},{"v":0.4107687424,"d":"0.4108"},{"v":0.3247758259,"d":"0.3248"},{"v":0.5017580417,"d":"0.5018"},{"v":0.3075061179,"d":"0.3075"}]
[987,"Magdalena","Pedraza",{"v":1.124243931,"d":"1.1242"},{"v":0.376261298,"d":"0.3763"},{"v":0.2959720024,"d":"0.2960"},{"v":0.3115400666,"d":"0.3115"},{"v":0.408905803,"d":"0.4089"}]
[971,"Magdalena","Pijiño Del Carmen",{"v":1.131174331,"d":"1.1312"},{"v":0.4100778439,"d":"0.4101"},{"v":0.2995446108,"d":"0.2995"},{"v":0.4230834185,"d":"0.4231"},{"v":0.43868368,"d":"0.4387"}]
[1016,"Magdalena","Pivijay",{"v":1.103114302,"d":"1.1031"},{"v":0.3267670314,"d":"0.3268"},{"v":0.291356101,"d":"0.2914"},{"v":0.6132452014,"d":"0.6132"},{"v":0.3987335869,"d":"0.3987"}]
[980,"Magdalena","Plato",{"v":1.143706227,"d":"1.1437"},{"v":0.4117735404,"d":"0.4118"},{"v":0.3419092472,"d":"0.3419"},{"v":0.4819260938,"d":"0.4819"},{"v":0.6813235362,"d":"0.6813"}]
[1040,"Magdalena","Puebloviejo",{"v":1.270309529,"d":"1.2703"},{"v":0.4376185401,"d":"0.4376"},{"v":0.319536242,"d":"0.3195"},{"v":0.2925173328,"d":"0.2925"},{"v":0.3641561313,"d":"0.3642"}]
[1023,"Magdalena","Remolino",{"v":1.191723918,"d":"1.1917"},{"v":0.3998803841,"d":"0.3999"},{"v":0.3195536022,"d":"0.3196"},{"v":0.3320530234,"d":"0.3321"},{"v":0.449761972,"d":"0.4498"}]
[998,"Magdalena","Sabanas De San Ángel",{"v":1.227554004,"d":"1.2276"},{"v":0.4642545819,"d":"0.4643"},{"v":0.4172935054,"d":"0.4173"},{"v":0.5406957574,"d":"0.5407"},{"v":0.5372253439,"d":"0.5372"}]
[1012,"Magdalena","Salamina",{"v":1.148357338,"d":"1.1484"},{"v":0.4182498995,"d":"0.4182"},{"v":0.3080332587,"d":"0.3080"},{"v":0.3021368048,"d":"0.3021"},{"v":0.4697361899,"d":"0.4697"}]
[961,"Magdalena","San Sebastián De Buenavista",{"v":1.115222701,"d":"1.1152"},{"v":0.3871625476,"d":"0.3872"},{"v":0.2965670498,"d":"0.2966"},{"v":0.3314277451,"d":"0.3314"},{"v":0.5593349447,"d":"0.5593"}]
[958,"Magdalena","San Zenón",{"v":1.094953431,"d":"1.0950"},{"v":0.3576572128,"d":"0.3577"},{"v":0.2806606205,"d":"0.2807"},{"v":0.2914203162,"d":"0.2914"},{"v":0.4189664135,"d":"0.4190"}]
[972,"Magdalena","Santa Ana",{"v":1.111521448,"d":"1.1115"},{"v":0.3907820959,"d":"0.3908"},{"v":0.2962287189,"d":"0.2962"},{"v":0.4778165766,"d":"0.4778"},{"v":0.4350245132,"d":"0.4350"}]
[967,"Magdalena","Santa Bárbara De Pinto",{"v":1.105674694,"d":"1.1057"},{"v":0.3767837236,"d":"0.3768"},{"v":0.30539738,"d":"0.3054"},{"v":0.3828190425,"d":"0.3828"},{"v":0.5168679282,"d":"0.5169"}]
[1047,"Magdalena","Santa Marta",{"v":0.9400996854,"d":"0.9401"},{"v":0.565118352,"d":"0.5651"},{"v":0.430412978,"d":"0.4304"},{"v":0.4459849076,"d":"0.4460"},{"v":0.4740111628,"d":"0.4740"}]
[1044,"Magdalena","Sitionuevo",{"v":1.310177188,"d":"1.3102"},{"v":0.7640013496,"d":"0.7640"},{"v":0.3794747522,"d":"0.3795"},{"v":0.3801066113,"d":"0.3801"},{"v":0.5094263484,"d":"0.5094"}]
[979,"Magdalena","Tenerife",{"v":1.181016662,"d":"1.1810"},{"v":0.456038062,"d":"0.4560"},{"v":0.3880358555,"d":"0.3880"},{"v":0.4264021474,"d":"0.4264"},{"v":0.6565033894,"d":"0.6565"}]
[988,"Magdalena","Zapayán",{"v":1.114815567,"d":"1.1148"},{"v":0.3801371363,"d":"0.3801"},{"v":0.3124467649,"d":"0.3124"},{"v":0.3549792666,"d":"0.3550"},{"v":0.4261625062,"d":"0.4262"}]
[1038,"Magdalena","Zona Bananera",{"v":1.140667405,"d":"1.1407"},{"v":0.3188014862,"d":"0.3188"},{"v":0.391113936,"d":"0.3911"},{"v":0.323303719,"d":"0.3233"},{"v":0.3578429115,"d":"0.3578"}]
[227,"Meta","Acacías",{"v":0.6472000562,"d":"0.6472"},{"v":0.3124771887,"d":"0.3125"},{"v":0.3382449339,"d":"0.3382"},{"v":0.4183941599,"d":"0.4184"},{"v":0.3225680208,"d":"0.3226"}]
[318,"Meta","Barranca De Upía",{"v":0.8291757382,"d":"0.8292"},{"v":0.2699410216,"d":"0.2699"},{"v":0.2313171067,"d":"0.2313"},{"v":0.2389950067,"d":"0.2390"},{"v":0.2496298217,"d":"0.2496"}]
[272,"Meta","Cabuyaro",{"v":0.8709463386,"d":"0.8709"},{"v":0.3136625395,"d":"0.3137"},{"v":0.2967350592,"d":"0.2967"},{"v":0.3295829974,"d":"0.3296"},{"v":0.3497258602,"d":"0.3497"}]
[209,"Meta","Castilla La Nueva",{"v":0.8760263687,"d":"0.8760"},{"v":0.3677648625,"d":"0.3678"},{"v":0.3423530799,"d":"0.3424"},{"v":0.3882488154,"d":"0.3882"},{"v":0.2952401557,"d":"0.2952"}]
[215,"Meta","Cubarral",{"v":0.4196508188,"d":"0.4197"},{"v":0.2963565106,"d":"0.2964"},{"v":0.2576156917,"d":"0.2576"},{"v":0.2513342552,"d":"0.2513"},{"v":0.2913011334,"d":"0.2913"}]
[252,"Meta","Cumaral",{"v":0.8561492572,"d":"0.8561"},{"v":0.3342726235,"d":"0.3343"},{"v":0.3204438236,"d":"0.3204"},{"v":0.3830751316,"d":"0.3831"},{"v":0.3008368024,"d":"0.3008"}]
[270,"Meta","El Calvario",{"v":0.37222884,"d":"0.3722"},{"v":0.3215898518,"d":"0.3216"},{"v":0.3020049142,"d":"0.3020"},{"v":0.291361984,"d":"0.2914"},{"v":0.3009040668,"d":"0.3009"}]
[192,"Meta","El Castillo",{"v":0.7426606963,"d":"0.7427"},{"v":0.4742550891,"d":"0.4743"},{"v":0.3140689395,"d":"0.3141"},{"v":0.3360352351,"d":"0.3360"},{"v":0.3046498417,"d":"0.3046"}]
[193,"Meta","El Dorado",{"v":0.7452598561,"d":"0.7453"},{"v":0.3816480804,"d":"0.3816"},{"v":0.2677523941,"d":"0.2678"},{"v":0.2704112096,"d":"0.2704"},{"v":0.2649073328,"d":"0.2649"}]
[183,"Meta","Fuente de oro",{"v":0.8172362786,"d":"0.8172"},{"v":0.3436427348,"d":"0.3436"},{"v":0.2881656548,"d":"0.2882"},{"v":0.2862194677,"d":"0.2862"},{"v":0.2172214794,"d":"0.2172"}]
[186,"Meta","Granada",{"v":0.395097295,"d":"0.3951"},{"v":0.3857441714,"d":"0.3857"},{"v":0.2851143072,"d":"0.2851"},{"v":0.2776872104,"d":"0.2777"},{"v":0.252413398,"d":"0.2524"}]
[221,"Meta","Guamal",{"v":1.097955039,"d":"1.0980"},{"v":0.379586042,"d":"0.3796"},{"v":0.2982428971,"d":"0.2982"},{"v":0.345618261,"d":"0.3456"},{"v":0.5592608412,"d":"0.5593"}]
[124,"Meta","La Macarena",{"v":1.025400992,"d":"1.0254"},{"v":0.5370406761,"d":"0.5370"},{"v":0.4949088089,"d":"0.4949"},{"v":0.5095620522,"d":"0.5096"},{"v":0.6011127451,"d":"0.6011"}]
[197,"Meta","Lejanías",{"v":0.4161424807,"d":"0.4161"},{"v":0.3302104339,"d":"0.3302"},{"v":0.2813127378,"d":"0.2813"},{"v":0.2931927002,"d":"0.2932"},{"v":0.3253114343,"d":"0.3253"}]
[178,"Meta","Mapiripán",{"v":1.053054714,"d":"1.0531"},{"v":0.5863999665,"d":"0.5864"},{"v":0.5170579539,"d":"0.5171"},{"v":0.5501166194,"d":"0.5501"},{"v":0.6889655747,"d":"0.6890"}]
[185,"Meta","Mesetas",{"v":0.768647209,"d":"0.7686"},{"v":0.4613598155,"d":"0.4614"},{"v":0.3998902358,"d":"0.3999"},{"v":0.4713703383,"d":"0.4714"},{"v":0.4384305805,"d":"0.4384"}]
[151,"Meta","Puerto Concordia",{"v":1.039819251,"d":"1.0398"},{"v":0.5906000446,"d":"0.5906"},{"v":0.5181647777,"d":"0.5182"},{"v":0.5456104822,"d":"0.5456"},{"v":0.6392098632,"d":"0.6392"}]
[348,"Meta","Puerto Gaitán",{"v":0.9555633673,"d":"0.9556"},{"v":0.5449048497,"d":"0.5449"},{"v":0.3913329759,"d":"0.3913"},{"v":0.6829282898,"d":"0.6829"},{"v":0.7640173156,"d":"0.7640"}]
[180,"Meta","Puerto Lleras",{"v":0.9984247273,"d":"0.9984"},{"v":0.5810398356,"d":"0.5810"},{"v":0.4721829177,"d":"0.4722"},{"v":0.6191598204,"d":"0.6192"},{"v":0.5472266063,"d":"0.5472"}]
[267,"Meta","Puerto López",{"v":0.9151002035,"d":"0.9151"},{"v":0.4562941861,"d":"0.4563"},{"v":0.3915797306,"d":"0.3916"},{"v":0.7600694744,"d":"0.7601"},{"v":0.5646021807,"d":"0.5646"}]
[155,"Meta","Puerto Rico",{"v":0.9726414646,"d":"0.9726"},{"v":0.4955510502,"d":"0.4956"},{"v":0.4917603892,"d":"0.4918"},{"v":0.7046575185,"d":"0.7047"},{"v":0.6528572482,"d":"0.6529"}]
[269,"Meta","Restrepo",{"v":0.6918764495,"d":"0.6919"},{"v":0.4492701577,"d":"0.4493"},{"v":0.2943595137,"d":"0.2944"},{"v":0.3091987342,"d":"0.3092"},{"v":0.2240746523,"d":"0.2241"}]
[210,"Meta","San Carlos De Guaroa",{"v":0.8463914891,"d":"0.8464"},{"v":0.3265916276,"d":"0.3266"},{"v":0.3552065212,"d":"0.3552"},{"v":0.3163248072,"d":"0.3163"},{"v":0.2973143718,"d":"0.2973"}]
[181,"Meta","San Juan De Arama",{"v":0.7956093919,"d":"0.7956"},{"v":0.3766343205,"d":"0.3766"},{"v":0.2922581884,"d":"0.2923"},{"v":0.4023067303,"d":"0.4023"},{"v":0.3390658613,"d":"0.3391"}]
[284,"Meta","San Juanito",{"v":0.3249369593,"d":"0.3249"},{"v":0.2865232833,"d":"0.2865"},{"v":0.2892710672,"d":"0.2893"},{"v":0.2740033213,"d":"0.2740"},{"v":0.3220035636,"d":"0.3220"}]
[198,"Meta","San Martín",{"v":1.005103381,"d":"1.0051"},{"v":0.3685274903,"d":"0.3685"},{"v":0.3683639694,"d":"0.3684"},{"v":0.5367026663,"d":"0.5367"},{"v":0.4017832243,"d":"0.4018"}]
[196,"Meta","Uribe",{"v":0.8057335988,"d":"0.8057"},{"v":0.5746722604,"d":"0.5747"},{"v":0.5561133338,"d":"0.5561"},{"v":0.5837391256,"d":"0.5837"},{"v":0.6418207932,"d":"0.6418"}]
[241,"Meta","Villavicencio",{"v":0.8385162149,"d":"0.8385"},{"v":0.3673213127,"d":"0.3673"},{"v":0.3906554617,"d":"0.3907"},{"v":0.511884213,"d":"0.5119"},{"v":0.35328273,"d":"0.3533"}]
[160,"Meta","Vistahermosa",{"v":0.8885668501,"d":"0.8886"},{"v":0.4466023149,"d":"0.4466"},{"v":0.3874044312,"d":"0.3874"},{"v":0.4632975189,"d":"0.4633"},{"v":0.4743866067,"d":"0.4744"}]
[47,"Nariño","Albán",{"v":0.9383677056,"d":"0.9384"},{"v":0.5040534577,"d":"0.5041"},{"v":0.2822216663,"d":"0.2822"},{"v":0.407165165,"d":"0.4072"},{"v":0.3502684835,"d":"0.3503"}]
[1063,"Nariño","Aldana",{"v":0.789861736,"d":"0.7899"},{"v":0.4281108579,"d":"0.4281"},{"v":0.2900451588,"d":"0.2900"},{"v":0.2848476372,"d":"0.2848"},{"v":0.275656174,"d":"0.2757"}]
[34,"Nariño","Ancuya",{"v":0.8052146814,"d":"0.8052"},{"v":0.5862670652,"d":"0.5863"},{"v":0.3725264514,"d":"0.3725"},{"v":0.3103183626,"d":"0.3103"},{"v":0.3115316657,"d":"0.3115"}]
[50,"Nariño","Arboleda",{"v":1.034435429,"d":"1.0344"},{"v":0.6348439563,"d":"0.6348"},{"v":0.3463179568,"d":"0.3463"},{"v":0.3276216186,"d":"0.3276"},{"v":0.3316250108,"d":"0.3316"}]
[1067,"Nariño","Barbacoas",{"v":0.47516211269999997,"d":"0.4752"},{"v":0.4304894396,"d":"0.4305"},{"v":0.4803876916,"d":"0.4804"},{"v":0.4606911914,"d":"0.4607"},{"v":0.5600900271,"d":"0.5601"}]
[60,"Nariño","Belén",{"v":0.7614470537,"d":"0.7614"},{"v":0.7017681423,"d":"0.7018"},{"v":0.3293380066,"d":"0.3293"},{"v":0.3152596381,"d":"0.3153"},{"v":0.2955134608,"d":"0.2955"}]
[43,"Nariño","Buesaco",{"v":0.7634528995,"d":"0.7635"},{"v":1.268091393,"d":"1.2681"},{"v":0.363196073,"d":"0.3632"},{"v":0.3551103449,"d":"0.3551"},{"v":0.3610146304,"d":"0.3610"}]
[49,"Nariño","Chachagüí",{"v":0.9673116341,"d":"0.9673"},{"v":0.6291124917,"d":"0.6291"},{"v":0.3723293975,"d":"0.3723"},{"v":0.362151418,"d":"0.3622"},{"v":0.3590196925,"d":"0.3590"}]
[64,"Nariño","Colón",{"v":0.5168083149,"d":"0.5168"},{"v":0.5218353502,"d":"0.5218"},{"v":0.3610366839,"d":"0.3610"},{"v":0.3499109046,"d":"0.3499"},{"v":0.3347431121,"d":"0.3347"}]
[28,"Nariño","Consacá",{"v":0.7023750698,"d":"0.7024"},{"v":0.9853973214,"d":"0.9854"},{"v":0.380024139,"d":"0.3800"},{"v":0.328146998,"d":"0.3281"},{"v":0.3309305597,"d":"0.3309"}]
[10,"Nariño","Contadero",{"v":0.7937952612,"d":"0.7938"},{"v":0.6057252899,"d":"0.6057"},{"v":0.3616751552,"d":"0.3617"},{"v":0.3550919041,"d":"0.3551"},{"v":0.3471837454,"d":"0.3472"}]
[7,"Nariño","Córdoba",{"v":1.079925687,"d":"1.0799"},{"v":0.3567424246,"d":"0.3567"},{"v":0.2974988336,"d":"0.2975"},{"v":0.3159970367,"d":"0.3160"},{"v":0.5717793457,"d":"0.5718"}]
[1062,"Nariño","Cuaspud",{"v":0.8614263957,"d":"0.8614"},{"v":0.3766713285,"d":"0.3767"},{"v":0.3542320501,"d":"0.3542"},{"v":0.3484811018,"d":"0.3485"},{"v":0.3398254779,"d":"0.3398"}]
[1064,"Nariño","Cumbal",{"v":0.4522570221,"d":"0.4523"},{"v":0.3004371176,"d":"0.3004"},{"v":0.3207228487,"d":"0.3207"},{"v":0.3432641856,"d":"0.3433"},{"v":0.3285544736,"d":"0.3286"}]
[77,"Nariño","Cumbitara",{"v":0.4862903083,"d":"0.4863"},{"v":0.501603627,"d":"0.5016"},{"v":0.3355392041,"d":"0.3355"},{"v":0.3213047959,"d":"0.3213"},{"v":0.3919672569,"d":"0.3920"}]
[133,"Nariño","El Charco",{"v":0.5843127045,"d":"0.5843"},{"v":0.480180703,"d":"0.4802"},{"v":0.4635127429,"d":"0.4635"},{"v":0.4379325673,"d":"0.4379"},{"v":0.6233619493,"d":"0.6234"}]
[59,"Nariño","El Peñol",{"v":0.9222106722,"d":"0.9222"},{"v":0.934468831,"d":"0.9345"},{"v":0.2912394374,"d":"0.2912"},{"v":0.2734784206,"d":"0.2735"},{"v":0.2872528547,"d":"0.2873"}]
[81,"Nariño","El Rosario",{"v":0.6053800649,"d":"0.6054"},{"v":0.4821854282,"d":"0.4822"},{"v":0.3260221247,"d":"0.3260"},{"v":0.3104341584,"d":"0.3104"},{"v":0.3755975881,"d":"0.3756"}]
[48,"Nariño","El Tablón",{"v":0.6982391143,"d":"0.6982"},{"v":1.406078397,"d":"1.4061"},{"v":0.4060213012,"d":"0.4060"},{"v":0.3907150942,"d":"0.3907"},{"v":0.4420096166,"d":"0.4420"}]
[51,"Nariño","El Tambo",{"v":0.7491488247,"d":"0.7491"},{"v":0.5857314612,"d":"0.5857"},{"v":0.3416729481,"d":"0.3417"},{"v":0.3194547707,"d":"0.3195"},{"v":0.319989671,"d":"0.3200"}]
[105,"Nariño","Francisco Pizarro",{"v":0.626408788,"d":"0.6264"},{"v":0.4544294947,"d":"0.4544"},{"v":0.4400820297,"d":"0.4401"},{"v":0.4231132693,"d":"0.4231"},{"v":0.4712095788,"d":"0.4712"}]
[16,"Nariño","Funes",{"v":0.4660559867,"d":"0.4661"},{"v":0.7928122994,"d":"0.7928"},{"v":0.4203303631,"d":"0.4203"},{"v":0.4089329496,"d":"0.4089"},{"v":0.4217936878,"d":"0.4218"}]
[15,"Nariño","Guachucal",{"v":0.7084685185,"d":"0.7085"},{"v":0.5824220956,"d":"0.5824"},{"v":0.3164963368,"d":"0.3165"},{"v":0.3490273825,"d":"0.3490"},{"v":0.3268089183,"d":"0.3268"}]
[27,"Nariño","Guaitarilla",{"v":0.8430606975,"d":"0.8431"},{"v":0.7107305665,"d":"0.7107"},{"v":0.3375800963,"d":"0.3376"},{"v":0.3278962506,"d":"0.3279"},{"v":0.3214070579,"d":"0.3214"}]
[11,"Nariño","Gualmatán",{"v":0.7350824045,"d":"0.7351"},{"v":0.4554746398,"d":"0.4555"},{"v":0.3339142845,"d":"0.3339"},{"v":0.3216209459,"d":"0.3216"},{"v":0.3194016582,"d":"0.3194"}]
[14,"Nariño","Iles",{"v":0.8964364576,"d":"0.8964"},{"v":0.8057371745,"d":"0.8057"},{"v":0.3919782207,"d":"0.3920"},{"v":0.3861255247,"d":"0.3861"},{"v":0.377396248,"d":"0.3774"}]
[21,"Nariño","Imués",{"v":0.8892868798,"d":"0.8893"},{"v":0.8337221881,"d":"0.8337"},{"v":0.3354505432,"d":"0.3355"},{"v":0.3233256698,"d":"0.3233"},{"v":0.3204726393,"d":"0.3205"}]
[1061,"Nariño","Ipiales",{"v":0.4516442784,"d":"0.4516"},{"v":0.3339194591,"d":"0.3339"},{"v":0.3712338274,"d":"0.3712"},{"v":0.3919136137,"d":"0.3919"},{"v":0.379751848,"d":"0.3798"}]
[61,"Nariño","La Cruz",{"v":0.6174292112,"d":"0.6174"},{"v":1.224535085,"d":"1.2245"},{"v":0.3447616121,"d":"0.3448"},{"v":0.3360270363,"d":"0.3360"},{"v":0.3728577435,"d":"0.3729"}]
[42,"Nariño","La Florida",{"v":0.8099550299,"d":"0.8100"},{"v":0.6017722541,"d":"0.6018"},{"v":0.3734426981,"d":"0.3734"},{"v":0.353636937,"d":"0.3536"},{"v":0.3542637143,"d":"0.3543"}]
[62,"Nariño","La Llanada",{"v":0.3513897178,"d":"0.3514"},{"v":0.3569742584,"d":"0.3570"},{"v":0.2954539475,"d":"0.2955"},{"v":0.2812112492,"d":"0.2812"},{"v":0.3552928489,"d":"0.3553"}]
[129,"Nariño","La Tola",{"v":0.6289319331,"d":"0.6289"},{"v":0.4524087013,"d":"0.4524"},{"v":0.4212925986,"d":"0.4213"},{"v":0.403572207,"d":"0.4036"},{"v":0.4662482486,"d":"0.4662"}]
[66,"Nariño","La Unión",{"v":0.9751048921,"d":"0.9751"},{"v":0.4512732062,"d":"0.4513"},{"v":0.3478606336,"d":"0.3479"},{"v":0.3185964416,"d":"0.3186"},{"v":0.3251088291,"d":"0.3251"}]
[90,"Nariño","Leiva",{"v":0.861579131,"d":"0.8616"},{"v":0.6068900749,"d":"0.6069"},{"v":0.3140383152,"d":"0.3140"},{"v":0.3006724998,"d":"0.3007"},{"v":0.3614293903,"d":"0.3614"}]
[46,"Nariño","Linares",{"v":0.8172768617,"d":"0.8173"},{"v":0.4213973844,"d":"0.4214"},{"v":0.347874483,"d":"0.3479"},{"v":0.2808506866,"d":"0.2809"},{"v":0.2812766872,"d":"0.2813"}]
[75,"Nariño","Los Andes",{"v":0.4091888706,"d":"0.4092"},{"v":0.4454191542,"d":"0.4454"},{"v":0.3733418287,"d":"0.3733"},{"v":0.3560188529,"d":"0.3560"},{"v":0.4371898727,"d":"0.4372"}]
[89,"Nariño","Magüí",{"v":0.5346910288,"d":"0.5347"},{"v":0.3799031869,"d":"0.3799"},{"v":0.4036153795,"d":"0.4036"},{"v":0.3853978948,"d":"0.3854"},{"v":0.5366838858,"d":"0.5367"}]
[41,"Nariño","Mallama",{"v":0.3975223438,"d":"0.3975"},{"v":0.7297775287,"d":"0.7298"},{"v":0.2657068321,"d":"0.2657"},{"v":0.2434616735,"d":"0.2435"},{"v":0.2919366315,"d":"0.2919"}]
[125,"Nariño","Mosquera",{"v":0.5550841846,"d":"0.5551"},{"v":0.4079525805,"d":"0.4080"},{"v":0.3774409099,"d":"0.3774"},{"v":0.359923874,"d":"0.3599"},{"v":0.308746773,"d":"0.3087"}]
[33,"Nariño","Nariño",{"v":1.043845721,"d":"1.0438"},{"v":0.2639554524,"d":"0.2640"},{"v":0.2943513365,"d":"0.2944"},{"v":0.2733068715,"d":"0.2733"},{"v":0.3746972093,"d":"0.3747"}]
[127,"Nariño","Olaya Herrera",{"v":0.5518598199,"d":"0.5519"},{"v":0.4159639293,"d":"0.4160"},{"v":0.4145356911,"d":"0.4145"},{"v":0.3949983202,"d":"0.3950"},{"v":0.4420923565,"d":"0.4421"}]
[18,"Nariño","Ospina",{"v":0.8638457419,"d":"0.8638"},{"v":0.7673828873,"d":"0.7674"},{"v":0.3333943003,"d":"0.3334"},{"v":0.3220505964,"d":"0.3221"},{"v":0.318204301,"d":"0.3182"}]
[37,"Nariño","Pasto",{"v":0.5425249641,"d":"0.5425"},{"v":0.6707933575,"d":"0.6708"},{"v":0.379097603,"d":"0.3791"},{"v":0.4163791744,"d":"0.4164"},{"v":0.3854087302,"d":"0.3854"}]
[76,"Nariño","Policarpa",{"v":0.67450308,"d":"0.6745"},{"v":0.5896240853,"d":"0.5896"},{"v":0.3574310709,"d":"0.3574"},{"v":0.3459077125,"d":"0.3459"},{"v":0.402230883,"d":"0.4022"}]
[5,"Nariño","Potosí",{"v":0.3276270455,"d":"0.3276"},{"v":0.4373641253,"d":"0.4374"},{"v":0.303918827,"d":"0.3039"},{"v":0.3008309504,"d":"0.3008"},{"v":0.3122470011,"d":"0.3122"}]
[32,"Nariño","Providencia",{"v":0.8168082447,"d":"0.8168"},{"v":0.7395858149,"d":"0.7396"},{"v":0.3441323032,"d":"0.3441"},{"v":0.3283112424,"d":"0.3283"},{"v":0.32949022,"d":"0.3295"}]
[8,"Nariño","Puerres",{"v":0.3125713159,"d":"0.3126"},{"v":0.4237060392,"d":"0.4237"},{"v":0.3012385354,"d":"0.3012"},{"v":0.2908096451,"d":"0.2908"},{"v":0.3023875589,"d":"0.3024"}]
[12,"Nariño","Pupiales",{"v":0.7947256669,"d":"0.7947"},{"v":0.4676049969,"d":"0.4676"},{"v":0.3280390133,"d":"0.3280"},{"v":0.3396844215,"d":"0.3397"},{"v":0.3136524616,"d":"0.3137"}]
[1065,"Nariño","Ricaurte",{"v":0.3967899465,"d":"0.3968"},{"v":0.3946767584,"d":"0.3947"},{"v":0.4545496814,"d":"0.4545"},{"v":0.4292298216,"d":"0.4292"},{"v":0.4523287318,"d":"0.4523"}]
[100,"Nariño","Roberto Payán",{"v":0.4863416731,"d":"0.4863"},{"v":0.3424829029,"d":"0.3425"},{"v":0.3656213738,"d":"0.3656"},{"v":0.3431376734,"d":"0.3431"},{"v":0.4693947543,"d":"0.4694"}]
[58,"Nariño","Samaniego",{"v":0.4596672215,"d":"0.4597"},{"v":0.3960016301,"d":"0.3960"},{"v":0.4256204817,"d":"0.4256"},{"v":0.3522727426,"d":"0.3523"},{"v":0.3781641555,"d":"0.3782"}]
[53,"Nariño","San Bernardo",{"v":0.8343098811,"d":"0.8343"},{"v":0.5124263153,"d":"0.5124"},{"v":0.3213906092,"d":"0.3214"},{"v":0.3223588198,"d":"0.3224"},{"v":0.3556037728,"d":"0.3556"}]
[63,"Nariño","San Lorenzo",{"v":0.9932519308,"d":"0.9933"},{"v":0.7189958738,"d":"0.7190"},{"v":0.3624583128,"d":"0.3625"},{"v":0.3260118049,"d":"0.3260"},{"v":0.3282969271,"d":"0.3283"}]
[67,"Nariño","San Pablo",{"v":1.039002136,"d":"1.0390"},{"v":0.4025123469,"d":"0.4025"},{"v":0.4037210012,"d":"0.4037"},{"v":0.4392761105,"d":"0.4393"},{"v":0.6256469276,"d":"0.6256"}]
[57,"Nariño","San Pedro De Cartago",{"v":0.9319802398,"d":"0.9320"},{"v":0.6528588674,"d":"0.6529"},{"v":0.3440805854,"d":"0.3441"},{"v":0.3275828841,"d":"0.3276"},{"v":0.3317253602,"d":"0.3317"}]
[40,"Nariño","Sandoná",{"v":0.7454929181,"d":"0.7455"},{"v":0.5491894643,"d":"0.5492"},{"v":0.4316213983,"d":"0.4316"},{"v":0.3254058377,"d":"0.3254"},{"v":0.3223892917,"d":"0.3224"}]
[128,"Nariño","Santa Bárbara",{"v":0.7723439396,"d":"0.7723"},{"v":0.3950755333,"d":"0.3951"},{"v":0.4130339334,"d":"0.4130"},{"v":0.3922888183,"d":"0.3923"},{"v":0.4401923103,"d":"0.4402"}]
[44,"Nariño","Santa Cruz",{"v":0.4650397225,"d":"0.4650"},{"v":0.6428012824,"d":"0.6428"},{"v":0.4253264941,"d":"0.4253"},{"v":0.4109119895,"d":"0.4109"},{"v":0.4615003931,"d":"0.4615"}]
[20,"Nariño","Sapuyes",{"v":0.77197193,"d":"0.7720"},{"v":0.6274357351,"d":"0.6274"},{"v":0.3266208804,"d":"0.3266"},{"v":0.3319064619,"d":"0.3319"},{"v":0.3369850667,"d":"0.3370"}]
[65,"Nariño","Taminango",{"v":1.053650966,"d":"1.0537"},{"v":0.590014479,"d":"0.5900"},{"v":0.3426850995,"d":"0.3427"},{"v":0.3235230226,"d":"0.3235"},{"v":0.3341522084,"d":"0.3342"}]
[26,"Nariño","Tangua",{"v":0.5487495698,"d":"0.5487"},{"v":0.9407376578,"d":"0.9407"},{"v":0.2947671337,"d":"0.2948"},{"v":0.2914502696,"d":"0.2915"},{"v":0.3016267506,"d":"0.3016"}]
[1053,"Nariño","Tumaco",{"v":0.5265443124,"d":"0.5265"},{"v":0.3452401306,"d":"0.3452"},{"v":0.5366337217,"d":"0.5366"},{"v":0.3842573881,"d":"0.3843"},{"v":0.4744136726,"d":"0.4744"}]
[30,"Nariño","Túquerres",{"v":0.7512151662,"d":"0.7512"},{"v":0.7914914727,"d":"0.7915"},{"v":0.3227809585,"d":"0.3228"},{"v":0.3335323013,"d":"0.3335"},{"v":0.3085346682,"d":"0.3085"}]
[24,"Nariño","Yacuanquer",{"v":0.8111094834,"d":"0.8111"},{"v":0.8820321072,"d":"0.8820"},{"v":0.3521082295,"d":"0.3521"},{"v":0.3398889358,"d":"0.3399"},{"v":0.3351884289,"d":"0.3352"}]
[870,"Norte de Santander","Ábrego",{"v":1.010473385,"d":"1.0105"},{"v":0.6838436869,"d":"0.6838"},{"v":0.4107456956,"d":"0.4107"},{"v":0.4183456261,"d":"0.4183"},{"v":0.4742990898,"d":"0.4743"}]
[839,"Norte de Santander","Arboledas",{"v":0.6694982923,"d":"0.6695"},{"v":0.4771218387,"d":"0.4771"},{"v":0.396638917,"d":"0.3966"},{"v":0.3703715355,"d":"0.3704"},{"v":0.4479490004,"d":"0.4479"}]
[842,"Norte de Santander","Bochalema",{"v":0.8232170429,"d":"0.8232"},{"v":0.4380854592,"d":"0.4381"},{"v":0.3475150136,"d":"0.3475"},{"v":0.3407043955,"d":"0.3407"},{"v":0.3288801937,"d":"0.3289"}]
[868,"Norte de Santander","Bucarasica",{"v":0.7534042979,"d":"0.7534"},{"v":0.6698345236,"d":"0.6698"},{"v":0.3582404558,"d":"0.3582"},{"v":0.3412304407,"d":"0.3412"},{"v":0.3429226578,"d":"0.3429"}]
[846,"Norte de Santander","Cáchira",{"v":0.7916216788,"d":"0.7916"},{"v":0.5079226088,"d":"0.5079"},{"v":0.3558003478,"d":"0.3558"},{"v":0.3498629943,"d":"0.3499"},{"v":0.4253844534,"d":"0.4254"}]
[817,"Norte de Santander","Cácota",{"v":0.9144366361,"d":"0.9144"},{"v":0.4903888651,"d":"0.4904"},{"v":0.3278666805,"d":"0.3279"},{"v":0.3166915942,"d":"0.3167"},{"v":0.3237743153,"d":"0.3238"}]
[836,"Norte de Santander","Chinácota",{"v":0.7748616192,"d":"0.7749"},{"v":0.4562501497,"d":"0.4563"},{"v":0.311378006,"d":"0.3114"},{"v":0.3190503196,"d":"0.3191"},{"v":0.298276714,"d":"0.2983"}]
[809,"Norte de Santander","Chitagá",{"v":0.5491656974,"d":"0.5492"},{"v":0.3843844406,"d":"0.3844"},{"v":0.375039678,"d":"0.3750"},{"v":0.3720004731,"d":"0.3720"},{"v":0.4585157474,"d":"0.4585"}]
[1089,"Norte de Santander","Convención",{"v":0.862784179,"d":"0.8628"},{"v":0.2966175129,"d":"0.2966"},{"v":0.3746443285,"d":"0.3746"},{"v":0.3132791665,"d":"0.3133"},{"v":0.3880046156,"d":"0.3880"}]
[1085,"Norte de Santander","Cúcuta",{"v":0.9583898358,"d":"0.9584"},{"v":0.3374596781,"d":"0.3375"},{"v":0.3939743554,"d":"0.3940"},{"v":0.41415518,"d":"0.4142"},{"v":0.3346374465,"d":"0.3346"}]
[834,"Norte de Santander","Cucutilla",{"v":0.6765471788,"d":"0.6765"},{"v":0.451623765,"d":"0.4516"},{"v":0.3741244768,"d":"0.3741"},{"v":0.3504886722,"d":"0.3505"},{"v":0.4303065901,"d":"0.4303"}]
[845,"Norte de Santander","Durania",{"v":0.8518695554,"d":"0.8519"},{"v":0.3943822676,"d":"0.3944"},{"v":0.3316609931,"d":"0.3317"},{"v":0.3290776572,"d":"0.3291"},{"v":0.3159064598,"d":"0.3159"}]
[1090,"Norte de Santander","El Carmen",{"v":0.536477012,"d":"0.5365"},{"v":0.300574201,"d":"0.3006"},{"v":0.3049489997,"d":"0.3049"},{"v":0.3390499269,"d":"0.3390"},{"v":0.4606624377,"d":"0.4607"}]
[907,"Norte de Santander","El Tarra",{"v":0.9750682714,"d":"0.9751"},{"v":0.4033219552,"d":"0.4033"},{"v":0.3973669371,"d":"0.3974"},{"v":0.3961669694,"d":"0.3962"},{"v":0.3894058071,"d":"0.3894"}]
[871,"Norte de Santander","El Zulia",{"v":0.9158687486,"d":"0.9159"},{"v":0.5912229997,"d":"0.5912"},{"v":0.3319832211,"d":"0.3320"},{"v":0.2900354146,"d":"0.2900"},{"v":0.2873496748,"d":"0.2873"}]
[856,"Norte de Santander","Gramalote",{"v":0.8599660047,"d":"0.8600"},{"v":0.5589804804,"d":"0.5590"},{"v":0.3325010328,"d":"0.3325"},{"v":0.3192582523,"d":"0.3193"},{"v":0.3186656978,"d":"0.3187"}]
[885,"Norte de Santander","Hacarí",{"v":0.8520159916,"d":"0.8520"},{"v":0.511714835,"d":"0.5117"},{"v":0.3536915253,"d":"0.3537"},{"v":0.3415677174,"d":"0.3416"},{"v":0.3396414719,"d":"0.3396"}]
[1079,"Norte de Santander","Herrán",{"v":0.6905807044,"d":"0.6906"},{"v":0.3945734286,"d":"0.3946"},{"v":0.3721596017,"d":"0.3722"},{"v":0.3593095634,"d":"0.3593"},{"v":0.3636942617,"d":"0.3637"}]
[844,"Norte de Santander","La Esperanza",{"v":0.9454696333,"d":"0.9455"},{"v":0.3475148821,"d":"0.3475"},{"v":0.352727269,"d":"0.3527"},{"v":0.4329337663,"d":"0.4329"},{"v":0.404264259,"d":"0.4043"}]
[874,"Norte de Santander","La Playa",{"v":1.01897741,"d":"1.0190"},{"v":0.6963081395,"d":"0.6963"},{"v":0.3221092117,"d":"0.3221"},{"v":0.3092930782,"d":"0.3093"},{"v":0.3083315747,"d":"0.3083"}]
[821,"Norte de Santander","Labateca",{"v":0.6855209986,"d":"0.6855"},{"v":0.4584667905,"d":"0.4585"},{"v":0.3191542599,"d":"0.3192"},{"v":0.3120173747,"d":"0.3120"},{"v":0.3086719643,"d":"0.3087"}]
[847,"Norte de Santander","Los Patios",{"v":0.8032313876,"d":"0.8032"},{"v":0.8141163815,"d":"0.8141"},{"v":0.2675496324,"d":"0.2675"},{"v":0.2992342348,"d":"0.2992"},{"v":0.2472452232,"d":"0.2472"}]
[857,"Norte de Santander","Lourdes",{"v":0.7518941595,"d":"0.7519"},{"v":0.6596009576,"d":"0.6596"},{"v":0.3515445912,"d":"0.3515"},{"v":0.3331032251,"d":"0.3331"},{"v":0.3357917033,"d":"0.3358"}]
[818,"Norte de Santander","Mutiscua",{"v":0.7067242082,"d":"0.7067"},{"v":0.498683414,"d":"0.4987"},{"v":0.2883452026,"d":"0.2883"},{"v":0.2790534588,"d":"0.2791"},{"v":0.3639932376,"d":"0.3640"}]
[876,"Norte de Santander","Ocaña",{"v":0.8307307873,"d":"0.8307"},{"v":0.6745647038,"d":"0.6746"},{"v":0.326033812,"d":"0.3260"},{"v":0.3317598986,"d":"0.3318"},{"v":0.4623122993,"d":"0.4623"}]
[827,"Norte de Santander","Pamplona",{"v":0.7754624206,"d":"0.7755"},{"v":0.5467396446,"d":"0.5467"},{"v":0.311675458,"d":"0.3117"},{"v":0.304113815,"d":"0.3041"},{"v":0.3076776006,"d":"0.3077"}]
[830,"Norte de Santander","Pamplonita",{"v":0.7983652396,"d":"0.7984"},{"v":0.5590779571,"d":"0.5591"},{"v":0.3163159877,"d":"0.3163"},{"v":0.307404083,"d":"0.3074"},{"v":0.311545075,"d":"0.3115"}]
[1084,"Norte de Santander","Puerto Santander",{"v":0.9899504799,"d":"0.9900"},{"v":0.3694736543,"d":"0.3695"},{"v":0.3205184953,"d":"0.3205"},{"v":0.3030176054,"d":"0.3030"},{"v":0.3076545684,"d":"0.3077"}]
[1080,"Norte de Santander","Ragonvalia",{"v":0.726919061,"d":"0.7269"},{"v":0.3405909106,"d":"0.3406"},{"v":0.319630549,"d":"0.3196"},{"v":0.3065446383,"d":"0.3065"},{"v":0.301350143,"d":"0.3014"}]
[849,"Norte de Santander","Salazar",{"v":0.6738666829,"d":"0.6739"},{"v":0.4320177547,"d":"0.4320"},{"v":0.3758512111,"d":"0.3759"},{"v":0.3700431319,"d":"0.3700"},{"v":0.4405301782,"d":"0.4405"}]
[891,"Norte de Santander","San Calixto",{"v":0.8962276627,"d":"0.8962"},{"v":0.6398101251,"d":"0.6398"},{"v":0.4655146431,"d":"0.4655"},{"v":0.4448909806,"d":"0.4449"},{"v":0.4472727662,"d":"0.4473"}]
[850,"Norte de Santander","San Cayetano",{"v":0.4948279083,"d":"0.4948"},{"v":0.7052588888,"d":"0.7053"},{"v":0.408990323,"d":"0.4090"},{"v":0.4091782626,"d":"0.4092"},{"v":0.3058284042,"d":"0.3058"}]
[853,"Norte de Santander","Santiago",{"v":0.9840082336,"d":"0.9840"},{"v":0.4316524732,"d":"0.4317"},{"v":0.364289083,"d":"0.3643"},{"v":0.3574064772,"d":"0.3574"},{"v":0.5322115932,"d":"0.5322"}]
[888,"Norte de Santander","Sardinata",{"v":0.8975885374,"d":"0.8976"},{"v":0.5756134999,"d":"0.5756"},{"v":0.4199016404,"d":"0.4199"},{"v":0.4078587843,"d":"0.4079"},{"v":0.3948063957,"d":"0.3948"}]
[814,"Norte de Santander","Silos",{"v":0.9102503356,"d":"0.9103"},{"v":0.4878132672,"d":"0.4878"},{"v":0.3300627615,"d":"0.3301"},{"v":0.3216606895,"d":"0.3217"},{"v":0.404885775,"d":"0.4049"}]
[1088,"Norte de Santander","Teorama",{"v":0.9341580562,"d":"0.9342"},{"v":0.4385632596,"d":"0.4386"},{"v":0.4160049473,"d":"0.4160"},{"v":0.3983540896,"d":"0.3984"},{"v":0.4022721688,"d":"0.4023"}]
[1087,"Norte de Santander","Tibú",{"v":1.019769684,"d":"1.0198"},{"v":0.3406796087,"d":"0.3407"},{"v":0.3815784989,"d":"0.3816"},{"v":0.4011578923,"d":"0.4012"},{"v":0.3684107205,"d":"0.3684"}]
[1077,"Norte de Santander","Toledo",{"v":0.6225534893,"d":"0.6226"},{"v":0.3749178619,"d":"0.3749"},{"v":0.4243109589,"d":"0.4243"},{"v":0.4322744593,"d":"0.4323"},{"v":0.4898335871,"d":"0.4898"}]
[860,"Norte de Santander","Villa Caro",{"v":0.7814019134,"d":"0.7814"},{"v":0.7623499113,"d":"0.7623"},{"v":0.3319524161,"d":"0.3320"},{"v":0.321213476,"d":"0.3212"},{"v":0.4012805284,"d":"0.4013"}]
[1081,"Norte de Santander","Villa Del Rosario",{"v":0.8562546781,"d":"0.8563"},{"v":0.3111362492,"d":"0.3111"},{"v":0.2936885898,"d":"0.2937"},{"v":0.3344185879,"d":"0.3344"},{"v":0.2718954816,"d":"0.2719"}]
[31,"Putumayo","Colón",{"v":0.786794416,"d":"0.7868"},{"v":0.6550636596,"d":"0.6551"},{"v":0.3563774377,"d":"0.3564"},{"v":0.3347576738,"d":"0.3348"},{"v":0.3647440235,"d":"0.3647"}]
[1060,"Putumayo","Leguízamo",{"v":0.7535849686,"d":"0.7536"},{"v":0.3236610393,"d":"0.3237"},{"v":0.3467282593,"d":"0.3467"},{"v":0.373347075,"d":"0.3733"},{"v":0.9459370552,"d":"0.9459"}]
[45,"Putumayo","Mocoa",{"v":0.5042753451,"d":"0.5043"},{"v":0.411397451,"d":"0.4114"},{"v":0.4205143357,"d":"0.4205"},{"v":0.4112204964,"d":"0.4112"},{"v":0.4644916005,"d":"0.4645"}]
[9,"Putumayo","Orito",{"v":0.7592971022,"d":"0.7593"},{"v":0.4951299913,"d":"0.4951"},{"v":0.5306031298,"d":"0.5306"},{"v":0.5302559942,"d":"0.5303"},{"v":0.5286446381,"d":"0.5286"}]
[1059,"Putumayo","Puerto Asís",{"v":0.8239726799,"d":"0.8240"},{"v":0.4353348397,"d":"0.4353"},{"v":0.4602037546,"d":"0.4602"},{"v":0.4853250289,"d":"0.4853"},{"v":0.5861524656,"d":"0.5862"}]
[6,"Putumayo","Puerto Caicedo",{"v":0.8508013269,"d":"0.8508"},{"v":0.4621626695,"d":"0.4622"},{"v":0.4847809342,"d":"0.4848"},{"v":0.4973735819,"d":"0.4974"},{"v":0.5589725216,"d":"0.5590"}]
[17,"Putumayo","Puerto Guzmán",{"v":0.8733878421,"d":"0.8734"},{"v":0.4633691845,"d":"0.4634"},{"v":0.4964228969,"d":"0.4964"},{"v":0.4893995192,"d":"0.4894"},{"v":0.6425175868,"d":"0.6425"}]
[29,"Putumayo","San Francisco",{"v":0.4126484196,"d":"0.4126"},{"v":0.4537346944,"d":"0.4537"},{"v":0.4101909711,"d":"0.4102"},{"v":0.476465762,"d":"0.4765"},{"v":0.2929073038,"d":"0.2929"}]
[1057,"Putumayo","San Miguel",{"v":0.9112349194,"d":"0.9112"},{"v":0.5241684596,"d":"0.5242"},{"v":0.5621481738,"d":"0.5621"},{"v":0.5572942793,"d":"0.5573"},{"v":0.3438389266,"d":"0.3438"}]
[25,"Putumayo","Santiago",{"v":0.5475359214,"d":"0.5475"},{"v":0.6092809202,"d":"0.6093"},{"v":0.5214593644,"d":"0.5215"},{"v":0.508707577,"d":"0.5087"},{"v":0.3439721712,"d":"0.3440"}]
[35,"Putumayo","Sibundoy",{"v":0.529267449,"d":"0.5293"},{"v":0.4528978109,"d":"0.4529"},{"v":0.3495030119,"d":"0.3495"},{"v":0.3568586466,"d":"0.3569"},{"v":0.3528590285,"d":"0.3529"}]
[1058,"Putumayo","Valle Del Guamuez",{"v":0.825726144,"d":"0.8257"},{"v":0.438830818,"d":"0.4388"},{"v":0.4776135933,"d":"0.4776"},{"v":0.483194327,"d":"0.4832"},{"v":0.4791023242,"d":"0.4791"}]
[19,"Putumayo","Villagarzón",{"v":0.6560973338,"d":"0.6561"},{"v":0.447547011,"d":"0.4475"},{"v":0.4717673721,"d":"0.4718"},{"v":0.4721872663,"d":"0.4722"},{"v":0.5773921476,"d":"0.5774"}]
[290,"Quindío","Armenia",{"v":1.044490391,"d":"1.0445"},{"v":0.2998158822,"d":"0.2998"},{"v":0.2761917194,"d":"0.2762"},{"v":0.2752529547,"d":"0.2753"},{"v":0.5232341275,"d":"0.5232"}]
[259,"Quindío","Buenavista",{"v":0.9230044237,"d":"0.9230"},{"v":0.3862184907,"d":"0.3862"},{"v":0.3011159655,"d":"0.3011"},{"v":0.4432122372,"d":"0.4432"},{"v":0.3590458603,"d":"0.3590"}]
[285,"Quindío","Calarcá",{"v":0.6015186896,"d":"0.6015"},{"v":0.4267239886,"d":"0.4267"},{"v":0.3597217451,"d":"0.3597"},{"v":0.3935217006,"d":"0.3935"},{"v":0.3150035615,"d":"0.3150"}]
[306,"Quindío","Circasia",{"v":0.6968538074,"d":"0.6969"},{"v":0.2579747823,"d":"0.2580"},{"v":0.2773010643,"d":"0.2773"},{"v":0.3090074665,"d":"0.3090"},{"v":0.2456821264,"d":"0.2457"}]
[266,"Quindío","Córdoba",{"v":0.3538630944,"d":"0.3539"},{"v":0.4706638023,"d":"0.4707"},{"v":0.3221019536,"d":"0.3221"},{"v":0.2971882072,"d":"0.2972"},{"v":0.3024500701,"d":"0.3025"}]
[317,"Quindío","Filandia",{"v":0.6925954342,"d":"0.6926"},{"v":0.2693635254,"d":"0.2694"},{"v":0.2826859648,"d":"0.2827"},{"v":0.2894574824,"d":"0.2895"},{"v":0.2555044676,"d":"0.2555"}]
[246,"Quindío","Génova",{"v":0.470660218,"d":"0.4707"},{"v":0.5895413119,"d":"0.5895"},{"v":0.3092070679,"d":"0.3092"},{"v":0.2780994487,"d":"0.2781"},{"v":0.2906459377,"d":"0.2906"}]
[274,"Quindío","La Tebaida",{"v":0.9814063134,"d":"0.9814"},{"v":0.3115063551,"d":"0.3115"},{"v":0.3164358081,"d":"0.3164"},{"v":0.3267574694,"d":"0.3268"},{"v":0.2897977707,"d":"0.2898"}]
[289,"Quindío","Montenegro",{"v":0.9657958017,"d":"0.9658"},{"v":0.2804067305,"d":"0.2804"},{"v":0.3110380675,"d":"0.3110"},{"v":0.3166451427,"d":"0.3166"},{"v":0.2630300328,"d":"0.2630"}]
[255,"Quindío","Pijao",{"v":0.4770743422,"d":"0.4771"},{"v":0.5312383438,"d":"0.5312"},{"v":0.301759858,"d":"0.3018"},{"v":0.2710278015,"d":"0.2710"},{"v":0.2766595075,"d":"0.2767"}]
[303,"Quindío","Quimbaya",{"v":0.9562858842,"d":"0.9563"},{"v":0.2822150931,"d":"0.2822"},{"v":0.3053564499,"d":"0.3054"},{"v":0.32379083,"d":"0.3238"},{"v":0.2564749733,"d":"0.2565"}]
[314,"Quindío","Salento",{"v":0.4550693018,"d":"0.4551"},{"v":0.5019518176,"d":"0.5020"},{"v":0.2259891026,"d":"0.2260"},{"v":0.2430871342,"d":"0.2431"},{"v":0.2426001528,"d":"0.2426"}]
[436,"Risaralda","Apía",{"v":0.8103887603,"d":"0.8104"},{"v":0.3660837568,"d":"0.3661"},{"v":0.2843486485,"d":"0.2843"},{"v":0.2560312146,"d":"0.2560"},{"v":0.2926397513,"d":"0.2926"}]
[371,"Risaralda","Balboa",{"v":0.9348914281,"d":"0.9349"},{"v":0.2589259822,"d":"0.2589"},{"v":0.3134659807,"d":"0.3135"},{"v":0.2449189516,"d":"0.2449"},{"v":0.2806596227,"d":"0.2807"}]
[440,"Risaralda","Belén De Umbría",{"v":0.9446650079,"d":"0.9447"},{"v":0.3490573737,"d":"0.3491"},{"v":0.3461487607,"d":"0.3461"},{"v":0.295624598,"d":"0.2956"},{"v":0.3039218229,"d":"0.3039"}]
[345,"Risaralda","Dosquebradas",{"v":0.7078545371,"d":"0.7079"},{"v":0.2595120069,"d":"0.2595"},{"v":0.276072227,"d":"0.2761"},{"v":0.2796161513,"d":"0.2796"},{"v":0.2822752685,"d":"0.2823"}]
[472,"Risaralda","Guática",{"v":0.8625983508,"d":"0.8626"},{"v":0.3410815686,"d":"0.3411"},{"v":0.2660930138,"d":"0.2661"},{"v":0.2447107794,"d":"0.2447"},{"v":0.3651616499,"d":"0.3652"}]
[385,"Risaralda","La Celia",{"v":0.8632652455,"d":"0.8633"},{"v":0.3009018814,"d":"0.3009"},{"v":0.314282389,"d":"0.3143"},{"v":0.2881143187,"d":"0.2881"},{"v":0.3013246391,"d":"0.3013"}]
[355,"Risaralda","La Virginia",{"v":1.040251297,"d":"1.0403"},{"v":0.260049628,"d":"0.2600"},{"v":0.2578240511,"d":"0.2578"},{"v":0.240025526,"d":"0.2400"},{"v":0.3890563802,"d":"0.3891"}]
[384,"Risaralda","Marsella",{"v":0.9367944467,"d":"0.9368"},{"v":0.3156409808,"d":"0.3156"},{"v":0.3406096163,"d":"0.3406"},{"v":0.3169726739,"d":"0.3170"},{"v":0.4570421296,"d":"0.4570"}]
[516,"Risaralda","Mistrató",{"v":0.4565632309,"d":"0.4566"},{"v":0.3360370101,"d":"0.3360"},{"v":0.3363659244,"d":"0.3364"},{"v":0.3151312865,"d":"0.3151"},{"v":0.3398107668,"d":"0.3398"}]
[350,"Risaralda","Pereira",{"v":0.8103250033,"d":"0.8103"},{"v":0.3262081858,"d":"0.3262"},{"v":0.3313198207,"d":"0.3313"},{"v":0.6165118161,"d":"0.6165"},{"v":0.4246566332,"d":"0.4247"}]
[485,"Risaralda","Pueblo Rico",{"v":0.4808995802,"d":"0.4809"},{"v":0.3903549112,"d":"0.3904"},{"v":0.4131848577,"d":"0.4132"},{"v":0.3893399484,"d":"0.3893"},{"v":0.4350142149,"d":"0.4350"}]
[474,"Risaralda","Quinchía",{"v":0.8876536608,"d":"0.8877"},{"v":0.2397624901,"d":"0.2398"},{"v":0.2331863602,"d":"0.2332"},{"v":0.2019810254,"d":"0.2020"},{"v":0.4585919954,"d":"0.4586"}]
[367,"Risaralda","Santa Rosa De Cabal",{"v":0.4340318961,"d":"0.4340"},{"v":0.3055186519,"d":"0.3055"},{"v":0.3005761663,"d":"0.3006"},{"v":0.2744236884,"d":"0.2744"},{"v":0.2782270038,"d":"0.2782"}]
[410,"Risaralda","Santuario",{"v":0.7975157442,"d":"0.7975"},{"v":0.2888634276,"d":"0.2889"},{"v":0.3395985063,"d":"0.3396"},{"v":0.2611126449,"d":"0.2611"},{"v":0.2808596164,"d":"0.2809"}]
[1051,"San Andrés y Providencia","Providencia y Santa Catalina",{"v":1.091077086,"d":"1.0911"},{"v":0.6194671543,"d":"0.6195"},{"v":0.2147824758,"d":"0.2148"},{"v":0.1993649622,"d":"0.1994"},{"v":0.1985601241,"d":"0.1986"}]
[1050,"San Andrés y Providencia","San Andrés",{"v":1.00377943,"d":"1.0038"},{"v":0.5626117649,"d":"0.5626"},{"v":0.2084452707,"d":"0.2084"},{"v":0.2093232128,"d":"0.2093"},{"v":0.2084452707,"d":"0.2084"}]
[663,"Santander","Aguada",{"v":1.147183155,"d":"1.1472"},{"v":0.3870023061,"d":"0.3870"},{"v":0.3121039317,"d":"0.3121"},{"v":0.29996052,"d":"0.3000"},{"v":0.4590064118,"d":"0.4590"}]
[589,"Santander","Albania",{"v":1.266664942,"d":"1.2667"},{"v":0.3456059619,"d":"0.3456"},{"v":0.3542697451,"d":"0.3543"},{"v":0.3854815334,"d":"0.3855"},{"v":0.4632638868,"d":"0.4633"}]
[765,"Santander","Aratoca",{"v":1.102845975,"d":"1.1028"},{"v":0.4448721291,"d":"0.4449"},{"v":0.29632775,"d":"0.2963"},{"v":0.2853116923,"d":"0.2853"},{"v":0.3070915184,"d":"0.3071"}]
[606,"Santander","Barbosa",{"v":0.9579578523,"d":"0.9580"},{"v":0.2964893553,"d":"0.2965"},{"v":0.2580733911,"d":"0.2581"},{"v":0.2292102815,"d":"0.2292"},{"v":0.2412559763,"d":"0.2413"}]
[750,"Santander","Barichara",{"v":1.248061078,"d":"1.2481"},{"v":0.5588223528,"d":"0.5588"},{"v":0.2506137633,"d":"0.2506"},{"v":0.2509408059,"d":"0.2509"},{"v":0.2564561917,"d":"0.2565"}]
[806,"Santander","Barrancabermeja",{"v":1.047219073,"d":"1.0472"},{"v":0.3334072793,"d":"0.3334"},{"v":0.3382684799,"d":"0.3383"},{"v":0.445240845,"d":"0.4452"},{"v":0.6284600424,"d":"0.6285"}]
[800,"Santander","Betulia",{"v":1.016777464,"d":"1.0168"},{"v":0.3284337154,"d":"0.3284"},{"v":0.3463833042,"d":"0.3464"},{"v":0.3091032782,"d":"0.3091"},{"v":0.5783307576,"d":"0.5783"}]
[668,"Santander","Bolívar",{"v":0.8253646297,"d":"0.8254"},{"v":0.2693718879,"d":"0.2694"},{"v":0.2600250274,"d":"0.2600"},{"v":0.3212077371,"d":"0.3212"},{"v":0.3993481543,"d":"0.3993"}]
[810,"Santander","Bucaramanga",{"v":0.8045458378,"d":"0.8045"},{"v":0.2832108771,"d":"0.2832"},{"v":0.23528669,"d":"0.2353"},{"v":0.2335847281,"d":"0.2336"},{"v":0.2990736788,"d":"0.2991"}]
[736,"Santander","Cabrera",{"v":0.4089118606,"d":"0.4089"},{"v":0.3793342454,"d":"0.3793"},{"v":0.2937321854,"d":"0.2937"},{"v":0.2812532672,"d":"0.2813"},{"v":0.2636772429,"d":"0.2637"}]
[820,"Santander","California",{"v":0.6957734937,"d":"0.6958"},{"v":0.4282115054,"d":"0.4282"},{"v":0.2817679046,"d":"0.2818"},{"v":0.2670682676,"d":"0.2671"},{"v":0.3460537814,"d":"0.3461"}]
[732,"Santander","Capitanejo",{"v":1.311728387,"d":"1.3117"},{"v":0.4330482829,"d":"0.4330"},{"v":0.2906731198,"d":"0.2907"},{"v":0.275843311,"d":"0.2758"},{"v":0.2987199992,"d":"0.2987"}]
[754,"Santander","Carcasí",{"v":0.9987852839,"d":"0.9988"},{"v":0.410624781,"d":"0.4106"},{"v":0.3082139225,"d":"0.3082"},{"v":0.3024173885,"d":"0.3024"},{"v":0.3646927006,"d":"0.3647"}]
[764,"Santander","Cepitá",{"v":1.158454732,"d":"1.1585"},{"v":0.5207939049,"d":"0.5208"},{"v":0.2939880276,"d":"0.2940"},{"v":0.2776574872,"d":"0.2777"},{"v":0.30153969,"d":"0.3015"}]
[789,"Santander","Cerrito",{"v":0.8929599009,"d":"0.8930"},{"v":0.5016776059,"d":"0.5017"},{"v":0.2845764367,"d":"0.2846"},{"v":0.2785389909,"d":"0.2785"},{"v":0.3011735693,"d":"0.3012"}]
[690,"Santander","Charalá",{"v":0.9830562426,"d":"0.9831"},{"v":0.2989156728,"d":"0.2989"},{"v":0.3154509242,"d":"0.3155"},{"v":0.3148864155,"d":"0.3149"},{"v":0.3009064704,"d":"0.3009"}]
[815,"Santander","Charta",{"v":0.68210729,"d":"0.6821"},{"v":0.3778961734,"d":"0.3779"},{"v":0.2549538414,"d":"0.2550"},{"v":0.2421491117,"d":"0.2421"},{"v":0.3254534427,"d":"0.3255"}]
[706,"Santander","Chima",{"v":0.9997642598,"d":"0.9998"},{"v":0.3049049403,"d":"0.3049"},{"v":0.3215118251,"d":"0.3215"},{"v":0.3162043404,"d":"0.3162"},{"v":0.3332241477,"d":"0.3332"}]
[638,"Santander","Chipatá",{"v":1.150444018,"d":"1.1504"},{"v":0.3725860217,"d":"0.3726"},{"v":0.2977727959,"d":"0.2978"},{"v":0.2619239314,"d":"0.2619"},{"v":0.4349446622,"d":"0.4349"}]
[758,"Santander","Cimitarra",{"v":1.01806372,"d":"1.0181"},{"v":0.3402682754,"d":"0.3403"},{"v":0.3236299787,"d":"0.3236"},{"v":0.7338020861,"d":"0.7338"},{"v":0.6565365856,"d":"0.6565"}]
[778,"Santander","Concepción",{"v":0.9024529456,"d":"0.9025"},{"v":0.4765031306,"d":"0.4765"},{"v":0.285766526,"d":"0.2858"},{"v":0.285608568,"d":"0.2856"},{"v":0.2607142221,"d":"0.2607"}]
[694,"Santander","Confines",{"v":1.19335197,"d":"1.1934"},{"v":0.2903793594,"d":"0.2904"},{"v":0.3106855234,"d":"0.3107"},{"v":0.285848553,"d":"0.2858"},{"v":0.303960988,"d":"0.3040"}]
[685,"Santander","Contratación",{"v":0.8980225222,"d":"0.8980"},{"v":0.3033248562,"d":"0.3033"},{"v":0.3020336911,"d":"0.3020"},{"v":0.2880618619,"d":"0.2881"},{"v":0.4456830657,"d":"0.4457"}]
[687,"Santander","Coromoro",{"v":0.851276798,"d":"0.8513"},{"v":0.3928887025,"d":"0.3929"},{"v":0.3324441522,"d":"0.3324"},{"v":0.3273661641,"d":"0.3274"},{"v":0.3352613691,"d":"0.3353"}]
[745,"Santander","Curití",{"v":1.13321743,"d":"1.1332"},{"v":0.3806695893,"d":"0.3807"},{"v":0.2887708411,"d":"0.2888"},{"v":0.2804789713,"d":"0.2805"},{"v":0.3189423566,"d":"0.3189"}]
[768,"Santander","El Carmen",{"v":0.6545659079,"d":"0.6546"},{"v":0.4451875073,"d":"0.4452"},{"v":0.4666735552,"d":"0.4667"},{"v":0.451436162,"d":"0.4514"},{"v":0.5302349162,"d":"0.5302"}]
[675,"Santander","El Guacamayo",{"v":1.006658917,"d":"1.0067"},{"v":0.348059222,"d":"0.3481"},{"v":0.3289726079,"d":"0.3290"},{"v":0.3097413763,"d":"0.3097"},{"v":0.464775362,"d":"0.4648"}]
[653,"Santander","El Peñón",{"v":1.245288267,"d":"1.2453"},{"v":0.4606528205,"d":"0.4607"},{"v":0.4165303152,"d":"0.4165"},{"v":0.4222238427,"d":"0.4222"},{"v":0.679331414,"d":"0.6793"}]
[833,"Santander","El Playón",{"v":0.6597988632,"d":"0.6598"},{"v":0.2795467161,"d":"0.2795"},{"v":0.2596336948,"d":"0.2596"},{"v":0.2900622661,"d":"0.2901"},{"v":0.3171137368,"d":"0.3171"}]
[657,"Santander","Encino",{"v":0.8509127388,"d":"0.8509"},{"v":0.4581945893,"d":"0.4582"},{"v":0.3343511636,"d":"0.3344"},{"v":0.3217167535,"d":"0.3217"},{"v":0.3606025099,"d":"0.3606"}]
[748,"Santander","Enciso",{"v":1.223265846,"d":"1.2233"},{"v":0.3514118212,"d":"0.3514"},{"v":0.3128687734,"d":"0.3129"},{"v":0.3000485329,"d":"0.3000"},{"v":0.3211321903,"d":"0.3211"}]
[586,"Santander","Florián",{"v":0.7593086099,"d":"0.7593"},{"v":0.3216544465,"d":"0.3217"},{"v":0.319814439,"d":"0.3198"},{"v":0.3075795981,"d":"0.3076"},{"v":0.3349986721,"d":"0.3350"}]
[798,"Santander","Floridablanca",{"v":0.7839296947,"d":"0.7839"},{"v":0.3043975052,"d":"0.3044"},{"v":0.2614118525,"d":"0.2614"},{"v":0.3909087247,"d":"0.3909"},{"v":0.3234647894,"d":"0.3235"}]
[759,"Santander","Galán",{"v":1.028908439,"d":"1.0289"},{"v":0.3538246471,"d":"0.3538"},{"v":0.3004315874,"d":"0.3004"},{"v":0.2960281266,"d":"0.2960"},{"v":0.4611295445,"d":"0.4611"}]
[629,"Santander","Gámbita",{"v":0.9734926045,"d":"0.9735"},{"v":0.4839768321,"d":"0.4840"},{"v":0.3860046303,"d":"0.3860"},{"v":0.3807081973,"d":"0.3807"},{"v":0.4092208597,"d":"0.4092"}]
[802,"Santander","Girón",{"v":1.005250427,"d":"1.0053"},{"v":0.3302453001,"d":"0.3302"},{"v":0.2837989109,"d":"0.2838"},{"v":0.7331828264,"d":"0.7332"},{"v":0.3598089764,"d":"0.3598"}]
[794,"Santander","Guaca",{"v":0.8686899051,"d":"0.8687"},{"v":0.5127463568,"d":"0.5127"},{"v":0.2854211061,"d":"0.2854"},{"v":0.2801458972,"d":"0.2801"},{"v":0.3012198455,"d":"0.3012"}]
[674,"Santander","Guadalupe",{"v":1.028052686,"d":"1.0281"},{"v":0.4675967312,"d":"0.4676"},{"v":0.2896949451,"d":"0.2897"},{"v":0.2719724914,"d":"0.2720"},{"v":0.2839788502,"d":"0.2840"}]
[684,"Santander","Guapotá",{"v":1.273150317,"d":"1.2732"},{"v":0.2853838111,"d":"0.2854"},{"v":0.2950541458,"d":"0.2951"},{"v":0.2899456818,"d":"0.2899"},{"v":0.2908878215,"d":"0.2909"}]
[607,"Santander","Guavatá",{"v":1.074850609,"d":"1.0749"},{"v":0.3074893955,"d":"0.3075"},{"v":0.299578777,"d":"0.2996"},{"v":0.2858468405,"d":"0.2858"},{"v":0.2997733403,"d":"0.2998"}]
[628,"Santander","Güepsa",{"v":1.231003897,"d":"1.2310"},{"v":0.320008864,"d":"0.3200"},{"v":0.3054937257,"d":"0.3055"},{"v":0.2531655966,"d":"0.2532"},{"v":0.2715059638,"d":"0.2715"}]
[737,"Santander","Hato",{"v":1.041894558,"d":"1.0419"},{"v":0.3389092576,"d":"0.3389"},{"v":0.3193614469,"d":"0.3194"},{"v":0.3067462669,"d":"0.3067"},{"v":0.461758266,"d":"0.4618"}]
[593,"Santander","Jesús María",{"v":0.9623951555,"d":"0.9624"},{"v":0.3110946867,"d":"0.3111"},{"v":0.2997332156,"d":"0.2997"},{"v":0.286374377,"d":"0.2864"},{"v":0.3167990164,"d":"0.3168"}]
[752,"Santander","Jordán",{"v":1.18752603,"d":"1.1875"},{"v":0.4510425164,"d":"0.4510"},{"v":0.3270693522,"d":"0.3271"},{"v":0.3112660026,"d":"0.3113"},{"v":0.3552408188,"d":"0.3552"}]
[618,"Santander","La Belleza",{"v":0.7360621394,"d":"0.7361"},{"v":0.2946561071,"d":"0.2947"},{"v":0.2761464013,"d":"0.2761"},{"v":0.2714106487,"d":"0.2714"},{"v":0.2717697385,"d":"0.2718"}]
[688,"Santander","La Paz",{"v":0.768580478,"d":"0.7686"},{"v":0.3122467291,"d":"0.3122"},{"v":0.3215656748,"d":"0.3216"},{"v":0.2911237487,"d":"0.2911"},{"v":0.4400890538,"d":"0.4401"}]
[725,"Santander","Landázuri",{"v":0.7098157826,"d":"0.7098"},{"v":0.2587226899,"d":"0.2587"},{"v":0.2610266917,"d":"0.2610"},{"v":0.2809550428,"d":"0.2810"},{"v":0.400973204,"d":"0.4010"}]
[822,"Santander","Lebrija",{"v":0.879707205,"d":"0.8797"},{"v":0.2890429109,"d":"0.2890"},{"v":0.2825951642,"d":"0.2826"},{"v":1.265211955,"d":"1.2652"},{"v":0.3601749839,"d":"0.3602"}]
[779,"Santander","Los Santos",{"v":1.205862636,"d":"1.2059"},{"v":0.6098699118,"d":"0.6099"},{"v":0.2754855346,"d":"0.2755"},{"v":0.6707817488,"d":"0.6708"},{"v":0.2982906217,"d":"0.2983"}]
[731,"Santander","Macaravita",{"v":1.221117348,"d":"1.2211"},{"v":0.4022705456,"d":"0.4023"},{"v":0.3194623793,"d":"0.3195"},{"v":0.3060072844,"d":"0.3060"},{"v":0.3277090825,"d":"0.3277"}]
[760,"Santander","Málaga",{"v":1.11888444,"d":"1.1189"},{"v":0.3718882118,"d":"0.3719"},{"v":0.2852928855,"d":"0.2853"},{"v":0.2780491708,"d":"0.2780"},{"v":0.2936003778,"d":"0.2936"}]
[826,"Santander","Matanza",{"v":0.6066740676,"d":"0.6067"},{"v":0.2723171461,"d":"0.2723"},{"v":0.2542432765,"d":"0.2542"},{"v":0.2396853115,"d":"0.2397"},{"v":0.3142057979,"d":"0.3142"}]
[739,"Santander","Mogotes",{"v":0.9948180668,"d":"0.9948"},{"v":0.3463263493,"d":"0.3463"},{"v":0.3233290794,"d":"0.3233"},{"v":0.2940900802,"d":"0.2941"},{"v":0.310759395,"d":"0.3108"}]
[749,"Santander","Molagavita",{"v":1.29037412,"d":"1.2904"},{"v":0.4958903021,"d":"0.4959"},{"v":0.3255903919,"d":"0.3256"},{"v":0.3123002221,"d":"0.3123"},{"v":0.3278429556,"d":"0.3278"}]
[691,"Santander","Ocamonte",{"v":1.13551626,"d":"1.1355"},{"v":0.2998048946,"d":"0.2998"},{"v":0.3114289325,"d":"0.3114"},{"v":0.2761047499,"d":"0.2761"},{"v":0.2740445689,"d":"0.2740"}]
[677,"Santander","Oiba",{"v":1.17155049,"d":"1.1716"},{"v":0.2791540325,"d":"0.2792"},{"v":0.3020880136,"d":"0.3021"},{"v":0.3028617224,"d":"0.3029"},{"v":0.2950216211,"d":"0.2950"}]
[719,"Santander","Onzaga",{"v":1.006609173,"d":"1.0066"},{"v":0.4727881391,"d":"0.4728"},{"v":0.3177194442,"d":"0.3177"},{"v":0.3116026179,"d":"0.3116"},{"v":0.3278380064,"d":"0.3278"}]
[726,"Santander","Palmar",{"v":1.272687472,"d":"1.2727"},{"v":0.3888787367,"d":"0.3889"},{"v":0.3338117189,"d":"0.3338"},{"v":0.3205803013,"d":"0.3206"},{"v":0.340607273,"d":"0.3406"}]
[697,"Santander","Palmas Del Socorro",{"v":1.272643724,"d":"1.2726"},{"v":0.2903483901,"d":"0.2903"},{"v":0.3086110303,"d":"0.3086"},{"v":0.2852239828,"d":"0.2852"},{"v":0.2972485079,"d":"0.2972"}]
[712,"Santander","Páramo",{"v":1.082874048,"d":"1.0829"},{"v":0.2780425205,"d":"0.2780"},{"v":0.287952447,"d":"0.2880"},{"v":0.2631964753,"d":"0.2632"},{"v":0.2802327796,"d":"0.2802"}]
[796,"Santander","Piedecuesta",{"v":0.8504249096,"d":"0.8504"},{"v":0.3850036235,"d":"0.3850"},{"v":0.2621116745,"d":"0.2621"},{"v":1.159087577,"d":"1.1591"},{"v":0.3733968364,"d":"0.3734"}]
[723,"Santander","Pinchote",{"v":1.20268306,"d":"1.2027"},{"v":0.3188645918,"d":"0.3189"},{"v":0.2704057193,"d":"0.2704"},{"v":0.2961211316,"d":"0.2961"},{"v":0.2550839442,"d":"0.2551"}]
[595,"Santander","Puente Nacional",{"v":0.9840127964,"d":"0.9840"},{"v":0.426533038,"d":"0.4265"},{"v":0.2806820644,"d":"0.2807"},{"v":0.2732774926,"d":"0.2733"},{"v":0.2744090741,"d":"0.2744"}]
[775,"Santander","Puerto Parra",{"v":1.033048478,"d":"1.0330"},{"v":0.3450455337,"d":"0.3450"},{"v":0.3425962235,"d":"0.3426"},{"v":0.4037681868,"d":"0.4038"},{"v":0.5587610955,"d":"0.5588"}]
[863,"Santander","Puerto Wilches",{"v":1.138421858,"d":"1.1384"},{"v":0.3891071523,"d":"0.3891"},{"v":0.5394822188,"d":"0.5395"},{"v":0.4135582817,"d":"0.4136"},{"v":0.6922075154,"d":"0.6922"}]
[840,"Santander","Rionegro",{"v":0.8719482704,"d":"0.8719"},{"v":0.2309366551,"d":"0.2309"},{"v":0.2397107006,"d":"0.2397"},{"v":0.421329066,"d":"0.4213"},{"v":0.2710902028,"d":"0.2711"}]
[835,"Santander","Sabana De Torres",{"v":0.9060533269,"d":"0.9061"},{"v":0.2059639471,"d":"0.2060"},{"v":0.2312383052,"d":"0.2312"},{"v":0.4605719612,"d":"0.4606"},{"v":0.2870361629,"d":"0.2870"}]
[783,"Santander","San Andrés",{"v":1.107219655,"d":"1.1072"},{"v":0.4814484189,"d":"0.4814"},{"v":0.3175799265,"d":"0.3176"},{"v":0.3141479482,"d":"0.3141"},{"v":0.3231364884,"d":"0.3231"}]
[645,"Santander","San Benito",{"v":1.257049374,"d":"1.2570"},{"v":0.3373985038,"d":"0.3374"},{"v":0.3473322547,"d":"0.3473"},{"v":0.2762517789,"d":"0.2763"},{"v":0.2952799064,"d":"0.2953"}]
[740,"Santander","San Gil",{"v":1.206121203,"d":"1.2061"},{"v":0.3475712007,"d":"0.3476"},{"v":0.2519043014,"d":"0.2519"},{"v":0.2429065775,"d":"0.2429"},{"v":0.278246193,"d":"0.2782"}]
[727,"Santander","San Joaquín",{"v":1.076770328,"d":"1.0768"},{"v":0.3676433166,"d":"0.3676"},{"v":0.3220331729,"d":"0.3220"},{"v":0.2954970435,"d":"0.2955"},{"v":0.3219862055,"d":"0.3220"}]
[746,"Santander","San José De Miranda",{"v":1.308101773,"d":"1.3081"},{"v":0.3883682067,"d":"0.3884"},{"v":0.3208472183,"d":"0.3208"},{"v":0.308174565,"d":"0.3082"},{"v":0.3284301155,"d":"0.3284"}]
[734,"Santander","San Miguel",{"v":1.235254689,"d":"1.2353"},{"v":0.37790504,"d":"0.3779"},{"v":0.3175751388,"d":"0.3176"},{"v":0.3026632721,"d":"0.3027"},{"v":0.5460255544,"d":"0.5460"}]
[799,"Santander","San Vicente De Chucurí",{"v":0.7781611822,"d":"0.7782"},{"v":0.2605240905,"d":"0.2605"},{"v":0.2764531816,"d":"0.2765"},{"v":0.3556910278,"d":"0.3557"},{"v":0.4267168204,"d":"0.4267"}]
[797,"Santander","Santa Bárbara",{"v":0.5441929344,"d":"0.5442"},{"v":0.4812614762,"d":"0.4813"},{"v":0.307066422,"d":"0.3071"},{"v":0.2916013807,"d":"0.2916"},{"v":0.3228220299,"d":"0.3228"}]
[716,"Santander","Santa Helena Del Opón",{"v":0.7822868763,"d":"0.7823"},{"v":0.3157324812,"d":"0.3157"},{"v":0.3281883273,"d":"0.3282"},{"v":0.3386105263,"d":"0.3386"},{"v":0.4721106739,"d":"0.4721"}]
[780,"Santander","Simacota",{"v":0.9277045219,"d":"0.9277"},{"v":0.2975521607,"d":"0.2976"},{"v":0.3070098417,"d":"0.3070"},{"v":0.3646635545,"d":"0.3647"},{"v":0.4444360517,"d":"0.4444"}]
[717,"Santander","Socorro",{"v":1.199568583,"d":"1.1996"},{"v":0.2722712316,"d":"0.2723"},{"v":0.2898215977,"d":"0.2898"},{"v":0.2757323342,"d":"0.2757"},{"v":0.2755162809,"d":"0.2755"}]
[655,"Santander","Suaita",{"v":1.169981364,"d":"1.1700"},{"v":0.2931428282,"d":"0.2931"},{"v":0.3507576096,"d":"0.3508"},{"v":0.30522799,"d":"0.3052"},{"v":0.3008011443,"d":"0.3008"}]
[648,"Santander","Sucre",{"v":1.083691567,"d":"1.0837"},{"v":0.5033603548,"d":"0.5034"},{"v":0.3900644082,"d":"0.3901"},{"v":0.3727777366,"d":"0.3728"},{"v":0.3941840712,"d":"0.3942"}]
[832,"Santander","Suratá",{"v":0.7060228365,"d":"0.7060"},{"v":0.4856453213,"d":"0.4856"},{"v":0.2737497961,"d":"0.2737"},{"v":0.2615888692,"d":"0.2616"},{"v":0.3398285458,"d":"0.3398"}]
[808,"Santander","Tona",{"v":0.7464189159,"d":"0.7464"},{"v":0.6032577728,"d":"0.6033"},{"v":0.2770560946,"d":"0.2771"},{"v":0.2657821231,"d":"0.2658"},{"v":0.3725971149,"d":"0.3726"}]
[708,"Santander","Valle De San José",{"v":1.119671418,"d":"1.1197"},{"v":0.3005295958,"d":"0.3005"},{"v":0.2891883891,"d":"0.2892"},{"v":0.2726718476,"d":"0.2727"},{"v":0.2693117075,"d":"0.2693"}]
[722,"Santander","Vélez",{"v":0.8132184159,"d":"0.8132"},{"v":0.2919237916,"d":"0.2919"},{"v":0.3069487838,"d":"0.3069"},{"v":0.2991086791,"d":"0.2991"},{"v":0.4405603001,"d":"0.4406"}]
[819,"Santander","Vetas",{"v":0.739266422,"d":"0.7393"},{"v":0.9502961156,"d":"0.9503"},{"v":0.2653830472,"d":"0.2654"},{"v":0.2499486876,"d":"0.2499"},{"v":0.3409460968,"d":"0.3409"}]
[757,"Santander","Villanueva",{"v":0.8777711939,"d":"0.8778"},{"v":0.2876960896,"d":"0.2877"},{"v":0.2727293949,"d":"0.2727"},{"v":0.2825340886,"d":"0.2825"},{"v":0.2810168266,"d":"0.2810"}]
[788,"Santander","Zapatoca",{"v":0.9968800138,"d":"0.9969"},{"v":0.4379991079,"d":"0.4380"},{"v":0.2994907519,"d":"0.2995"},{"v":0.2814972912,"d":"0.2815"},{"v":0.329848614,"d":"0.3298"}]
[953,"Sucre","Buenavista",{"v":0.6284426263,"d":"0.6284"},{"v":0.3467291998,"d":"0.3467"},{"v":0.2724893919,"d":"0.2725"},{"v":0.3104971884,"d":"0.3105"},{"v":0.2657595749,"d":"0.2658"}]
[911,"Sucre","Caimito",{"v":1.053173175,"d":"1.0532"},{"v":0.4094052642,"d":"0.4094"},{"v":0.3264195671,"d":"0.3264"},{"v":0.3458496254,"d":"0.3458"},{"v":0.3778558726,"d":"0.3779"}]
[966,"Sucre","Chalán",{"v":0.8767841217,"d":"0.8768"},{"v":0.3356513898,"d":"0.3357"},{"v":0.2663116778,"d":"0.2663"},{"v":0.2493411334,"d":"0.2493"},{"v":0.3203063179,"d":"0.3203"}]
[964,"Sucre","Colosó",{"v":0.8871867973,"d":"0.8872"},{"v":0.3361846109,"d":"0.3362"},{"v":0.2680713731,"d":"0.2681"},{"v":0.250341112,"d":"0.2503"},{"v":0.2468814911,"d":"0.2469"}]
[943,"Sucre","Corozal",{"v":0.9776149717,"d":"0.9776"},{"v":0.3730970451,"d":"0.3731"},{"v":0.2750454757,"d":"0.2750"},{"v":0.4876776133,"d":"0.4877"},{"v":0.3306024497,"d":"0.3306"}]
[956,"Sucre","Coveñas",{"v":1.060512539,"d":"1.0605"},{"v":0.4522066904,"d":"0.4522"},{"v":0.3401674428,"d":"0.3402"},{"v":0.3235136586,"d":"0.3235"},{"v":0.323544743,"d":"0.3235"}]
[929,"Sucre","El Roble",{"v":0.9945420534,"d":"0.9945"},{"v":0.3709000649,"d":"0.3709"},{"v":0.2929529108,"d":"0.2930"},{"v":0.3064132273,"d":"0.3064"},{"v":0.3476908341,"d":"0.3477"}]
[932,"Sucre","Galeras",{"v":1.026103189,"d":"1.0261"},{"v":0.3555818016,"d":"0.3556"},{"v":0.2877587638,"d":"0.2878"},{"v":0.4781447773,"d":"0.4781"},{"v":0.3397226753,"d":"0.3397"}]
[887,"Sucre","Guaranda",{"v":1.003164864,"d":"1.0032"},{"v":0.3603633652,"d":"0.3604"},{"v":0.3895568084,"d":"0.3896"},{"v":0.3862179089,"d":"0.3862"},{"v":0.5081057465,"d":"0.5081"}]
[910,"Sucre","La Unión",{"v":0.8497328922,"d":"0.8497"},{"v":0.4856309163,"d":"0.4856"},{"v":0.2849794298,"d":"0.2850"},{"v":0.2502703852,"d":"0.2503"},{"v":0.261965495,"d":"0.2620"}]
[962,"Sucre","Los Palmitos",{"v":0.9478459269,"d":"0.9478"},{"v":0.3119322359,"d":"0.3119"},{"v":0.2369409229,"d":"0.2369"},{"v":0.2644235259,"d":"0.2644"},{"v":0.2919187038,"d":"0.2919"}]
[899,"Sucre","Majagual",{"v":1.020216146,"d":"1.0202"},{"v":0.3664705842,"d":"0.3665"},{"v":0.3946045662,"d":"0.3946"},{"v":0.4294666025,"d":"0.4295"},{"v":0.4031319738,"d":"0.4031"}]
[959,"Sucre","Morroa",{"v":0.9211468582,"d":"0.9211"},{"v":0.3198455039,"d":"0.3198"},{"v":0.2649102579,"d":"0.2649"},{"v":0.3952850145,"d":"0.3953"},{"v":0.3196126571,"d":"0.3196"}]
[970,"Sucre","Ovejas",{"v":0.9199462026,"d":"0.9199"},{"v":0.2971788299,"d":"0.2972"},{"v":0.2500498703,"d":"0.2500"},{"v":0.2494043773,"d":"0.2494"},{"v":0.363956263,"d":"0.3640"}]
[949,"Sucre","Palmito",{"v":0.929364585,"d":"0.9294"},{"v":0.3367287628,"d":"0.3367"},{"v":0.2567284993,"d":"0.2567"},{"v":0.2819740886,"d":"0.2820"},{"v":0.2502204045,"d":"0.2502"}]
[935,"Sucre","Sampués",{"v":0.9528777357,"d":"0.9529"},{"v":0.3764156394,"d":"0.3764"},{"v":0.2754780578,"d":"0.2755"},{"v":0.384154699,"d":"0.3842"},{"v":0.3413883078,"d":"0.3414"}]
[926,"Sucre","San Benito Abad",{"v":1.099658429,"d":"1.0997"},{"v":0.4155754655,"d":"0.4156"},{"v":0.3697525558,"d":"0.3698"},{"v":0.4020894017,"d":"0.4021"},{"v":0.4172688852,"d":"0.4173"}]
[948,"Sucre","San Juan De Betulia",{"v":1.010918712,"d":"1.0109"},{"v":0.3896668989,"d":"0.3897"},{"v":0.2944768904,"d":"0.2945"},{"v":0.4618114783,"d":"0.4618"},{"v":0.348839499,"d":"0.3488"}]
[898,"Sucre","San Marcos",{"v":1.024267615,"d":"1.0243"},{"v":0.3942513813,"d":"0.3943"},{"v":0.346214179,"d":"0.3462"},{"v":0.5372509403,"d":"0.5373"},{"v":0.3905064109,"d":"0.3905"}]
[985,"Sucre","San Onofre",{"v":1.016924029,"d":"1.0169"},{"v":0.3450970388,"d":"0.3451"},{"v":0.2818974595,"d":"0.2819"},{"v":0.4142284661,"d":"0.4142"},{"v":0.2802829831,"d":"0.2803"}]
[957,"Sucre","San Pedro",{"v":0.7978089881,"d":"0.7978"},{"v":0.4105863439,"d":"0.4106"},{"v":0.5259829401,"d":"0.5260"},{"v":0.5919730669,"d":"0.5920"},{"v":0.3448369793,"d":"0.3448"}]
[947,"Sucre","Sincé",{"v":1.009764338,"d":"1.0098"},{"v":0.363939875,"d":"0.3639"},{"v":0.2764372197,"d":"0.2764"},{"v":0.5414785503,"d":"0.5415"},{"v":0.3314531763,"d":"0.3315"}]
[951,"Sucre","Sincelejo",{"v":0.9423472975,"d":"0.9423"},{"v":0.3630640928,"d":"0.3631"},{"v":0.2914199977,"d":"0.2914"},{"v":0.4221899619,"d":"0.4222"},{"v":0.3575738568,"d":"0.3576"}]
[920,"Sucre","Sucre",{"v":0.6805184385,"d":"0.6805"},{"v":0.3961249349,"d":"0.3961"},{"v":0.372920027,"d":"0.3729"},{"v":0.3756840773,"d":"0.3757"},{"v":0.3039501331,"d":"0.3040"}]
[968,"Sucre","Tolú",{"v":1.02851989,"d":"1.0285"},{"v":0.3696185903,"d":"0.3696"},{"v":0.2966117697,"d":"0.2966"},{"v":0.4211681072,"d":"0.4212"},{"v":0.2788539773,"d":"0.2789"}]
[965,"Sucre","Tolu Viejo",{"v":0.9427109181,"d":"0.9427"},{"v":0.3538895403,"d":"0.3539"},{"v":0.2895993685,"d":"0.2896"},{"v":0.3908672336,"d":"0.3909"},{"v":0.2712942452,"d":"0.2713"}]
[182,"Tolima","Alpujarra",{"v":0.8420623878,"d":"0.8421"},{"v":0.6776172944,"d":"0.6776"},{"v":0.3102181468,"d":"0.3102"},{"v":0.2935583658,"d":"0.2936"},{"v":0.4463716746,"d":"0.4464"}]
[310,"Tolima","Alvarado",{"v":1.002612095,"d":"1.0026"},{"v":0.4865090695,"d":"0.4865"},{"v":0.2938096317,"d":"0.2938"},{"v":0.259547107,"d":"0.2595"},{"v":0.3072229707,"d":"0.3072"}]
[359,"Tolima","Ambalema",{"v":1.072440453,"d":"1.0724"},{"v":0.5423033886,"d":"0.5423"},{"v":0.2928012351,"d":"0.2928"},{"v":0.2638612527,"d":"0.2639"},{"v":0.3381923823,"d":"0.3382"}]
[315,"Tolima","Anzoátegui",{"v":0.674229796,"d":"0.6742"},{"v":0.386650575,"d":"0.3867"},{"v":0.3036440475,"d":"0.3036"},{"v":0.2696175823,"d":"0.2696"},{"v":0.2928860249,"d":"0.2929"}]
[413,"Tolima","Armero",{"v":1.031073439,"d":"1.0311"},{"v":0.4475219342,"d":"0.4475"},{"v":0.2768135458,"d":"0.2768"},{"v":0.2889681147,"d":"0.2890"},{"v":0.339531909,"d":"0.3395"}]
[187,"Tolima","Ataco",{"v":0.9868892457,"d":"0.9869"},{"v":0.4085794338,"d":"0.4086"},{"v":0.3862585106,"d":"0.3863"},{"v":0.3498883206,"d":"0.3499"},{"v":0.5291847126,"d":"0.5292"}]
[288,"Tolima","Cajamarca",{"v":0.5818635028,"d":"0.5819"},{"v":0.4239506105,"d":"0.4240"},{"v":0.2744847158,"d":"0.2745"},{"v":0.2814184302,"d":"0.2814"},{"v":0.2675512886,"d":"0.2676"}]
[233,"Tolima","Carmen De Apicalá",{"v":0.882167904,"d":"0.8822"},{"v":0.3181852105,"d":"0.3182"},{"v":0.28087699,"d":"0.2809"},{"v":0.2781450609,"d":"0.2781"},{"v":0.4340040277,"d":"0.4340"}]
[405,"Tolima","Casabianca",{"v":0.6392264214,"d":"0.6392"},{"v":0.388072292,"d":"0.3881"},{"v":0.2784938053,"d":"0.2785"},{"v":0.2530552751,"d":"0.2531"},{"v":0.3412013779,"d":"0.3412"}]
[217,"Tolima","Chaparral",{"v":0.7038375165,"d":"0.7038"},{"v":0.2832038471,"d":"0.2832"},{"v":0.3057406018,"d":"0.3057"},{"v":0.3038454281,"d":"0.3038"},{"v":0.2973691746,"d":"0.2974"}]
[278,"Tolima","Coello",{"v":1.036418591,"d":"1.0364"},{"v":0.5685632419,"d":"0.5686"},{"v":0.2611681992,"d":"0.2612"},{"v":0.2541574166,"d":"0.2542"},{"v":0.3775234821,"d":"0.3775"}]
[208,"Tolima","Coyaima",{"v":1.031391851,"d":"1.0314"},{"v":0.4828992754,"d":"0.4829"},{"v":0.3383442465,"d":"0.3383"},{"v":0.331160608,"d":"0.3312"},{"v":0.6526711117,"d":"0.6527"}]
[225,"Tolima","Cunday",{"v":0.7379229935,"d":"0.7379"},{"v":0.3476422158,"d":"0.3476"},{"v":0.3494588207,"d":"0.3495"},{"v":0.3406465032,"d":"0.3406"},{"v":0.4867581024,"d":"0.4868"}]
[203,"Tolima","Dolores",{"v":0.7232702353,"d":"0.7233"},{"v":0.5341082161,"d":"0.5341"},{"v":0.3079582791,"d":"0.3080"},{"v":0.302618873,"d":"0.3026"},{"v":0.4502565772,"d":"0.4503"}]
[234,"Tolima","Espinal",{"v":1.016442148,"d":"1.0164"},{"v":0.3660245875,"d":"0.3660"},{"v":0.3123963422,"d":"0.3124"},{"v":0.2750193717,"d":"0.2750"},{"v":0.4540127949,"d":"0.4540"}]
[422,"Tolima","Falan",{"v":1.027802657,"d":"1.0278"},{"v":0.4384224837,"d":"0.4384"},{"v":0.3756563951,"d":"0.3757"},{"v":0.3381620172,"d":"0.3382"},{"v":0.4229215932,"d":"0.4229"}]
[243,"Tolima","Flandes",{"v":1.037346139,"d":"1.0373"},{"v":0.3969958756,"d":"0.3970"},{"v":0.2649348484,"d":"0.2649"},{"v":0.2460071385,"d":"0.2460"},{"v":0.5141053502,"d":"0.5141"}]
[447,"Tolima","Fresno",{"v":0.8745619612,"d":"0.8746"},{"v":0.2948152229,"d":"0.2948"},{"v":0.3775426451,"d":"0.3775"},{"v":0.2802985996,"d":"0.2803"},{"v":0.3316767175,"d":"0.3317"}]
[235,"Tolima","Guamo",{"v":1.007840329,"d":"1.0078"},{"v":0.3883221521,"d":"0.3883"},{"v":0.3305561418,"d":"0.3306"},{"v":0.3014100274,"d":"0.3014"},{"v":0.4693726609,"d":"0.4694"}]
[421,"Tolima","Herveo",{"v":0.5854219031,"d":"0.5854"},{"v":0.3075737576,"d":"0.3076"},{"v":0.2808400313,"d":"0.2808"},{"v":0.2651752637,"d":"0.2652"},{"v":0.3151243894,"d":"0.3151"}]
[455,"Tolima","Honda",{"v":1.024462683,"d":"1.0245"},{"v":0.473513417,"d":"0.4735"},{"v":0.2696668086,"d":"0.2697"},{"v":0.2856804805,"d":"0.2857"},{"v":0.4138641519,"d":"0.4139"}]
[309,"Tolima","Ibagué",{"v":0.7359848187,"d":"0.7360"},{"v":0.3551231181,"d":"0.3551"},{"v":0.3539290695,"d":"0.3539"},{"v":0.4667651472,"d":"0.4668"},{"v":0.3780103624,"d":"0.3780"}]
[237,"Tolima","Icononzo",{"v":0.6356814397,"d":"0.6357"},{"v":0.4179707256,"d":"0.4180"},{"v":0.4026096452,"d":"0.4026"},{"v":0.3947896831,"d":"0.3948"},{"v":0.3849958593,"d":"0.3850"}]
[363,"Tolima","Lérida",{"v":0.9745770404,"d":"0.9746"},{"v":0.4003400999,"d":"0.4003"},{"v":0.2414810137,"d":"0.2415"},{"v":0.2197936752,"d":"0.2198"},{"v":0.2418504054,"d":"0.2419"}]
[373,"Tolima","Líbano",{"v":0.8104614085,"d":"0.8105"},{"v":0.4048675778,"d":"0.4049"},{"v":0.3970292351,"d":"0.3970"},{"v":0.3355640076,"d":"0.3356"},{"v":0.3696496047,"d":"0.3696"}]
[454,"Tolima","Mariquita",{"v":1.00414334,"d":"1.0041"},{"v":0.4012887418,"d":"0.4013"},{"v":0.3138112677,"d":"0.3138"},{"v":0.2958532488,"d":"0.2959"},{"v":0.3658439884,"d":"0.3658"}]
[238,"Tolima","Melgar",{"v":0.789826215,"d":"0.7898"},{"v":0.2898961053,"d":"0.2899"},{"v":0.2731987221,"d":"0.2732"},{"v":0.2656587796,"d":"0.2657"},{"v":0.2621366369,"d":"0.2621"}]
[352,"Tolima","Murillo",{"v":0.7390650854,"d":"0.7391"},{"v":0.4163356636,"d":"0.4163"},{"v":0.3553345929,"d":"0.3553"},{"v":0.3608677599,"d":"0.3609"},{"v":0.491967674,"d":"0.4920"}]
[188,"Tolima","Natagaima",{"v":0.9982848366,"d":"0.9983"},{"v":0.5866935763,"d":"0.5867"},{"v":0.3452744935,"d":"0.3453"},{"v":0.3415697517,"d":"0.3416"},{"v":0.6513344831,"d":"0.6513"}]
[223,"Tolima","Ortega",{"v":0.9604575169,"d":"0.9605"},{"v":0.3362361349,"d":"0.3362"},{"v":0.3190333892,"d":"0.3190"},{"v":0.2999129459,"d":"0.2999"},{"v":0.2760166958,"d":"0.2760"}]
[412,"Tolima","Palocabildo",{"v":0.8322019816,"d":"0.8322"},{"v":0.3312997148,"d":"0.3313"},{"v":0.3132970522,"d":"0.3133"},{"v":0.2884773177,"d":"0.2885"},{"v":0.3784200833,"d":"0.3784"}]
[296,"Tolima","Piedras",{"v":1.079534425,"d":"1.0795"},{"v":0.5252617557,"d":"0.5253"},{"v":0.288341918,"d":"0.2883"},{"v":0.2918950007,"d":"0.2919"},{"v":0.3633451846,"d":"0.3633"}]
[171,"Tolima","Planadas",{"v":0.4664668712,"d":"0.4665"},{"v":0.3609846225,"d":"0.3610"},{"v":0.3396481697,"d":"0.3396"},{"v":0.3000888587,"d":"0.3001"},{"v":0.4804931184,"d":"0.4805"}]
[199,"Tolima","Prado",{"v":0.8338155539,"d":"0.8338"},{"v":0.3635687004,"d":"0.3636"},{"v":0.3145603094,"d":"0.3146"},{"v":0.3031048483,"d":"0.3031"},{"v":0.6071940336,"d":"0.6072"}]
[214,"Tolima","Purificación",{"v":0.8595415941,"d":"0.8595"},{"v":0.3472471514,"d":"0.3472"},{"v":0.3488057979,"d":"0.3488"},{"v":0.2947906341,"d":"0.2948"},{"v":0.6454101007,"d":"0.6454"}]
[195,"Tolima","Rioblanco",{"v":0.5217140141,"d":"0.5217"},{"v":0.4183264932,"d":"0.4183"},{"v":0.3841403875,"d":"0.3841"},{"v":0.358846558,"d":"0.3588"},{"v":0.3944825312,"d":"0.3945"}]
[240,"Tolima","Roncesvalles",{"v":0.5866335611,"d":"0.5866"},{"v":0.3814314838,"d":"0.3814"},{"v":0.2534327906,"d":"0.2534"},{"v":0.2616210504,"d":"0.2616"},{"v":0.2667173292,"d":"0.2667"}]
[249,"Tolima","Rovira",{"v":0.7707612802,"d":"0.7708"},{"v":0.3012669812,"d":"0.3013"},{"v":0.2578563192,"d":"0.2579"},{"v":0.2385815161,"d":"0.2386"},{"v":0.2750675154,"d":"0.2751"}]
[213,"Tolima","Saldaña",{"v":1.01822172,"d":"1.0182"},{"v":0.4642899147,"d":"0.4643"},{"v":0.3139765042,"d":"0.3140"},{"v":0.28112673,"d":"0.2811"},{"v":0.4386827763,"d":"0.4387"}]
[224,"Tolima","San Antonio",{"v":0.7679456542,"d":"0.7679"},{"v":0.3633706294,"d":"0.3634"},{"v":0.2914481009,"d":"0.2914"},{"v":0.2751454891,"d":"0.2751"},{"v":0.2757085922,"d":"0.2757"}]
[248,"Tolima","San Luis",{"v":1.027129455,"d":"1.0271"},{"v":0.3020318048,"d":"0.3020"},{"v":0.315203266,"d":"0.3152"},{"v":0.3062507672,"d":"0.3063"},{"v":0.3876048109,"d":"0.3876"}]
[335,"Tolima","Santa Isabel",{"v":0.6553953043,"d":"0.6554"},{"v":0.3678683376,"d":"0.3679"},{"v":0.2691731835,"d":"0.2692"},{"v":0.2595118171,"d":"0.2595"},{"v":0.3542647227,"d":"0.3543"}]
[236,"Tolima","Suárez",{"v":1.037716479,"d":"1.0377"},{"v":0.4036413206,"d":"0.4036"},{"v":0.4333030665,"d":"0.4333"},{"v":0.3875268871,"d":"0.3875"},{"v":0.6411311023,"d":"0.6411"}]
[239,"Tolima","Valle De San Juan",{"v":1.039050924,"d":"1.0391"},{"v":0.3582910576,"d":"0.3583"},{"v":0.3253322325,"d":"0.3253"},{"v":0.2875914043,"d":"0.2876"},{"v":0.3315761692,"d":"0.3316"}]
[334,"Tolima","Venadillo",{"v":0.9711087812,"d":"0.9711"},{"v":0.4493818483,"d":"0.4494"},{"v":0.2383901074,"d":"0.2384"},{"v":0.227409015,"d":"0.2274"},{"v":0.3166413062,"d":"0.3166"}]
[392,"Tolima","Villahermosa",{"v":0.7257274861,"d":"0.7257"},{"v":0.3756908089,"d":"0.3757"},{"v":0.3353273588,"d":"0.3353"},{"v":0.3089052331,"d":"0.3089"},{"v":0.3896235482,"d":"0.3896"}]
[211,"Tolima","Villarrica",{"v":0.3840440243,"d":"0.3840"},{"v":0.3187495696,"d":"0.3187"},{"v":0.3353297927,"d":"0.3353"},{"v":0.3136713972,"d":"0.3137"},{"v":0.311309372,"d":"0.3113"}]
[316,"Valle del Cauca","Alcalá",{"v":1.033870124,"d":"1.0339"},{"v":0.3688815557,"d":"0.3689"},{"v":0.3630154828,"d":"0.3630"},{"v":0.3689015558,"d":"0.3689"},{"v":0.3391293875,"d":"0.3391"}]
[229,"Valle del Cauca","Andalucía",{"v":0.9990425068,"d":"0.9990"},{"v":0.3670150393,"d":"0.3670"},{"v":0.48015673,"d":"0.4802"},{"v":0.3518335084,"d":"0.3518"},{"v":0.352424722,"d":"0.3524"}]
[346,"Valle del Cauca","Ansermanuevo",{"v":0.9915526746,"d":"0.9916"},{"v":0.3501085593,"d":"0.3501"},{"v":0.3848885655,"d":"0.3849"},{"v":0.3480941967,"d":"0.3481"},{"v":0.3762618683,"d":"0.3763"}]
[326,"Valle del Cauca","Argelia",{"v":0.9400532545,"d":"0.9401"},{"v":0.2523353047,"d":"0.2523"},{"v":0.2687523463,"d":"0.2688"},{"v":0.2507972266,"d":"0.2508"},{"v":0.4164457651,"d":"0.4164"}]
[276,"Valle del Cauca","Bolívar",{"v":0.9634705508,"d":"0.9635"},{"v":0.7442030013,"d":"0.7442"},{"v":0.4596091883,"d":"0.4596"},{"v":0.4355449756,"d":"0.4355"},{"v":0.4614144295,"d":"0.4614"}]
[232,"Valle del Cauca","Buenaventura",{"v":0.4389582208,"d":"0.4390"},{"v":0.3246349334,"d":"0.3246"},{"v":0.3791846304,"d":"0.3792"},{"v":0.3585480232,"d":"0.3585"},{"v":0.4703001432,"d":"0.4703"}]
[212,"Valle del Cauca","Buga",{"v":0.6162121733,"d":"0.6162"},{"v":0.6516461782,"d":"0.6516"},{"v":0.4845653625,"d":"0.4846"},{"v":0.4813968243,"d":"0.4814"},{"v":0.3346396003,"d":"0.3346"}]
[247,"Valle del Cauca","Bugalagrande",{"v":1.008918869,"d":"1.0089"},{"v":0.4155263487,"d":"0.4155"},{"v":0.6580858588,"d":"0.6581"},{"v":0.4153937866,"d":"0.4154"},{"v":0.3895255804,"d":"0.3895"}]
[262,"Valle del Cauca","Caicedonia",{"v":0.6720200386,"d":"0.6720"},{"v":0.2626456583,"d":"0.2626"},{"v":0.2648109588,"d":"0.2648"},{"v":0.2506445247,"d":"0.2506"},{"v":0.2482898585,"d":"0.2483"}]
[184,"Valle del Cauca","Cali",{"v":0.8275333869,"d":"0.8275"},{"v":0.378707075,"d":"0.3787"},{"v":0.4635174784,"d":"0.4635"},{"v":0.4125901165,"d":"0.4126"},{"v":0.3421092754,"d":"0.3421"}]
[220,"Valle del Cauca","Calima",{"v":0.3915861647,"d":"0.3916"},{"v":0.2772316561,"d":"0.2772"},{"v":0.2964915219,"d":"0.2965"},{"v":0.2894127881,"d":"0.2894"},{"v":0.4282979985,"d":"0.4283"}]
[177,"Valle del Cauca","Candelaria",{"v":1.032834145,"d":"1.0328"},{"v":0.3524705449,"d":"0.3525"},{"v":0.9069609651,"d":"0.9070"},{"v":0.5224951943,"d":"0.5225"},{"v":0.2699596607,"d":"0.2700"}]
[333,"Valle del Cauca","Cartago",{"v":1.052321383,"d":"1.0523"},{"v":0.2829130695,"d":"0.2829"},{"v":0.3347781966,"d":"0.3348"},{"v":0.3299195172,"d":"0.3299"},{"v":0.2932361117,"d":"0.2932"}]
[207,"Valle del Cauca","Dagua",{"v":0.4633457245,"d":"0.4633"},{"v":0.35566649,"d":"0.3557"},{"v":0.3402567468,"d":"0.3403"},{"v":0.3367538846,"d":"0.3368"},{"v":0.3650691658,"d":"0.3651"}]
[386,"Valle del Cauca","El Águila",{"v":0.713397596,"d":"0.7134"},{"v":0.3053499196,"d":"0.3053"},{"v":0.3134328001,"d":"0.3134"},{"v":0.2770075343,"d":"0.2770"},{"v":0.3202808761,"d":"0.3203"}]
[340,"Valle del Cauca","El Cairo",{"v":0.7606523641,"d":"0.7607"},{"v":0.3195803802,"d":"0.3196"},{"v":0.3334082498,"d":"0.3334"},{"v":0.3109503543,"d":"0.3110"},{"v":0.3532333272,"d":"0.3532"}]
[194,"Valle del Cauca","El Cerrito",{"v":0.7646703429,"d":"0.7647"},{"v":0.4640972593,"d":"0.4641"},{"v":0.7115487532,"d":"0.7115"},{"v":0.3359507128,"d":"0.3360"},{"v":0.3236283194,"d":"0.3236"}]
[302,"Valle del Cauca","El Dovio",{"v":0.7406706754,"d":"0.7407"},{"v":0.3951831653,"d":"0.3952"},{"v":0.304061774,"d":"0.3041"},{"v":0.2997019711,"d":"0.2997"},{"v":0.286331115,"d":"0.2863"}]
[174,"Valle del Cauca","Florida",{"v":0.4508508221,"d":"0.4509"},{"v":0.6351007057,"d":"0.6351"},{"v":0.5716580927,"d":"0.5717"},{"v":0.2540689563,"d":"0.2541"},{"v":0.2505638032,"d":"0.2506"}]
[201,"Valle del Cauca","Ginebra",{"v":0.6408533775,"d":"0.6409"},{"v":0.4219091864,"d":"0.4219"},{"v":0.4253074931,"d":"0.4253"},{"v":0.3941623372,"d":"0.3942"},{"v":0.3652203358,"d":"0.3652"}]
[204,"Valle del Cauca","Guacarí",{"v":0.81769157,"d":"0.8177"},{"v":0.3500877348,"d":"0.3501"},{"v":0.5137035517,"d":"0.5137"},{"v":0.3267542779,"d":"0.3268"},{"v":0.2325135535,"d":"0.2325"}]
[173,"Valle del Cauca","Jamundí",{"v":0.9492080941,"d":"0.9492"},{"v":0.3341483485,"d":"0.3341"},{"v":0.4867201032,"d":"0.4867"},{"v":0.4792797519,"d":"0.4793"},{"v":0.3300708816,"d":"0.3301"}]
[205,"Valle del Cauca","La Cumbre",{"v":0.7155783577,"d":"0.7156"},{"v":0.3776231112,"d":"0.3776"},{"v":0.2525000799,"d":"0.2525"},{"v":0.2441299168,"d":"0.2441"},{"v":0.2948261363,"d":"0.2948"}]
[292,"Valle del Cauca","La Unión",{"v":0.9451109136,"d":"0.9451"},{"v":0.3866448832,"d":"0.3866"},{"v":0.2854950857,"d":"0.2855"},{"v":0.307686734,"d":"0.3077"},{"v":0.3036114393,"d":"0.3036"}]
[286,"Valle del Cauca","La Victoria",{"v":0.7511932431,"d":"0.7512"},{"v":0.5630572407,"d":"0.5631"},{"v":0.546206602,"d":"0.5462"},{"v":0.5461969177,"d":"0.5462"},{"v":0.2849885752,"d":"0.2850"}]
[304,"Valle del Cauca","Obando",{"v":1.05019417,"d":"1.0502"},{"v":0.2775487503,"d":"0.2775"},{"v":0.3135763238,"d":"0.3136"},{"v":0.2844362228,"d":"0.2844"},{"v":0.2414706387,"d":"0.2415"}]
[190,"Valle del Cauca","Palmira",{"v":0.6624918718,"d":"0.6625"},{"v":0.5069729873,"d":"0.5070"},{"v":1.243830713,"d":"1.2438"},{"v":0.4531795476,"d":"0.4532"},{"v":0.2604420089,"d":"0.2604"}]
[179,"Valle del Cauca","Pradera",{"v":0.5436848954,"d":"0.5437"},{"v":0.5387862079,"d":"0.5388"},{"v":0.5668437189,"d":"0.5668"},{"v":0.2587277491,"d":"0.2587"},{"v":0.2498246639,"d":"0.2498"}]
[206,"Valle del Cauca","Restrepo",{"v":0.8531889399,"d":"0.8532"},{"v":0.3043677758,"d":"0.3044"},{"v":0.2807677184,"d":"0.2808"},{"v":0.3331539364,"d":"0.3332"},{"v":0.3712243494,"d":"0.3712"}]
[228,"Valle del Cauca","Riofrío",{"v":0.7369322547,"d":"0.7369"},{"v":0.2565503442,"d":"0.2566"},{"v":0.3507118315,"d":"0.3507"},{"v":0.2704483661,"d":"0.2704"},{"v":0.3820367546,"d":"0.3820"}]
[279,"Valle del Cauca","Roldanillo",{"v":0.8232697903,"d":"0.8233"},{"v":0.3550698061,"d":"0.3551"},{"v":0.2324391539,"d":"0.2324"},{"v":0.1888118111,"d":"0.1888"},{"v":0.1879049227,"d":"0.1879"}]
[218,"Valle del Cauca","San Pedro",{"v":1.040818607,"d":"1.0408"},{"v":0.3463066318,"d":"0.3463"},{"v":0.2698071509,"d":"0.2698"},{"v":0.2987448625,"d":"0.2987"},{"v":0.361793187,"d":"0.3618"}]
[260,"Valle del Cauca","Sevilla",{"v":0.7440513897,"d":"0.7441"},{"v":0.5760105042,"d":"0.5760"},{"v":0.3858467368,"d":"0.3858"},{"v":0.366543377,"d":"0.3665"},{"v":0.3625714303,"d":"0.3626"}]
[321,"Valle del Cauca","Toro",{"v":0.9805120704,"d":"0.9805"},{"v":0.4342650452,"d":"0.4343"},{"v":0.3221313287,"d":"0.3221"},{"v":0.2887535546,"d":"0.2888"},{"v":0.2989088171,"d":"0.2989"}]
[245,"Valle del Cauca","Trujillo",{"v":0.7763483431,"d":"0.7763"},{"v":0.384690992,"d":"0.3847"},{"v":0.3532969641,"d":"0.3533"},{"v":0.3395280487,"d":"0.3395"},{"v":0.4174779673,"d":"0.4175"}]
[226,"Valle del Cauca","Tuluá",{"v":0.7670567779,"d":"0.7671"},{"v":0.5365925932,"d":"0.5366"},{"v":0.7642908123,"d":"0.7643"},{"v":0.5503734466,"d":"0.5504"},{"v":0.428185429,"d":"0.4282"}]
[322,"Valle del Cauca","Ulloa",{"v":0.9271992645,"d":"0.9272"},{"v":0.2576857308,"d":"0.2577"},{"v":0.2441785506,"d":"0.2442"},{"v":0.2321944566,"d":"0.2322"},{"v":0.2270467668,"d":"0.2270"}]
[311,"Valle del Cauca","Versalles",{"v":0.8259105316,"d":"0.8259"},{"v":0.3842728889,"d":"0.3843"},{"v":0.2774927482,"d":"0.2775"},{"v":0.2732483113,"d":"0.2732"},{"v":0.2773677423,"d":"0.2774"}]
[200,"Valle del Cauca","Vijes",{"v":0.8230958646,"d":"0.8231"},{"v":0.6206598924,"d":"0.6207"},{"v":0.2863682444,"d":"0.2864"},{"v":0.2764987329,"d":"0.2765"},{"v":0.290758827,"d":"0.2908"}]
[219,"Valle del Cauca","Yotoco",{"v":0.7670743741,"d":"0.7671"},{"v":0.3446180431,"d":"0.3446"},{"v":0.283742023,"d":"0.2837"},{"v":0.2937305488,"d":"0.2937"},{"v":0.2584797386,"d":"0.2585"}]
[189,"Valle del Cauca","Yumbo",{"v":0.7910190472,"d":"0.7910"},{"v":0.5240464792,"d":"0.5240"},{"v":0.26934157,"d":"0.2693"},{"v":0.2285322973,"d":"0.2285"},{"v":0.238259973,"d":"0.2383"}]
[271,"Valle del Cauca","Zarzal",{"v":1.107155829,"d":"1.1072"},{"v":0.3908295988,"d":"0.3908"},{"v":0.5883337553,"d":"0.5883"},{"v":0.3521305139,"d":"0.3521"},{"v":0.339001555,"d":"0.3390"}]
[68,"Vaupés","Carurú",{"v":0.7494574948,"d":"0.7495"},{"v":0.312708467,"d":"0.3127"},{"v":0.3064570953,"d":"0.3065"},{"v":0.2893668484,"d":"0.2894"},{"v":0.5839112829,"d":"0.5839"}]
[1066,"Vaupés","Mitú",{"v":0.916679802,"d":"0.9167"},{"v":0.4595017165,"d":"0.4595"},{"v":0.4768291529,"d":"0.4768"},{"v":0.4610823621,"d":"0.4611"},{"v":0.6863935008,"d":"0.6864"}]
[1114,"Vaupés","Pacoa",{"v":1.061213919,"d":"1.0612"},{"v":0.6213633601,"d":"0.6214"},{"v":0.6213633601,"d":"0.6214"},{"v":0.6213633601,"d":"0.6214"},{"v":0.909008591,"d":"0.9090"}]
[1117,"Vaupés","Papunaua",{"v":0.9652699363,"d":"0.9653"},{"v":0.4958495859,"d":"0.4958"},{"v":0.4768142822,"d":"0.4768"},{"v":0.4768142822,"d":"0.4768"},{"v":0.6867450754,"d":"0.6867"}]
[1056,"Vaupés","Taraira",{"v":0.8543790225,"d":"0.8544"},{"v":0.4272520494,"d":"0.4273"},{"v":0.4546383397,"d":"0.4546"},{"v":0.4372520494,"d":"0.4373"},{"v":0.6380176684,"d":"0.6380"}]
[1115,"Vaupés","Yavaraté",{"v":0.9314070049,"d":"0.9314"},{"v":0.4872272493,"d":"0.4872"},{"v":0.4872272493,"d":"0.4872"},{"v":0.4872272493,"d":"0.4872"},{"v":0.660844368,"d":"0.6608"}]
[1069,"Vichada","Cumaribo",{"v":1.119314446,"d":"1.1193"},{"v":0.5457082618,"d":"0.5457"},{"v":0.5629257994,"d":"0.5629"},{"v":0.5858231223,"d":"0.5858"},{"v":1.031611584,"d":"1.0316"}]
[1070,"Vichada","La Primavera",{"v":1.090823681,"d":"1.0908"},{"v":0.4752248049,"d":"0.4752"},{"v":0.4830545326,"d":"0.4831"},{"v":0.6107630379,"d":"0.6108"},{"v":0.8309572012,"d":"0.8310"}]
[1071,"Vichada","Puerto Carreño",{"v":1.104830949,"d":"1.1048"},{"v":0.4118994271,"d":"0.4119"},{"v":0.4193258405,"d":"0.4193"},{"v":0.4333709456,"d":"0.4334"},{"v":0.5399054163,"d":"0.5399"}]
[468,"Vichada","Santa Rosalía",{"v":1.059091645,"d":"1.0591"},{"v":0.6304965435,"d":"0.6305"},{"v":0.4672913409,"d":"0.4673"},{"v":0.5122066634,"d":"0.5122"},{"v":0.6709035025,"d":"0.6709"}]

{"sheet":"Calificación Pública","index":4,"n_rows":44,"n_cols":21,"rows_kept":44,"merged":[[0,1,0,12],[1,1,1,13],[2,1,2,3],[3,1,3,3],[4,1,4,4],[6,0,8,0],[9,0,17,0],[18,0,20,0],[21,0,36,0],[37,0,43,0]]}
[null,"¡Califica las Comunidades!\""]
[null,"💡 ¿Qué hacer?\nSelecciona un nivel de calificación a cada comunidad según las diferentes variables.\nSi necesitas más detalles de los indicadores, haz clic en el botón CONSULTA INFORMACIÓN SOBRE LOS INDICADORES.\n\n🚨 Nota Importante:\nSi seleccionas \"Sin información\" para una comunidad, asegúrate de mantener igual las calificaciones de las demás comunidades. \nEsto permite que la herramienta calcule de manera equitativa."]
[null,"¿Deseas darle tu propia ponderación a cada indicador?"]
[null,"Por defecto cada indicador tiene el mismo valor (%) por categoría… puedes cambiarlo, \npero la valoración total por categoría debe ser 100%\n\nSi deseas ajustar % por categoria sin cambiar las valoraciones individuales ve directamente a RESULTADOS"]
[null,"✅ ¡Último paso!\nCuando hayas terminado de calificar, haz clic en el botón RESULTADOS para continuar."]
["Categoría","Categoría","Indicador / Criterios","Definición","Porcentaje de valoración del indicador",null,null,"Nivel Rojo","Nivel Naranja","Nivel Amarillo","Nivel Verde",{"$f":"Caracterización!B8","v":"C1"},{"$f":"Caracterización!C8","v":"C2"},{"$f":"Caracterización!D8","v":"C3"},{"$f":"Caracterización!E8","v":"C4"},{"$f":"Caracterización!F8","v":"C5"},{"$f":"Caracterización!G8","v":"C6"},{"$f":"Caracterización!H8","v":"C7"},{"$f":"Caracterización!I8","v":"C8"},{"$f":"Caracterización!J8","v":"C9"},{"$f":"Caracterización!K8","v":"C10"}]
[{"$f":"SUM(E7:E9)","v":{"v":0.9999998999999999,"d":"100.0%"}},{"$f":"'Consulta de Rangos'!A8","v":"Ambiental"},{"$f":"'Consulta de Rangos'!B8","v":" EROI (tasa de retorno energético)"},{"$f":"'Consulta de Rangos'!C8","v":"Mide la relación entre la energía obtenida de un proyecto y la energía invertida para producirla. Un valor mayor indica mayor eficiencia energética. (Relación de energía generada/energía invertida)"},{"v":0.3333333,"d":"33.3%"},"Seleccione…","Sin información",{"$f":"'Consulta de Rangos'!G8","v":"< 3"},{"$f":"'Consulta de Rangos'!H8","v":"3-5"},{"$f":"'Consulta de Rangos'!I8","v":"5-10"},{"$f":"'Consulta de Rangos'!J8","v":"> 10 "},"< 3","3-5","5-10","Seleccione…","Seleccione…","Seleccione…","Seleccione…","Seleccione…","Seleccione…","Seleccione…"]
[null,{"$f":"'Consulta de Rangos'!A9","v":"Ambiental"},{"$f":"'Consulta de Rangos'!B9","v":"Reducción anual de gases de efecto invernadero"},{"$f":"'Consulta de Rangos'!C9","v":"Reducción estimada de gases de efecto invernadero (CO2e) que se espera reducir cada año debido al cambio en la fuene de energía."},{"v":0.3333333,"d":"33.3%"},"Seleccione…","Sin información",{"$f":"'Consulta de Rangos'!G9","v":"< 10% reducción"},{"$f":"'Consulta de Rangos'!H9","v":"10%-20% reducción"},{"$f":"'Consulta de Rangos'!I9","v":"20%-30% reducción"},{"$f":"'Consulta de Rangos'!J9","v":"> 30% reducción"},"10%-20% reducción","< 10% reducción","Seleccione…","Seleccione…","Seleccione…","Seleccione…","Seleccione…","Seleccione…","Seleccione…","Seleccione…"]
[null,{"$f":"'Consulta de Rangos'!A10","v":"Ambiental"},{"$f":"'Consulta de Rangos'!B10","v":"Territorios de alta dependencia de carbón térmico"},{"$f":"'Consulta de Rangos'!C10","v":"Variable incluida para focalizar aquellas comunidades ubicadas en entes territoriales cuya estructura económica muestre altos grados de dependencia de la explotación de carbón térmico, bien sea para la exportación de este mineral o para su uso interno en el país, conforme lo informado por la Unidad de Planeación Minero-Energética (UPME) en el portal del Sistema de Información Minero Colombiano (SIMCO)."},{"v":0.3333333,"d":"33.3%"},"Seleccione…","Sin información",{"$f":"'Consulta de Rangos'!G10","v":"< 10% dependencia"},{"$f":"'Consulta de Rangos'!H10","v":"10%-20% dependencia"},{"$f":"'Consulta de Rangos'!I10","v":"20%-30% dependencia"},{"$f":"'Consulta de Rangos'!J10","v":"> 30% dependencia"},"20%-30% dependencia","> 30% dependencia","Seleccione…","Seleccione…","Seleccione…","Seleccione…","Seleccione…","Seleccione…","Seleccione…","Seleccione…"]
[{"$f":"SUM(E10:E18)","v":{"v":0.999666666666667,"d":"100.0%"}},{"$f":"'Consulta de Rangos'!A11","v":"Económico"},{"$f":"'Consulta de Rangos'!B11","v":"Ahorro monetario del usuario en la factura eléctrica"},{"$f":"'Consulta de Rangos'!C11","v":"Ahorros monetarios que experimenta el usuario final al formar parte de la Comunidad Energética (CEC) y consumir energía renovable."},{"v":0.4,"d":"40.0%"},"Seleccione…","Sin información",{"$f":"'Consulta de Rangos'!G11","v":"< 10% ahorro"},{"$f":"'Consulta de Rangos'!H11","v":"10%-20% ahorro"},{"$f":"'Consulta de Rangos'!I11","v":"20%-30% ahorro"},{"$f":"'Consulta de Rangos'!J11","v":"> 30% ahorro"},"> 30% ahorro","< 10% ahorro","Seleccione…","Seleccione…","Seleccione…","Seleccione…","Seleccione…","Seleccione…","Seleccione…","Seleccione…"]
[null,{"$f":"'Consulta de Rangos'!A12","v":"Económico"},{"$f":"'Consulta de Rangos'!B12","v":"Coste de generación de energía ($/MWh)"},{"$f":"'Consulta de Rangos'!C12","v":"Mide el costo promedio de producir energía eléctrica desde el Sistema Interconectado Nacional (SIN). Este costo incluye los gastos de inversión inicial, operación, mantenimiento y combustibles asociados a la generación de un megavatio-hora (MWh)."},{"v":0.483,"d":"48.3%"},"Seleccione…","Sin información",{"$f":"'Consulta de Rangos'!G12","v":"< 230 USD/MWh"},{"$f":"'Consulta de Rangos'!H12","v":"230-250 USD/MWh"},{"$f":"'Consulta de Rangos'!I12","v":" 250-280 USD/MWh"},{"$f":"'Consulta de Rangos'!J12","v":"> 280 USD/MWh"},"Seleccione…","Seleccione…","Seleccione…","Seleccione…","Seleccione…","Seleccione…","Seleccione…","Seleccione…","Seleccione…","Seleccione…"]
[null,{"$f":"'Consulta de Rangos'!A13","v":"Económico"},{"$f":"'Consulta de Rangos'!B13","v":"La comunidad realiza el pago por servicio de energía de manera cumplida"},{"$f":"'Consulta de Rangos'!C13","v":"Porcentaje de usuarios de la comunidad energética que realizan el pago del servicio energético de manera regular y dentro de los plazos establecidos."},{"v":0.016666666666666666,"d":"1.7%"},"Seleccione…","Sin información",{"$f":"'Consulta de Rangos'!G13","v":"> 60% "},{"$f":"'Consulta de Rangos'!H13","v":"40%-60% "},{"$f":"'Consulta de Rangos'!I13","v":"20%-40% "},{"$f":"'Consulta de Rangos'!J13","v":"< 20% "},"Seleccione…","Seleccione…","Seleccione…","Seleccione…","Seleccione…","Seleccione…","Seleccione…","Seleccione…","Seleccione…","Seleccione…"]
[null,{"$f":"'Consulta de Rangos'!A14","v":"Económico"},{"$f":"'Consulta de Rangos'!B14","v":"Tiempo de retorno de la inversión"},{"$f":"'Consulta de Rangos'!C14","v":"El periodo de tiempo necesario para que las ganancias acumuladas de un proyecto igualen el costo total de la inversión. "},{"v":0.016666666666666666,"d":"1.7%"},"Seleccione…","Sin información",{"$f":"'Consulta de Rangos'!G14","v":"> 15 años"},{"$f":"'Consulta de Rangos'!H14","v":"10-15 años"},{"$f":"'Consulta de Rangos'!I14","v":"6-10 años"},{"$f":"'Consulta de Rangos'!J14","v":"< 6 años"},"Seleccione…","Seleccione…","Seleccione…","Seleccione…","Seleccione…","Seleccione…","Seleccione…","Seleccione…","Seleccione…","Seleccione…"]
[null,{"$f":"'Consulta de Rangos'!A15","v":"Económico"},{"$f":"'Consulta de Rangos'!B15","v":"Tasa interna de rentabilidad (TIR)"},{"$f":"'Consulta de Rangos'!C15","v":"Medida de la rentabilidad de una inversión. "},{"v":0.016666666666666666,"d":"1.7%"},"Seleccione…","Sin información",{"$f":"'Consulta de Rangos'!G15","v":"< 5%"},{"$f":"'Consulta de Rangos'!H15","v":"5%-7% "},{"$f":"'Consulta de Rangos'!I15","v":"7%-10%"},{"$f":"'Consulta de Rangos'!J15","v":"> 10%"},"Seleccione…","Seleccione…","Seleccione…","Seleccione…","Seleccione…","Seleccione…","Seleccione…","Seleccione…","Seleccione…","Seleccione…"]
[null,{"$f":"'Consulta de Rangos'!A16","v":"Económico"},{"$f":"'Consulta de Rangos'!B16","v":"Identificación de fuentes de financiación alternativas viables"},{"$f":"'Consulta de Rangos'!C16","v":"Mide la existencia y diversidad de fuentes de financiación alternativas (subsidios, donaciones, préstamos) para el proyecto."},{"v":0.016666666666666666,"d":"1.7%"},"Seleccione…","Sin información",{"$f":"'Consulta de Rangos'!G16","v":"No se han identificado fuentes alternativas viables."},{"$f":"'Consulta de Rangos'!H16","v":"Identificación limitada con alta dependencia de una fuente."},{"$f":"'Consulta de Rangos'!I16","v":"Identificación moderada con al menos dos fuentes viables."},{"$f":"'Consulta de Rangos'!J16","v":"Identificación robusta con múltiples fuentes viables y diversificadas."},"Seleccione…","Seleccione…","Seleccione…","Seleccione…","Seleccione…","Seleccione…","Seleccione…","Seleccione…","Seleccione…","Seleccione…"]
[null,{"$f":"'Consulta de Rangos'!A17","v":"Económico"},{"$f":"'Consulta de Rangos'!B17","v":"Capacidad de cofinanciación local"},{"$f":"'Consulta de Rangos'!C17","v":"Evalúa el porcentaje de recursos que la comunidad puede aportar para financiar el proyecto."},{"v":0.016666666666666666,"d":"1.7%"},"Seleccione…","Sin información",{"$f":"'Consulta de Rangos'!G17","v":"< 10% "},{"$f":"'Consulta de Rangos'!H17","v":"10%-30% "},{"$f":"'Consulta de Rangos'!I17","v":"30%-50% "},{"$f":"'Consulta de Rangos'!J17","v":"> 50% "},"Seleccione…","Seleccione…","Seleccione…","Seleccione…","Seleccione…","Seleccione…","Seleccione…","Seleccione…","Seleccione…","Seleccione…"]
[null,{"$f":"'Consulta de Rangos'!A18","v":"Económico"},{"$f":"'Consulta de Rangos'!B18","v":"Capacidad y voluntad de los miembros de la comunidad para financiar el proyecto"},{"$f":"'Consulta de Rangos'!C18","v":"Grado en que los miembros de la comunidad pueden y desean contribuir financieramente al proyecto."},{"v":0.016666666666666666,"d":"1.7%"},"Seleccione…","Sin información",{"$f":"'Consulta de Rangos'!G18","v":"< 15% "},{"$f":"'Consulta de Rangos'!H18","v":"15%-30% "},{"$f":"'Consulta de Rangos'!I18","v":"30%-50% "},{"$f":"'Consulta de Rangos'!J18","v":"> 50% "},"Seleccione…","Seleccione…","Seleccione…","Seleccione…","Seleccione…","Seleccione…","Seleccione…","Seleccione…","Seleccione…","Seleccione…"]
[null,{"$f":"'Consulta de Rangos'!A19","v":"Económico"},{"$f":"'Consulta de Rangos'!B19","v":"Costos energéticos promedio por usuario"},{"$f":"'Consulta de Rangos'!C19","v":"Promedio de gastos en energía por hogar en la comunidad evaluada."},{"v":0.016666666666666666,"d":"1.7%"},"Seleccione…","Sin información",{"$f":"'Consulta de Rangos'!G19","v":"< 40.000 COP"},{"$f":"'Consulta de Rangos'!H19","v":"40.000-80.000 COP"},{"$f":"'Consulta de Rangos'!I19","v":"80.000-120.000"},{"$f":"'Consulta de Rangos'!J19","v":"> 120.000 COP"},"Seleccione…","Seleccione…","Seleccione…","Seleccione…","Seleccione…","Seleccione…","Seleccione…","Seleccione…","Seleccione…","Seleccione…"]
[{"$f":"SUM(E19:E21)","v":{"v":0.99999,"d":"100.0%"}},{"$f":"'Consulta de Rangos'!A20","v":"Legislativo/ normativo"},{"$f":"'Consulta de Rangos'!B20","v":"Disposición de instituciones externas para representar a la comunidad energética "},{"$f":"'Consulta de Rangos'!C20","v":"Evalúa cualitativamente la disposición de instituciones externas para representar formalmente a una comunidad energética en aspectos legales, técnicos, financieros o de gobernanza."},{"v":0.33333,"d":"33.3%"},"Seleccione…","Sin información",{"$f":"'Consulta de Rangos'!G20","v":"Baja disposición"},{"$f":"'Consulta de Rangos'!H20","v":"Media disposición"},{"$f":"'Consulta de Rangos'!I20","v":"Alta disposición"},{"$f":"'Consulta de Rangos'!J20","v":"Muy alta disposición"},"Seleccione…","Seleccione…","Seleccione…","Seleccione…","Seleccione…","Seleccione…","Seleccione…","Seleccione…","Seleccione…","Seleccione…"]
[null,{"$f":"'Consulta de Rangos'!A21","v":"Legislativo/ normativo"},{"$f":"'Consulta de Rangos'!B21","v":"¿Se cuenta con avances en lineamientos para la distribución y almacenamiento de energía? Autoconsumo"},{"$f":"'Consulta de Rangos'!C21","v":"Existencia de lineamiento  que faciliten el autoconsumo y el almacenamiento energético en la comunidad."},{"v":0.33333,"d":"33.3%"},"Seleccione…","Sin información",{"$f":"'Consulta de Rangos'!G21","v":"Sin avances regulatorios"},{"$f":"'Consulta de Rangos'!H21","v":"Avances iniciales"},{"$f":"'Consulta de Rangos'!I21","v":"Avances moderados"},{"$f":"'Consulta de Rangos'!J21","v":"Lineamientos establecidos"},"Seleccione…","Seleccione…","Seleccione…","Seleccione…","Seleccione…","Seleccione…","Seleccione…","Seleccione…","Seleccione…","Seleccione…"]
[null,{"$f":"'Consulta de Rangos'!A22","v":"Legislativo/ normativo"},{"$f":"'Consulta de Rangos'!B22","v":"Políticas de Inclusión de Género en la Gobernanza de las Comunidades Energéticas"},{"$f":"'Consulta de Rangos'!C22","v":"Evalúa la existencia, alcance y efectividad de medidas específicas orientadas a promover la inclusión de género en la gobernanza de las comunidades energéticas. "},{"v":0.33333,"d":"33.3%"},"Seleccione…","Sin información",{"$f":"'Consulta de Rangos'!G22","v":"Sin medidas de inclusión"},{"$f":"'Consulta de Rangos'!H22","v":"Avances iniciales en medidas"},{"$f":"'Consulta de Rangos'!I22","v":"Medidas parcialmente implementadas"},{"$f":"'Consulta de Rangos'!J22","v":"Medidas plenamente implementadas"},"Seleccione…","Seleccione…","Seleccione…","Seleccione…","Seleccione…","Seleccione…","Seleccione…","Seleccione…","Seleccione…","Seleccione…"]
[{"$f":"SUM(E22:E37)","v":{"v":1,"d":"100.0%"}},{"$f":"'Consulta de Rangos'!A24","v":"Social"},{"$f":"'Consulta de Rangos'!B24","v":"Participación Femenina en la Comunidad Energética"},{"$f":"'Consulta de Rangos'!C24","v":"Nivel de involucramiento de las mujeres en las actividades y decisiones de la comunidad energética."},{"v":0.0625,"d":"6.3%"},"Seleccione…","Sin información",{"$f":"'Consulta de Rangos'!G24","v":"< 20% "},{"$f":"'Consulta de Rangos'!H24","v":"20%-35% "},{"$f":"'Consulta de Rangos'!I24","v":"35%-50% "},{"$f":"'Consulta de Rangos'!J24","v":"> 50% "},"Seleccione…","Seleccione…","Seleccione…","Seleccione…","Seleccione…","Seleccione…","Seleccione…","Seleccione…","Seleccione…","Seleccione…"]
[null,{"$f":"'Consulta de Rangos'!A25","v":"Social"},{"$f":"'Consulta de Rangos'!B25","v":"Población de especial protección constitucional del sector Paz (víctimas, personas en proceso de reincorporación)"},{"$f":"'Consulta de Rangos'!C25","v":"Variable incluida para focalizar poblacionalmente a aquellas comunidades que en su constitución cuente con personas registradas en el Registro Único de Víctimas (RUV), conforme a los parámetros establecidos en la Ley 1448 de 2011, o que hayan sido reconocidas como sujetos de reparación colectiva, así como personas que se encuentren activas en el proceso de reincorporación de acuerdo con el Acto Legislativo 001 del 2017 y su normatividad regulatoria."},{"v":0.0625,"d":"6.3%"},"Seleccione…","Sin información",{"$f":"'Consulta de Rangos'!G25","v":"< 30% "},{"$f":"'Consulta de Rangos'!H25","v":"30%-40% "},{"$f":"'Consulta de Rangos'!I25","v":"40%-60% "},{"$f":"'Consulta de Rangos'!J25","v":"> 60% "},"Seleccione…","Seleccione…","Seleccione…","Seleccione…","Seleccione…","Seleccione…","Seleccione…","Seleccione…","Seleccione…","Seleccione…"]
[null,{"$f":"'Consulta de Rangos'!A26","v":"Social"},{"$f":"'Consulta de Rangos'!B26","v":"Presencia de comunidades étnicas"},{"$f":"'Consulta de Rangos'!C26","v":"Variable incluida para focalizar poblacionalmente a aquellas comunidades que en su constitución cuenten con personas o comunidades autorreconocidas como étnicas según el Censo Nacional de Población y Vivienda, y/o el último registro que dé cuenta de la población étnica con fuente DANE, y lo que en la materia haya dispuesto el Ministerio del Interior."},{"v":0.0625,"d":"6.3%"},"Seleccione…","Sin información",{"$f":"'Consulta de Rangos'!G26","v":"Sin presencia de comunidades étnicas"},{"$f":"'Consulta de Rangos'!H26","v":"Moderada presencia de comunidades étnicas"},{"$f":"'Consulta de Rangos'!I26","v":"Alta presencia de comunidades étnicas"},{"$f":"'Consulta de Rangos'!J26","v":"Corresponde a una comunidad étnica"},"Seleccione…","Seleccione…","Seleccione…","Seleccione…","Seleccione…","Seleccione…","Seleccione…","Seleccione…","Seleccione…","Seleccione…"]
[null,{"$f":"'Consulta de Rangos'!A27","v":"Social"},{"$f":"'Consulta de Rangos'!B27","v":"Territorios colectivos de pueblos originarios o comunidades indígenas"},{"$f":"'Consulta de Rangos'!C27","v":"Variable incluida para focalizar a aquellas comunidades ubicadas en estos territorios legalmente establecidos."},{"v":0.0625,"d":"6.3%"},"Seleccione…","Sin información",{"$f":"'Consulta de Rangos'!G27","v":"Sin presencia de comunidades indígenas"},{"$f":"'Consulta de Rangos'!H27","v":"Moderada presencia de comunidades indígenas"},{"$f":"'Consulta de Rangos'!I27","v":"Alta presencia de comunidades indígenas"},{"$f":"'Consulta de Rangos'!J27","v":"Corresponde a una comunidad indígena"},"Seleccione…","Seleccione…","Seleccione…","Seleccione…","Seleccione…","Seleccione…","Seleccione…","Seleccione…","Seleccione…","Seleccione…"]
[null,{"$f":"'Consulta de Rangos'!A28","v":"Social"},{"$f":"'Consulta de Rangos'!B28","v":"Territorios de Antiguos espacios territoriales de capacitación y reincorporación y áreas especiales de reincorporación colectiva"},{"$f":"'Consulta de Rangos'!C28","v":"Variable incluida para focalizar a aquellas comunidades ubicadas en los AETCR en los cuales residen firmantes del Acuerdo Final de Paz, sus familias y comunidades contemplados en Decreto número 1274 del 2017, y de las AERC contemplados en el decreto del Programa de Reincorporación Integral."},{"v":0.0625,"d":"6.3%"},"Seleccione…","Sin información",{"$f":"'Consulta de Rangos'!G28","v":"Sin presencia de comunidades"},{"$f":"'Consulta de Rangos'!H28","v":"Moderada presencia de comunidades"},{"$f":"'Consulta de Rangos'!I28","v":"Alta presencia de comunidades"},{"$f":"'Consulta de Rangos'!J28","v":"Corresponde a una comunidad "},"Seleccione…","Seleccione…","Seleccione…","Seleccione…","Seleccione…","Seleccione…","Seleccione…","Seleccione…","Seleccione…","Seleccione…"]
[null,{"$f":"'Consulta de Rangos'!A29","v":"Social"},{"$f":"'Consulta de Rangos'!B29","v":"Territorios de Paz"},{"$f":"'Consulta de Rangos'!C29","v":"Variable incluida para focalizar a aquellas comunidades ubicadas en entidades territoriales que están contempladas en el Programa de Desarrollo con Enfoque Territorial (PDET) y en las Zonas Más Afectadas por el Conflicto Armado (ZOMAC) que se constituyen dentro del marco para la paz, en relación con lo establecido por la Ley 2272 de 2022 “Ley de Paz Total”."},{"v":0.0625,"d":"6.3%"},"Seleccione…","Sin información",{"$f":"'Consulta de Rangos'!G29","v":"Sin proyectos de paz"},{"$f":"'Consulta de Rangos'!H29","v":"Proyectos en planeación"},{"$f":"'Consulta de Rangos'!I29","v":"Proyectos implementados"},{"$f":"'Consulta de Rangos'!J29","v":"Proyectos activos"},"Seleccione…","Seleccione…","Seleccione…","Seleccione…","Seleccione…","Seleccione…","Seleccione…","Seleccione…","Seleccione…","Seleccione…"]
[null,{"$f":"'Consulta de Rangos'!A30","v":"Social"},{"$f":"'Consulta de Rangos'!B30","v":"Territorios de Sistema Nacional de la Reforma Agraria y Desarrollo Rural, entre otras"},{"$f":"'Consulta de Rangos'!C30","v":"Variable incluida para focalizar a aquellas comunidades ubicadas en territorios constituidos en el marco de los términos de la Ley 160 de 1994 o demás normas concordantes o las normas que lo modifiquen o complementen."},{"v":0.0625,"d":"6.3%"},"Seleccione…","Sin información",{"$f":"'Consulta de Rangos'!G30","v":"No están priorizados"},{"$f":"'Consulta de Rangos'!H30","v":"Priorización en fase de planeación"},{"$f":"'Consulta de Rangos'!I30","v":"Priorización en etapas iniciales"},{"$f":"'Consulta de Rangos'!J30","v":"Priorización avanzada"},"Seleccione…","Seleccione…","Seleccione…","Seleccione…","Seleccione…","Seleccione…","Seleccione…","Seleccione…","Seleccione…","Seleccione…"]
[null,{"$f":"'Consulta de Rangos'!A31","v":"Social"},{"$f":"'Consulta de Rangos'!B31","v":"Redes de cooperación intercomunitaria"},{"$f":"'Consulta de Rangos'!C31","v":"Grado de colaboración entre la comunidad y otras localidades o instituciones."},{"v":0.0625,"d":"6.3%"},"Seleccione…","Sin información",{"$f":"'Consulta de Rangos'!G31","v":"No existen redes de cooperación."},{"$f":"'Consulta de Rangos'!H31","v":"Cooperación limitada y ocasional."},{"$f":"'Consulta de Rangos'!I31","v":"Cooperación moderada con al menos dos comunidades o instituciones."},{"$f":"'Consulta de Rangos'!J31","v":"Cooperación activa y sólida con múltiples comunidades o instituciones."},"Seleccione…","Seleccione…","Seleccione…","Seleccione…","Seleccione…","Seleccione…","Seleccione…","Seleccione…","Seleccione…","Seleccione…"]
[null,{"$f":"'Consulta de Rangos'!A32","v":"Social"},{"$f":"'Consulta de Rangos'!B32","v":"Transparencia de los datos"},{"$f":"'Consulta de Rangos'!C32","v":"Grado de acceso y claridad de la información del proyecto proporcionada a la comunidad."},{"v":0.0625,"d":"6.3%"},"Seleccione…","Sin información",{"$f":"'Consulta de Rangos'!G32","v":"No existe acceso a datos"},{"$f":"'Consulta de Rangos'!H32","v":"Información limitada y poco clara."},{"$f":"'Consulta de Rangos'!I32","v":"Información moderadamente accesible y clara."},{"$f":"'Consulta de Rangos'!J32","v":"Información completamente accesible, clara y actualizada."},"Seleccione…","Seleccione…","Seleccione…","Seleccione…","Seleccione…","Seleccione…","Seleccione…","Seleccione…","Seleccione…","Seleccione…"]
[null,{"$f":"'Consulta de Rangos'!A33","v":"Social"},{"$f":"'Consulta de Rangos'!B33","v":"¿Cómo es la relación entre los miembros de la comunidad y las instituciones públicas y privadas pertinentes?"},{"$f":"'Consulta de Rangos'!C33","v":"Evaluar la calidad de las interacciones entre la comunidad y las instituciones que podrían apoyar el proyecto."},{"v":0.0625,"d":"6.3%"},"Seleccione…","Sin información",{"$f":"'Consulta de Rangos'!G33","v":"< 30% "},{"$f":"'Consulta de Rangos'!H33","v":"30%-50% "},{"$f":"'Consulta de Rangos'!I33","v":"50%-70% "},{"$f":"'Consulta de Rangos'!J33","v":"> 70% "},"Seleccione…","Seleccione…","Seleccione…","Seleccione…","Seleccione…","Seleccione…","Seleccione…","Seleccione…","Seleccione…","Seleccione…"]
[null,{"$f":"'Consulta de Rangos'!A34","v":"Social"},{"$f":"'Consulta de Rangos'!B34","v":"¿Están dispuestos los miembros de la comunidad a invertir tiempo en actividades comunitarias de voluntariado?"},{"$f":"'Consulta de Rangos'!C34","v":"Grado de disposición de los miembros de la comunidad para contribuir con tiempo y esfuerzo al proyecto."},{"v":0.0625,"d":"6.3%"},"Seleccione…","Sin información",{"$f":"'Consulta de Rangos'!G34","v":"< 15% "},{"$f":"'Consulta de Rangos'!H34","v":"15%-30% "},{"$f":"'Consulta de Rangos'!I34","v":"30%-50% "},{"$f":"'Consulta de Rangos'!J34","v":"> 50% "},"Seleccione…","Seleccione…","Seleccione…","Seleccione…","Seleccione…","Seleccione…","Seleccione…","Seleccione…","Seleccione…","Seleccione…"]
[null,{"$f":"'Consulta de Rangos'!A35","v":"Social"},{"$f":"'Consulta de Rangos'!B35","v":"¿Los techos o superficies de tierra potencialmente viables son propiedad de los miembros de la comunidad?"},{"$f":"'Consulta de Rangos'!C35","v":"Evaluación de la titularidad de las áreas donde se implementará el proyecto."},{"v":0.0625,"d":"6.3%"},"Seleccione…","Sin información",{"$f":"'Consulta de Rangos'!G35","v":"Ninguna superficie viable es de propiedad comunitaria."},{"$f":"'Consulta de Rangos'!H35","v":"Menos del 50% de las superficies viables son de propiedad comunitaria."},{"$f":"'Consulta de Rangos'!I35","v":"Entre 50%-80% de las superficies viables son de propiedad comunitaria."},{"$f":"'Consulta de Rangos'!J35","v":"> 80% de las superficies viables son de propiedad comunitaria."},"Seleccione…","Seleccione…","Seleccione…","Seleccione…","Seleccione…","Seleccione…","Seleccione…","Seleccione…","Seleccione…","Seleccione…"]
[null,{"$f":"'Consulta de Rangos'!A36","v":"Social"},{"$f":"'Consulta de Rangos'!B36","v":"Aceptación del usuario"},{"$f":"'Consulta de Rangos'!C36","v":"Grado de aprobación de los usuarios hacia el proyecto energético propuesto."},{"v":0.0625,"d":"6.3%"},"Seleccione…","Sin información",{"$f":"'Consulta de Rangos'!G36","v":"< 50% aceptación"},{"$f":"'Consulta de Rangos'!H36","v":"50%-60% aceptación"},{"$f":"'Consulta de Rangos'!I36","v":"60-70% aceptación"},{"$f":"'Consulta de Rangos'!J36","v":"> 70% aceptación"},"Seleccione…","Seleccione…","Seleccione…","Seleccione…","Seleccione…","Seleccione…","Seleccione…","Seleccione…","Seleccione…","Seleccione…"]
[null,{"$f":"'Consulta de Rangos'!A37","v":"Social"},{"$f":"'Consulta de Rangos'!B37","v":"Impacto de las Iniciativas Energéticas en las Mujeres de la Comunidad"},{"$f":"'Consulta de Rangos'!C37","v":"Evaluación de los beneficios específicos que las mujeres obtendrán del proyecto energético."},{"v":0.0625,"d":"6.3%"},"Seleccione…","Sin información",{"$f":"'Consulta de Rangos'!G37","v":"< 30% "},{"$f":"'Consulta de Rangos'!H37","v":"30%-40% "},{"$f":"'Consulta de Rangos'!I37","v":"40%-60% "},{"$f":"'Consulta de Rangos'!J37","v":"> 60% "},"Seleccione…","Seleccione…","Seleccione…","Seleccione…","Seleccione…","Seleccione…","Seleccione…","Seleccione…","Seleccione…","Seleccione…"]
[null,{"$f":"'Consulta de Rangos'!A38","v":"Social"},{"$f":"'Consulta de Rangos'!B38","v":"Cumplimiento de consultas previas"},{"$f":"'Consulta de Rangos'!C38","v":"Verificar si se han realizado las consultas previas requeridas por la normativa legal en la comunidad."},{"v":0.0625,"d":"6.3%"},"Seleccione…","Sin información",{"$f":"'Consulta de Rangos'!G38","v":"No se han realizado consultas previas"},{"$f":"'Consulta de Rangos'!H38","v":"Consultas previas en proceso"},{"$f":"'Consulta de Rangos'!I38","v":"Consultas previas completamente realizadas, no documentadas"},{"$f":"'Consulta de Rangos'!J38","v":"Consultas previas completamente realizadas y documentadas"},"Seleccione…","Seleccione…","Seleccione…","Seleccione…","Seleccione…","Seleccione…","Seleccione…","Seleccione…","Seleccione…","Seleccione…"]
[null,{"$f":"'Consulta de Rangos'!A39","v":"Social"},{"$f":"'Consulta de Rangos'!B39","v":"Capacitación en Energías Renovables con Enfoque de Género"},{"$f":"'Consulta de Rangos'!C39","v":"Formación técnica ofrecida a los miembros de la comunidad, garantizando la inclusión equitativa de género."},{"v":0.0625,"d":"6.3%"},"Seleccione…","Sin información",{"$f":"'Consulta de Rangos'!G39","v":"No se han realizado capacitaciones"},{"$f":"'Consulta de Rangos'!H39","v":"Capacitaciones no completadas "},{"$f":"'Consulta de Rangos'!I39","v":"Capacitaciones completamente  ejecutadas, no documentadas"},{"$f":"'Consulta de Rangos'!J39","v":"Capacitaciones completamente ejecutadas y documentadas"},"Seleccione…","Seleccione…","Seleccione…","Seleccione…","Seleccione…","Seleccione…","Seleccione…","Seleccione…","Seleccione…","Seleccione…"]
[{"$f":"SUM(E38:E44)","v":{"v":0.9996000000000002,"d":"100.0%"}},{"$f":"'Consulta de Rangos'!A40","v":"Técnico"},{"$f":"'Consulta de Rangos'!B40","v":"¿Hay capacidad disponible en el circuito de distribución local para la capacidad de generación estimada?\n(límite del 50%)"},{"$f":"'Consulta de Rangos'!C40","v":"Verificación técnica de que el circuito de distribución puede manejar el incremento de generación sin exceder el límite del 50% de capacidad."},{"v":0.1428,"d":"14.3%"},"Seleccione…","Sin información",{"$f":"'Consulta de Rangos'!G40","v":"< 10% "},{"$f":"'Consulta de Rangos'!H40","v":"10%-30% "},{"$f":"'Consulta de Rangos'!I40","v":"30%-50% "},{"$f":"'Consulta de Rangos'!J40","v":"> 50% "},"Seleccione…","Seleccione…","Seleccione…","Seleccione…","Seleccione…","Seleccione…","Seleccione…","Seleccione…","Seleccione…","Seleccione…"]
[null,{"$f":"'Consulta de Rangos'!A41","v":"Técnico"},{"$f":"'Consulta de Rangos'!B41","v":"¿Se trata de una comunidad ya postulada y focalizada?"},{"$f":"'Consulta de Rangos'!C41","v":"Indica si la comunidad ha sido identificada previamente en programas o estrategias relacionadas con comunidades energéticas."},{"v":0.1428,"d":"14.3%"},"Seleccione…","Sin información",{"$f":"'Consulta de Rangos'!G41","v":"Ni postulada ni focalizada"},{"$f":"'Consulta de Rangos'!H41","v":"En proceso de postulación"},{"$f":"'Consulta de Rangos'!I41","v":"Postulada y parcialmente focalizada "},{"$f":"'Consulta de Rangos'!J41","v":"Postulada y focalizada"},"Seleccione…","Seleccione…","Seleccione…","Seleccione…","Seleccione…","Seleccione…","Seleccione…","Seleccione…","Seleccione…","Seleccione…"]
[null,{"$f":"'Consulta de Rangos'!A42","v":"Técnico"},{"$f":"'Consulta de Rangos'!B42","v":"Ahorro de energía de la red"},{"$f":"'Consulta de Rangos'!C42","v":"Reducción estimada en el consumo de energía de la red eléctrica del SIN como resultado del proyecto."},{"v":0.1428,"d":"14.3%"},"Seleccione…","Sin información",{"$f":"'Consulta de Rangos'!G42","v":"< 20% "},{"$f":"'Consulta de Rangos'!H42","v":"20%-35% "},{"$f":"'Consulta de Rangos'!I42","v":"35%-50% "},{"$f":"'Consulta de Rangos'!J42","v":"> 50% "},"Seleccione…","Seleccione…","Seleccione…","Seleccione…","Seleccione…","Seleccione…","Seleccione…","Seleccione…","Seleccione…","Seleccione…"]
[null,{"$f":"'Consulta de Rangos'!A43","v":"Técnico"},{"$f":"'Consulta de Rangos'!B43","v":"Capacidad técnica local (no siempre es esencial, ya que la capacitación puede ser parte del proyecto.)"},{"$f":"'Consulta de Rangos'!C43","v":"Habilidad de los miembros de la comunidad para operar y mantener los sistemas energéticos. "},{"v":0.1428,"d":"14.3%"},"Seleccione…","Sin información",{"$f":"'Consulta de Rangos'!G43","v":"< 10% "},{"$f":"'Consulta de Rangos'!H43","v":"10%-20% "},{"$f":"'Consulta de Rangos'!I43","v":"20%-30% "},{"$f":"'Consulta de Rangos'!J43","v":"> 30% "},"Seleccione…","Seleccione…","Seleccione…","Seleccione…","Seleccione…","Seleccione…","Seleccione…","Seleccione…","Seleccione…","Seleccione…"]
[null,{"$f":"'Consulta de Rangos'!A44","v":"Técnico"},{"$f":"'Consulta de Rangos'!B44","v":"Grado de avance del sistema energético que se proyecta implementar"},{"$f":"'Consulta de Rangos'!C44","v":"Nivel de preparación técnica, operativa y administrativa del sistema energético que se busca desarrollar."},{"v":0.1428,"d":"14.3%"},"Seleccione…","Sin información",{"$f":"'Consulta de Rangos'!G44","v":"Sin planificación"},{"$f":"'Consulta de Rangos'!H44","v":"Planificación inicial"},{"$f":"'Consulta de Rangos'!I44","v":"Planificación intermedia"},{"$f":"'Consulta de Rangos'!J44","v":"Sistema listo para implementación"},"Seleccione…","Seleccione…","Seleccione…","Seleccione…","Seleccione…","Seleccione…","Seleccione…","Seleccione…","Seleccione…","Seleccione…"]
[null,{"$f":"'Consulta de Rangos'!A45","v":"Técnico"},{"$f":"'Consulta de Rangos'!B45","v":"Pérdidas de Energía Eléctrica"},{"$f":"'Consulta de Rangos'!C45","v":"Evaluar las pérdidas eléctricas en áreas específicas es esencial para identificar zonas con problemáticas de conexiones irregulares. En estos casos, las soluciones orientadas a Comunidades Energéticas pueden actuar como habilitadoras para la normalización de redes eléctricas, contribuyendo a la mejora de la infraestructura, la formalización del acceso al servicio y disminución de riesgos de recaer en comportamientos ilegales o pasar a condiciones de morosidad en los pagos."},{"v":0.1428,"d":"14.3%"},"Seleccione…","Sin información",{"$f":"'Consulta de Rangos'!G45","v":"< 10% "},{"$f":"'Consulta de Rangos'!H45","v":"10%-15% "},{"$f":"'Consulta de Rangos'!I45","v":"15%-20% "},{"$f":"'Consulta de Rangos'!J45","v":"> 20% "},"Seleccione…","Seleccione…","Seleccione…","Seleccione…","Seleccione…","Seleccione…","Seleccione…","Seleccione…","Seleccione…","Seleccione…"]
[null,{"$f":"'Consulta de Rangos'!A46","v":"Técnico"},{"$f":"'Consulta de Rangos'!B46","v":"Calidad del servicio (Frecuencia y duración de interrupciones)"},{"$f":"'Consulta de Rangos'!C46","v":"Incorporar variables de calidad del servicio permitirá reflejar la continuidad percibida del servicio eléctrico en áreas específicas. Esto puede aportar información valiosa para priorizar aquellas zonas con deficiencias en la calidad del servicio, donde las Comunidades Energéticas podrían generar impactos positivos."},{"v":0.1428,"d":"14.3%"},"Seleccione…","Sin información",{"$f":"'Consulta de Rangos'!G46","v":"Alta calidad: Menos de 3 interrupciones al mes con duración promedio inferior a 1 hora."},{"$f":"'Consulta de Rangos'!H46","v":"Moderada calidad - alta: Entre 3 y 6 interrupciones al mes con duración promedio entre 1 y 2 horas."},{"$f":"'Consulta de Rangos'!I46","v":"Moderada calidad - baja: Entre 7 y 10 interrupciones al mes con duración promedio entre 2 y 4 horas."},{"$f":"'Consulta de Rangos'!J46","v":"Baja calidad: Más de 10 interrupciones al mes con duración promedio superior a 4 horas."},"Seleccione…","Seleccione…","Seleccione…","Seleccione…","Seleccione…","Seleccione…","Seleccione…","Seleccione…","Seleccione…","Seleccione…"]

{"sheet":"ResParcial Publico","index":5,"n_rows":45,"n_cols":12,"rows_kept":45,"hidden":true,"merged":[[0,0,0,11],[1,0,1,6]]}
["Resultados Normalizados por Indicadores"]
["Esta hoja muestra los resultados de las calificaciones asignadas por el usuario a las comunidades en los diferentes indicadores evaluados.\n\n🔍 ¿Qué encontrarás aquí?\nCalificaciones Normalizadas: Las calificaciones originales han sido ajustadas para garantizar comparabilidad entre los indicadores.\nDatos por Comunidad: Cada comunidad aparece evaluada según los criterios establecidos.\nPreparación para Priorización: Estos resultados son el insumo para la hoja de priorización final."]
[]
[]
[]
["Categoría","Indicador / Criterios",{"$f":"Caracterización!B8","v":"C1"},{"$f":"Caracterización!C8","v":"C2"},{"$f":"Caracterización!D8","v":"C3"},{"$f":"Caracterización!E8","v":"C4"},{"$f":"Caracterización!F8","v":"C5"},{"$f":"Caracterización!G8","v":"C6"},{"$f":"Caracterización!H8","v":"C7"},{"$f":"Caracterización!I8","v":"C8"},{"$f":"Caracterización!J8","v":"C9"},{"$f":"Caracterización!K8","v":"C10"}]
[{"$f":"INDEX('Calificación Pública'!B:B,ROW())","v":"Ambiental"},{"$f":"INDEX('Calificación Pública'!C:C,ROW())","v":" EROI (tasa de retorno energético)"},{"$f":"IF(OR(INDEX('Calificación Pública'!L:L,ROW())=\"Sin información\", INDEX('Calificación Pública'!L:L,ROW())=\"Seleccione…\"), \"\", MATCH(INDEX('Calificación Pública'!L:L,ROW()), INDEX('Calificación Pública'!$H:$K,ROW(),0), 0))","v":1},{"$f":"IF(OR(INDEX('Calificación Pública'!M:M,ROW())=\"Sin información\", INDEX('Calificación Pública'!M:M,ROW())=\"Seleccione…\"), \"\", MATCH(INDEX('Calificación Pública'!M:M,ROW()), INDEX('Calificación Pública'!$H:$K,ROW(),0), 0))","v":2},{"$f":"IF(OR(INDEX('Calificación Pública'!N:N,ROW())=\"Sin información\", INDEX('Calificación Pública'!N:N,ROW())=\"Seleccione…\"), \"\", MATCH(INDEX('Calificación Pública'!N:N,ROW()), INDEX('Calificación Pública'!$H:$K,ROW(),0), 0))","v":3},{"$f":"IF(OR(INDEX('Calificación Pública'!O:O,ROW())=\"Sin información\", INDEX('Calificación Pública'!O:O,ROW())=\"Seleccione…\"), \"\", MATCH(INDEX('Calificación Pública'!O:O,ROW()), INDEX('Calificación Pública'!$H:$K,ROW(),0), 0))","v":""},{"$f":"IF(OR(INDEX('Calificación Pública'!P:P,ROW())=\"Sin información\", INDEX('Calificación Pública'!P:P,ROW())=\"Seleccione…\"), \"\", MATCH(INDEX('Calificación Pública'!P:P,ROW()), INDEX('Calificación Pública'!$H:$K,ROW(),0), 0))","v":""},{"$f":"IF(OR(INDEX('Calificación Pública'!Q:Q,ROW())=\"Sin información\", INDEX('Calificación Pública'!Q:Q,ROW())=\"Seleccione…\"), \"\", MATCH(INDEX('Calificación Pública'!Q:Q,ROW()), INDEX('Calificación Pública'!$H:$K,ROW(),0), 0))","v":""},{"$f":"IF(OR(INDEX('Calificación Pública'!R:R,ROW())=\"Sin información\", INDEX('Calificación Pública'!R:R,ROW())=\"Seleccione…\"), \"\", MATCH(INDEX('Calificación Pública'!R:R,ROW()), INDEX('Calificación Pública'!$H:$K,ROW(),0), 0))","v":""},{"$f":"IF(OR(INDEX('Calificación Pública'!S:S,ROW())=\"Sin información\", INDEX('Calificación Pública'!S:S,ROW())=\"Seleccione…\"), \"\", MATCH(INDEX('Calificación Pública'!S:S,ROW()), INDEX('Calificación Pública'!$H:$K,ROW(),0), 0))","v":""},{"$f":"IF(OR(INDEX('Calificación Pública'!T:T,ROW())=\"Sin información\", INDEX('Calificación Pública'!T:T,ROW())=\"Seleccione…\"), \"\", MATCH(INDEX('Calificación Pública'!T:T,ROW()), INDEX('Calificación Pública'!$H:$K,ROW(),0), 0))","v":""},{"$f":"IF(OR(INDEX('Calificación Pública'!U:U,ROW())=\"Sin información\", INDEX('Calificación Pública'!U:U,ROW())=\"Seleccione…\"), \"\", MATCH(INDEX('Calificación Pública'!U:U,ROW()), INDEX('Calificación Pública'!$H:$K,ROW(),0), 0))","v":""}]
[{"$f":"INDEX('Calificación Pública'!B:B,ROW())","v":"Ambiental"},{"$f":"INDEX('Calificación Pública'!C:C,ROW())","v":"Reducción anual de gases de efecto invernadero"},{"$f":"IF(OR(INDEX('Calificación Pública'!L:L,ROW())=\"Sin información\", INDEX('Calificación Pública'!L:L,ROW())=\"Seleccione…\"), \"\", MATCH(INDEX('Calificación Pública'!L:L,ROW()), INDEX('Calificación Pública'!$H:$K,ROW(),0), 0))","v":2},{"$f":"IF(OR(INDEX('Calificación Pública'!M:M,ROW())=\"Sin información\", INDEX('Calificación Pública'!M:M,ROW())=\"Seleccione…\"), \"\", MATCH(INDEX('Calificación Pública'!M:M,ROW()), INDEX('Calificación Pública'!$H:$K,ROW(),0), 0))","v":1},{"$f":"IF(OR(INDEX('Calificación Pública'!N:N,ROW())=\"Sin información\", INDEX('Calificación Pública'!N:N,ROW())=\"Seleccione…\"), \"\", MATCH(INDEX('Calificación Pública'!N:N,ROW()), INDEX('Calificación Pública'!$H:$K,ROW(),0), 0))","v":""},{"$f":"IF(OR(INDEX('Calificación Pública'!O:O,ROW())=\"Sin información\", INDEX('Calificación Pública'!O:O,ROW())=\"Seleccione…\"), \"\", MATCH(INDEX('Calificación Pública'!O:O,ROW()), INDEX('Calificación Pública'!$H:$K,ROW(),0), 0))","v":""},{"$f":"IF(OR(INDEX('Calificación Pública'!P:P,ROW())=\"Sin información\", INDEX('Calificación Pública'!P:P,ROW())=\"Seleccione…\"), \"\", MATCH(INDEX('Calificación Pública'!P:P,ROW()), INDEX('Calificación Pública'!$H:$K,ROW(),0), 0))","v":""},{"$f":"IF(OR(INDEX('Calificación Pública'!Q:Q,ROW())=\"Sin información\", INDEX('Calificación Pública'!Q:Q,ROW())=\"Seleccione…\"), \"\", MATCH(INDEX('Calificación Pública'!Q:Q,ROW()), INDEX('Calificación Pública'!$H:$K,ROW(),0), 0))","v":""},{"$f":"IF(OR(INDEX('Calificación Pública'!R:R,ROW())=\"Sin información\", INDEX('Calificación Pública'!R:R,ROW())=\"Seleccione…\"), \"\", MATCH(INDEX('Calificación Pública'!R:R,ROW()), INDEX('Calificación Pública'!$H:$K,ROW(),0), 0))","v":""},{"$f":"IF(OR(INDEX('Calificación Pública'!S:S,ROW())=\"Sin información\", INDEX('Calificación Pública'!S:S,ROW())=\"Seleccione…\"), \"\", MATCH(INDEX('Calificación Pública'!S:S,ROW()), INDEX('Calificación Pública'!$H:$K,ROW(),0), 0))","v":""},{"$f":"IF(OR(INDEX('Calificación Pública'!T:T,ROW())=\"Sin información\", INDEX('Calificación Pública'!T:T,ROW())=\"Seleccione…\"), \"\", MATCH(INDEX('Calificación Pública'!T:T,ROW()), INDEX('Calificación Pública'!$H:$K,ROW(),0), 0))","v":""},{"$f":"IF(OR(INDEX('Calificación Pública'!U:U,ROW())=\"Sin información\", INDEX('Calificación Pública'!U:U,ROW())=\"Seleccione…\"), \"\", MATCH(INDEX('Calificación Pública'!U:U,ROW()), INDEX('Calificación Pública'!$H:$K,ROW(),0), 0))","v":""}]
[{"$f":"INDEX('Calificación Pública'!B:B,ROW())","v":"Ambiental"},{"$f":"INDEX('Calificación Pública'!C:C,ROW())","v":"Territorios de alta dependencia de carbón térmico"},{"$f":"IF(OR(INDEX('Calificación Pública'!L:L,ROW())=\"Sin información\", INDEX('Calificación Pública'!L:L,ROW())=\"Seleccione…\"), \"\", MATCH(INDEX('Calificación Pública'!L:L,ROW()), INDEX('Calificación Pública'!$H:$K,ROW(),0), 0))","v":3},{"$f":"IF(OR(INDEX('Calificación Pública'!M:M,ROW())=\"Sin información\", INDEX('Calificación Pública'!M:M,ROW())=\"Seleccione…\"), \"\", MATCH(INDEX('Calificación Pública'!M:M,ROW()), INDEX('Calificación Pública'!$H:$K,ROW(),0), 0))","v":4},{"$f":"IF(OR(INDEX('Calificación Pública'!N:N,ROW())=\"Sin información\", INDEX('Calificación Pública'!N:N,ROW())=\"Seleccione…\"), \"\", MATCH(INDEX('Calificación Pública'!N:N,ROW()), INDEX('Calificación Pública'!$H:$K,ROW(),0), 0))","v":""},{"$f":"IF(OR(INDEX('Calificación Pública'!O:O,ROW())=\"Sin información\", INDEX('Calificación Pública'!O:O,ROW())=\"Seleccione…\"), \"\", MATCH(INDEX('Calificación Pública'!O:O,ROW()), INDEX('Calificación Pública'!$H:$K,ROW(),0), 0))","v":""},{"$f":"IF(OR(INDEX('Calificación Pública'!P:P,ROW())=\"Sin información\", INDEX('Calificación Pública'!P:P,ROW())=\"Seleccione…\"), \"\", MATCH(INDEX('Calificación Pública'!P:P,ROW()), INDEX('Calificación Pública'!$H:$K,ROW(),0), 0))","v":""},{"$f":"IF(OR(INDEX('Calificación Pública'!Q:Q,ROW())=\"Sin información\", INDEX('Calificación Pública'!Q:Q,ROW())=\"Seleccione…\"), \"\", MATCH(INDEX('Calificación Pública'!Q:Q,ROW()), INDEX('Calificación Pública'!$H:$K,ROW(),0), 0))","v":""},{"$f":"IF(OR(INDEX('Calificación Pública'!R:R,ROW())=\"Sin información\", INDEX('Calificación Pública'!R:R,ROW())=\"Seleccione…\"), \"\", MATCH(INDEX('Calificación Pública'!R:R,ROW()), INDEX('Calificación Pública'!$H:$K,ROW(),0), 0))","v":""},{"$f":"IF(OR(INDEX('Calificación Pública'!S:S,ROW())=\"Sin información\", INDEX('Calificación Pública'!S:S,ROW())=\"Seleccione…\"), \"\", MATCH(INDEX('Calificación Pública'!S:S,ROW()), INDEX('Calificación Pública'!$H:$K,ROW(),0), 0))","v":""},{"$f":"IF(OR(INDEX('Calificación Pública'!T:T,ROW())=\"Sin información\", INDEX('Calificación Pública'!T:T,ROW())=\"Seleccione…\"), \"\", MATCH(INDEX('Calificación Pública'!T:T,ROW()), INDEX('Calificación Pública'!$H:$K,ROW(),0), 0))","v":""},{"$f":"IF(OR(INDEX('Calificación Pública'!U:U,ROW())=\"Sin información\", INDEX('Calificación Pública'!U:U,ROW())=\"Seleccione…\"), \"\", MATCH(INDEX('Calificación Pública'!U:U,ROW()), INDEX('Calificación Pública'!$H:$K,ROW(),0), 0))","v":""}]
[{"$f":"INDEX('Calificación Pública'!B:B,ROW())","v":"Económico"},{"$f":"INDEX('Calificación Pública'!C:C,ROW())","v":"Ahorro monetario del usuario en la factura eléctrica"},{"$f":"IF(OR(INDEX('Calificación Pública'!L:L,ROW())=\"Sin información\", INDEX('Calificación Pública'!L:L,ROW())=\"Seleccione…\"), \"\", MATCH(INDEX('Calificación Pública'!L:L,ROW()), INDEX('Calificación Pública'!$H:$K,ROW(),0), 0))","v":4},{"$f":"IF(OR(INDEX('Calificación Pública'!M:M,ROW())=\"Sin información\", INDEX('Calificación Pública'!M:M,ROW())=\"Seleccione…\"), \"\", MATCH(INDEX('Calificación Pública'!M:M,ROW()), INDEX('Calificación Pública'!$H:$K,ROW(),0), 0))","v":1},{"$f":"IF(OR(INDEX('Calificación Pública'!N:N,ROW())=\"Sin información\", INDEX('Calificación Pública'!N:N,ROW())=\"Seleccione…\"), \"\", MATCH(INDEX('Calificación Pública'!N:N,ROW()), INDEX('Calificación Pública'!$H:$K,ROW(),0), 0))","v":""},{"$f":"IF(OR(INDEX('Calificación Pública'!O:O,ROW())=\"Sin información\", INDEX('Calificación Pública'!O:O,ROW())=\"Seleccione…\"), \"\", MATCH(INDEX('Calificación Pública'!O:O,ROW()), INDEX('Calificación Pública'!$H:$K,ROW(),0), 0))","v":""},{"$f":"IF(OR(INDEX('Calificación Pública'!P:P,ROW())=\"Sin información\", INDEX('Calificación Pública'!P:P,ROW())=\"Seleccione…\"), \"\", MATCH(INDEX('Calificación Pública'!P:P,ROW()), INDEX('Calificación Pública'!$H:$K,ROW(),0), 0))","v":""},{"$f":"IF(OR(INDEX('Calificación Pública'!Q:Q,ROW())=\"Sin información\", INDEX('Calificación Pública'!Q:Q,ROW())=\"Seleccione…\"), \"\", MATCH(INDEX('Calificación Pública'!Q:Q,ROW()), INDEX('Calificación Pública'!$H:$K,ROW(),0), 0))","v":""},{"$f":"IF(OR(INDEX('Calificación Pública'!R:R,ROW())=\"Sin información\", INDEX('Calificación Pública'!R:R,ROW())=\"Seleccione…\"), \"\", MATCH(INDEX('Calificación Pública'!R:R,ROW()), INDEX('Calificación Pública'!$H:$K,ROW(),0), 0))","v":""},{"$f":"IF(OR(INDEX('Calificación Pública'!S:S,ROW())=\"Sin información\", INDEX('Calificación Pública'!S:S,ROW())=\"Seleccione…\"), \"\", MATCH(INDEX('Calificación Pública'!S:S,ROW()), INDEX('Calificación Pública'!$H:$K,ROW(),0), 0))","v":""},{"$f":"IF(OR(INDEX('Calificación Pública'!T:T,ROW())=\"Sin información\", INDEX('Calificación Pública'!T:T,ROW())=\"Seleccione…\"), \"\", MATCH(INDEX('Calificación Pública'!T:T,ROW()), INDEX('Calificación Pública'!$H:$K,ROW(),0), 0))","v":""},{"$f":"IF(OR(INDEX('Calificación Pública'!U:U,ROW())=\"Sin información\", INDEX('Calificación Pública'!U:U,ROW())=\"Seleccione…\"), \"\", MATCH(INDEX('Calificación Pública'!U:U,ROW()), INDEX('Calificación Pública'!$H:$K,ROW(),0), 0))","v":""}]
[{"$f":"INDEX('Calificación Pública'!B:B,ROW())","v":"Económico"},{"$f":"INDEX('Calificación Pública'!C:C,ROW())","v":"Coste de generación de energía ($/MWh)"},{"$f":"IF(OR(INDEX('Calificación Pública'!L:L,ROW())=\"Sin información\", INDEX('Calificación Pública'!L:L,ROW())=\"Seleccione…\"), \"\", MATCH(INDEX('Calificación Pública'!L:L,ROW()), INDEX('Calificación Pública'!$H:$K,ROW(),0), 0))","v":""},{"$f":"IF(OR(INDEX('Calificación Pública'!M:M,ROW())=\"Sin información\", INDEX('Calificación Pública'!M:M,ROW())=\"Seleccione…\"), \"\", MATCH(INDEX('Calificación Pública'!M:M,ROW()), INDEX('Calificación Pública'!$H:$K,ROW(),0), 0))","v":""},{"$f":"IF(OR(INDEX('Calificación Pública'!N:N,ROW())=\"Sin información\", INDEX('Calificación Pública'!N:N,ROW())=\"Seleccione…\"), \"\", MATCH(INDEX('Calificación Pública'!N:N,ROW()), INDEX('Calificación Pública'!$H:$K,ROW(),0), 0))","v":""},{"$f":"IF(OR(INDEX('Calificación Pública'!O:O,ROW())=\"Sin información\", INDEX('Calificación Pública'!O:O,ROW())=\"Seleccione…\"), \"\", MATCH(INDEX('Calificación Pública'!O:O,ROW()), INDEX('Calificación Pública'!$H:$K,ROW(),0), 0))","v":""},{"$f":"IF(OR(INDEX('Calificación Pública'!P:P,ROW())=\"Sin información\", INDEX('Calificación Pública'!P:P,ROW())=\"Seleccione…\"), \"\", MATCH(INDEX('Calificación Pública'!P:P,ROW()), INDEX('Calificación Pública'!$H:$K,ROW(),0), 0))","v":""},{"$f":"IF(OR(INDEX('Calificación Pública'!Q:Q,ROW())=\"Sin información\", INDEX('Calificación Pública'!Q:Q,ROW())=\"Seleccione…\"), \"\", MATCH(INDEX('Calificación Pública'!Q:Q,ROW()), INDEX('Calificación Pública'!$H:$K,ROW(),0), 0))","v":""},{"$f":"IF(OR(INDEX('Calificación Pública'!R:R,ROW())=\"Sin información\", INDEX('Calificación Pública'!R:R,ROW())=\"Seleccione…\"), \"\", MATCH(INDEX('Calificación Pública'!R:R,ROW()), INDEX('Calificación Pública'!$H:$K,ROW(),0), 0))","v":""},{"$f":"IF(OR(INDEX('Calificación Pública'!S:S,ROW())=\"Sin información\", INDEX('Calificación Pública'!S:S,ROW())=\"Seleccione…\"), \"\", MATCH(INDEX('Calificación Pública'!S:S,ROW()), INDEX('Calificación Pública'!$H:$K,ROW(),0), 0))","v":""},{"$f":"IF(OR(INDEX('Calificación Pública'!T:T,ROW())=\"Sin información\", INDEX('Calificación Pública'!T:T,ROW())=\"Seleccione…\"), \"\", MATCH(INDEX('Calificación Pública'!T:T,ROW()), INDEX('Calificación Pública'!$H:$K,ROW(),0), 0))","v":""},{"$f":"IF(OR(INDEX('Calificación Pública'!U:U,ROW())=\"Sin información\", INDEX('Calificación Pública'!U:U,ROW())=\"Seleccione…\"), \"\", MATCH(INDEX('Calificación Pública'!U:U,ROW()), INDEX('Calificación Pública'!$H:$K,ROW(),0), 0))","v":""}]
[{"$f":"INDEX('Calificación Pública'!B:B,ROW())","v":"Económico"},{"$f":"INDEX('Calificación Pública'!C:C,ROW())","v":"La comunidad realiza el pago por servicio de energía de manera cumplida"},{"$f":"IF(OR(INDEX('Calificación Pública'!L:L,ROW())=\"Sin información\", INDEX('Calificación Pública'!L:L,ROW())=\"Seleccione…\"), \"\", MATCH(INDEX('Calificación Pública'!L:L,ROW()), INDEX('Calificación Pública'!$H:$K,ROW(),0), 0))","v":""},{"$f":"IF(OR(INDEX('Calificación Pública'!M:M,ROW())=\"Sin información\", INDEX('Calificación Pública'!M:M,ROW())=\"Seleccione…\"), \"\", MATCH(INDEX('Calificación Pública'!M:M,ROW()), INDEX('Calificación Pública'!$H:$K,ROW(),0), 0))","v":""},{"$f":"IF(OR(INDEX('Calificación Pública'!N:N,ROW())=\"Sin información\", INDEX('Calificación Pública'!N:N,ROW())=\"Seleccione…\"), \"\", MATCH(INDEX('Calificación Pública'!N:N,ROW()), INDEX('Calificación Pública'!$H:$K,ROW(),0), 0))","v":""},{"$f":"IF(OR(INDEX('Calificación Pública'!O:O,ROW())=\"Sin información\", INDEX('Calificación Pública'!O:O,ROW())=\"Seleccione…\"), \"\", MATCH(INDEX('Calificación Pública'!O:O,ROW()), INDEX('Calificación Pública'!$H:$K,ROW(),0), 0))","v":""},{"$f":"IF(OR(INDEX('Calificación Pública'!P:P,ROW())=\"Sin información\", INDEX('Calificación Pública'!P:P,ROW())=\"Seleccione…\"), \"\", MATCH(INDEX('Calificación Pública'!P:P,ROW()), INDEX('Calificación Pública'!$H:$K,ROW(),0), 0))","v":""},{"$f":"IF(OR(INDEX('Calificación Pública'!Q:Q,ROW())=\"Sin información\", INDEX('Calificación Pública'!Q:Q,ROW())=\"Seleccione…\"), \"\", MATCH(INDEX('Calificación Pública'!Q:Q,ROW()), INDEX('Calificación Pública'!$H:$K,ROW(),0), 0))","v":""},{"$f":"IF(OR(INDEX('Calificación Pública'!R:R,ROW())=\"Sin información\", INDEX('Calificación Pública'!R:R,ROW())=\"Seleccione…\"), \"\", MATCH(INDEX('Calificación Pública'!R:R,ROW()), INDEX('Calificación Pública'!$H:$K,ROW(),0), 0))","v":""},{"$f":"IF(OR(INDEX('Calificación Pública'!S:S,ROW())=\"Sin información\", INDEX('Calificación Pública'!S:S,ROW())=\"Seleccione…\"), \"\", MATCH(INDEX('Calificación Pública'!S:S,ROW()), INDEX('Calificación Pública'!$H:$K,ROW(),0), 0))","v":""},{"$f":"IF(OR(INDEX('Calificación Pública'!T:T,ROW())=\"Sin información\", INDEX('Calificación Pública'!T:T,ROW())=\"Seleccione…\"), \"\", MATCH(INDEX('Calificación Pública'!T:T,ROW()), INDEX('Calificación Pública'!$H:$K,ROW(),0), 0))","v":""},{"$f":"IF(OR(INDEX('Calificación Pública'!U:U,ROW())=\"Sin información\", INDEX('Calificación Pública'!U:U,ROW())=\"Seleccione…\"), \"\", MATCH(INDEX('Calificación Pública'!U:U,ROW()), INDEX('Calificación Pública'!$H:$K,ROW(),0), 0))","v":""}]
[{"$f":"INDEX('Calificación Pública'!B:B,ROW())","v":"Económico"},{"$f":"INDEX('Calificación Pública'!C:C,ROW())","v":"Tiempo de retorno de la inversión"},{"$f":"IF(OR(INDEX('Calificación Pública'!L:L,ROW())=\"Sin información\", INDEX('Calificación Pública'!L:L,ROW())=\"Seleccione…\"), \"\", MATCH(INDEX('Calificación Pública'!L:L,ROW()), INDEX('Calificación Pública'!$H:$K,ROW(),0), 0))","v":""},{"$f":"IF(OR(INDEX('Calificación Pública'!M:M,ROW())=\"Sin información\", INDEX('Calificación Pública'!M:M,ROW())=\"Seleccione…\"), \"\", MATCH(INDEX('Calificación Pública'!M:M,ROW()), INDEX('Calificación Pública'!$H:$K,ROW(),0), 0))","v":""},{"$f":"IF(OR(INDEX('Calificación Pública'!N:N,ROW())=\"Sin información\", INDEX('Calificación Pública'!N:N,ROW())=\"Seleccione…\"), \"\", MATCH(INDEX('Calificación Pública'!N:N,ROW()), INDEX('Calificación Pública'!$H:$K,ROW(),0), 0))","v":""},{"$f":"IF(OR(INDEX('Calificación Pública'!O:O,ROW())=\"Sin información\", INDEX('Calificación Pública'!O:O,ROW())=\"Seleccione…\"), \"\", MATCH(INDEX('Calificación Pública'!O:O,ROW()), INDEX('Calificación Pública'!$H:$K,ROW(),0), 0))","v":""},{"$f":"IF(OR(INDEX('Calificación Pública'!P:P,ROW())=\"Sin información\", INDEX('Calificación Pública'!P:P,ROW())=\"Seleccione…\"), \"\", MATCH(INDEX('Calificación Pública'!P:P,ROW()), INDEX('Calificación Pública'!$H:$K,ROW(),0), 0))","v":""},{"$f":"IF(OR(INDEX('Calificación Pública'!Q:Q,ROW())=\"Sin información\", INDEX('Calificación Pública'!Q:Q,ROW())=\"Seleccione…\"), \"\", MATCH(INDEX('Calificación Pública'!Q:Q,ROW()), INDEX('Calificación Pública'!$H:$K,ROW(),0), 0))","v":""},{"$f":"IF(OR(INDEX('Calificación Pública'!R:R,ROW())=\"Sin información\", INDEX('Calificación Pública'!R:R,ROW())=\"Seleccione…\"), \"\", MATCH(INDEX('Calificación Pública'!R:R,ROW()), INDEX('Calificación Pública'!$H:$K,ROW(),0), 0))","v":""},{"$f":"IF(OR(INDEX('Calificación Pública'!S:S,ROW())=\"Sin información\", INDEX('Calificación Pública'!S:S,ROW())=\"Seleccione…\"), \"\", MATCH(INDEX('Calificación Pública'!S:S,ROW()), INDEX('Calificación Pública'!$H:$K,ROW(),0), 0))","v":""},{"$f":"IF(OR(INDEX('Calificación Pública'!T:T,ROW())=\"Sin información\", INDEX('Calificación Pública'!T:T,ROW())=\"Seleccione…\"), \"\", MATCH(INDEX('Calificación Pública'!T:T,ROW()), INDEX('Calificación Pública'!$H:$K,ROW(),0), 0))","v":""},{"$f":"IF(OR(INDEX('Calificación Pública'!U:U,ROW())=\"Sin información\", INDEX('Calificación Pública'!U:U,ROW())=\"Seleccione…\"), \"\", MATCH(INDEX('Calificación Pública'!U:U,ROW()), INDEX('Calificación Pública'!$H:$K,ROW(),0), 0))","v":""}]
[{"$f":"INDEX('Calificación Pública'!B:B,ROW())","v":"Económico"},{"$f":"INDEX('Calificación Pública'!C:C,ROW())","v":"Tasa interna de rentabilidad (TIR)"},{"$f":"IF(OR(INDEX('Calificación Pública'!L:L,ROW())=\"Sin información\", INDEX('Calificación Pública'!L:L,ROW())=\"Seleccione…\"), \"\", MATCH(INDEX('Calificación Pública'!L:L,ROW()), INDEX('Calificación Pública'!$H:$K,ROW(),0), 0))","v":""},{"$f":"IF(OR(INDEX('Calificación Pública'!M:M,ROW())=\"Sin información\", INDEX('Calificación Pública'!M:M,ROW())=\"Seleccione…\"), \"\", MATCH(INDEX('Calificación Pública'!M:M,ROW()), INDEX('Calificación Pública'!$H:$K,ROW(),0), 0))","v":""},{"$f":"IF(OR(INDEX('Calificación Pública'!N:N,ROW())=\"Sin información\", INDEX('Calificación Pública'!N:N,ROW())=\"Seleccione…\"), \"\", MATCH(INDEX('Calificación Pública'!N:N,ROW()), INDEX('Calificación Pública'!$H:$K,ROW(),0), 0))","v":""},{"$f":"IF(OR(INDEX('Calificación Pública'!O:O,ROW())=\"Sin información\", INDEX('Calificación Pública'!O:O,ROW())=\"Seleccione…\"), \"\", MATCH(INDEX('Calificación Pública'!O:O,ROW()), INDEX('Calificación Pública'!$H:$K,ROW(),0), 0))","v":""},{"$f":"IF(OR(INDEX('Calificación Pública'!P:P,ROW())=\"Sin información\", INDEX('Calificación Pública'!P:P,ROW())=\"Seleccione…\"), \"\", MATCH(INDEX('Calificación Pública'!P:P,ROW()), INDEX('Calificación Pública'!$H:$K,ROW(),0), 0))","v":""},{"$f":"IF(OR(INDEX('Calificación Pública'!Q:Q,ROW())=\"Sin información\", INDEX('Calificación Pública'!Q:Q,ROW())=\"Seleccione…\"), \"\", MATCH(INDEX('Calificación Pública'!Q:Q,ROW()), INDEX('Calificación Pública'!$H:$K,ROW(),0), 0))","v":""},{"$f":"IF(OR(INDEX('Calificación Pública'!R:R,ROW())=\"Sin información\", INDEX('Calificación Pública'!R:R,ROW())=\"Seleccione…\"), \"\", MATCH(INDEX('Calificación Pública'!R:R,ROW()), INDEX('Calificación Pública'!$H:$K,ROW(),0), 0))","v":""},{"$f":"IF(OR(INDEX('Calificación Pública'!S:S,ROW())=\"Sin información\", INDEX('Calificación Pública'!S:S,ROW())=\"Seleccione…\"), \"\", MATCH(INDEX('Calificación Pública'!S:S,ROW()), INDEX('Calificación Pública'!$H:$K,ROW(),0), 0))","v":""},{"$f":"IF(OR(INDEX('Calificación Pública'!T:T,ROW())=\"Sin información\", INDEX('Calificación Pública'!T:T,ROW())=\"Seleccione…\"), \"\", MATCH(INDEX('Calificación Pública'!T:T,ROW()), INDEX('Calificación Pública'!$H:$K,ROW(),0), 0))","v":""},{"$f":"IF(OR(INDEX('Calificación Pública'!U:U,ROW())=\"Sin información\", INDEX('Calificación Pública'!U:U,ROW())=\"Seleccione…\"), \"\", MATCH(INDEX('Calificación Pública'!U:U,ROW()), INDEX('Calificación Pública'!$H:$K,ROW(),0), 0))","v":""}]
[{"$f":"INDEX('Calificación Pública'!B:B,ROW())","v":"Económico"},{"$f":"INDEX('Calificación Pública'!C:C,ROW())","v":"Identificación de fuentes de financiación alternativas viables"},{"$f":"IF(OR(INDEX('Calificación Pública'!L:L,ROW())=\"Sin información\", INDEX('Calificación Pública'!L:L,ROW())=\"Seleccione…\"), \"\", MATCH(INDEX('Calificación Pública'!L:L,ROW()), INDEX('Calificación Pública'!$H:$K,ROW(),0), 0))","v":""},{"$f":"IF(OR(INDEX('Calificación Pública'!M:M,ROW())=\"Sin información\", INDEX('Calificación Pública'!M:M,ROW())=\"Seleccione…\"), \"\", MATCH(INDEX('Calificación Pública'!M:M,ROW()), INDEX('Calificación Pública'!$H:$K,ROW(),0), 0))","v":""},{"$f":"IF(OR(INDEX('Calificación Pública'!N:N,ROW())=\"Sin información\", INDEX('Calificación Pública'!N:N,ROW())=\"Seleccione…\"), \"\", MATCH(INDEX('Calificación Pública'!N:N,ROW()), INDEX('Calificación Pública'!$H:$K,ROW(),0), 0))","v":""},{"$f":"IF(OR(INDEX('Calificación Pública'!O:O,ROW())=\"Sin información\", INDEX('Calificación Pública'!O:O,ROW())=\"Seleccione…\"), \"\", MATCH(INDEX('Calificación Pública'!O:O,ROW()), INDEX('Calificación Pública'!$H:$K,ROW(),0), 0))","v":""},{"$f":"IF(OR(INDEX('Calificación Pública'!P:P,ROW())=\"Sin información\", INDEX('Calificación Pública'!P:P,ROW())=\"Seleccione…\"), \"\", MATCH(INDEX('Calificación Pública'!P:P,ROW()), INDEX('Calificación Pública'!$H:$K,ROW(),0), 0))","v":""},{"$f":"IF(OR(INDEX('Calificación Pública'!Q:Q,ROW())=\"Sin información\", INDEX('Calificación Pública'!Q:Q,ROW())=\"Seleccione…\"), \"\", MATCH(INDEX('Calificación Pública'!Q:Q,ROW()), INDEX('Calificación Pública'!$H:$K,ROW(),0), 0))","v":""},{"$f":"IF(OR(INDEX('Calificación Pública'!R:R,ROW())=\"Sin información\", INDEX('Calificación Pública'!R:R,ROW())=\"Seleccione…\"), \"\", MATCH(INDEX('Calificación Pública'!R:R,ROW()), INDEX('Calificación Pública'!$H:$K,ROW(),0), 0))","v":""},{"$f":"IF(OR(INDEX('Calificación Pública'!S:S,ROW())=\"Sin información\", INDEX('Calificación Pública'!S:S,ROW())=\"Seleccione…\"), \"\", MATCH(INDEX('Calificación Pública'!S:S,ROW()), INDEX('Calificación Pública'!$H:$K,ROW(),0), 0))","v":""},{"$f":"IF(OR(INDEX('Calificación Pública'!T:T,ROW())=\"Sin información\", INDEX('Calificación Pública'!T:T,ROW())=\"Seleccione…\"), \"\", MATCH(INDEX('Calificación Pública'!T:T,ROW()), INDEX('Calificación Pública'!$H:$K,ROW(),0), 0))","v":""},{"$f":"IF(OR(INDEX('Calificación Pública'!U:U,ROW())=\"Sin información\", INDEX('Calificación Pública'!U:U,ROW())=\"Seleccione…\"), \"\", MATCH(INDEX('Calificación Pública'!U:U,ROW()), INDEX('Calificación Pública'!$H:$K,ROW(),0), 0))","v":""}]
[{"$f":"INDEX('Calificación Pública'!B:B,ROW())","v":"Económico"},{"$f":"INDEX('Calificación Pública'!C:C,ROW())","v":"Capacidad de cofinanciación local"},{"$f":"IF(OR(INDEX('Calificación Pública'!L:L,ROW())=\"Sin información\", INDEX('Calificación Pública'!L:L,ROW())=\"Seleccione…\"), \"\", MATCH(INDEX('Calificación Pública'!L:L,ROW()), INDEX('Calificación Pública'!$H:$K,ROW(),0), 0))","v":""},{"$f":"IF(OR(INDEX('Calificación Pública'!M:M,ROW())=\"Sin información\", INDEX('Calificación Pública'!M:M,ROW())=\"Seleccione…\"), \"\", MATCH(INDEX('Calificación Pública'!M:M,ROW()), INDEX('Calificación Pública'!$H:$K,ROW(),0), 0))","v":""},{"$f":"IF(OR(INDEX('Calificación Pública'!N:N,ROW())=\"Sin información\", INDEX('Calificación Pública'!N:N,ROW())=\"Seleccione…\"), \"\", MATCH(INDEX('Calificación Pública'!N:N,ROW()), INDEX('Calificación Pública'!$H:$K,ROW(),0), 0))","v":""},{"$f":"IF(OR(INDEX('Calificación Pública'!O:O,ROW())=\"Sin información\", INDEX('Calificación Pública'!O:O,ROW())=\"Seleccione…\"), \"\", MATCH(INDEX('Calificación Pública'!O:O,ROW()), INDEX('Calificación Pública'!$H:$K,ROW(),0), 0))","v":""},{"$f":"IF(OR(INDEX('Calificación Pública'!P:P,ROW())=\"Sin información\", INDEX('Calificación Pública'!P:P,ROW())=\"Seleccione…\"), \"\", MATCH(INDEX('Calificación Pública'!P:P,ROW()), INDEX('Calificación Pública'!$H:$K,ROW(),0), 0))","v":""},{"$f":"IF(OR(INDEX('Calificación Pública'!Q:Q,ROW())=\"Sin información\", INDEX('Calificación Pública'!Q:Q,ROW())=\"Seleccione…\"), \"\", MATCH(INDEX('Calificación Pública'!Q:Q,ROW()), INDEX('Calificación Pública'!$H:$K,ROW(),0), 0))","v":""},{"$f":"IF(OR(INDEX('Calificación Pública'!R:R,ROW())=\"Sin información\", INDEX('Calificación Pública'!R:R,ROW())=\"Seleccione…\"), \"\", MATCH(INDEX('Calificación Pública'!R:R,ROW()), INDEX('Calificación Pública'!$H:$K,ROW(),0), 0))","v":""},{"$f":"IF(OR(INDEX('Calificación Pública'!S:S,ROW())=\"Sin información\", INDEX('Calificación Pública'!S:S,ROW())=\"Seleccione…\"), \"\", MATCH(INDEX('Calificación Pública'!S:S,ROW()), INDEX('Calificación Pública'!$H:$K,ROW(),0), 0))","v":""},{"$f":"IF(OR(INDEX('Calificación Pública'!T:T,ROW())=\"Sin información\", INDEX('Calificación Pública'!T:T,ROW())=\"Seleccione…\"), \"\", MATCH(INDEX('Calificación Pública'!T:T,ROW()), INDEX('Calificación Pública'!$H:$K,ROW(),0), 0))","v":""},{"$f":"IF(OR(INDEX('Calificación Pública'!U:U,ROW())=\"Sin información\", INDEX('Calificación Pública'!U:U,ROW())=\"Seleccione…\"), \"\", MATCH(INDEX('Calificación Pública'!U:U,ROW()), INDEX('Calificación Pública'!$H:$K,ROW(),0), 0))","v":""}]
[{"$f":"INDEX('Calificación Pública'!B:B,ROW())","v":"Económico"},{"$f":"INDEX('Calificación Pública'!C:C,ROW())","v":"Capacidad y voluntad de los miembros de la comunidad para financiar el proyecto"},{"$f":"IF(OR(INDEX('Calificación Pública'!L:L,ROW())=\"Sin información\", INDEX('Calificación Pública'!L:L,ROW())=\"Seleccione…\"), \"\", MATCH(INDEX('Calificación Pública'!L:L,ROW()), INDEX('Calificación Pública'!$H:$K,ROW(),0), 0))","v":""},{"$f":"IF(OR(INDEX('Calificación Pública'!M:M,ROW())=\"Sin información\", INDEX('Calificación Pública'!M:M,ROW())=\"Seleccione…\"), \"\", MATCH(INDEX('Calificación Pública'!M:M,ROW()), INDEX('Calificación Pública'!$H:$K,ROW(),0), 0))","v":""},{"$f":"IF(OR(INDEX('Calificación Pública'!N:N,ROW())=\"Sin información\", INDEX('Calificación Pública'!N:N,ROW())=\"Seleccione…\"), \"\", MATCH(INDEX('Calificación Pública'!N:N,ROW()), INDEX('Calificación Pública'!$H:$K,ROW(),0), 0))","v":""},{"$f":"IF(OR(INDEX('Calificación Pública'!O:O,ROW())=\"Sin información\", INDEX('Calificación Pública'!O:O,ROW())=\"Seleccione…\"), \"\", MATCH(INDEX('Calificación Pública'!O:O,ROW()), INDEX('Calificación Pública'!$H:$K,ROW(),0), 0))","v":""},{"$f":"IF(OR(INDEX('Calificación Pública'!P:P,ROW())=\"Sin información\", INDEX('Calificación Pública'!P:P,ROW())=\"Seleccione…\"), \"\", MATCH(INDEX('Calificación Pública'!P:P,ROW()), INDEX('Calificación Pública'!$H:$K,ROW(),0), 0))","v":""},{"$f":"IF(OR(INDEX('Calificación Pública'!Q:Q,ROW())=\"Sin información\", INDEX('Calificación Pública'!Q:Q,ROW())=\"Seleccione…\"), \"\", MATCH(INDEX('Calificación Pública'!Q:Q,ROW()), INDEX('Calificación Pública'!$H:$K,ROW(),0), 0))","v":""},{"$f":"IF(OR(INDEX('Calificación Pública'!R:R,ROW())=\"Sin información\", INDEX('Calificación Pública'!R:R,ROW())=\"Seleccione…\"), \"\", MATCH(INDEX('Calificación Pública'!R:R,ROW()), INDEX('Calificación Pública'!$H:$K,ROW(),0), 0))","v":""},{"$f":"IF(OR(INDEX('Calificación Pública'!S:S,ROW())=\"Sin información\", INDEX('Calificación Pública'!S:S,ROW())=\"Seleccione…\"), \"\", MATCH(INDEX('Calificación Pública'!S:S,ROW()), INDEX('Calificación Pública'!$H:$K,ROW(),0), 0))","v":""},{"$f":"IF(OR(INDEX('Calificación Pública'!T:T,ROW())=\"Sin información\", INDEX('Calificación Pública'!T:T,ROW())=\"Seleccione…\"), \"\", MATCH(INDEX('Calificación Pública'!T:T,ROW()), INDEX('Calificación Pública'!$H:$K,ROW(),0), 0))","v":""},{"$f":"IF(OR(INDEX('Calificación Pública'!U:U,ROW())=\"Sin información\", INDEX('Calificación Pública'!U:U,ROW())=\"Seleccione…\"), \"\", MATCH(INDEX('Calificación Pública'!U:U,ROW()), INDEX('Calificación Pública'!$H:$K,ROW(),0), 0))","v":""}]
[{"$f":"INDEX('Calificación Pública'!B:B,ROW())","v":"Económico"},{"$f":"INDEX('Calificación Pública'!C:C,ROW())","v":"Costos energéticos promedio por usuario"},{"$f":"IF(OR(INDEX('Calificación Pública'!L:L,ROW())=\"Sin información\", INDEX('Calificación Pública'!L:L,ROW())=\"Seleccione…\"), \"\", MATCH(INDEX('Calificación Pública'!L:L,ROW()), INDEX('Calificación Pública'!$H:$K,ROW(),0), 0))","v":""},{"$f":"IF(OR(INDEX('Calificación Pública'!M:M,ROW())=\"Sin información\", INDEX('Calificación Pública'!M:M,ROW())=\"Seleccione…\"), \"\", MATCH(INDEX('Calificación Pública'!M:M,ROW()), INDEX('Calificación Pública'!$H:$K,ROW(),0), 0))","v":""},{"$f":"IF(OR(INDEX('Calificación Pública'!N:N,ROW())=\"Sin información\", INDEX('Calificación Pública'!N:N,ROW())=\"Seleccione…\"), \"\", MATCH(INDEX('Calificación Pública'!N:N,ROW()), INDEX('Calificación Pública'!$H:$K,ROW(),0), 0))","v":""},{"$f":"IF(OR(INDEX('Calificación Pública'!O:O,ROW())=\"Sin información\", INDEX('Calificación Pública'!O:O,ROW())=\"Seleccione…\"), \"\", MATCH(INDEX('Calificación Pública'!O:O,ROW()), INDEX('Calificación Pública'!$H:$K,ROW(),0), 0))","v":""},{"$f":"IF(OR(INDEX('Calificación Pública'!P:P,ROW())=\"Sin información\", INDEX('Calificación Pública'!P:P,ROW())=\"Seleccione…\"), \"\", MATCH(INDEX('Calificación Pública'!P:P,ROW()), INDEX('Calificación Pública'!$H:$K,ROW(),0), 0))","v":""},{"$f":"IF(OR(INDEX('Calificación Pública'!Q:Q,ROW())=\"Sin información\", INDEX('Calificación Pública'!Q:Q,ROW())=\"Seleccione…\"), \"\", MATCH(INDEX('Calificación Pública'!Q:Q,ROW()), INDEX('Calificación Pública'!$H:$K,ROW(),0), 0))","v":""},{"$f":"IF(OR(INDEX('Calificación Pública'!R:R,ROW())=\"Sin información\", INDEX('Calificación Pública'!R:R,ROW())=\"Seleccione…\"), \"\", MATCH(INDEX('Calificación Pública'!R:R,ROW()), INDEX('Calificación Pública'!$H:$K,ROW(),0), 0))","v":""},{"$f":"IF(OR(INDEX('Calificación Pública'!S:S,ROW())=\"Sin información\", INDEX('Calificación Pública'!S:S,ROW())=\"Seleccione…\"), \"\", MATCH(INDEX('Calificación Pública'!S:S,ROW()), INDEX('Calificación Pública'!$H:$K,ROW(),0), 0))","v":""},{"$f":"IF(OR(INDEX('Calificación Pública'!T:T,ROW())=\"Sin información\", INDEX('Calificación Pública'!T:T,ROW())=\"Seleccione…\"), \"\", MATCH(INDEX('Calificación Pública'!T:T,ROW()), INDEX('Calificación Pública'!$H:$K,ROW(),0), 0))","v":""},{"$f":"IF(OR(INDEX('Calificación Pública'!U:U,ROW())=\"Sin información\", INDEX('Calificación Pública'!U:U,ROW())=\"Seleccione…\"), \"\", MATCH(INDEX('Calificación Pública'!U:U,ROW()), INDEX('Calificación Pública'!$H:$K,ROW(),0), 0))","v":""}]
[{"$f":"INDEX('Calificación Pública'!B:B,ROW())","v":"Legislativo/ normativo"},{"$f":"INDEX('Calificación Pública'!C:C,ROW())","v":"Disposición de instituciones externas para representar a la comunidad energética "},{"$f":"IF(OR(INDEX('Calificación Pública'!L:L,ROW())=\"Sin información\", INDEX('Calificación Pública'!L:L,ROW())=\"Seleccione…\"), \"\", MATCH(INDEX('Calificación Pública'!L:L,ROW()), INDEX('Calificación Pública'!$H:$K,ROW(),0), 0))","v":""},{"$f":"IF(OR(INDEX('Calificación Pública'!M:M,ROW())=\"Sin información\", INDEX('Calificación Pública'!M:M,ROW())=\"Seleccione…\"), \"\", MATCH(INDEX('Calificación Pública'!M:M,ROW()), INDEX('Calificación Pública'!$H:$K,ROW(),0), 0))","v":""},{"$f":"IF(OR(INDEX('Calificación Pública'!N:N,ROW())=\"Sin información\", INDEX('Calificación Pública'!N:N,ROW())=\"Seleccione…\"), \"\", MATCH(INDEX('Calificación Pública'!N:N,ROW()), INDEX('Calificación Pública'!$H:$K,ROW(),0), 0))","v":""},{"$f":"IF(OR(INDEX('Calificación Pública'!O:O,ROW())=\"Sin información\", INDEX('Calificación Pública'!O:O,ROW())=\"Seleccione…\"), \"\", MATCH(INDEX('Calificación Pública'!O:O,ROW()), INDEX('Calificación Pública'!$H:$K,ROW(),0), 0))","v":""},{"$f":"IF(OR(INDEX('Calificación Pública'!P:P,ROW())=\"Sin información\", INDEX('Calificación Pública'!P:P,ROW())=\"Seleccione…\"), \"\", MATCH(INDEX('Calificación Pública'!P:P,ROW()), INDEX('Calificación Pública'!$H:$K,ROW(),0), 0))","v":""},{"$f":"IF(OR(INDEX('Calificación Pública'!Q:Q,ROW())=\"Sin información\", INDEX('Calificación Pública'!Q:Q,ROW())=\"Seleccione…\"), \"\", MATCH(INDEX('Calificación Pública'!Q:Q,ROW()), INDEX('Calificación Pública'!$H:$K,ROW(),0), 0))","v":""},{"$f":"IF(OR(INDEX('Calificación Pública'!R:R,ROW())=\"Sin información\", INDEX('Calificación Pública'!R:R,ROW())=\"Seleccione…\"), \"\", MATCH(INDEX('Calificación Pública'!R:R,ROW()), INDEX('Calificación Pública'!$H:$K,ROW(),0), 0))","v":""},{"$f":"IF(OR(INDEX('Calificación Pública'!S:S,ROW())=\"Sin información\", INDEX('Calificación Pública'!S:S,ROW())=\"Seleccione…\"), \"\", MATCH(INDEX('Calificación Pública'!S:S,ROW()), INDEX('Calificación Pública'!$H:$K,ROW(),0), 0))","v":""},{"$f":"IF(OR(INDEX('Calificación Pública'!T:T,ROW())=\"Sin información\", INDEX('Calificación Pública'!T:T,ROW())=\"Seleccione…\"), \"\", MATCH(INDEX('Calificación Pública'!T:T,ROW()), INDEX('Calificación Pública'!$H:$K,ROW(),0), 0))","v":""},{"$f":"IF(OR(INDEX('Calificación Pública'!U:U,ROW())=\"Sin información\", INDEX('Calificación Pública'!U:U,ROW())=\"Seleccione…\"), \"\", MATCH(INDEX('Calificación Pública'!U:U,ROW()), INDEX('Calificación Pública'!$H:$K,ROW(),0), 0))","v":""}]
[{"$f":"INDEX('Calificación Pública'!B:B,ROW())","v":"Legislativo/ normativo"},{"$f":"INDEX('Calificación Pública'!C:C,ROW())","v":"¿Se cuenta con avances en lineamientos para la distribución y almacenamiento de energía? Autoconsumo"},{"$f":"IF(OR(INDEX('Calificación Pública'!L:L,ROW())=\"Sin información\", INDEX('Calificación Pública'!L:L,ROW())=\"Seleccione…\"), \"\", MATCH(INDEX('Calificación Pública'!L:L,ROW()), INDEX('Calificación Pública'!$H:$K,ROW(),0), 0))","v":""},{"$f":"IF(OR(INDEX('Calificación Pública'!M:M,ROW())=\"Sin información\", INDEX('Calificación Pública'!M:M,ROW())=\"Seleccione…\"), \"\", MATCH(INDEX('Calificación Pública'!M:M,ROW()), INDEX('Calificación Pública'!$H:$K,ROW(),0), 0))","v":""},{"$f":"IF(OR(INDEX('Calificación Pública'!N:N,ROW())=\"Sin información\", INDEX('Calificación Pública'!N:N,ROW())=\"Seleccione…\"), \"\", MATCH(INDEX('Calificación Pública'!N:N,ROW()), INDEX('Calificación Pública'!$H:$K,ROW(),0), 0))","v":""},{"$f":"IF(OR(INDEX('Calificación Pública'!O:O,ROW())=\"Sin información\", INDEX('Calificación Pública'!O:O,ROW())=\"Seleccione…\"), \"\", MATCH(INDEX('Calificación Pública'!O:O,ROW()), INDEX('Calificación Pública'!$H:$K,ROW(),0), 0))","v":""},{"$f":"IF(OR(INDEX('Calificación Pública'!P:P,ROW())=\"Sin información\", INDEX('Calificación Pública'!P:P,ROW())=\"Seleccione…\"), \"\", MATCH(INDEX('Calificación Pública'!P:P,ROW()), INDEX('Calificación Pública'!$H:$K,ROW(),0), 0))","v":""},{"$f":"IF(OR(INDEX('Calificación Pública'!Q:Q,ROW())=\"Sin información\", INDEX('Calificación Pública'!Q:Q,ROW())=\"Seleccione…\"), \"\", MATCH(INDEX('Calificación Pública'!Q:Q,ROW()), INDEX('Calificación Pública'!$H:$K,ROW(),0), 0))","v":""},{"$f":"IF(OR(INDEX('Calificación Pública'!R:R,ROW())=\"Sin información\", INDEX('Calificación Pública'!R:R,ROW())=\"Seleccione…\"), \"\", MATCH(INDEX('Calificación Pública'!R:R,ROW()), INDEX('Calificación Pública'!$H:$K,ROW(),0), 0))","v":""},{"$f":"IF(OR(INDEX('Calificación Pública'!S:S,ROW())=\"Sin información\", INDEX('Calificación Pública'!S:S,ROW())=\"Seleccione…\"), \"\", MATCH(INDEX('Calificación Pública'!S:S,ROW()), INDEX('Calificación Pública'!$H:$K,ROW(),0), 0))","v":""},{"$f":"IF(OR(INDEX('Calificación Pública'!T:T,ROW())=\"Sin información\", INDEX('Calificación Pública'!T:T,ROW())=\"Seleccione…\"), \"\", MATCH(INDEX('Calificación Pública'!T:T,ROW()), INDEX('Calificación Pública'!$H:$K,ROW(),0), 0))","v":""},{"$f":"IF(OR(INDEX('Calificación Pública'!U:U,ROW())=\"Sin información\", INDEX('Calificación Pública'!U:U,ROW())=\"Seleccione…\"), \"\", MATCH(INDEX('Calificación Pública'!U:U,ROW()), INDEX('Calificación Pública'!$H:$K,ROW(),0), 0))","v":""}]
[{"$f":"INDEX('Calificación Pública'!B:B,ROW())","v":"Legislativo/ normativo"},{"$f":"INDEX('Calificación Pública'!C:C,ROW())","v":"Políticas de Inclusión de Género en la Gobernanza de las Comunidades Energéticas"},{"$f":"IF(OR(INDEX('Calificación Pública'!L:L,ROW())=\"Sin información\", INDEX('Calificación Pública'!L:L,ROW())=\"Seleccione…\"), \"\", MATCH(INDEX('Calificación Pública'!L:L,ROW()), INDEX('Calificación Pública'!$H:$K,ROW(),0), 0))","v":""},{"$f":"IF(OR(INDEX('Calificación Pública'!M:M,ROW())=\"Sin información\", INDEX('Calificación Pública'!M:M,ROW())=\"Seleccione…\"), \"\", MATCH(INDEX('Calificación Pública'!M:M,ROW()), INDEX('Calificación Pública'!$H:$K,ROW(),0), 0))","v":""},{"$f":"IF(OR(INDEX('Calificación Pública'!N:N,ROW())=\"Sin información\", INDEX('Calificación Pública'!N:N,ROW())=\"Seleccione…\"), \"\", MATCH(INDEX('Calificación Pública'!N:N,ROW()), INDEX('Calificación Pública'!$H:$K,ROW(),0), 0))","v":""},{"$f":"IF(OR(INDEX('Calificación Pública'!O:O,ROW())=\"Sin información\", INDEX('Calificación Pública'!O:O,ROW())=\"Seleccione…\"), \"\", MATCH(INDEX('Calificación Pública'!O:O,ROW()), INDEX('Calificación Pública'!$H:$K,ROW(),0), 0))","v":""},{"$f":"IF(OR(INDEX('Calificación Pública'!P:P,ROW())=\"Sin información\", INDEX('Calificación Pública'!P:P,ROW())=\"Seleccione…\"), \"\", MATCH(INDEX('Calificación Pública'!P:P,ROW()), INDEX('Calificación Pública'!$H:$K,ROW(),0), 0))","v":""},{"$f":"IF(OR(INDEX('Calificación Pública'!Q:Q,ROW())=\"Sin información\", INDEX('Calificación Pública'!Q:Q,ROW())=\"Seleccione…\"), \"\", MATCH(INDEX('Calificación Pública'!Q:Q,ROW()), INDEX('Calificación Pública'!$H:$K,ROW(),0), 0))","v":""},{"$f":"IF(OR(INDEX('Calificación Pública'!R:R,ROW())=\"Sin información\", INDEX('Calificación Pública'!R:R,ROW())=\"Seleccione…\"), \"\", MATCH(INDEX('Calificación Pública'!R:R,ROW()), INDEX('Calificación Pública'!$H:$K,ROW(),0), 0))","v":""},{"$f":"IF(OR(INDEX('Calificación Pública'!S:S,ROW())=\"Sin información\", INDEX('Calificación Pública'!S:S,ROW())=\"Seleccione…\"), \"\", MATCH(INDEX('Calificación Pública'!S:S,ROW()), INDEX('Calificación Pública'!$H:$K,ROW(),0), 0))","v":""},{"$f":"IF(OR(INDEX('Calificación Pública'!T:T,ROW())=\"Sin información\", INDEX('Calificación Pública'!T:T,ROW())=\"Seleccione…\"), \"\", MATCH(INDEX('Calificación Pública'!T:T,ROW()), INDEX('Calificación Pública'!$H:$K,ROW(),0), 0))","v":""},{"$f":"IF(OR(INDEX('Calificación Pública'!U:U,ROW())=\"Sin información\", INDEX('Calificación Pública'!U:U,ROW())=\"Seleccione…\"), \"\", MATCH(INDEX('Calificación Pública'!U:U,ROW()), INDEX('Calificación Pública'!$H:$K,ROW(),0), 0))","v":""}]
[{"$f":"INDEX('Calificación Pública'!B:B,ROW())","v":"Social"},{"$f":"INDEX('Calificación Pública'!C:C,ROW())","v":"Participación Femenina en la Comunidad Energética"},{"$f":"IF(OR(INDEX('Calificación Pública'!L:L,ROW())=\"Sin información\", INDEX('Calificación Pública'!L:L,ROW())=\"Seleccione…\"), \"\", MATCH(INDEX('Calificación Pública'!L:L,ROW()), INDEX('Calificación Pública'!$H:$K,ROW(),0), 0))","v":""},{"$f":"IF(OR(INDEX('Calificación Pública'!M:M,ROW())=\"Sin información\", INDEX('Calificación Pública'!M:M,ROW())=\"Seleccione…\"), \"\", MATCH(INDEX('Calificación Pública'!M:M,ROW()), INDEX('Calificación Pública'!$H:$K,ROW(),0), 0))","v":""},{"$f":"IF(OR(INDEX('Calificación Pública'!N:N,ROW())=\"Sin información\", INDEX('Calificación Pública'!N:N,ROW())=\"Seleccione…\"), \"\", MATCH(INDEX('Calificación Pública'!N:N,ROW()), INDEX('Calificación Pública'!$H:$K,ROW(),0), 0))","v":""},{"$f":"IF(OR(INDEX('Calificación Pública'!O:O,ROW())=\"Sin información\", INDEX('Calificación Pública'!O:O,ROW())=\"Seleccione…\"), \"\", MATCH(INDEX('Calificación Pública'!O:O,ROW()), INDEX('Calificación Pública'!$H:$K,ROW(),0), 0))","v":""},{"$f":"IF(OR(INDEX('Calificación Pública'!P:P,ROW())=\"Sin información\", INDEX('Calificación Pública'!P:P,ROW())=\"Seleccione…\"), \"\", MATCH(INDEX('Calificación Pública'!P:P,ROW()), INDEX('Calificación Pública'!$H:$K,ROW(),0), 0))","v":""},{"$f":"IF(OR(INDEX('Calificación Pública'!Q:Q,ROW())=\"Sin información\", INDEX('Calificación Pública'!Q:Q,ROW())=\"Seleccione…\"), \"\", MATCH(INDEX('Calificación Pública'!Q:Q,ROW()), INDEX('Calificación Pública'!$H:$K,ROW(),0), 0))","v":""},{"$f":"IF(OR(INDEX('Calificación Pública'!R:R,ROW())=\"Sin información\", INDEX('Calificación Pública'!R:R,ROW())=\"Seleccione…\"), \"\", MATCH(INDEX('Calificación Pública'!R:R,ROW()), INDEX('Calificación Pública'!$H:$K,ROW(),0), 0))","v":""},{"$f":"IF(OR(INDEX('Calificación Pública'!S:S,ROW())=\"Sin información\", INDEX('Calificación Pública'!S:S,ROW())=\"Seleccione…\"), \"\", MATCH(INDEX('Calificación Pública'!S:S,ROW()), INDEX('Calificación Pública'!$H:$K,ROW(),0), 0))","v":""},{"$f":"IF(OR(INDEX('Calificación Pública'!T:T,ROW())=\"Sin información\", INDEX('Calificación Pública'!T:T,ROW())=\"Seleccione…\"), \"\", MATCH(INDEX('Calificación Pública'!T:T,ROW()), INDEX('Calificación Pública'!$H:$K,ROW(),0), 0))","v":""},{"$f":"IF(OR(INDEX('Calificación Pública'!U:U,ROW())=\"Sin información\", INDEX('Calificación Pública'!U:U,ROW())=\"Seleccione…\"), \"\", MATCH(INDEX('Calificación Pública'!U:U,ROW()), INDEX('Calificación Pública'!$H:$K,ROW(),0), 0))","v":""}]
[{"$f":"INDEX('Calificación Pública'!B:B,ROW())","v":"Social"},{"$f":"INDEX('Calificación Pública'!C:C,ROW())","v":"Población de especial protección constitucional del sector Paz (víctimas, personas en proceso de reincorporación)"},{"$f":"IF(OR(INDEX('Calificación Pública'!L:L,ROW())=\"Sin información\", INDEX('Calificación Pública'!L:L,ROW())=\"Seleccione…\"), \"\", MATCH(INDEX('Calificación Pública'!L:L,ROW()), INDEX('Calificación Pública'!$H:$K,ROW(),0), 0))","v":""},{"$f":"IF(OR(INDEX('Calificación Pública'!M:M,ROW())=\"Sin información\", INDEX('Calificación Pública'!M:M,ROW())=\"Seleccione…\"), \"\", MATCH(INDEX('Calificación Pública'!M:M,ROW()), INDEX('Calificación Pública'!$H:$K,ROW(),0), 0))","v":""},{"$f":"IF(OR(INDEX('Calificación Pública'!N:N,ROW())=\"Sin información\", INDEX('Calificación Pública'!N:N,ROW())=\"Seleccione…\"), \"\", MATCH(INDEX('Calificación Pública'!N:N,ROW()), INDEX('Calificación Pública'!$H:$K,ROW(),0), 0))","v":""},{"$f":"IF(OR(INDEX('Calificación Pública'!O:O,ROW())=\"Sin información\", INDEX('Calificación Pública'!O:O,ROW())=\"Seleccione…\"), \"\", MATCH(INDEX('Calificación Pública'!O:O,ROW()), INDEX('Calificación Pública'!$H:$K,ROW(),0), 0))","v":""},{"$f":"IF(OR(INDEX('Calificación Pública'!P:P,ROW())=\"Sin información\", INDEX('Calificación Pública'!P:P,ROW())=\"Seleccione…\"), \"\", MATCH(INDEX('Calificación Pública'!P:P,ROW()), INDEX('Calificación Pública'!$H:$K,ROW(),0), 0))","v":""},{"$f":"IF(OR(INDEX('Calificación Pública'!Q:Q,ROW())=\"Sin información\", INDEX('Calificación Pública'!Q:Q,ROW())=\"Seleccione…\"), \"\", MATCH(INDEX('Calificación Pública'!Q:Q,ROW()), INDEX('Calificación Pública'!$H:$K,ROW(),0), 0))","v":""},{"$f":"IF(OR(INDEX('Calificación Pública'!R:R,ROW())=\"Sin información\", INDEX('Calificación Pública'!R:R,ROW())=\"Seleccione…\"), \"\", MATCH(INDEX('Calificación Pública'!R:R,ROW()), INDEX('Calificación Pública'!$H:$K,ROW(),0), 0))","v":""},{"$f":"IF(OR(INDEX('Calificación Pública'!S:S,ROW())=\"Sin información\", INDEX('Calificación Pública'!S:S,ROW())=\"Seleccione…\"), \"\", MATCH(INDEX('Calificación Pública'!S:S,ROW()), INDEX('Calificación Pública'!$H:$K,ROW(),0), 0))","v":""},{"$f":"IF(OR(INDEX('Calificación Pública'!T:T,ROW())=\"Sin información\", INDEX('Calificación Pública'!T:T,ROW())=\"Seleccione…\"), \"\", MATCH(INDEX('Calificación Pública'!T:T,ROW()), INDEX('Calificación Pública'!$H:$K,ROW(),0), 0))","v":""},{"$f":"IF(OR(INDEX('Calificación Pública'!U:U,ROW())=\"Sin información\", INDEX('Calificación Pública'!U:U,ROW())=\"Seleccione…\"), \"\", MATCH(INDEX('Calificación Pública'!U:U,ROW()), INDEX('Calificación Pública'!$H:$K,ROW(),0), 0))","v":""}]
[{"$f":"INDEX('Calificación Pública'!B:B,ROW())","v":"Social"},{"$f":"INDEX('Calificación Pública'!C:C,ROW())","v":"Presencia de comunidades étnicas"},{"$f":"IF(OR(INDEX('Calificación Pública'!L:L,ROW())=\"Sin información\", INDEX('Calificación Pública'!L:L,ROW())=\"Seleccione…\"), \"\", MATCH(INDEX('Calificación Pública'!L:L,ROW()), INDEX('Calificación Pública'!$H:$K,ROW(),0), 0))","v":""},{"$f":"IF(OR(INDEX('Calificación Pública'!M:M,ROW())=\"Sin información\", INDEX('Calificación Pública'!M:M,ROW())=\"Seleccione…\"), \"\", MATCH(INDEX('Calificación Pública'!M:M,ROW()), INDEX('Calificación Pública'!$H:$K,ROW(),0), 0))","v":""},{"$f":"IF(OR(INDEX('Calificación Pública'!N:N,ROW())=\"Sin información\", INDEX('Calificación Pública'!N:N,ROW())=\"Seleccione…\"), \"\", MATCH(INDEX('Calificación Pública'!N:N,ROW()), INDEX('Calificación Pública'!$H:$K,ROW(),0), 0))","v":""},{"$f":"IF(OR(INDEX('Calificación Pública'!O:O,ROW())=\"Sin información\", INDEX('Calificación Pública'!O:O,ROW())=\"Seleccione…\"), \"\", MATCH(INDEX('Calificación Pública'!O:O,ROW()), INDEX('Calificación Pública'!$H:$K,ROW(),0), 0))","v":""},{"$f":"IF(OR(INDEX('Calificación Pública'!P:P,ROW())=\"Sin información\", INDEX('Calificación Pública'!P:P,ROW())=\"Seleccione…\"), \"\", MATCH(INDEX('Calificación Pública'!P:P,ROW()), INDEX('Calificación Pública'!$H:$K,ROW(),0), 0))","v":""},{"$f":"IF(OR(INDEX('Calificación Pública'!Q:Q,ROW())=\"Sin información\", INDEX('Calificación Pública'!Q:Q,ROW())=\"Seleccione…\"), \"\", MATCH(INDEX('Calificación Pública'!Q:Q,ROW()), INDEX('Calificación Pública'!$H:$K,ROW(),0), 0))","v":""},{"$f":"IF(OR(INDEX('Calificación Pública'!R:R,ROW())=\"Sin información\", INDEX('Calificación Pública'!R:R,ROW())=\"Seleccione…\"), \"\", MATCH(INDEX('Calificación Pública'!R:R,ROW()), INDEX('Calificación Pública'!$H:$K,ROW(),0), 0))","v":""},{"$f":"IF(OR(INDEX('Calificación Pública'!S:S,ROW())=\"Sin información\", INDEX('Calificación Pública'!S:S,ROW())=\"Seleccione…\"), \"\", MATCH(INDEX('Calificación Pública'!S:S,ROW()), INDEX('Calificación Pública'!$H:$K,ROW(),0), 0))","v":""},{"$f":"IF(OR(INDEX('Calificación Pública'!T:T,ROW())=\"Sin información\", INDEX('Calificación Pública'!T:T,ROW())=\"Seleccione…\"), \"\", MATCH(INDEX('Calificación Pública'!T:T,ROW()), INDEX('Calificación Pública'!$H:$K,ROW(),0), 0))","v":""},{"$f":"IF(OR(INDEX('Calificación Pública'!U:U,ROW())=\"Sin información\", INDEX('Calificación Pública'!U:U,ROW())=\"Seleccione…\"), \"\", MATCH(INDEX('Calificación Pública'!U:U,ROW()), INDEX('Calificación Pública'!$H:$K,ROW(),0), 0))","v":""}]
[{"$f":"INDEX('Calificación Pública'!B:B,ROW())","v":"Social"},{"$f":"INDEX('Calificación Pública'!C:C,ROW())","v":"Territorios colectivos de pueblos originarios o comunidades indígenas"},{"$f":"IF(OR(INDEX('Calificación Pública'!L:L,ROW())=\"Sin información\", INDEX('Calificación Pública'!L:L,ROW())=\"Seleccione…\"), \"\", MATCH(INDEX('Calificación Pública'!L:L,ROW()), INDEX('Calificación Pública'!$H:$K,ROW(),0), 0))","v":""},{"$f":"IF(OR(INDEX('Calificación Pública'!M:M,ROW())=\"Sin información\", INDEX('Calificación Pública'!M:M,ROW())=\"Seleccione…\"), \"\", MATCH(INDEX('Calificación Pública'!M:M,ROW()), INDEX('Calificación Pública'!$H:$K,ROW(),0), 0))","v":""},{"$f":"IF(OR(INDEX('Calificación Pública'!N:N,ROW())=\"Sin información\", INDEX('Calificación Pública'!N:N,ROW())=\"Seleccione…\"), \"\", MATCH(INDEX('Calificación Pública'!N:N,ROW()), INDEX('Calificación Pública'!$H:$K,ROW(),0), 0))","v":""},{"$f":"IF(OR(INDEX('Calificación Pública'!O:O,ROW())=\"Sin información\", INDEX('Calificación Pública'!O:O,ROW())=\"Seleccione…\"), \"\", MATCH(INDEX('Calificación Pública'!O:O,ROW()), INDEX('Calificación Pública'!$H:$K,ROW(),0), 0))","v":""},{"$f":"IF(OR(INDEX('Calificación Pública'!P:P,ROW())=\"Sin información\", INDEX('Calificación Pública'!P:P,ROW())=\"Seleccione…\"), \"\", MATCH(INDEX('Calificación Pública'!P:P,ROW()), INDEX('Calificación Pública'!$H:$K,ROW(),0), 0))","v":""},{"$f":"IF(OR(INDEX('Calificación Pública'!Q:Q,ROW())=\"Sin información\", INDEX('Calificación Pública'!Q:Q,ROW())=\"Seleccione…\"), \"\", MATCH(INDEX('Calificación Pública'!Q:Q,ROW()), INDEX('Calificación Pública'!$H:$K,ROW(),0), 0))","v":""},{"$f":"IF(OR(INDEX('Calificación Pública'!R:R,ROW())=\"Sin información\", INDEX('Calificación Pública'!R:R,ROW())=\"Seleccione…\"), \"\", MATCH(INDEX('Calificación Pública'!R:R,ROW()), INDEX('Calificación Pública'!$H:$K,ROW(),0), 0))","v":""},{"$f":"IF(OR(INDEX('Calificación Pública'!S:S,ROW())=\"Sin información\", INDEX('Calificación Pública'!S:S,ROW())=\"Seleccione…\"), \"\", MATCH(INDEX('Calificación Pública'!S:S,ROW()), INDEX('Calificación Pública'!$H:$K,ROW(),0), 0))","v":""},{"$f":"IF(OR(INDEX('Calificación Pública'!T:T,ROW())=\"Sin información\", INDEX('Calificación Pública'!T:T,ROW())=\"Seleccione…\"), \"\", MATCH(INDEX('Calificación Pública'!T:T,ROW()), INDEX('Calificación Pública'!$H:$K,ROW(),0), 0))","v":""},{"$f":"IF(OR(INDEX('Calificación Pública'!U:U,ROW())=\"Sin información\", INDEX('Calificación Pública'!U:U,ROW())=\"Seleccione…\"), \"\", MATCH(INDEX('Calificación Pública'!U:U,ROW()), INDEX('Calificación Pública'!$H:$K,ROW(),0), 0))","v":""}]
[{"$f":"INDEX('Calificación Pública'!B:B,ROW())","v":"Social"},{"$f":"INDEX('Calificación Pública'!C:C,ROW())","v":"Territorios de Antiguos espacios territoriales de capacitación y reincorporación y áreas especiales de reincorporación colectiva"},{"$f":"IF(OR(INDEX('Calificación Pública'!L:L,ROW())=\"Sin información\", INDEX('Calificación Pública'!L:L,ROW())=\"Seleccione…\"), \"\", MATCH(INDEX('Calificación Pública'!L:L,ROW()), INDEX('Calificación Pública'!$H:$K,ROW(),0), 0))","v":""},{"$f":"IF(OR(INDEX('Calificación Pública'!M:M,ROW())=\"Sin información\", INDEX('Calificación Pública'!M:M,ROW())=\"Seleccione…\"), \"\", MATCH(INDEX('Calificación Pública'!M:M,ROW()), INDEX('Calificación Pública'!$H:$K,ROW(),0), 0))","v":""},{"$f":"IF(OR(INDEX('Calificación Pública'!N:N,ROW())=\"Sin información\", INDEX('Calificación Pública'!N:N,ROW())=\"Seleccione…\"), \"\", MATCH(INDEX('Calificación Pública'!N:N,ROW()), INDEX('Calificación Pública'!$H:$K,ROW(),0), 0))","v":""},{"$f":"IF(OR(INDEX('Calificación Pública'!O:O,ROW())=\"Sin información\", INDEX('Calificación Pública'!O:O,ROW())=\"Seleccione…\"), \"\", MATCH(INDEX('Calificación Pública'!O:O,ROW()), INDEX('Calificación Pública'!$H:$K,ROW(),0), 0))","v":""},{"$f":"IF(OR(INDEX('Calificación Pública'!P:P,ROW())=\"Sin información\", INDEX('Calificación Pública'!P:P,ROW())=\"Seleccione…\"), \"\", MATCH(INDEX('Calificación Pública'!P:P,ROW()), INDEX('Calificación Pública'!$H:$K,ROW(),0), 0))","v":""},{"$f":"IF(OR(INDEX('Calificación Pública'!Q:Q,ROW())=\"Sin información\", INDEX('Calificación Pública'!Q:Q,ROW())=\"Seleccione…\"), \"\", MATCH(INDEX('Calificación Pública'!Q:Q,ROW()), INDEX('Calificación Pública'!$H:$K,ROW(),0), 0))","v":""},{"$f":"IF(OR(INDEX('Calificación Pública'!R:R,ROW())=\"Sin información\", INDEX('Calificación Pública'!R:R,ROW())=\"Seleccione…\"), \"\", MATCH(INDEX('Calificación Pública'!R:R,ROW()), INDEX('Calificación Pública'!$H:$K,ROW(),0), 0))","v":""},{"$f":"IF(OR(INDEX('Calificación Pública'!S:S,ROW())=\"Sin información\", INDEX('Calificación Pública'!S:S,ROW())=\"Seleccione…\"), \"\", MATCH(INDEX('Calificación Pública'!S:S,ROW()), INDEX('Calificación Pública'!$H:$K,ROW(),0), 0))","v":""},{"$f":"IF(OR(INDEX('Calificación Pública'!T:T,ROW())=\"Sin información\", INDEX('Calificación Pública'!T:T,ROW())=\"Seleccione…\"), \"\", MATCH(INDEX('Calificación Pública'!T:T,ROW()), INDEX('Calificación Pública'!$H:$K,ROW(),0), 0))","v":""},{"$f":"IF(OR(INDEX('Calificación Pública'!U:U,ROW())=\"Sin información\", INDEX('Calificación Pública'!U:U,ROW())=\"Seleccione…\"), \"\", MATCH(INDEX('Calificación Pública'!U:U,ROW()), INDEX('Calificación Pública'!$H:$K,ROW(),0), 0))","v":""}]
[{"$f":"INDEX('Calificación Pública'!B:B,ROW())","v":"Social"},{"$f":"INDEX('Calificación Pública'!C:C,ROW())","v":"Territorios de Paz"},{"$f":"IF(OR(INDEX('Calificación Pública'!L:L,ROW())=\"Sin información\", INDEX('Calificación Pública'!L:L,ROW())=\"Seleccione…\"), \"\", MATCH(INDEX('Calificación Pública'!L:L,ROW()), INDEX('Calificación Pública'!$H:$K,ROW(),0), 0))","v":""},{"$f":"IF(OR(INDEX('Calificación Pública'!M:M,ROW())=\"Sin información\", INDEX('Calificación Pública'!M:M,ROW())=\"Seleccione…\"), \"\", MATCH(INDEX('Calificación Pública'!M:M,ROW()), INDEX('Calificación Pública'!$H:$K,ROW(),0), 0))","v":""},{"$f":"IF(OR(INDEX('Calificación Pública'!N:N,ROW())=\"Sin información\", INDEX('Calificación Pública'!N:N,ROW())=\"Seleccione…\"), \"\", MATCH(INDEX('Calificación Pública'!N:N,ROW()), INDEX('Calificación Pública'!$H:$K,ROW(),0), 0))","v":""},{"$f":"IF(OR(INDEX('Calificación Pública'!O:O,ROW())=\"Sin información\", INDEX('Calificación Pública'!O:O,ROW())=\"Seleccione…\"), \"\", MATCH(INDEX('Calificación Pública'!O:O,ROW()), INDEX('Calificación Pública'!$H:$K,ROW(),0), 0))","v":""},{"$f":"IF(OR(INDEX('Calificación Pública'!P:P,ROW())=\"Sin información\", INDEX('Calificación Pública'!P:P,ROW())=\"Seleccione…\"), \"\", MATCH(INDEX('Calificación Pública'!P:P,ROW()), INDEX('Calificación Pública'!$H:$K,ROW(),0), 0))","v":""},{"$f":"IF(OR(INDEX('Calificación Pública'!Q:Q,ROW())=\"Sin información\", INDEX('Calificación Pública'!Q:Q,ROW())=\"Seleccione…\"), \"\", MATCH(INDEX('Calificación Pública'!Q:Q,ROW()), INDEX('Calificación Pública'!$H:$K,ROW(),0), 0))","v":""},{"$f":"IF(OR(INDEX('Calificación Pública'!R:R,ROW())=\"Sin información\", INDEX('Calificación Pública'!R:R,ROW())=\"Seleccione…\"), \"\", MATCH(INDEX('Calificación Pública'!R:R,ROW()), INDEX('Calificación Pública'!$H:$K,ROW(),0), 0))","v":""},{"$f":"IF(OR(INDEX('Calificación Pública'!S:S,ROW())=\"Sin información\", INDEX('Calificación Pública'!S:S,ROW())=\"Seleccione…\"), \"\", MATCH(INDEX('Calificación Pública'!S:S,ROW()), INDEX('Calificación Pública'!$H:$K,ROW(),0), 0))","v":""},{"$f":"IF(OR(INDEX('Calificación Pública'!T:T,ROW())=\"Sin información\", INDEX('Calificación Pública'!T:T,ROW())=\"Seleccione…\"), \"\", MATCH(INDEX('Calificación Pública'!T:T,ROW()), INDEX('Calificación Pública'!$H:$K,ROW(),0), 0))","v":""},{"$f":"IF(OR(INDEX('Calificación Pública'!U:U,ROW())=\"Sin información\", INDEX('Calificación Pública'!U:U,ROW())=\"Seleccione…\"), \"\", MATCH(INDEX('Calificación Pública'!U:U,ROW()), INDEX('Calificación Pública'!$H:$K,ROW(),0), 0))","v":""}]
[{"$f":"INDEX('Calificación Pública'!B:B,ROW())","v":"Social"},{"$f":"INDEX('Calificación Pública'!C:C,ROW())","v":"Territorios de Sistema Nacional de la Reforma Agraria y Desarrollo Rural, entre otras"},{"$f":"IF(OR(INDEX('Calificación Pública'!L:L,ROW())=\"Sin información\", INDEX('Calificación Pública'!L:L,ROW())=\"Seleccione…\"), \"\", MATCH(INDEX('Calificación Pública'!L:L,ROW()), INDEX('Calificación Pública'!$H:$K,ROW(),0), 0))","v":""},{"$f":"IF(OR(INDEX('Calificación Pública'!M:M,ROW())=\"Sin información\", INDEX('Calificación Pública'!M:M,ROW())=\"Seleccione…\"), \"\", MATCH(INDEX('Calificación Pública'!M:M,ROW()), INDEX('Calificación Pública'!$H:$K,ROW(),0), 0))","v":""},{"$f":"IF(OR(INDEX('Calificación Pública'!N:N,ROW())=\"Sin información\", INDEX('Calificación Pública'!N:N,ROW())=\"Seleccione…\"), \"\", MATCH(INDEX('Calificación Pública'!N:N,ROW()), INDEX('Calificación Pública'!$H:$K,ROW(),0), 0))","v":""},{"$f":"IF(OR(INDEX('Calificación Pública'!O:O,ROW())=\"Sin información\", INDEX('Calificación Pública'!O:O,ROW())=\"Seleccione…\"), \"\", MATCH(INDEX('Calificación Pública'!O:O,ROW()), INDEX('Calificación Pública'!$H:$K,ROW(),0), 0))","v":""},{"$f":"IF(OR(INDEX('Calificación Pública'!P:P,ROW())=\"Sin información\", INDEX('Calificación Pública'!P:P,ROW())=\"Seleccione…\"), \"\", MATCH(INDEX('Calificación Pública'!P:P,ROW()), INDEX('Calificación Pública'!$H:$K,ROW(),0), 0))","v":""},{"$f":"IF(OR(INDEX('Calificación Pública'!Q:Q,ROW())=\"Sin información\", INDEX('Calificación Pública'!Q:Q,ROW())=\"Seleccione…\"), \"\", MATCH(INDEX('Calificación Pública'!Q:Q,ROW()), INDEX('Calificación Pública'!$H:$K,ROW(),0), 0))","v":""},{"$f":"IF(OR(INDEX('Calificación Pública'!R:R,ROW())=\"Sin información\", INDEX('Calificación Pública'!R:R,ROW())=\"Seleccione…\"), \"\", MATCH(INDEX('Calificación Pública'!R:R,ROW()), INDEX('Calificación Pública'!$H:$K,ROW(),0), 0))","v":""},{"$f":"IF(OR(INDEX('Calificación Pública'!S:S,ROW())=\"Sin información\", INDEX('Calificación Pública'!S:S,ROW())=\"Seleccione…\"), \"\", MATCH(INDEX('Calificación Pública'!S:S,ROW()), INDEX('Calificación Pública'!$H:$K,ROW(),0), 0))","v":""},{"$f":"IF(OR(INDEX('Calificación Pública'!T:T,ROW())=\"Sin información\", INDEX('Calificación Pública'!T:T,ROW())=\"Seleccione…\"), \"\", MATCH(INDEX('Calificación Pública'!T:T,ROW()), INDEX('Calificación Pública'!$H:$K,ROW(),0), 0))","v":""},{"$f":"IF(OR(INDEX('Calificación Pública'!U:U,ROW())=\"Sin información\", INDEX('Calificación Pública'!U:U,ROW())=\"Seleccione…\"), \"\", MATCH(INDEX('Calificación Pública'!U:U,ROW()), INDEX('Calificación Pública'!$H:$K,ROW(),0), 0))","v":""}]
[{"$f":"INDEX('Calificación Pública'!B:B,ROW())","v":"Social"},{"$f":"INDEX('Calificación Pública'!C:C,ROW())","v":"Redes de cooperación intercomunitaria"},{"$f":"IF(OR(INDEX('Calificación Pública'!L:L,ROW())=\"Sin información\", INDEX('Calificación Pública'!L:L,ROW())=\"Seleccione…\"), \"\", MATCH(INDEX('Calificación Pública'!L:L,ROW()), INDEX('Calificación Pública'!$H:$K,ROW(),0), 0))","v":""},{"$f":"IF(OR(INDEX('Calificación Pública'!M:M,ROW())=\"Sin información\", INDEX('Calificación Pública'!M:M,ROW())=\"Seleccione…\"), \"\", MATCH(INDEX('Calificación Pública'!M:M,ROW()), INDEX('Calificación Pública'!$H:$K,ROW(),0), 0))","v":""},{"$f":"IF(OR(INDEX('Calificación Pública'!N:N,ROW())=\"Sin información\", INDEX('Calificación Pública'!N:N,ROW())=\"Seleccione…\"), \"\", MATCH(INDEX('Calificación Pública'!N:N,ROW()), INDEX('Calificación Pública'!$H:$K,ROW(),0), 0))","v":""},{"$f":"IF(OR(INDEX('Calificación Pública'!O:O,ROW())=\"Sin información\", INDEX('Calificación Pública'!O:O,ROW())=\"Seleccione…\"), \"\", MATCH(INDEX('Calificación Pública'!O:O,ROW()), INDEX('Calificación Pública'!$H:$K,ROW(),0), 0))","v":""},{"$f":"IF(OR(INDEX('Calificación Pública'!P:P,ROW())=\"Sin información\", INDEX('Calificación Pública'!P:P,ROW())=\"Seleccione…\"), \"\", MATCH(INDEX('Calificación Pública'!P:P,ROW()), INDEX('Calificación Pública'!$H:$K,ROW(),0), 0))","v":""},{"$f":"IF(OR(INDEX('Calificación Pública'!Q:Q,ROW())=\"Sin información\", INDEX('Calificación Pública'!Q:Q,ROW())=\"Seleccione…\"), \"\", MATCH(INDEX('Calificación Pública'!Q:Q,ROW()), INDEX('Calificación Pública'!$H:$K,ROW(),0), 0))","v":""},{"$f":"IF(OR(INDEX('Calificación Pública'!R:R,ROW())=\"Sin información\", INDEX('Calificación Pública'!R:R,ROW())=\"Seleccione…\"), \"\", MATCH(INDEX('Calificación Pública'!R:R,ROW()), INDEX('Calificación Pública'!$H:$K,ROW(),0), 0))","v":""},{"$f":"IF(OR(INDEX('Calificación Pública'!S:S,ROW())=\"Sin información\", INDEX('Calificación Pública'!S:S,ROW())=\"Seleccione…\"), \"\", MATCH(INDEX('Calificación Pública'!S:S,ROW()), INDEX('Calificación Pública'!$H:$K,ROW(),0), 0))","v":""},{"$f":"IF(OR(INDEX('Calificación Pública'!T:T,ROW())=\"Sin información\", INDEX('Calificación Pública'!T:T,ROW())=\"Seleccione…\"), \"\", MATCH(INDEX('Calificación Pública'!T:T,ROW()), INDEX('Calificación Pública'!$H:$K,ROW(),0), 0))","v":""},{"$f":"IF(OR(INDEX('Calificación Pública'!U:U,ROW())=\"Sin información\", INDEX('Calificación Pública'!U:U,ROW())=\"Seleccione…\"), \"\", MATCH(INDEX('Calificación Pública'!U:U,ROW()), INDEX('Calificación Pública'!$H:$K,ROW(),0), 0))","v":""}]
[{"$f":"INDEX('Calificación Pública'!B:B,ROW())","v":"Social"},{"$f":"INDEX('Calificación Pública'!C:C,ROW())","v":"Transparencia de los datos"},{"$f":"IF(OR(INDEX('Calificación Pública'!L:L,ROW())=\"Sin información\", INDEX('Calificación Pública'!L:L,ROW())=\"Seleccione…\"), \"\", MATCH(INDEX('Calificación Pública'!L:L,ROW()), INDEX('Calificación Pública'!$H:$K,ROW(),0), 0))","v":""},{"$f":"IF(OR(INDEX('Calificación Pública'!M:M,ROW())=\"Sin información\", INDEX('Calificación Pública'!M:M,ROW())=\"Seleccione…\"), \"\", MATCH(INDEX('Calificación Pública'!M:M,ROW()), INDEX('Calificación Pública'!$H:$K,ROW(),0), 0))","v":""},{"$f":"IF(OR(INDEX('Calificación Pública'!N:N,ROW())=\"Sin información\", INDEX('Calificación Pública'!N:N,ROW())=\"Seleccione…\"), \"\", MATCH(INDEX('Calificación Pública'!N:N,ROW()), INDEX('Calificación Pública'!$H:$K,ROW(),0), 0))","v":""},{"$f":"IF(OR(INDEX('Calificación Pública'!O:O,ROW())=\"Sin información\", INDEX('Calificación Pública'!O:O,ROW())=\"Seleccione…\"), \"\", MATCH(INDEX('Calificación Pública'!O:O,ROW()), INDEX('Calificación Pública'!$H:$K,ROW(),0), 0))","v":""},{"$f":"IF(OR(INDEX('Calificación Pública'!P:P,ROW())=\"Sin información\", INDEX('Calificación Pública'!P:P,ROW())=\"Seleccione…\"), \"\", MATCH(INDEX('Calificación Pública'!P:P,ROW()), INDEX('Calificación Pública'!$H:$K,ROW(),0), 0))","v":""},{"$f":"IF(OR(INDEX('Calificación Pública'!Q:Q,ROW())=\"Sin información\", INDEX('Calificación Pública'!Q:Q,ROW())=\"Seleccione…\"), \"\", MATCH(INDEX('Calificación Pública'!Q:Q,ROW()), INDEX('Calificación Pública'!$H:$K,ROW(),0), 0))","v":""},{"$f":"IF(OR(INDEX('Calificación Pública'!R:R,ROW())=\"Sin información\", INDEX('Calificación Pública'!R:R,ROW())=\"Seleccione…\"), \"\", MATCH(INDEX('Calificación Pública'!R:R,ROW()), INDEX('Calificación Pública'!$H:$K,ROW(),0), 0))","v":""},{"$f":"IF(OR(INDEX('Calificación Pública'!S:S,ROW())=\"Sin información\", INDEX('Calificación Pública'!S:S,ROW())=\"Seleccione…\"), \"\", MATCH(INDEX('Calificación Pública'!S:S,ROW()), INDEX('Calificación Pública'!$H:$K,ROW(),0), 0))","v":""},{"$f":"IF(OR(INDEX('Calificación Pública'!T:T,ROW())=\"Sin información\", INDEX('Calificación Pública'!T:T,ROW())=\"Seleccione…\"), \"\", MATCH(INDEX('Calificación Pública'!T:T,ROW()), INDEX('Calificación Pública'!$H:$K,ROW(),0), 0))","v":""},{"$f":"IF(OR(INDEX('Calificación Pública'!U:U,ROW())=\"Sin información\", INDEX('Calificación Pública'!U:U,ROW())=\"Seleccione…\"), \"\", MATCH(INDEX('Calificación Pública'!U:U,ROW()), INDEX('Calificación Pública'!$H:$K,ROW(),0), 0))","v":""}]
[{"$f":"INDEX('Calificación Pública'!B:B,ROW())","v":"Social"},{"$f":"INDEX('Calificación Pública'!C:C,ROW())","v":"¿Cómo es la relación entre los miembros de la comunidad y las instituciones públicas y privadas pertinentes?"},{"$f":"IF(OR(INDEX('Calificación Pública'!L:L,ROW())=\"Sin información\", INDEX('Calificación Pública'!L:L,ROW())=\"Seleccione…\"), \"\", MATCH(INDEX('Calificación Pública'!L:L,ROW()), INDEX('Calificación Pública'!$H:$K,ROW(),0), 0))","v":""},{"$f":"IF(OR(INDEX('Calificación Pública'!M:M,ROW())=\"Sin información\", INDEX('Calificación Pública'!M:M,ROW())=\"Seleccione…\"), \"\", MATCH(INDEX('Calificación Pública'!M:M,ROW()), INDEX('Calificación Pública'!$H:$K,ROW(),0), 0))","v":""},{"$f":"IF(OR(INDEX('Calificación Pública'!N:N,ROW())=\"Sin información\", INDEX('Calificación Pública'!N:N,ROW())=\"Seleccione…\"), \"\", MATCH(INDEX('Calificación Pública'!N:N,ROW()), INDEX('Calificación Pública'!$H:$K,ROW(),0), 0))","v":""},{"$f":"IF(OR(INDEX('Calificación Pública'!O:O,ROW())=\"Sin información\", INDEX('Calificación Pública'!O:O,ROW())=\"Seleccione…\"), \"\", MATCH(INDEX('Calificación Pública'!O:O,ROW()), INDEX('Calificación Pública'!$H:$K,ROW(),0), 0))","v":""},{"$f":"IF(OR(INDEX('Calificación Pública'!P:P,ROW())=\"Sin información\", INDEX('Calificación Pública'!P:P,ROW())=\"Seleccione…\"), \"\", MATCH(INDEX('Calificación Pública'!P:P,ROW()), INDEX('Calificación Pública'!$H:$K,ROW(),0), 0))","v":""},{"$f":"IF(OR(INDEX('Calificación Pública'!Q:Q,ROW())=\"Sin información\", INDEX('Calificación Pública'!Q:Q,ROW())=\"Seleccione…\"), \"\", MATCH(INDEX('Calificación Pública'!Q:Q,ROW()), INDEX('Calificación Pública'!$H:$K,ROW(),0), 0))","v":""},{"$f":"IF(OR(INDEX('Calificación Pública'!R:R,ROW())=\"Sin información\", INDEX('Calificación Pública'!R:R,ROW())=\"Seleccione…\"), \"\", MATCH(INDEX('Calificación Pública'!R:R,ROW()), INDEX('Calificación Pública'!$H:$K,ROW(),0), 0))","v":""},{"$f":"IF(OR(INDEX('Calificación Pública'!S:S,ROW())=\"Sin información\", INDEX('Calificación Pública'!S:S,ROW())=\"Seleccione…\"), \"\", MATCH(INDEX('Calificación Pública'!S:S,ROW()), INDEX('Calificación Pública'!$H:$K,ROW(),0), 0))","v":""},{"$f":"IF(OR(INDEX('Calificación Pública'!T:T,ROW())=\"Sin información\", INDEX('Calificación Pública'!T:T,ROW())=\"Seleccione…\"), \"\", MATCH(INDEX('Calificación Pública'!T:T,ROW()), INDEX('Calificación Pública'!$H:$K,ROW(),0), 0))","v":""},{"$f":"IF(OR(INDEX('Calificación Pública'!U:U,ROW())=\"Sin información\", INDEX('Calificación Pública'!U:U,ROW())=\"Seleccione…\"), \"\", MATCH(INDEX('Calificación Pública'!U:U,ROW()), INDEX('Calificación Pública'!$H:$K,ROW(),0), 0))","v":""}]
[{"$f":"INDEX('Calificación Pública'!B:B,ROW())","v":"Social"},{"$f":"INDEX('Calificación Pública'!C:C,ROW())","v":"¿Están dispuestos los miembros de la comunidad a invertir tiempo en actividades comunitarias de voluntariado?"},{"$f":"IF(OR(INDEX('Calificación Pública'!L:L,ROW())=\"Sin información\", INDEX('Calificación Pública'!L:L,ROW())=\"Seleccione…\"), \"\", MATCH(INDEX('Calificación Pública'!L:L,ROW()), INDEX('Calificación Pública'!$H:$K,ROW(),0), 0))","v":""},{"$f":"IF(OR(INDEX('Calificación Pública'!M:M,ROW())=\"Sin información\", INDEX('Calificación Pública'!M:M,ROW())=\"Seleccione…\"), \"\", MATCH(INDEX('Calificación Pública'!M:M,ROW()), INDEX('Calificación Pública'!$H:$K,ROW(),0), 0))","v":""},{"$f":"IF(OR(INDEX('Calificación Pública'!N:N,ROW())=\"Sin información\", INDEX('Calificación Pública'!N:N,ROW())=\"Seleccione…\"), \"\", MATCH(INDEX('Calificación Pública'!N:N,ROW()), INDEX('Calificación Pública'!$H:$K,ROW(),0), 0))","v":""},{"$f":"IF(OR(INDEX('Calificación Pública'!O:O,ROW())=\"Sin información\", INDEX('Calificación Pública'!O:O,ROW())=\"Seleccione…\"), \"\", MATCH(INDEX('Calificación Pública'!O:O,ROW()), INDEX('Calificación Pública'!$H:$K,ROW(),0), 0))","v":""},{"$f":"IF(OR(INDEX('Calificación Pública'!P:P,ROW())=\"Sin información\", INDEX('Calificación Pública'!P:P,ROW())=\"Seleccione…\"), \"\", MATCH(INDEX('Calificación Pública'!P:P,ROW()), INDEX('Calificación Pública'!$H:$K,ROW(),0), 0))","v":""},{"$f":"IF(OR(INDEX('Calificación Pública'!Q:Q,ROW())=\"Sin información\", INDEX('Calificación Pública'!Q:Q,ROW())=\"Seleccione…\"), \"\", MATCH(INDEX('Calificación Pública'!Q:Q,ROW()), INDEX('Calificación Pública'!$H:$K,ROW(),0), 0))","v":""},{"$f":"IF(OR(INDEX('Calificación Pública'!R:R,ROW())=\"Sin información\", INDEX('Calificación Pública'!R:R,ROW())=\"Seleccione…\"), \"\", MATCH(INDEX('Calificación Pública'!R:R,ROW()), INDEX('Calificación Pública'!$H:$K,ROW(),0), 0))","v":""},{"$f":"IF(OR(INDEX('Calificación Pública'!S:S,ROW())=\"Sin información\", INDEX('Calificación Pública'!S:S,ROW())=\"Seleccione…\"), \"\", MATCH(INDEX('Calificación Pública'!S:S,ROW()), INDEX('Calificación Pública'!$H:$K,ROW(),0), 0))","v":""},{"$f":"IF(OR(INDEX('Calificación Pública'!T:T,ROW())=\"Sin información\", INDEX('Calificación Pública'!T:T,ROW())=\"Seleccione…\"), \"\", MATCH(INDEX('Calificación Pública'!T:T,ROW()), INDEX('Calificación Pública'!$H:$K,ROW(),0), 0))","v":""},{"$f":"IF(OR(INDEX('Calificación Pública'!U:U,ROW())=\"Sin información\", INDEX('Calificación Pública'!U:U,ROW())=\"Seleccione…\"), \"\", MATCH(INDEX('Calificación Pública'!U:U,ROW()), INDEX('Calificación Pública'!$H:$K,ROW(),0), 0))","v":""}]
[{"$f":"INDEX('Calificación Pública'!B:B,ROW())","v":"Social"},{"$f":"INDEX('Calificación Pública'!C:C,ROW())","v":"¿Los techos o superficies de tierra potencialmente viables son propiedad de los miembros de la comunidad?"},{"$f":"IF(OR(INDEX('Calificación Pública'!L:L,ROW())=\"Sin información\", INDEX('Calificación Pública'!L:L,ROW())=\"Seleccione…\"), \"\", MATCH(INDEX('Calificación Pública'!L:L,ROW()), INDEX('Calificación Pública'!$H:$K,ROW(),0), 0))","v":""},{"$f":"IF(OR(INDEX('Calificación Pública'!M:M,ROW())=\"Sin información\", INDEX('Calificación Pública'!M:M,ROW())=\"Seleccione…\"), \"\", MATCH(INDEX('Calificación Pública'!M:M,ROW()), INDEX('Calificación Pública'!$H:$K,ROW(),0), 0))","v":""},{"$f":"IF(OR(INDEX('Calificación Pública'!N:N,ROW())=\"Sin información\", INDEX('Calificación Pública'!N:N,ROW())=\"Seleccione…\"), \"\", MATCH(INDEX('Calificación Pública'!N:N,ROW()), INDEX('Calificación Pública'!$H:$K,ROW(),0), 0))","v":""},{"$f":"IF(OR(INDEX('Calificación Pública'!O:O,ROW())=\"Sin información\", INDEX('Calificación Pública'!O:O,ROW())=\"Seleccione…\"), \"\", MATCH(INDEX('Calificación Pública'!O:O,ROW()), INDEX('Calificación Pública'!$H:$K,ROW(),0), 0))","v":""},{"$f":"IF(OR(INDEX('Calificación Pública'!P:P,ROW())=\"Sin información\", INDEX('Calificación Pública'!P:P,ROW())=\"Seleccione…\"), \"\", MATCH(INDEX('Calificación Pública'!P:P,ROW()), INDEX('Calificación Pública'!$H:$K,ROW(),0), 0))","v":""},{"$f":"IF(OR(INDEX('Calificación Pública'!Q:Q,ROW())=\"Sin información\", INDEX('Calificación Pública'!Q:Q,ROW())=\"Seleccione…\"), \"\", MATCH(INDEX('Calificación Pública'!Q:Q,ROW()), INDEX('Calificación Pública'!$H:$K,ROW(),0), 0))","v":""},{"$f":"IF(OR(INDEX('Calificación Pública'!R:R,ROW())=\"Sin información\", INDEX('Calificación Pública'!R:R,ROW())=\"Seleccione…\"), \"\", MATCH(INDEX('Calificación Pública'!R:R,ROW()), INDEX('Calificación Pública'!$H:$K,ROW(),0), 0))","v":""},{"$f":"IF(OR(INDEX('Calificación Pública'!S:S,ROW())=\"Sin información\", INDEX('Calificación Pública'!S:S,ROW())=\"Seleccione…\"), \"\", MATCH(INDEX('Calificación Pública'!S:S,ROW()), INDEX('Calificación Pública'!$H:$K,ROW(),0), 0))","v":""},{"$f":"IF(OR(INDEX('Calificación Pública'!T:T,ROW())=\"Sin información\", INDEX('Calificación Pública'!T:T,ROW())=\"Seleccione…\"), \"\", MATCH(INDEX('Calificación Pública'!T:T,ROW()), INDEX('Calificación Pública'!$H:$K,ROW(),0), 0))","v":""},{"$f":"IF(OR(INDEX('Calificación Pública'!U:U,ROW())=\"Sin información\", INDEX('Calificación Pública'!U:U,ROW())=\"Seleccione…\"), \"\", MATCH(INDEX('Calificación Pública'!U:U,ROW()), INDEX('Calificación Pública'!$H:$K,ROW(),0), 0))","v":""}]
[{"$f":"INDEX('Calificación Pública'!B:B,ROW())","v":"Social"},{"$f":"INDEX('Calificación Pública'!C:C,ROW())","v":"Aceptación del usuario"},{"$f":"IF(OR(INDEX('Calificación Pública'!L:L,ROW())=\"Sin información\", INDEX('Calificación Pública'!L:L,ROW())=\"Seleccione…\"), \"\", MATCH(INDEX('Calificación Pública'!L:L,ROW()), INDEX('Calificación Pública'!$H:$K,ROW(),0), 0))","v":""},{"$f":"IF(OR(INDEX('Calificación Pública'!M:M,ROW())=\"Sin información\", INDEX('Calificación Pública'!M:M,ROW())=\"Seleccione…\"), \"\", MATCH(INDEX('Calificación Pública'!M:M,ROW()), INDEX('Calificación Pública'!$H:$K,ROW(),0), 0))","v":""},{"$f":"IF(OR(INDEX('Calificación Pública'!N:N,ROW())=\"Sin información\", INDEX('Calificación Pública'!N:N,ROW())=\"Seleccione…\"), \"\", MATCH(INDEX('Calificación Pública'!N:N,ROW()), INDEX('Calificación Pública'!$H:$K,ROW(),0), 0))","v":""},{"$f":"IF(OR(INDEX('Calificación Pública'!O:O,ROW())=\"Sin información\", INDEX('Calificación Pública'!O:O,ROW())=\"Seleccione…\"), \"\", MATCH(INDEX('Calificación Pública'!O:O,ROW()), INDEX('Calificación Pública'!$H:$K,ROW(),0), 0))","v":""},{"$f":"IF(OR(INDEX('Calificación Pública'!P:P,ROW())=\"Sin información\", INDEX('Calificación Pública'!P:P,ROW())=\"Seleccione…\"), \"\", MATCH(INDEX('Calificación Pública'!P:P,ROW()), INDEX('Calificación Pública'!$H:$K,ROW(),0), 0))","v":""},{"$f":"IF(OR(INDEX('Calificación Pública'!Q:Q,ROW())=\"Sin información\", INDEX('Calificación Pública'!Q:Q,ROW())=\"Seleccione…\"), \"\", MATCH(INDEX('Calificación Pública'!Q:Q,ROW()), INDEX('Calificación Pública'!$H:$K,ROW(),0), 0))","v":""},{"$f":"IF(OR(INDEX('Calificación Pública'!R:R,ROW())=\"Sin información\", INDEX('Calificación Pública'!R:R,ROW())=\"Seleccione…\"), \"\", MATCH(INDEX('Calificación Pública'!R:R,ROW()), INDEX('Calificación Pública'!$H:$K,ROW(),0), 0))","v":""},{"$f":"IF(OR(INDEX('Calificación Pública'!S:S,ROW())=\"Sin información\", INDEX('Calificación Pública'!S:S,ROW())=\"Seleccione…\"), \"\", MATCH(INDEX('Calificación Pública'!S:S,ROW()), INDEX('Calificación Pública'!$H:$K,ROW(),0), 0))","v":""},{"$f":"IF(OR(INDEX('Calificación Pública'!T:T,ROW())=\"Sin información\", INDEX('Calificación Pública'!T:T,ROW())=\"Seleccione…\"), \"\", MATCH(INDEX('Calificación Pública'!T:T,ROW()), INDEX('Calificación Pública'!$H:$K,ROW(),0), 0))","v":""},{"$f":"IF(OR(INDEX('Calificación Pública'!U:U,ROW())=\"Sin información\", INDEX('Calificación Pública'!U:U,ROW())=\"Seleccione…\"), \"\", MATCH(INDEX('Calificación Pública'!U:U,ROW()), INDEX('Calificación Pública'!$H:$K,ROW(),0), 0))","v":""}]
[{"$f":"INDEX('Calificación Pública'!B:B,ROW())","v":"Social"},{"$f":"INDEX('Calificación Pública'!C:C,ROW())","v":"Impacto de las Iniciativas Energéticas en las Mujeres de la Comunidad"},{"$f":"IF(OR(INDEX('Calificación Pública'!L:L,ROW())=\"Sin información\", INDEX('Calificación Pública'!L:L,ROW())=\"Seleccione…\"), \"\", MATCH(INDEX('Calificación Pública'!L:L,ROW()), INDEX('Calificación Pública'!$H:$K,ROW(),0), 0))","v":""},{"$f":"IF(OR(INDEX('Calificación Pública'!M:M,ROW())=\"Sin información\", INDEX('Calificación Pública'!M:M,ROW())=\"Seleccione…\"), \"\", MATCH(INDEX('Calificación Pública'!M:M,ROW()), INDEX('Calificación Pública'!$H:$K,ROW(),0), 0))","v":""},{"$f":"IF(OR(INDEX('Calificación Pública'!N:N,ROW())=\"Sin información\", INDEX('Calificación Pública'!N:N,ROW())=\"Seleccione…\"), \"\", MATCH(INDEX('Calificación Pública'!N:N,ROW()), INDEX('Calificación Pública'!$H:$K,ROW(),0), 0))","v":""},{"$f":"IF(OR(INDEX('Calificación Pública'!O:O,ROW())=\"Sin información\", INDEX('Calificación Pública'!O:O,ROW())=\"Seleccione…\"), \"\", MATCH(INDEX('Calificación Pública'!O:O,ROW()), INDEX('Calificación Pública'!$H:$K,ROW(),0), 0))","v":""},{"$f":"IF(OR(INDEX('Calificación Pública'!P:P,ROW())=\"Sin información\", INDEX('Calificación Pública'!P:P,ROW())=\"Seleccione…\"), \"\", MATCH(INDEX('Calificación Pública'!P:P,ROW()), INDEX('Calificación Pública'!$H:$K,ROW(),0), 0))","v":""},{"$f":"IF(OR(INDEX('Calificación Pública'!Q:Q,ROW())=\"Sin información\", INDEX('Calificación Pública'!Q:Q,ROW())=\"Seleccione…\"), \"\", MATCH(INDEX('Calificación Pública'!Q:Q,ROW()), INDEX('Calificación Pública'!$H:$K,ROW(),0), 0))","v":""},{"$f":"IF(OR(INDEX('Calificación Pública'!R:R,ROW())=\"Sin información\", INDEX('Calificación Pública'!R:R,ROW())=\"Seleccione…\"), \"\", MATCH(INDEX('Calificación Pública'!R:R,ROW()), INDEX('Calificación Pública'!$H:$K,ROW(),0), 0))","v":""},{"$f":"IF(OR(INDEX('Calificación Pública'!S:S,ROW())=\"Sin información\", INDEX('Calificación Pública'!S:S,ROW())=\"Seleccione…\"), \"\", MATCH(INDEX('Calificación Pública'!S:S,ROW()), INDEX('Calificación Pública'!$H:$K,ROW(),0), 0))","v":""},{"$f":"IF(OR(INDEX('Calificación Pública'!T:T,ROW())=\"Sin información\", INDEX('Calificación Pública'!T:T,ROW())=\"Seleccione…\"), \"\", MATCH(INDEX('Calificación Pública'!T:T,ROW()), INDEX('Calificación Pública'!$H:$K,ROW(),0), 0))","v":""},{"$f":"IF(OR(INDEX('Calificación Pública'!U:U,ROW())=\"Sin información\", INDEX('Calificación Pública'!U:U,ROW())=\"Seleccione…\"), \"\", MATCH(INDEX('Calificación Pública'!U:U,ROW()), INDEX('Calificación Pública'!$H:$K,ROW(),0), 0))","v":""}]
[{"$f":"INDEX('Calificación Pública'!B:B,ROW())","v":"Social"},{"$f":"INDEX('Calificación Pública'!C:C,ROW())","v":"Cumplimiento de consultas previas"},{"$f":"IF(OR(INDEX('Calificación Pública'!L:L,ROW())=\"Sin información\", INDEX('Calificación Pública'!L:L,ROW())=\"Seleccione…\"), \"\", MATCH(INDEX('Calificación Pública'!L:L,ROW()), INDEX('Calificación Pública'!$H:$K,ROW(),0), 0))","v":""},{"$f":"IF(OR(INDEX('Calificación Pública'!M:M,ROW())=\"Sin información\", INDEX('Calificación Pública'!M:M,ROW())=\"Seleccione…\"), \"\", MATCH(INDEX('Calificación Pública'!M:M,ROW()), INDEX('Calificación Pública'!$H:$K,ROW(),0), 0))","v":""},{"$f":"IF(OR(INDEX('Calificación Pública'!N:N,ROW())=\"Sin información\", INDEX('Calificación Pública'!N:N,ROW())=\"Seleccione…\"), \"\", MATCH(INDEX('Calificación Pública'!N:N,ROW()), INDEX('Calificación Pública'!$H:$K,ROW(),0), 0))","v":""},{"$f":"IF(OR(INDEX('Calificación Pública'!O:O,ROW())=\"Sin información\", INDEX('Calificación Pública'!O:O,ROW())=\"Seleccione…\"), \"\", MATCH(INDEX('Calificación Pública'!O:O,ROW()), INDEX('Calificación Pública'!$H:$K,ROW(),0), 0))","v":""},{"$f":"IF(OR(INDEX('Calificación Pública'!P:P,ROW())=\"Sin información\", INDEX('Calificación Pública'!P:P,ROW())=\"Seleccione…\"), \"\", MATCH(INDEX('Calificación Pública'!P:P,ROW()), INDEX('Calificación Pública'!$H:$K,ROW(),0), 0))","v":""},{"$f":"IF(OR(INDEX('Calificación Pública'!Q:Q,ROW())=\"Sin información\", INDEX('Calificación Pública'!Q:Q,ROW())=\"Seleccione…\"), \"\", MATCH(INDEX('Calificación Pública'!Q:Q,ROW()), INDEX('Calificación Pública'!$H:$K,ROW(),0), 0))","v":""},{"$f":"IF(OR(INDEX('Calificación Pública'!R:R,ROW())=\"Sin información\", INDEX('Calificación Pública'!R:R,ROW())=\"Seleccione…\"), \"\", MATCH(INDEX('Calificación Pública'!R:R,ROW()), INDEX('Calificación Pública'!$H:$K,ROW(),0), 0))","v":""},{"$f":"IF(OR(INDEX('Calificación Pública'!S:S,ROW())=\"Sin información\", INDEX('Calificación Pública'!S:S,ROW())=\"Seleccione…\"), \"\", MATCH(INDEX('Calificación Pública'!S:S,ROW()), INDEX('Calificación Pública'!$H:$K,ROW(),0), 0))","v":""},{"$f":"IF(OR(INDEX('Calificación Pública'!T:T,ROW())=\"Sin información\", INDEX('Calificación Pública'!T:T,ROW())=\"Seleccione…\"), \"\", MATCH(INDEX('Calificación Pública'!T:T,ROW()), INDEX('Calificación Pública'!$H:$K,ROW(),0), 0))","v":""},{"$f":"IF(OR(INDEX('Calificación Pública'!U:U,ROW())=\"Sin información\", INDEX('Calificación Pública'!U:U,ROW())=\"Seleccione…\"), \"\", MATCH(INDEX('Calificación Pública'!U:U,ROW()), INDEX('Calificación Pública'!$H:$K,ROW(),0), 0))","v":""}]
[{"$f":"INDEX('Calificación Pública'!B:B,ROW())","v":"Social"},{"$f":"INDEX('Calificación Pública'!C:C,ROW())","v":"Capacitación en Energías Renovables con Enfoque de Género"},{"$f":"IF(OR(INDEX('Calificación Pública'!L:L,ROW())=\"Sin información\", INDEX('Calificación Pública'!L:L,ROW())=\"Seleccione…\"), \"\", MATCH(INDEX('Calificación Pública'!L:L,ROW()), INDEX('Calificación Pública'!$H:$K,ROW(),0), 0))","v":""},{"$f":"IF(OR(INDEX('Calificación Pública'!M:M,ROW())=\"Sin información\", INDEX('Calificación Pública'!M:M,ROW())=\"Seleccione…\"), \"\", MATCH(INDEX('Calificación Pública'!M:M,ROW()), INDEX('Calificación Pública'!$H:$K,ROW(),0), 0))","v":""},{"$f":"IF(OR(INDEX('Calificación Pública'!N:N,ROW())=\"Sin información\", INDEX('Calificación Pública'!N:N,ROW())=\"Seleccione…\"), \"\", MATCH(INDEX('Calificación Pública'!N:N,ROW()), INDEX('Calificación Pública'!$H:$K,ROW(),0), 0))","v":""},{"$f":"IF(OR(INDEX('Calificación Pública'!O:O,ROW())=\"Sin información\", INDEX('Calificación Pública'!O:O,ROW())=\"Seleccione…\"), \"\", MATCH(INDEX('Calificación Pública'!O:O,ROW()), INDEX('Calificación Pública'!$H:$K,ROW(),0), 0))","v":""},{"$f":"IF(OR(INDEX('Calificación Pública'!P:P,ROW())=\"Sin información\", INDEX('Calificación Pública'!P:P,ROW())=\"Seleccione…\"), \"\", MATCH(INDEX('Calificación Pública'!P:P,ROW()), INDEX('Calificación Pública'!$H:$K,ROW(),0), 0))","v":""},{"$f":"IF(OR(INDEX('Calificación Pública'!Q:Q,ROW())=\"Sin información\", INDEX('Calificación Pública'!Q:Q,ROW())=\"Seleccione…\"), \"\", MATCH(INDEX('Calificación Pública'!Q:Q,ROW()), INDEX('Calificación Pública'!$H:$K,ROW(),0), 0))","v":""},{"$f":"IF(OR(INDEX('Calificación Pública'!R:R,ROW())=\"Sin información\", INDEX('Calificación Pública'!R:R,ROW())=\"Seleccione…\"), \"\", MATCH(INDEX('Calificación Pública'!R:R,ROW()), INDEX('Calificación Pública'!$H:$K,ROW(),0), 0))","v":""},{"$f":"IF(OR(INDEX('Calificación Pública'!S:S,ROW())=\"Sin información\", INDEX('Calificación Pública'!S:S,ROW())=\"Seleccione…\"), \"\", MATCH(INDEX('Calificación Pública'!S:S,ROW()), INDEX('Calificación Pública'!$H:$K,ROW(),0), 0))","v":""},{"$f":"IF(OR(INDEX('Calificación Pública'!T:T,ROW())=\"Sin información\", INDEX('Calificación Pública'!T:T,ROW())=\"Seleccione…\"), \"\", MATCH(INDEX('Calificación Pública'!T:T,ROW()), INDEX('Calificación Pública'!$H:$K,ROW(),0), 0))","v":""},{"$f":"IF(OR(INDEX('Calificación Pública'!U:U,ROW())=\"Sin información\", INDEX('Calificación Pública'!U:U,ROW())=\"Seleccione…\"), \"\", MATCH(INDEX('Calificación Pública'!U:U,ROW()), INDEX('Calificación Pública'!$H:$K,ROW(),0), 0))","v":""}]
[{"$f":"INDEX('Calificación Pública'!B:B,ROW())","v":"Técnico"},{"$f":"INDEX('Calificación Pública'!C:C,ROW())","v":"¿Hay capacidad disponible en el circuito de distribución local para la capacidad de generación estimada?\n(límite del 50%)"},{"$f":"IF(OR(INDEX('Calificación Pública'!L:L,ROW())=\"Sin información\", INDEX('Calificación Pública'!L:L,ROW())=\"Seleccione…\"), \"\", MATCH(INDEX('Calificación Pública'!L:L,ROW()), INDEX('Calificación Pública'!$H:$K,ROW(),0), 0))","v":""},{"$f":"IF(OR(INDEX('Calificación Pública'!M:M,ROW())=\"Sin información\", INDEX('Calificación Pública'!M:M,ROW())=\"Seleccione…\"), \"\", MATCH(INDEX('Calificación Pública'!M:M,ROW()), INDEX('Calificación Pública'!$H:$K,ROW(),0), 0))","v":""},{"$f":"IF(OR(INDEX('Calificación Pública'!N:N,ROW())=\"Sin información\", INDEX('Calificación Pública'!N:N,ROW())=\"Seleccione…\"), \"\", MATCH(INDEX('Calificación Pública'!N:N,ROW()), INDEX('Calificación Pública'!$H:$K,ROW(),0), 0))","v":""},{"$f":"IF(OR(INDEX('Calificación Pública'!O:O,ROW())=\"Sin información\", INDEX('Calificación Pública'!O:O,ROW())=\"Seleccione…\"), \"\", MATCH(INDEX('Calificación Pública'!O:O,ROW()), INDEX('Calificación Pública'!$H:$K,ROW(),0), 0))","v":""},{"$f":"IF(OR(INDEX('Calificación Pública'!P:P,ROW())=\"Sin información\", INDEX('Calificación Pública'!P:P,ROW())=\"Seleccione…\"), \"\", MATCH(INDEX('Calificación Pública'!P:P,ROW()), INDEX('Calificación Pública'!$H:$K,ROW(),0), 0))","v":""},{"$f":"IF(OR(INDEX('Calificación Pública'!Q:Q,ROW())=\"Sin información\", INDEX('Calificación Pública'!Q:Q,ROW())=\"Seleccione…\"), \"\", MATCH(INDEX('Calificación Pública'!Q:Q,ROW()), INDEX('Calificación Pública'!$H:$K,ROW(),0), 0))","v":""},{"$f":"IF(OR(INDEX('Calificación Pública'!R:R,ROW())=\"Sin información\", INDEX('Calificación Pública'!R:R,ROW())=\"Seleccione…\"), \"\", MATCH(INDEX('Calificación Pública'!R:R,ROW()), INDEX('Calificación Pública'!$H:$K,ROW(),0), 0))","v":""},{"$f":"IF(OR(INDEX('Calificación Pública'!S:S,ROW())=\"Sin información\", INDEX('Calificación Pública'!S:S,ROW())=\"Seleccione…\"), \"\", MATCH(INDEX('Calificación Pública'!S:S,ROW()), INDEX('Calificación Pública'!$H:$K,ROW(),0), 0))","v":""},{"$f":"IF(OR(INDEX('Calificación Pública'!T:T,ROW())=\"Sin información\", INDEX('Calificación Pública'!T:T,ROW())=\"Seleccione…\"), \"\", MATCH(INDEX('Calificación Pública'!T:T,ROW()), INDEX('Calificación Pública'!$H:$K,ROW(),0), 0))","v":""},{"$f":"IF(OR(INDEX('Calificación Pública'!U:U,ROW())=\"Sin información\", INDEX('Calificación Pública'!U:U,ROW())=\"Seleccione…\"), \"\", MATCH(INDEX('Calificación Pública'!U:U,ROW()), INDEX('Calificación Pública'!$H:$K,ROW(),0), 0))","v":""}]
[{"$f":"INDEX('Calificación Pública'!B:B,ROW())","v":"Técnico"},{"$f":"INDEX('Calificación Pública'!C:C,ROW())","v":"¿Se trata de una comunidad ya postulada y focalizada?"},{"$f":"IF(OR(INDEX('Calificación Pública'!L:L,ROW())=\"Sin información\", INDEX('Calificación Pública'!L:L,ROW())=\"Seleccione…\"), \"\", MATCH(INDEX('Calificación Pública'!L:L,ROW()), INDEX('Calificación Pública'!$H:$K,ROW(),0), 0))","v":""},{"$f":"IF(OR(INDEX('Calificación Pública'!M:M,ROW())=\"Sin información\", INDEX('Calificación Pública'!M:M,ROW())=\"Seleccione…\"), \"\", MATCH(INDEX('Calificación Pública'!M:M,ROW()), INDEX('Calificación Pública'!$H:$K,ROW(),0), 0))","v":""},{"$f":"IF(OR(INDEX('Calificación Pública'!N:N,ROW())=\"Sin información\", INDEX('Calificación Pública'!N:N,ROW())=\"Seleccione…\"), \"\", MATCH(INDEX('Calificación Pública'!N:N,ROW()), INDEX('Calificación Pública'!$H:$K,ROW(),0), 0))","v":""},{"$f":"IF(OR(INDEX('Calificación Pública'!O:O,ROW())=\"Sin información\", INDEX('Calificación Pública'!O:O,ROW())=\"Seleccione…\"), \"\", MATCH(INDEX('Calificación Pública'!O:O,ROW()), INDEX('Calificación Pública'!$H:$K,ROW(),0), 0))","v":""},{"$f":"IF(OR(INDEX('Calificación Pública'!P:P,ROW())=\"Sin información\", INDEX('Calificación Pública'!P:P,ROW())=\"Seleccione…\"), \"\", MATCH(INDEX('Calificación Pública'!P:P,ROW()), INDEX('Calificación Pública'!$H:$K,ROW(),0), 0))","v":""},{"$f":"IF(OR(INDEX('Calificación Pública'!Q:Q,ROW())=\"Sin información\", INDEX('Calificación Pública'!Q:Q,ROW())=\"Seleccione…\"), \"\", MATCH(INDEX('Calificación Pública'!Q:Q,ROW()), INDEX('Calificación Pública'!$H:$K,ROW(),0), 0))","v":""},{"$f":"IF(OR(INDEX('Calificación Pública'!R:R,ROW())=\"Sin información\", INDEX('Calificación Pública'!R:R,ROW())=\"Seleccione…\"), \"\", MATCH(INDEX('Calificación Pública'!R:R,ROW()), INDEX('Calificación Pública'!$H:$K,ROW(),0), 0))","v":""},{"$f":"IF(OR(INDEX('Calificación Pública'!S:S,ROW())=\"Sin información\", INDEX('Calificación Pública'!S:S,ROW())=\"Seleccione…\"), \"\", MATCH(INDEX('Calificación Pública'!S:S,ROW()), INDEX('Calificación Pública'!$H:$K,ROW(),0), 0))","v":""},{"$f":"IF(OR(INDEX('Calificación Pública'!T:T,ROW())=\"Sin información\", INDEX('Calificación Pública'!T:T,ROW())=\"Seleccione…\"), \"\", MATCH(INDEX('Calificación Pública'!T:T,ROW()), INDEX('Calificación Pública'!$H:$K,ROW(),0), 0))","v":""},{"$f":"IF(OR(INDEX('Calificación Pública'!U:U,ROW())=\"Sin información\", INDEX('Calificación Pública'!U:U,ROW())=\"Seleccione…\"), \"\", MATCH(INDEX('Calificación Pública'!U:U,ROW()), INDEX('Calificación Pública'!$H:$K,ROW(),0), 0))","v":""}]
[{"$f":"INDEX('Calificación Pública'!B:B,ROW())","v":"Técnico"},{"$f":"INDEX('Calificación Pública'!C:C,ROW())","v":"Ahorro de energía de la red"},{"$f":"IF(OR(INDEX('Calificación Pública'!L:L,ROW())=\"Sin información\", INDEX('Calificación Pública'!L:L,ROW())=\"Seleccione…\"), \"\", MATCH(INDEX('Calificación Pública'!L:L,ROW()), INDEX('Calificación Pública'!$H:$K,ROW(),0), 0))","v":""},{"$f":"IF(OR(INDEX('Calificación Pública'!M:M,ROW())=\"Sin información\", INDEX('Calificación Pública'!M:M,ROW())=\"Seleccione…\"), \"\", MATCH(INDEX('Calificación Pública'!M:M,ROW()), INDEX('Calificación Pública'!$H:$K,ROW(),0), 0))","v":""},{"$f":"IF(OR(INDEX('Calificación Pública'!N:N,ROW())=\"Sin información\", INDEX('Calificación Pública'!N:N,ROW())=\"Seleccione…\"), \"\", MATCH(INDEX('Calificación Pública'!N:N,ROW()), INDEX('Calificación Pública'!$H:$K,ROW(),0), 0))","v":""},{"$f":"IF(OR(INDEX('Calificación Pública'!O:O,ROW())=\"Sin información\", INDEX('Calificación Pública'!O:O,ROW())=\"Seleccione…\"), \"\", MATCH(INDEX('Calificación Pública'!O:O,ROW()), INDEX('Calificación Pública'!$H:$K,ROW(),0), 0))","v":""},{"$f":"IF(OR(INDEX('Calificación Pública'!P:P,ROW())=\"Sin información\", INDEX('Calificación Pública'!P:P,ROW())=\"Seleccione…\"), \"\", MATCH(INDEX('Calificación Pública'!P:P,ROW()), INDEX('Calificación Pública'!$H:$K,ROW(),0), 0))","v":""},{"$f":"IF(OR(INDEX('Calificación Pública'!Q:Q,ROW())=\"Sin información\", INDEX('Calificación Pública'!Q:Q,ROW())=\"Seleccione…\"), \"\", MATCH(INDEX('Calificación Pública'!Q:Q,ROW()), INDEX('Calificación Pública'!$H:$K,ROW(),0), 0))","v":""},{"$f":"IF(OR(INDEX('Calificación Pública'!R:R,ROW())=\"Sin información\", INDEX('Calificación Pública'!R:R,ROW())=\"Seleccione…\"), \"\", MATCH(INDEX('Calificación Pública'!R:R,ROW()), INDEX('Calificación Pública'!$H:$K,ROW(),0), 0))","v":""},{"$f":"IF(OR(INDEX('Calificación Pública'!S:S,ROW())=\"Sin información\", INDEX('Calificación Pública'!S:S,ROW())=\"Seleccione…\"), \"\", MATCH(INDEX('Calificación Pública'!S:S,ROW()), INDEX('Calificación Pública'!$H:$K,ROW(),0), 0))","v":""},{"$f":"IF(OR(INDEX('Calificación Pública'!T:T,ROW())=\"Sin información\", INDEX('Calificación Pública'!T:T,ROW())=\"Seleccione…\"), \"\", MATCH(INDEX('Calificación Pública'!T:T,ROW()), INDEX('Calificación Pública'!$H:$K,ROW(),0), 0))","v":""},{"$f":"IF(OR(INDEX('Calificación Pública'!U:U,ROW())=\"Sin información\", INDEX('Calificación Pública'!U:U,ROW())=\"Seleccione…\"), \"\", MATCH(INDEX('Calificación Pública'!U:U,ROW()), INDEX('Calificación Pública'!$H:$K,ROW(),0), 0))","v":""}]
[{"$f":"INDEX('Calificación Pública'!B:B,ROW())","v":"Técnico"},{"$f":"INDEX('Calificación Pública'!C:C,ROW())","v":"Capacidad técnica local (no siempre es esencial, ya que la capacitación puede ser parte del proyecto.)"},{"$f":"IF(OR(INDEX('Calificación Pública'!L:L,ROW())=\"Sin información\", INDEX('Calificación Pública'!L:L,ROW())=\"Seleccione…\"), \"\", MATCH(INDEX('Calificación Pública'!L:L,ROW()), INDEX('Calificación Pública'!$H:$K,ROW(),0), 0))","v":""},{"$f":"IF(OR(INDEX('Calificación Pública'!M:M,ROW())=\"Sin información\", INDEX('Calificación Pública'!M:M,ROW())=\"Seleccione…\"), \"\", MATCH(INDEX('Calificación Pública'!M:M,ROW()), INDEX('Calificación Pública'!$H:$K,ROW(),0), 0))","v":""},{"$f":"IF(OR(INDEX('Calificación Pública'!N:N,ROW())=\"Sin información\", INDEX('Calificación Pública'!N:N,ROW())=\"Seleccione…\"), \"\", MATCH(INDEX('Calificación Pública'!N:N,ROW()), INDEX('Calificación Pública'!$H:$K,ROW(),0), 0))","v":""},{"$f":"IF(OR(INDEX('Calificación Pública'!O:O,ROW())=\"Sin información\", INDEX('Calificación Pública'!O:O,ROW())=\"Seleccione…\"), \"\", MATCH(INDEX('Calificación Pública'!O:O,ROW()), INDEX('Calificación Pública'!$H:$K,ROW(),0), 0))","v":""},{"$f":"IF(OR(INDEX('Calificación Pública'!P:P,ROW())=\"Sin información\", INDEX('Calificación Pública'!P:P,ROW())=\"Seleccione…\"), \"\", MATCH(INDEX('Calificación Pública'!P:P,ROW()), INDEX('Calificación Pública'!$H:$K,ROW(),0), 0))","v":""},{"$f":"IF(OR(INDEX('Calificación Pública'!Q:Q,ROW())=\"Sin información\", INDEX('Calificación Pública'!Q:Q,ROW())=\"Seleccione…\"), \"\", MATCH(INDEX('Calificación Pública'!Q:Q,ROW()), INDEX('Calificación Pública'!$H:$K,ROW(),0), 0))","v":""},{"$f":"IF(OR(INDEX('Calificación Pública'!R:R,ROW())=\"Sin información\", INDEX('Calificación Pública'!R:R,ROW())=\"Seleccione…\"), \"\", MATCH(INDEX('Calificación Pública'!R:R,ROW()), INDEX('Calificación Pública'!$H:$K,ROW(),0), 0))","v":""},{"$f":"IF(OR(INDEX('Calificación Pública'!S:S,ROW())=\"Sin información\", INDEX('Calificación Pública'!S:S,ROW())=\"Seleccione…\"), \"\", MATCH(INDEX('Calificación Pública'!S:S,ROW()), INDEX('Calificación Pública'!$H:$K,ROW(),0), 0))","v":""},{"$f":"IF(OR(INDEX('Calificación Pública'!T:T,ROW())=\"Sin información\", INDEX('Calificación Pública'!T:T,ROW())=\"Seleccione…\"), \"\", MATCH(INDEX('Calificación Pública'!T:T,ROW()), INDEX('Calificación Pública'!$H:$K,ROW(),0), 0))","v":""},{"$f":"IF(OR(INDEX('Calificación Pública'!U:U,ROW())=\"Sin información\", INDEX('Calificación Pública'!U:U,ROW())=\"Seleccione…\"), \"\", MATCH(INDEX('Calificación Pública'!U:U,ROW()), INDEX('Calificación Pública'!$H:$K,ROW(),0), 0))","v":""}]
[{"$f":"INDEX('Calificación Pública'!B:B,ROW())","v":"Técnico"},{"$f":"INDEX('Calificación Pública'!C:C,ROW())","v":"Grado de avance del sistema energético que se proyecta implementar"},{"$f":"IF(OR(INDEX('Calificación Pública'!L:L,ROW())=\"Sin información\", INDEX('Calificación Pública'!L:L,ROW())=\"Seleccione…\"), \"\", MATCH(INDEX('Calificación Pública'!L:L,ROW()), INDEX('Calificación Pública'!$H:$K,ROW(),0), 0))","v":""},{"$f":"IF(OR(INDEX('Calificación Pública'!M:M,ROW())=\"Sin información\", INDEX('Calificación Pública'!M:M,ROW())=\"Seleccione…\"), \"\", MATCH(INDEX('Calificación Pública'!M:M,ROW()), INDEX('Calificación Pública'!$H:$K,ROW(),0), 0))","v":""},{"$f":"IF(OR(INDEX('Calificación Pública'!N:N,ROW())=\"Sin información\", INDEX('Calificación Pública'!N:N,ROW())=\"Seleccione…\"), \"\", MATCH(INDEX('Calificación Pública'!N:N,ROW()), INDEX('Calificación Pública'!$H:$K,ROW(),0), 0))","v":""},{"$f":"IF(OR(INDEX('Calificación Pública'!O:O,ROW())=\"Sin información\", INDEX('Calificación Pública'!O:O,ROW())=\"Seleccione…\"), \"\", MATCH(INDEX('Calificación Pública'!O:O,ROW()), INDEX('Calificación Pública'!$H:$K,ROW(),0), 0))","v":""},{"$f":"IF(OR(INDEX('Calificación Pública'!P:P,ROW())=\"Sin información\", INDEX('Calificación Pública'!P:P,ROW())=\"Seleccione…\"), \"\", MATCH(INDEX('Calificación Pública'!P:P,ROW()), INDEX('Calificación Pública'!$H:$K,ROW(),0), 0))","v":""},{"$f":"IF(OR(INDEX('Calificación Pública'!Q:Q,ROW())=\"Sin información\", INDEX('Calificación Pública'!Q:Q,ROW())=\"Seleccione…\"), \"\", MATCH(INDEX('Calificación Pública'!Q:Q,ROW()), INDEX('Calificación Pública'!$H:$K,ROW(),0), 0))","v":""},{"$f":"IF(OR(INDEX('Calificación Pública'!R:R,ROW())=\"Sin información\", INDEX('Calificación Pública'!R:R,ROW())=\"Seleccione…\"), \"\", MATCH(INDEX('Calificación Pública'!R:R,ROW()), INDEX('Calificación Pública'!$H:$K,ROW(),0), 0))","v":""},{"$f":"IF(OR(INDEX('Calificación Pública'!S:S,ROW())=\"Sin información\", INDEX('Calificación Pública'!S:S,ROW())=\"Seleccione…\"), \"\", MATCH(INDEX('Calificación Pública'!S:S,ROW()), INDEX('Calificación Pública'!$H:$K,ROW(),0), 0))","v":""},{"$f":"IF(OR(INDEX('Calificación Pública'!T:T,ROW())=\"Sin información\", INDEX('Calificación Pública'!T:T,ROW())=\"Seleccione…\"), \"\", MATCH(INDEX('Calificación Pública'!T:T,ROW()), INDEX('Calificación Pública'!$H:$K,ROW(),0), 0))","v":""},{"$f":"IF(OR(INDEX('Calificación Pública'!U:U,ROW())=\"Sin información\", INDEX('Calificación Pública'!U:U,ROW())=\"Seleccione…\"), \"\", MATCH(INDEX('Calificación Pública'!U:U,ROW()), INDEX('Calificación Pública'!$H:$K,ROW(),0), 0))","v":""}]
[{"$f":"INDEX('Calificación Pública'!B:B,ROW())","v":"Técnico"},{"$f":"INDEX('Calificación Pública'!C:C,ROW())","v":"Pérdidas de Energía Eléctrica"},{"$f":"IF(OR(INDEX('Calificación Pública'!L:L,ROW())=\"Sin información\", INDEX('Calificación Pública'!L:L,ROW())=\"Seleccione…\"), \"\", MATCH(INDEX('Calificación Pública'!L:L,ROW()), INDEX('Calificación Pública'!$H:$K,ROW(),0), 0))","v":""},{"$f":"IF(OR(INDEX('Calificación Pública'!M:M,ROW())=\"Sin información\", INDEX('Calificación Pública'!M:M,ROW())=\"Seleccione…\"), \"\", MATCH(INDEX('Calificación Pública'!M:M,ROW()), INDEX('Calificación Pública'!$H:$K,ROW(),0), 0))","v":""},{"$f":"IF(OR(INDEX('Calificación Pública'!N:N,ROW())=\"Sin información\", INDEX('Calificación Pública'!N:N,ROW())=\"Seleccione…\"), \"\", MATCH(INDEX('Calificación Pública'!N:N,ROW()), INDEX('Calificación Pública'!$H:$K,ROW(),0), 0))","v":""},{"$f":"IF(OR(INDEX('Calificación Pública'!O:O,ROW())=\"Sin información\", INDEX('Calificación Pública'!O:O,ROW())=\"Seleccione…\"), \"\", MATCH(INDEX('Calificación Pública'!O:O,ROW()), INDEX('Calificación Pública'!$H:$K,ROW(),0), 0))","v":""},{"$f":"IF(OR(INDEX('Calificación Pública'!P:P,ROW())=\"Sin información\", INDEX('Calificación Pública'!P:P,ROW())=\"Seleccione…\"), \"\", MATCH(INDEX('Calificación Pública'!P:P,ROW()), INDEX('Calificación Pública'!$H:$K,ROW(),0), 0))","v":""},{"$f":"IF(OR(INDEX('Calificación Pública'!Q:Q,ROW())=\"Sin información\", INDEX('Calificación Pública'!Q:Q,ROW())=\"Seleccione…\"), \"\", MATCH(INDEX('Calificación Pública'!Q:Q,ROW()), INDEX('Calificación Pública'!$H:$K,ROW(),0), 0))","v":""},{"$f":"IF(OR(INDEX('Calificación Pública'!R:R,ROW())=\"Sin información\", INDEX('Calificación Pública'!R:R,ROW())=\"Seleccione…\"), \"\", MATCH(INDEX('Calificación Pública'!R:R,ROW()), INDEX('Calificación Pública'!$H:$K,ROW(),0), 0))","v":""},{"$f":"IF(OR(INDEX('Calificación Pública'!S:S,ROW())=\"Sin información\", INDEX('Calificación Pública'!S:S,ROW())=\"Seleccione…\"), \"\", MATCH(INDEX('Calificación Pública'!S:S,ROW()), INDEX('Calificación Pública'!$H:$K,ROW(),0), 0))","v":""},{"$f":"IF(OR(INDEX('Calificación Pública'!T:T,ROW())=\"Sin información\", INDEX('Calificación Pública'!T:T,ROW())=\"Seleccione…\"), \"\", MATCH(INDEX('Calificación Pública'!T:T,ROW()), INDEX('Calificación Pública'!$H:$K,ROW(),0), 0))","v":""},{"$f":"IF(OR(INDEX('Calificación Pública'!U:U,ROW())=\"Sin información\", INDEX('Calificación Pública'!U:U,ROW())=\"Seleccione…\"), \"\", MATCH(INDEX('Calificación Pública'!U:U,ROW()), INDEX('Calificación Pública'!$H:$K,ROW(),0), 0))","v":""}]
[{"$f":"INDEX('Calificación Pública'!B:B,ROW())","v":"Técnico"},{"$f":"INDEX('Calificación Pública'!C:C,ROW())","v":"Calidad del servicio (Frecuencia y duración de interrupciones)"},{"$f":"IF(OR(INDEX('Calificación Pública'!L:L,ROW())=\"Sin información\", INDEX('Calificación Pública'!L:L,ROW())=\"Seleccione…\"), \"\", MATCH(INDEX('Calificación Pública'!L:L,ROW()), INDEX('Calificación Pública'!$H:$K,ROW(),0), 0))","v":""},{"$f":"IF(OR(INDEX('Calificación Pública'!M:M,ROW())=\"Sin información\", INDEX('Calificación Pública'!M:M,ROW())=\"Seleccione…\"), \"\", MATCH(INDEX('Calificación Pública'!M:M,ROW()), INDEX('Calificación Pública'!$H:$K,ROW(),0), 0))","v":""},{"$f":"IF(OR(INDEX('Calificación Pública'!N:N,ROW())=\"Sin información\", INDEX('Calificación Pública'!N:N,ROW())=\"Seleccione…\"), \"\", MATCH(INDEX('Calificación Pública'!N:N,ROW()), INDEX('Calificación Pública'!$H:$K,ROW(),0), 0))","v":""},{"$f":"IF(OR(INDEX('Calificación Pública'!O:O,ROW())=\"Sin información\", INDEX('Calificación Pública'!O:O,ROW())=\"Seleccione…\"), \"\", MATCH(INDEX('Calificación Pública'!O:O,ROW()), INDEX('Calificación Pública'!$H:$K,ROW(),0), 0))","v":""},{"$f":"IF(OR(INDEX('Calificación Pública'!P:P,ROW())=\"Sin información\", INDEX('Calificación Pública'!P:P,ROW())=\"Seleccione…\"), \"\", MATCH(INDEX('Calificación Pública'!P:P,ROW()), INDEX('Calificación Pública'!$H:$K,ROW(),0), 0))","v":""},{"$f":"IF(OR(INDEX('Calificación Pública'!Q:Q,ROW())=\"Sin información\", INDEX('Calificación Pública'!Q:Q,ROW())=\"Seleccione…\"), \"\", MATCH(INDEX('Calificación Pública'!Q:Q,ROW()), INDEX('Calificación Pública'!$H:$K,ROW(),0), 0))","v":""},{"$f":"IF(OR(INDEX('Calificación Pública'!R:R,ROW())=\"Sin información\", INDEX('Calificación Pública'!R:R,ROW())=\"Seleccione…\"), \"\", MATCH(INDEX('Calificación Pública'!R:R,ROW()), INDEX('Calificación Pública'!$H:$K,ROW(),0), 0))","v":""},{"$f":"IF(OR(INDEX('Calificación Pública'!S:S,ROW())=\"Sin información\", INDEX('Calificación Pública'!S:S,ROW())=\"Seleccione…\"), \"\", MATCH(INDEX('Calificación Pública'!S:S,ROW()), INDEX('Calificación Pública'!$H:$K,ROW(),0), 0))","v":""},{"$f":"IF(OR(INDEX('Calificación Pública'!T:T,ROW())=\"Sin información\", INDEX('Calificación Pública'!T:T,ROW())=\"Seleccione…\"), \"\", MATCH(INDEX('Calificación Pública'!T:T,ROW()), INDEX('Calificación Pública'!$H:$K,ROW(),0), 0))","v":""},{"$f":"IF(OR(INDEX('Calificación Pública'!U:U,ROW())=\"Sin información\", INDEX('Calificación Pública'!U:U,ROW())=\"Seleccione…\"), \"\", MATCH(INDEX('Calificación Pública'!U:U,ROW()), INDEX('Calificación Pública'!$H:$K,ROW(),0), 0))","v":""}]
[{"$f":"INDEX('Calificación Pública'!B:B,ROW())","v":0},{"$f":"INDEX('Calificación Pública'!C:C,ROW())","v":0},{"$f":"IF(OR(INDEX('Calificación Pública'!L:L,ROW())=\"Sin información\", INDEX('Calificación Pública'!L:L,ROW())=\"Seleccione…\"), \"\", MATCH(INDEX('Calificación Pública'!L:L,ROW()), INDEX('Calificación Pública'!$H:$K,ROW(),0), 0))","v":{"$error":"#N/A"}},{"$f":"IF(OR(INDEX('Calificación Pública'!M:M,ROW())=\"Sin información\", INDEX('Calificación Pública'!M:M,ROW())=\"Seleccione…\"), \"\", MATCH(INDEX('Calificación Pública'!M:M,ROW()), INDEX('Calificación Pública'!$H:$K,ROW(),0), 0))","v":{"$error":"#N/A"}},{"$f":"IF(OR(INDEX('Calificación Pública'!N:N,ROW())=\"Sin información\", INDEX('Calificación Pública'!N:N,ROW())=\"Seleccione…\"), \"\", MATCH(INDEX('Calificación Pública'!N:N,ROW()), INDEX('Calificación Pública'!$H:$K,ROW(),0), 0))","v":{"$error":"#N/A"}},{"$f":"IF(OR(INDEX('Calificación Pública'!O:O,ROW())=\"Sin información\", INDEX('Calificación Pública'!O:O,ROW())=\"Seleccione…\"), \"\", MATCH(INDEX('Calificación Pública'!O:O,ROW()), INDEX('Calificación Pública'!$H:$K,ROW(),0), 0))","v":{"$error":"#N/A"}},{"$f":"IF(OR(INDEX('Calificación Pública'!P:P,ROW())=\"Sin información\", INDEX('Calificación Pública'!P:P,ROW())=\"Seleccione…\"), \"\", MATCH(INDEX('Calificación Pública'!P:P,ROW()), INDEX('Calificación Pública'!$H:$K,ROW(),0), 0))","v":{"$error":"#N/A"}},{"$f":"IF(OR(INDEX('Calificación Pública'!Q:Q,ROW())=\"Sin información\", INDEX('Calificación Pública'!Q:Q,ROW())=\"Seleccione…\"), \"\", MATCH(INDEX('Calificación Pública'!Q:Q,ROW()), INDEX('Calificación Pública'!$H:$K,ROW(),0), 0))","v":{"$error":"#N/A"}},{"$f":"IF(OR(INDEX('Calificación Pública'!R:R,ROW())=\"Sin información\", INDEX('Calificación Pública'!R:R,ROW())=\"Seleccione…\"), \"\", MATCH(INDEX('Calificación Pública'!R:R,ROW()), INDEX('Calificación Pública'!$H:$K,ROW(),0), 0))","v":{"$error":"#N/A"}},{"$f":"IF(OR(INDEX('Calificación Pública'!S:S,ROW())=\"Sin información\", INDEX('Calificación Pública'!S:S,ROW())=\"Seleccione…\"), \"\", MATCH(INDEX('Calificación Pública'!S:S,ROW()), INDEX('Calificación Pública'!$H:$K,ROW(),0), 0))","v":{"$error":"#N/A"}},{"$f":"IF(OR(INDEX('Calificación Pública'!T:T,ROW())=\"Sin información\", INDEX('Calificación Pública'!T:T,ROW())=\"Seleccione…\"), \"\", MATCH(INDEX('Calificación Pública'!T:T,ROW()), INDEX('Calificación Pública'!$H:$K,ROW(),0), 0))","v":{"$error":"#N/A"}},{"$f":"IF(OR(INDEX('Calificación Pública'!U:U,ROW())=\"Sin información\", INDEX('Calificación Pública'!U:U,ROW())=\"Seleccione…\"), \"\", MATCH(INDEX('Calificación Pública'!U:U,ROW()), INDEX('Calificación Pública'!$H:$K,ROW(),0), 0))","v":{"$error":"#N/A"}}]

{"sheet":"Resultados Pública","index":6,"n_rows":43,"n_cols":14,"rows_kept":43,"merged":[[0,0,0,11],[1,0,1,10],[21,0,21,6],[23,0,24,0],[23,1,24,1],[23,2,24,2],[23,3,24,3],[23,4,24,4],[23,5,24,5],[23,6,24,6],[23,7,24,7],[23,8,24,8],[23,9,24,9],[23,10,24,10],[23,11,24,11],[23,12,24,12],[23,13,24,14],[25,13,25,14],[26,13,26,14],[27,13,27,14],[28,13,28,14],[29,13,29,14],[30,13,30,14],[31,13,31,14],[32,13,32,14],[33,13,33,14],[34,13,34,14],[35,13,35,14],[36,13,36,14],[37,13,37,14],[38,13,38,14],[39,13,39,14],[40,13,40,14],[41,13,41,14]]}
["Resultados de Priorización"]
["Bienvenido a la sección de resultados. A continuación, podrás consultar los valores calculados para cada categoría y el resultado final de la priorización para cada comunidad.\n1. Ajusta las ponderaciones:    Modifica los porcentajes de las categorías según tus necesidades o criterios específicos.\n2. Consulta los resultados:    La priorización actualizada se mostrará automáticamente. \n     (Recuerda seleccionar el municipio y el tipo de energía a implementar en la Caracterización de la comunidad)\n     El Potencial se toma directamente de los resultados del potencial energético, evaluados según lo descrito en la Sección 4 de la Hoja de Ruta para el Despliegue de \n       Comunidades Energéticas. Quieres ver estos resultados, haz clic en \"Consulta el potencial por municipio\"\n3. Consulta los resultados ordenados de mayor a menor,    para que identifiques las mejores opciones rápidamente.\n"]
[]
["Categoría de indicadores","Porcentaje de ponderación"]
["Ambiental ",{"v":0.2,"d":"20%"}]
["Económico",{"v":0.15,"d":"15%"}]
["Legislativo/ Normativo",{"v":0.15,"d":"15%"}]
["Social ",{"v":0.3,"d":"30%"}]
["Técnico ",{"v":0.2,"d":"20%"}]
["Total",{"$f":"SUM(B5:B9)","v":{"v":1,"d":"100%"}}]
[]
["Resultados de la calificación de la priorización para las comunidades por categoría de variables"]
[]
["Categoría/comunidad ",{"$f":"Caracterización!B8","v":"C1"},{"$f":"Caracterización!C8","v":"C2"},{"$f":"Caracterización!D8","v":"C3"},{"$f":"Caracterización!E8","v":"C4"},{"$f":"Caracterización!F8","v":"C5"},{"$f":"Caracterización!G8","v":"C6"},{"$f":"Caracterización!H8","v":"C7"},{"$f":"Caracterización!I8","v":"C8"},{"$f":"Caracterización!J8","v":"C9"},{"$f":"Caracterización!K8","v":"C10"}]
["Ambiental",{"$f":"IFERROR(AVERAGEIF('ResParcial Publico'!$A$7:$A$60,'Resultados Pública'!$A$15,'ResParcial Publico'!C$7:C$60),\"\")","v":{"v":2,"d":"2.00"}},{"$f":"IFERROR(AVERAGEIF('ResParcial Publico'!$A$7:$A$60,'Resultados Pública'!$A$15,'ResParcial Publico'!D$7:D$60),\"\")","v":{"v":2.3333333333333335,"d":"2.33"}},{"$f":"IFERROR(AVERAGEIF('ResParcial Publico'!$A$7:$A$60,'Resultados Pública'!$A$15,'ResParcial Publico'!E$7:E$60),\"\")","v":{"v":3,"d":"3.00"}},{"$f":"IFERROR(AVERAGEIF('ResParcial Publico'!$A$7:$A$60,'Resultados Pública'!$A$15,'ResParcial Publico'!F$7:F$60),\"\")","v":""},{"$f":"IFERROR(AVERAGEIF('ResParcial Publico'!$A$7:$A$60,'Resultados Pública'!$A$15,'ResParcial Publico'!G$7:G$60),\"\")","v":""},{"$f":"IFERROR(AVERAGEIF('ResParcial Publico'!$A$7:$A$60,'Resultados Pública'!$A$15,'ResParcial Publico'!H$7:H$60),\"\")","v":""},{"$f":"IFERROR(AVERAGEIF('ResParcial Publico'!$A$7:$A$60,'Resultados Pública'!$A$15,'ResParcial Publico'!I$7:I$60),\"\")","v":""},{"$f":"IFERROR(AVERAGEIF('ResParcial Publico'!$A$7:$A$60,'Resultados Pública'!$A$15,'ResParcial Publico'!J$7:J$60),\"\")","v":""},{"$f":"IFERROR(AVERAGEIF('ResParcial Publico'!$A$7:$A$60,'Resultados Pública'!$A$15,'ResParcial Publico'!K$7:K$60),\"\")","v":""},{"$f":"IFERROR(AVERAGEIF('ResParcial Publico'!$A$7:$A$60,'Resultados Pública'!$A$15,'ResParcial Publico'!L$7:L$60),\"\")","v":""}]
["Económico",{"$f":"IFERROR(AVERAGEIF('ResParcial Publico'!$A$7:$A$60,'Resultados Pública'!$A$16,'ResParcial Publico'!C$7:C$60),\"\")","v":{"v":4,"d":"4.00"}},{"$f":"IFERROR(AVERAGEIF('ResParcial Publico'!$A$7:$A$60,'Resultados Pública'!$A$16,'ResParcial Publico'!D$7:D$60),\"\")","v":{"v":1,"d":"1.00"}},{"$f":"IFERROR(AVERAGEIF('ResParcial Publico'!$A$7:$A$60,'Resultados Pública'!$A$16,'ResParcial Publico'!E$7:E$60),\"\")","v":""},{"$f":"IFERROR(AVERAGEIF('ResParcial Publico'!$A$7:$A$60,'Resultados Pública'!$A$16,'ResParcial Publico'!F$7:F$60),\"\")","v":""},{"$f":"IFERROR(AVERAGEIF('ResParcial Publico'!$A$7:$A$60,'Resultados Pública'!$A$16,'ResParcial Publico'!G$7:G$60),\"\")","v":""},{"$f":"IFERROR(AVERAGEIF('ResParcial Publico'!$A$7:$A$60,'Resultados Pública'!$A$16,'ResParcial Publico'!H$7:H$60),\"\")","v":""},{"$f":"IFERROR(AVERAGEIF('ResParcial Publico'!$A$7:$A$60,'Resultados Pública'!$A$16,'ResParcial Publico'!I$7:I$60),\"\")","v":""},{"$f":"IFERROR(AVERAGEIF('ResParcial Publico'!$A$7:$A$60,'Resultados Pública'!$A$16,'ResParcial Publico'!J$7:J$60),\"\")","v":""},{"$f":"IFERROR(AVERAGEIF('ResParcial Publico'!$A$7:$A$60,'Resultados Pública'!$A$16,'ResParcial Publico'!K$7:K$60),\"\")","v":""},{"$f":"IFERROR(AVERAGEIF('ResParcial Publico'!$A$7:$A$60,'Resultados Pública'!$A$16,'ResParcial Publico'!L$7:L$60),\"\")","v":""}]
["Legislativo/ normativo",{"$f":"IFERROR(AVERAGEIF('ResParcial Publico'!$A$7:$A$60,'Resultados Pública'!$A$17,'ResParcial Publico'!C$7:C$60),\"\")","v":""},{"$f":"IFERROR(AVERAGEIF('ResParcial Publico'!$A$7:$A$60,'Resultados Pública'!$A$17,'ResParcial Publico'!D$7:D$60),\"\")","v":""},{"$f":"IFERROR(AVERAGEIF('ResParcial Publico'!$A$7:$A$60,'Resultados Pública'!$A$17,'ResParcial Publico'!E$7:E$60),\"\")","v":""},{"$f":"IFERROR(AVERAGEIF('ResParcial Publico'!$A$7:$A$60,'Resultados Pública'!$A$17,'ResParcial Publico'!F$7:F$60),\"\")","v":""},{"$f":"IFERROR(AVERAGEIF('ResParcial Publico'!$A$7:$A$60,'Resultados Pública'!$A$17,'ResParcial Publico'!G$7:G$60),\"\")","v":""},{"$f":"IFERROR(AVERAGEIF('ResParcial Publico'!$A$7:$A$60,'Resultados Pública'!$A$17,'ResParcial Publico'!H$7:H$60),\"\")","v":""},{"$f":"IFERROR(AVERAGEIF('ResParcial Publico'!$A$7:$A$60,'Resultados Pública'!$A$17,'ResParcial Publico'!I$7:I$60),\"\")","v":""},{"$f":"IFERROR(AVERAGEIF('ResParcial Publico'!$A$7:$A$60,'Resultados Pública'!$A$17,'ResParcial Publico'!J$7:J$60),\"\")","v":""},{"$f":"IFERROR(AVERAGEIF('ResParcial Publico'!$A$7:$A$60,'Resultados Pública'!$A$17,'ResParcial Publico'!K$7:K$60),\"\")","v":""},{"$f":"IFERROR(AVERAGEIF('ResParcial Publico'!$A$7:$A$60,'Resultados Pública'!$A$17,'ResParcial Publico'!L$7:L$60),\"\")","v":""}]
["Social",{"$f":"IFERROR(AVERAGEIF('ResParcial Publico'!$A$7:$A$60,'Resultados Pública'!$A$18,'ResParcial Publico'!C$7:C$60),\"\")","v":""},{"$f":"IFERROR(AVERAGEIF('ResParcial Publico'!$A$7:$A$60,'Resultados Pública'!$A$18,'ResParcial Publico'!D$7:D$60),\"\")","v":""},{"$f":"IFERROR(AVERAGEIF('ResParcial Publico'!$A$7:$A$60,'Resultados Pública'!$A$18,'ResParcial Publico'!E$7:E$60),\"\")","v":""},{"$f":"IFERROR(AVERAGEIF('ResParcial Publico'!$A$7:$A$60,'Resultados Pública'!$A$18,'ResParcial Publico'!F$7:F$60),\"\")","v":""},{"$f":"IFERROR(AVERAGEIF('ResParcial Publico'!$A$7:$A$60,'Resultados Pública'!$A$18,'ResParcial Publico'!G$7:G$60),\"\")","v":""},{"$f":"IFERROR(AVERAGEIF('ResParcial Publico'!$A$7:$A$60,'Resultados Pública'!$A$18,'ResParcial Publico'!H$7:H$60),\"\")","v":""},{"$f":"IFERROR(AVERAGEIF('ResParcial Publico'!$A$7:$A$60,'Resultados Pública'!$A$18,'ResParcial Publico'!I$7:I$60),\"\")","v":""},{"$f":"IFERROR(AVERAGEIF('ResParcial Publico'!$A$7:$A$60,'Resultados Pública'!$A$18,'ResParcial Publico'!J$7:J$60),\"\")","v":""},{"$f":"IFERROR(AVERAGEIF('ResParcial Publico'!$A$7:$A$60,'Resultados Pública'!$A$18,'ResParcial Publico'!K$7:K$60),\"\")","v":""},{"$f":"IFERROR(AVERAGEIF('ResParcial Publico'!$A$7:$A$60,'Resultados Pública'!$A$18,'ResParcial Publico'!L$7:L$60),\"\")","v":""}]
["Técnico",{"$f":"IFERROR(AVERAGEIF('ResParcial Publico'!$A$7:$A$60,'Resultados Pública'!$A$19,'ResParcial Publico'!C$7:C$60),\"\")","v":""},{"$f":"IFERROR(AVERAGEIF('ResParcial Publico'!$A$7:$A$60,'Resultados Pública'!$A$19,'ResParcial Publico'!D$7:D$60),\"\")","v":""},{"$f":"IFERROR(AVERAGEIF('ResParcial Publico'!$A$7:$A$60,'Resultados Pública'!$A$19,'ResParcial Publico'!E$7:E$60),\"\")","v":""},{"$f":"IFERROR(AVERAGEIF('ResParcial Publico'!$A$7:$A$60,'Resultados Pública'!$A$19,'ResParcial Publico'!F$7:F$60),\"\")","v":""},{"$f":"IFERROR(AVERAGEIF('ResParcial Publico'!$A$7:$A$60,'Resultados Pública'!$A$19,'ResParcial Publico'!G$7:G$60),\"\")","v":""},{"$f":"IFERROR(AVERAGEIF('ResParcial Publico'!$A$7:$A$60,'Resultados Pública'!$A$19,'ResParcial Publico'!H$7:H$60),\"\")","v":""},{"$f":"IFERROR(AVERAGEIF('ResParcial Publico'!$A$7:$A$60,'Resultados Pública'!$A$19,'ResParcial Publico'!I$7:I$60),\"\")","v":""},{"$f":"IFERROR(AVERAGEIF('ResParcial Publico'!$A$7:$A$60,'Resultados Pública'!$A$19,'ResParcial Publico'!J$7:J$60),\"\")","v":""},{"$f":"IFERROR(AVERAGEIF('ResParcial Publico'!$A$7:$A$60,'Resultados Pública'!$A$19,'ResParcial Publico'!K$7:K$60),\"\")","v":""},{"$f":"IFERROR(AVERAGEIF('ResParcial Publico'!$A$7:$A$60,'Resultados Pública'!$A$19,'ResParcial Publico'!L$7:L$60),\"\")","v":""}]
["Potencial",{"$f":"IF(Caracterización!B20=\"Seleccione…\",\"\",INDEX('Consulta de Potencial'!$D$14:$H$1134, MATCH(Caracterización!B11, 'Consulta de Potencial'!$C$14:$C$1134, 0), MATCH(Caracterización!B20, 'Consulta de Potencial'!$D$13:$H$13, 0)))","v":{"v":0.2784938053,"d":"0.28"}},{"$f":"IF(Caracterización!C20=\"Seleccione…\",\"\",INDEX('Consulta de Potencial'!$D$14:$H$1134, MATCH(Caracterización!C11, 'Consulta de Potencial'!$C$14:$C$1134, 0), MATCH(Caracterización!C20, 'Consulta de Potencial'!$D$13:$H$13, 0)))","v":{"v":0.2207527931,"d":"0.22"}},{"$f":"IF(Caracterización!D20=\"Seleccione…\",\"\",INDEX('Consulta de Potencial'!$D$14:$H$1134, MATCH(Caracterización!D11, 'Consulta de Potencial'!$C$14:$C$1134, 0), MATCH(Caracterización!D20, 'Consulta de Potencial'!$D$13:$H$13, 0)))","v":{"v":0.2603108106,"d":"0.26"}},{"$f":"IF(Caracterización!E20=\"Seleccione…\",\"\",INDEX('Consulta de Potencial'!$D$14:$H$1134, MATCH(Caracterización!E11, 'Consulta de Potencial'!$C$14:$C$1134, 0), MATCH(Caracterización!E20, 'Consulta de Potencial'!$D$13:$H$13, 0)))","v":{"v":0.292302467,"d":"0.29"}},{"$f":"IF(Caracterización!F20=\"Seleccione…\",\"\",INDEX('Consulta de Potencial'!$D$14:$H$1134, MATCH(Caracterización!F11, 'Consulta de Potencial'!$C$14:$C$1134, 0), MATCH(Caracterización!F20, 'Consulta de Potencial'!$D$13:$H$13, 0)))","v":{"v":0.2726994114,"d":"0.27"}},{"$f":"IF(Caracterización!G20=\"Seleccione…\",\"\",INDEX('Consulta de Potencial'!$D$14:$H$1134, MATCH(Caracterización!G11, 'Consulta de Potencial'!$C$14:$C$1134, 0), MATCH(Caracterización!G20, 'Consulta de Potencial'!$D$13:$H$13, 0)))","v":{"v":0.4280307356,"d":"0.43"}},{"$f":"IF(Caracterización!H20=\"Seleccione…\",\"\",INDEX('Consulta de Potencial'!$D$14:$H$1134, MATCH(Caracterización!H11, 'Consulta de Potencial'!$C$14:$C$1134, 0), MATCH(Caracterización!H20, 'Consulta de Potencial'!$D$13:$H$13, 0)))","v":{"v":0.3475150136,"d":"0.35"}},{"$f":"IF(Caracterización!I20=\"Seleccione…\",\"\",INDEX('Consulta de Potencial'!$D$14:$H$1134, MATCH(Caracterización!I11, 'Consulta de Potencial'!$C$14:$C$1134, 0), MATCH(Caracterización!I20, 'Consulta de Potencial'!$D$13:$H$13, 0)))","v":{"v":0.2207527931,"d":"0.22"}},{"$f":"IF(Caracterización!J20=\"Seleccione…\",\"\",INDEX('Consulta de Potencial'!$D$14:$H$1134, MATCH(Caracterización!J11, 'Consulta de Potencial'!$C$14:$C$1134, 0), MATCH(Caracterización!J20, 'Consulta de Potencial'!$D$13:$H$13, 0)))","v":{"v":0.2084452707,"d":"0.21"}},{"$f":"IF(Caracterización!K20=\"Seleccione…\",\"\",INDEX('Consulta de Potencial'!$D$14:$H$1134, MATCH(Caracterización!K11, 'Consulta de Potencial'!$C$14:$C$1134, 0), MATCH(Caracterización!K20, 'Consulta de Potencial'!$D$13:$H$13, 0)))","v":{"v":0.6580858588,"d":"0.66"}}]
["Puntaje de Priorización",{"$f":"IF(SUMPRODUCT((B15:B19<>0)*(B15:B19<>\"\"))=0,0,IF(OR(Caracterización!B11=\"Seleccione…\",Caracterización!B20=\"Seleccione…\"),\"Debe seleccionar el municipio y el tipo de energía a implementar\",(SUMPRODUCT('Calificación Pública'!$E$7:$E$9,'ResParcial Publico'!C7:C9)*'Resultados Pública'!$B$5+SUMPRODUCT('Calificación Pública'!$E$10:$E$18,'ResParcial Publico'!C10:C18)*'Resultados Pública'!$B$6+SUMPRODUCT('Calificación Pública'!$E$19:$E$21,'ResParcial Publico'!C19:C21)*'Resultados Pública'!$B$7+SUMPRODUCT('Calificación Pública'!$E$22:$E$37,'ResParcial Publico'!C22:C37)*'Resultados Pública'!$B$8+SUMPRODUCT('Calificación Pública'!$E$38:$E$44,'ResParcial Publico'!C38:C44)*'Resultados Pública'!$B$9)+B20))","v":{"v":0.9184937652999999,"d":"0.92"}},{"$f":"IF(SUMPRODUCT((C15:C19<>0)*(C15:C19<>\"\"))=0,0,IF(OR(Caracterización!C11=\"Seleccione…\",Caracterización!C20=\"Seleccione…\"),\"Debe seleccionar el municipio y el tipo de energía a implementar\",(SUMPRODUCT('Calificación Pública'!$E$7:$E$9,'ResParcial Publico'!D7:D9)*'Resultados Pública'!$B$5+SUMPRODUCT('Calificación Pública'!$E$10:$E$18,'ResParcial Publico'!D10:D18)*'Resultados Pública'!$B$6+SUMPRODUCT('Calificación Pública'!$E$19:$E$21,'ResParcial Publico'!D19:D21)*'Resultados Pública'!$B$7+SUMPRODUCT('Calificación Pública'!$E$22:$E$37,'ResParcial Publico'!D22:D37)*'Resultados Pública'!$B$8+SUMPRODUCT('Calificación Pública'!$E$38:$E$44,'ResParcial Publico'!D38:D44)*'Resultados Pública'!$B$9)+C20))","v":{"v":0.7474194131,"d":"0.75"}},{"$f":"IF(SUMPRODUCT((D15:D19<>0)*(D15:D19<>\"\"))=0,0,IF(OR(Caracterización!D11=\"Seleccione…\",Caracterización!D20=\"Seleccione…\"),\"Debe seleccionar el municipio y el tipo de energía a implementar\",(SUMPRODUCT('Calificación Pública'!$E$7:$E$9,'ResParcial Publico'!E7:E9)*'Resultados Pública'!$B$5+SUMPRODUCT('Calificación Pública'!$E$10:$E$18,'ResParcial Publico'!E10:E18)*'Resultados Pública'!$B$6+SUMPRODUCT('Calificación Pública'!$E$19:$E$21,'ResParcial Publico'!E19:E21)*'Resultados Pública'!$B$7+SUMPRODUCT('Calificación Pública'!$E$22:$E$37,'ResParcial Publico'!E22:E37)*'Resultados Pública'!$B$8+SUMPRODUCT('Calificación Pública'!$E$38:$E$44,'ResParcial Publico'!E38:E44)*'Resultados Pública'!$B$9)+D20))","v":{"v":0.4603107906,"d":"0.46"}},{"$f":"IF(SUMPRODUCT((E15:E19<>0)*(E15:E19<>\"\"))=0,0,IF(OR(Caracterización!E11=\"Seleccione…\",Caracterización!E20=\"Seleccione…\"),\"Debe seleccionar el municipio y el tipo de energía a implementar\",(SUMPRODUCT('Calificación Pública'!$E$7:$E$9,'ResParcial Publico'!F7:F9)*'Resultados Pública'!$B$5+SUMPRODUCT('Calificación Pública'!$E$10:$E$18,'ResParcial Publico'!F10:F18)*'Resultados Pública'!$B$6+SUMPRODUCT('Calificación Pública'!$E$19:$E$21,'ResParcial Publico'!F19:F21)*'Resultados Pública'!$B$7+SUMPRODUCT('Calificación Pública'!$E$22:$E$37,'ResParcial Publico'!F22:F37)*'Resultados Pública'!$B$8+SUMPRODUCT('Calificación Pública'!$E$38:$E$44,'ResParcial Publico'!F38:F44)*'Resultados Pública'!$B$9)+E20))","v":{"v":0,"d":"0.00"}},{"$f":"IF(SUMPRODUCT((F15:F19<>0)*(F15:F19<>\"\"))=0,0,IF(OR(Caracterización!F11=\"Seleccione…\",Caracterización!F20=\"Seleccione…\"),\"Debe seleccionar el municipio y el tipo de energía a implementar\",(SUMPRODUCT('Calificación Pública'!$E$7:$E$9,'ResParcial Publico'!G7:G9)*'Resultados Pública'!$B$5+SUMPRODUCT('Calificación Pública'!$E$10:$E$18,'ResParcial Publico'!G10:G18)*'Resultados Pública'!$B$6+SUMPRODUCT('Calificación Pública'!$E$19:$E$21,'ResParcial Publico'!G19:G21)*'Resultados Pública'!$B$7+SUMPRODUCT('Calificación Pública'!$E$22:$E$37,'ResParcial Publico'!G22:G37)*'Resultados Pública'!$B$8+SUMPRODUCT('Calificación Pública'!$E$38:$E$44,'ResParcial Publico'!G38:G44)*'Resultados Pública'!$B$9)+F20))","v":{"v":0,"d":"0.00"}},{"$f":"IF(SUMPRODUCT((G15:G19<>0)*(G15:G19<>\"\"))=0,0,IF(OR(Caracterización!G11=\"Seleccione…\",Caracterización!G20=\"Seleccione…\"),\"Debe seleccionar el municipio y el tipo de energía a implementar\",(SUMPRODUCT('Calificación Pública'!$E$7:$E$9,'ResParcial Publico'!H7:H9)*'Resultados Pública'!$B$5+SUMPRODUCT('Calificación Pública'!$E$10:$E$18,'ResParcial Publico'!H10:H18)*'Resultados Pública'!$B$6+SUMPRODUCT('Calificación Pública'!$E$19:$E$21,'ResParcial Publico'!H19:H21)*'Resultados Pública'!$B$7+SUMPRODUCT('Calificación Pública'!$E$22:$E$37,'ResParcial Publico'!H22:H37)*'Resultados Pública'!$B$8+SUMPRODUCT('Calificación Pública'!$E$38:$E$44,'ResParcial Publico'!H38:H44)*'Resultados Pública'!$B$9)+G20))","v":{"v":0,"d":"0.00"}},{"$f":"IF(SUMPRODUCT((H15:H19<>0)*(H15:H19<>\"\"))=0,0,IF(OR(Caracterización!H11=\"Seleccione…\",Caracterización!H20=\"Seleccione…\"),\"Debe seleccionar el municipio y el tipo de energía a implementar\",(SUMPRODUCT('Calificación Pública'!$E$7:$E$9,'ResParcial Publico'!I7:I9)*'Resultados Pública'!$B$5+SUMPRODUCT('Calificación Pública'!$E$10:$E$18,'ResParcial Publico'!I10:I18)*'Resultados Pública'!$B$6+SUMPRODUCT('Calificación Pública'!$E$19:$E$21,'ResParcial Publico'!I19:I21)*'Resultados Pública'!$B$7+SUMPRODUCT('Calificación Pública'!$E$22:$E$37,'ResParcial Publico'!I22:I37)*'Resultados Pública'!$B$8+SUMPRODUCT('Calificación Pública'!$E$38:$E$44,'ResParcial Publico'!I38:I44)*'Resultados Pública'!$B$9)+H20))","v":{"v":0,"d":"0.00"}},{"$f":"IF(SUMPRODUCT((I15:I19<>0)*(I15:I19<>\"\"))=0,0,IF(OR(Caracterización!I11=\"Seleccione…\",Caracterización!I20=\"Seleccione…\"),\"Debe seleccionar el municipio y el tipo de energía a implementar\",(SUMPRODUCT('Calificación Pública'!$E$7:$E$9,'ResParcial Publico'!J7:J9)*'Resultados Pública'!$B$5+SUMPRODUCT('Calificación Pública'!$E$10:$E$18,'ResParcial Publico'!J10:J18)*'Resultados Pública'!$B$6+SUMPRODUCT('Calificación Pública'!$E$19:$E$21,'ResParcial Publico'!J19:J21)*'Resultados Pública'!$B$7+SUMPRODUCT('Calificación Pública'!$E$22:$E$37,'ResParcial Publico'!J22:J37)*'Resultados Pública'!$B$8+SUMPRODUCT('Calificación Pública'!$E$38:$E$44,'ResParcial Publico'!J38:J44)*'Resultados Pública'!$B$9)+I20))","v":{"v":0,"d":"0.00"}},{"$f":"IF(SUMPRODUCT((J15:J19<>0)*(J15:J19<>\"\"))=0,0,IF(OR(Caracterización!J11=\"Seleccione…\",Caracterización!J20=\"Seleccione…\"),\"Debe seleccionar el municipio y el tipo de energía a implementar\",(SUMPRODUCT('Calificación Pública'!$E$7:$E$9,'ResParcial Publico'!K7:K9)*'Resultados Pública'!$B$5+SUMPRODUCT('Calificación Pública'!$E$10:$E$18,'ResParcial Publico'!K10:K18)*'Resultados Pública'!$B$6+SUMPRODUCT('Calificación Pública'!$E$19:$E$21,'ResParcial Publico'!K19:K21)*'Resultados Pública'!$B$7+SUMPRODUCT('Calificación Pública'!$E$22:$E$37,'ResParcial Publico'!K22:K37)*'Resultados Pública'!$B$8+SUMPRODUCT('Calificación Pública'!$E$38:$E$44,'ResParcial Publico'!K38:K44)*'Resultados Pública'!$B$9)+J20))","v":{"v":0,"d":"0.00"}},{"$f":"IF(SUMPRODUCT((K15:K19<>0)*(K15:K19<>\"\"))=0,0,IF(OR(Caracterización!K11=\"Seleccione…\",Caracterización!K20=\"Seleccione…\"),\"Debe seleccionar el municipio y el tipo de energía a implementar\",(SUMPRODUCT('Calificación Pública'!$E$7:$E$9,'ResParcial Publico'!L7:L9)*'Resultados Pública'!$B$5+SUMPRODUCT('Calificación Pública'!$E$10:$E$18,'ResParcial Publico'!L10:L18)*'Resultados Pública'!$B$6+SUMPRODUCT('Calificación Pública'!$E$19:$E$21,'ResParcial Publico'!L19:L21)*'Resultados Pública'!$B$7+SUMPRODUCT('Calificación Pública'!$E$22:$E$37,'ResParcial Publico'!L22:L37)*'Resultados Pública'!$B$8+SUMPRODUCT('Calificación Pública'!$E$38:$E$44,'ResParcial Publico'!L38:L44)*'Resultados Pública'!$B$9)+K20))","v":{"v":0,"d":"0.00"}}]
["Resultados ordenados de mayor a menor\nAquí puedes ver las calificaciones organizadas de forma automática para que identifiques las mejores opciones rápidamente."]
[]
["Comunidad","Calificación Final Priorización","Departamento ","Municipio","Estado actual de la comunidad energética","Tipo de energía a implementar en la comunidad","Capacidad estimada de generación de energía del proyecto (kWh)","No. Miembros en la comunidad","Descripción del área (Ha)","Zona no interconectada ZNI","Costo total del proyecto (COP)","% de los costos de capital que se requiere sean cubiertos","% Fortalezas","Alerta área protegida "]
[]
[{"$f":"_xlfn._xlws.SORT(_xlfn._xlws.FILTER(_xlfn.HSTACK(TRANSPOSE(B14:K14),TRANSPOSE(B21:K21)),(TRANSPOSE(B21:K21)<>0)*(TRANSPOSE(B21:K21)<>\"Debe seleccionar el municipio y el tipo de energía a implementar\")),2,-1)","v":"C1"},{"v":0.9184937652999999,"d":"0.92"},{"$f":"IF(AND(A26<>0, _xlfn.XLOOKUP(A26,Caracterización!$B$8:$K$8,Caracterización!$B$10:$K$10,\"\")=\"Seleccione ...\"), \"Debe indicarlo en la caracterización de la comunidad\", IF(A26<>0, _xlfn.XLOOKUP(A26,Caracterización!$B$8:$K$8,Caracterización!$B$10:$K$10,\"\"), \"\"))","v":"Tolima"},{"$f":"IF(AND(A26<>0, _xlfn.XLOOKUP(A26,Caracterización!$B$8:$K$8,Caracterización!$B$11:$K$11,\"\")=\"Seleccione ...\"), \"Debe indicarlo en la caracterización de la comunidad\", IF(A26<>0, _xlfn.XLOOKUP(A26,Caracterización!$B$8:$K$8,Caracterización!$B$11:$K$11,\"\"), \"\"))","v":"Casabianca"},{"$f":"IF(AND(A26<>0, _xlfn.XLOOKUP(A26,Caracterización!$B$8:$K$8,Caracterización!$B$19:$K$19,\"\")=\"Seleccione ...\"), \"Debe indicarlo en la caracterización de la comunidad\", IF(A26<>0, _xlfn.XLOOKUP(A26,Caracterización!$B$8:$K$8,Caracterización!$B$19:$K$19,\"\"), \"\"))","v":"Inicial"},{"$f":"IF(AND(A26<>0, _xlfn.XLOOKUP(A26,Caracterización!$B$8:$K$8,Caracterización!$B$20:$K$20,\"\")=\"Seleccione ...\"), \"Debe indicarlo en la caracterización de la comunidad\", IF(A26<>0, _xlfn.XLOOKUP(A26,Caracterización!$B$8:$K$8,Caracterización!$B$20:$K$20,\"\"), \"\"))","v":"Biomasa vegetal"},{"$f":"IF(AND(A26<>0, _xlfn.XLOOKUP(A26,Caracterización!$B$8:$K$8,Caracterización!$B$22:$K$22,\"\")=\"Seleccione ...\"), \"Debe indicarlo en la caracterización de la comunidad\", IF(A26<>0, _xlfn.XLOOKUP(A26,Caracterización!$B$8:$K$8,Caracterización!$B$22:$K$22,\"\"), \"\"))","v":0},{"$f":"IF(AND(A26<>0, _xlfn.XLOOKUP(A26,Caracterización!$B$8:$K$8,Caracterización!$B$23:$K$23,\"\")=\"Seleccione ...\"), \"Debe indicarlo en la caracterización de la comunidad\", IF(A26<>0, _xlfn.XLOOKUP(A26,Caracterización!$B$8:$K$8,Caracterización!$B$23:$K$23,\"\"), \"\"))","v":0},{"$f":"IF(AND(A26<>0, _xlfn.XLOOKUP(A26,Caracterización!$B$8:$K$8,Caracterización!$B$28:$K$28,\"\")=\"Seleccione ...\"), \"Debe indicarlo en la caracterización de la comunidad\", IF(A26<>0, _xlfn.XLOOKUP(A26,Caracterización!$B$8:$K$8,Caracterización!$B$28:$K$28,\"\"), \"\"))","v":0},{"$f":"IF(AND(A26<>0, _xlfn.XLOOKUP(A26,Caracterización!$B$8:$K$8,Caracterización!$B$37:$K$37,\"\")=\"Seleccione ...\"), \"Debe indicarlo en la caracterización de la comunidad\", IF(A26<>0, _xlfn.XLOOKUP(A26,Caracterización!$B$8:$K$8,Caracterización!$B$37:$K$37,\"\"), \"\"))","v":0},{"$f":"IF(AND(A26<>0, _xlfn.XLOOKUP(A26,Caracterización!$B$8:$K$8,Caracterización!$B$40:$K$40,\"\")=\"Seleccione ...\"), \"Debe indicarlo en la caracterización de la comunidad\", IF(A26<>0, _xlfn.XLOOKUP(A26,Caracterización!$B$8:$K$8,Caracterización!$B$40:$K$40,\"\"), \"\"))","v":50},{"$f":"IF(AND(A26<>0, _xlfn.XLOOKUP(A26,Caracterización!$B$8:$K$8,Caracterización!$B$42:$K$42,\"\")=\"Seleccione ...\"), \"Debe indicarlo en la caracterización de la comunidad\", IF(A26<>0, _xlfn.XLOOKUP(A26,Caracterización!$B$8:$K$8,Caracterización!$B$42:$K$42,\"\"), \"\"))","v":1},{"$f":"IF(AND(A26<>0, _xlfn.XLOOKUP(A26,Caracterización!$B$8:$K$8,Caracterización!$B$72:$K$72,\"\")=\"Seleccione ...\"), \"Debe indicarlo en la caracterización de la comunidad\", IF(A26<>0, _xlfn.XLOOKUP(A26,Caracterización!$B$8:$K$8,Caracterización!$B$72:$K$72,\"\"), \"\"))","v":{"v":0.68,"d":"68%"}},{"$f":"IF(AND(A26<>0, _xlfn.XLOOKUP(A26,Caracterización!$B$8:$K$8,Caracterización!$B$36:$K$36,\"\")=\"Seleccione ...\"), \"Debe indicarlo en la caracterización de la comunidad\", IF(A26<>0, _xlfn.XLOOKUP(A26,Caracterización!$B$8:$K$8,Caracterización!$B$36:$K$36,\"\"), \"\"))","v":"Sí está en área protegida"}]
["C2",{"v":0.7474194131,"d":"0.75"},{"$f":"IF(AND(A27<>0, _xlfn.XLOOKUP(A27,Caracterización!$B$8:$K$8,Caracterización!$B$10:$K$10,\"\")=\"Seleccione ...\"), \"Debe indicarlo en la caracterización de la comunidad\", IF(A27<>0, _xlfn.XLOOKUP(A27,Caracterización!$B$8:$K$8,Caracterización!$B$10:$K$10,\"\"), \"\"))","v":"Bogotá, D.C"},{"$f":"IF(AND(A27<>0, _xlfn.XLOOKUP(A27,Caracterización!$B$8:$K$8,Caracterización!$B$11:$K$11,\"\")=\"Seleccione ...\"), \"Debe indicarlo en la caracterización de la comunidad\", IF(A27<>0, _xlfn.XLOOKUP(A27,Caracterización!$B$8:$K$8,Caracterización!$B$11:$K$11,\"\"), \"\"))","v":"Bogotá, D.C."},{"$f":"IF(AND(A27<>0, _xlfn.XLOOKUP(A27,Caracterización!$B$8:$K$8,Caracterización!$B$19:$K$19,\"\")=\"Seleccione ...\"), \"Debe indicarlo en la caracterización de la comunidad\", IF(A27<>0, _xlfn.XLOOKUP(A27,Caracterización!$B$8:$K$8,Caracterización!$B$19:$K$19,\"\"), \"\"))","v":"En operación"},{"$f":"IF(AND(A27<>0, _xlfn.XLOOKUP(A27,Caracterización!$B$8:$K$8,Caracterización!$B$20:$K$20,\"\")=\"Seleccione ...\"), \"Debe indicarlo en la caracterización de la comunidad\", IF(A27<>0, _xlfn.XLOOKUP(A27,Caracterización!$B$8:$K$8,Caracterización!$B$20:$K$20,\"\"), \"\"))","v":"Biomasa vegetal"},{"$f":"IF(AND(A27<>0, _xlfn.XLOOKUP(A27,Caracterización!$B$8:$K$8,Caracterización!$B$22:$K$22,\"\")=\"Seleccione ...\"), \"Debe indicarlo en la caracterización de la comunidad\", IF(A27<>0, _xlfn.XLOOKUP(A27,Caracterización!$B$8:$K$8,Caracterización!$B$22:$K$22,\"\"), \"\"))","v":0},{"$f":"IF(AND(A27<>0, _xlfn.XLOOKUP(A27,Caracterización!$B$8:$K$8,Caracterización!$B$23:$K$23,\"\")=\"Seleccione ...\"), \"Debe indicarlo en la caracterización de la comunidad\", IF(A27<>0, _xlfn.XLOOKUP(A27,Caracterización!$B$8:$K$8,Caracterización!$B$23:$K$23,\"\"), \"\"))","v":0},{"$f":"IF(AND(A27<>0, _xlfn.XLOOKUP(A27,Caracterización!$B$8:$K$8,Caracterización!$B$28:$K$28,\"\")=\"Seleccione ...\"), \"Debe indicarlo en la caracterización de la comunidad\", IF(A27<>0, _xlfn.XLOOKUP(A27,Caracterización!$B$8:$K$8,Caracterización!$B$28:$K$28,\"\"), \"\"))","v":0},{"$f":"IF(AND(A27<>0, _xlfn.XLOOKUP(A27,Caracterización!$B$8:$K$8,Caracterización!$B$37:$K$37,\"\")=\"Seleccione ...\"), \"Debe indicarlo en la caracterización de la comunidad\", IF(A27<>0, _xlfn.XLOOKUP(A27,Caracterización!$B$8:$K$8,Caracterización!$B$37:$K$37,\"\"), \"\"))","v":0},{"$f":"IF(AND(A27<>0, _xlfn.XLOOKUP(A27,Caracterización!$B$8:$K$8,Caracterización!$B$40:$K$40,\"\")=\"Seleccione ...\"), \"Debe indicarlo en la caracterización de la comunidad\", IF(A27<>0, _xlfn.XLOOKUP(A27,Caracterización!$B$8:$K$8,Caracterización!$B$40:$K$40,\"\"), \"\"))","v":0},{"$f":"IF(AND(A27<>0, _xlfn.XLOOKUP(A27,Caracterización!$B$8:$K$8,Caracterización!$B$42:$K$42,\"\")=\"Seleccione ...\"), \"Debe indicarlo en la caracterización de la comunidad\", IF(A27<>0, _xlfn.XLOOKUP(A27,Caracterización!$B$8:$K$8,Caracterización!$B$42:$K$42,\"\"), \"\"))","v":0},{"$f":"IF(AND(A27<>0, _xlfn.XLOOKUP(A27,Caracterización!$B$8:$K$8,Caracterización!$B$72:$K$72,\"\")=\"Seleccione ...\"), \"Debe indicarlo en la caracterización de la comunidad\", IF(A27<>0, _xlfn.XLOOKUP(A27,Caracterización!$B$8:$K$8,Caracterización!$B$72:$K$72,\"\"), \"\"))","v":{"v":0.72,"d":"72%"}},{"$f":"IF(AND(A27<>0, _xlfn.XLOOKUP(A27,Caracterización!$B$8:$K$8,Caracterización!$B$36:$K$36,\"\")=\"Seleccione ...\"), \"Debe indicarlo en la caracterización de la comunidad\", IF(A27<>0, _xlfn.XLOOKUP(A27,Caracterización!$B$8:$K$8,Caracterización!$B$36:$K$36,\"\"), \"\"))","v":"No está en área protegida "}]
["C3",{"v":0.4603107906,"d":"0.46"},{"$f":"IF(AND(A28<>0, _xlfn.XLOOKUP(A28,Caracterización!$B$8:$K$8,Caracterización!$B$10:$K$10,\"\")=\"Seleccione ...\"), \"Debe indicarlo en la caracterización de la comunidad\", IF(A28<>0, _xlfn.XLOOKUP(A28,Caracterización!$B$8:$K$8,Caracterización!$B$10:$K$10,\"\"), \"\"))","v":"Caldas"},{"$f":"IF(AND(A28<>0, _xlfn.XLOOKUP(A28,Caracterización!$B$8:$K$8,Caracterización!$B$11:$K$11,\"\")=\"Seleccione ...\"), \"Debe indicarlo en la caracterización de la comunidad\", IF(A28<>0, _xlfn.XLOOKUP(A28,Caracterización!$B$8:$K$8,Caracterización!$B$11:$K$11,\"\"), \"\"))","v":"La Dorada"},{"$f":"IF(AND(A28<>0, _xlfn.XLOOKUP(A28,Caracterización!$B$8:$K$8,Caracterización!$B$19:$K$19,\"\")=\"Seleccione ...\"), \"Debe indicarlo en la caracterización de la comunidad\", IF(A28<>0, _xlfn.XLOOKUP(A28,Caracterización!$B$8:$K$8,Caracterización!$B$19:$K$19,\"\"), \"\"))","v":"Seleccione..."},{"$f":"IF(AND(A28<>0, _xlfn.XLOOKUP(A28,Caracterización!$B$8:$K$8,Caracterización!$B$20:$K$20,\"\")=\"Seleccione ...\"), \"Debe indicarlo en la caracterización de la comunidad\", IF(A28<>0, _xlfn.XLOOKUP(A28,Caracterización!$B$8:$K$8,Caracterización!$B$20:$K$20,\"\"), \"\"))","v":"Biomasa vegetal"},{"$f":"IF(AND(A28<>0, _xlfn.XLOOKUP(A28,Caracterización!$B$8:$K$8,Caracterización!$B$22:$K$22,\"\")=\"Seleccione ...\"), \"Debe indicarlo en la caracterización de la comunidad\", IF(A28<>0, _xlfn.XLOOKUP(A28,Caracterización!$B$8:$K$8,Caracterización!$B$22:$K$22,\"\"), \"\"))","v":0},{"$f":"IF(AND(A28<>0, _xlfn.XLOOKUP(A28,Caracterización!$B$8:$K$8,Caracterización!$B$23:$K$23,\"\")=\"Seleccione ...\"), \"Debe indicarlo en la caracterización de la comunidad\", IF(A28<>0, _xlfn.XLOOKUP(A28,Caracterización!$B$8:$K$8,Caracterización!$B$23:$K$23,\"\"), \"\"))","v":0},{"$f":"IF(AND(A28<>0, _xlfn.XLOOKUP(A28,Caracterización!$B$8:$K$8,Caracterización!$B$28:$K$28,\"\")=\"Seleccione ...\"), \"Debe indicarlo en la caracterización de la comunidad\", IF(A28<>0, _xlfn.XLOOKUP(A28,Caracterización!$B$8:$K$8,Caracterización!$B$28:$K$28,\"\"), \"\"))","v":0},{"$f":"IF(AND(A28<>0, _xlfn.XLOOKUP(A28,Caracterización!$B$8:$K$8,Caracterización!$B$37:$K$37,\"\")=\"Seleccione ...\"), \"Debe indicarlo en la caracterización de la comunidad\", IF(A28<>0, _xlfn.XLOOKUP(A28,Caracterización!$B$8:$K$8,Caracterización!$B$37:$K$37,\"\"), \"\"))","v":0},{"$f":"IF(AND(A28<>0, _xlfn.XLOOKUP(A28,Caracterización!$B$8:$K$8,Caracterización!$B$40:$K$40,\"\")=\"Seleccione ...\"), \"Debe indicarlo en la caracterización de la comunidad\", IF(A28<>0, _xlfn.XLOOKUP(A28,Caracterización!$B$8:$K$8,Caracterización!$B$40:$K$40,\"\"), \"\"))","v":0},{"$f":"IF(AND(A28<>0, _xlfn.XLOOKUP(A28,Caracterización!$B$8:$K$8,Caracterización!$B$42:$K$42,\"\")=\"Seleccione ...\"), \"Debe indicarlo en la caracterización de la comunidad\", IF(A28<>0, _xlfn.XLOOKUP(A28,Caracterización!$B$8:$K$8,Caracterización!$B$42:$K$42,\"\"), \"\"))","v":0},{"$f":"IF(AND(A28<>0, _xlfn.XLOOKUP(A28,Caracterización!$B$8:$K$8,Caracterización!$B$72:$K$72,\"\")=\"Seleccione ...\"), \"Debe indicarlo en la caracterización de la comunidad\", IF(A28<>0, _xlfn.XLOOKUP(A28,Caracterización!$B$8:$K$8,Caracterización!$B$72:$K$72,\"\"), \"\"))","v":{"v":0.72,"d":"72%"}},{"$f":"IF(AND(A28<>0, _xlfn.XLOOKUP(A28,Caracterización!$B$8:$K$8,Caracterización!$B$36:$K$36,\"\")=\"Seleccione ...\"), \"Debe indicarlo en la caracterización de la comunidad\", IF(A28<>0, _xlfn.XLOOKUP(A28,Caracterización!$B$8:$K$8,Caracterización!$B$36:$K$36,\"\"), \"\"))","v":"Debe indicarlo en la caracterización de la comunidad"}]
[null,null,{"$f":"IF(AND(A29<>0, _xlfn.XLOOKUP(A29,Caracterización!$B$8:$K$8,Caracterización!$B$10:$K$10,\"\")=\"Seleccione ...\"), \"Debe indicarlo en la caracterización de la comunidad\", IF(A29<>0, _xlfn.XLOOKUP(A29,Caracterización!$B$8:$K$8,Caracterización!$B$10:$K$10,\"\"), \"\"))","v":""},{"$f":"IF(AND(A29<>0, _xlfn.XLOOKUP(A29,Caracterización!$B$8:$K$8,Caracterización!$B$11:$K$11,\"\")=\"Seleccione ...\"), \"Debe indicarlo en la caracterización de la comunidad\", IF(A29<>0, _xlfn.XLOOKUP(A29,Caracterización!$B$8:$K$8,Caracterización!$B$11:$K$11,\"\"), \"\"))","v":""},{"$f":"IF(AND(A29<>0, _xlfn.XLOOKUP(A29,Caracterización!$B$8:$K$8,Caracterización!$B$19:$K$19,\"\")=\"Seleccione ...\"), \"Debe indicarlo en la caracterización de la comunidad\", IF(A29<>0, _xlfn.XLOOKUP(A29,Caracterización!$B$8:$K$8,Caracterización!$B$19:$K$19,\"\"), \"\"))","v":""},{"$f":"IF(AND(A29<>0, _xlfn.XLOOKUP(A29,Caracterización!$B$8:$K$8,Caracterización!$B$20:$K$20,\"\")=\"Seleccione ...\"), \"Debe indicarlo en la caracterización de la comunidad\", IF(A29<>0, _xlfn.XLOOKUP(A29,Caracterización!$B$8:$K$8,Caracterización!$B$20:$K$20,\"\"), \"\"))","v":""},{"$f":"IF(AND(A29<>0, _xlfn.XLOOKUP(A29,Caracterización!$B$8:$K$8,Caracterización!$B$22:$K$22,\"\")=\"Seleccione ...\"), \"Debe indicarlo en la caracterización de la comunidad\", IF(A29<>0, _xlfn.XLOOKUP(A29,Caracterización!$B$8:$K$8,Caracterización!$B$22:$K$22,\"\"), \"\"))","v":""},{"$f":"IF(AND(A29<>0, _xlfn.XLOOKUP(A29,Caracterización!$B$8:$K$8,Caracterización!$B$23:$K$23,\"\")=\"Seleccione ...\"), \"Debe indicarlo en la caracterización de la comunidad\", IF(A29<>0, _xlfn.XLOOKUP(A29,Caracterización!$B$8:$K$8,Caracterización!$B$23:$K$23,\"\"), \"\"))","v":""},{"$f":"IF(AND(A29<>0, _xlfn.XLOOKUP(A29,Caracterización!$B$8:$K$8,Caracterización!$B$28:$K$28,\"\")=\"Seleccione ...\"), \"Debe indicarlo en la caracterización de la comunidad\", IF(A29<>0, _xlfn.XLOOKUP(A29,Caracterización!$B$8:$K$8,Caracterización!$B$28:$K$28,\"\"), \"\"))","v":""},{"$f":"IF(AND(A29<>0, _xlfn.XLOOKUP(A29,Caracterización!$B$8:$K$8,Caracterización!$B$37:$K$37,\"\")=\"Seleccione ...\"), \"Debe indicarlo en la caracterización de la comunidad\", IF(A29<>0, _xlfn.XLOOKUP(A29,Caracterización!$B$8:$K$8,Caracterización!$B$37:$K$37,\"\"), \"\"))","v":""},{"$f":"IF(AND(A29<>0, _xlfn.XLOOKUP(A29,Caracterización!$B$8:$K$8,Caracterización!$B$40:$K$40,\"\")=\"Seleccione ...\"), \"Debe indicarlo en la caracterización de la comunidad\", IF(A29<>0, _xlfn.XLOOKUP(A29,Caracterización!$B$8:$K$8,Caracterización!$B$40:$K$40,\"\"), \"\"))","v":""},{"$f":"IF(AND(A29<>0, _xlfn.XLOOKUP(A29,Caracterización!$B$8:$K$8,Caracterización!$B$42:$K$42,\"\")=\"Seleccione ...\"), \"Debe indicarlo en la caracterización de la comunidad\", IF(A29<>0, _xlfn.XLOOKUP(A29,Caracterización!$B$8:$K$8,Caracterización!$B$42:$K$42,\"\"), \"\"))","v":""},{"$f":"IF(AND(A29<>0, _xlfn.XLOOKUP(A29,Caracterización!$B$8:$K$8,Caracterización!$B$72:$K$72,\"\")=\"Seleccione ...\"), \"Debe indicarlo en la caracterización de la comunidad\", IF(A29<>0, _xlfn.XLOOKUP(A29,Caracterización!$B$8:$K$8,Caracterización!$B$72:$K$72,\"\"), \"\"))","v":""},{"$f":"IF(AND(A29<>0, _xlfn.XLOOKUP(A29,Caracterización!$B$8:$K$8,Caracterización!$B$36:$K$36,\"\")=\"Seleccione ...\"), \"Debe indicarlo en la caracterización de la comunidad\", IF(A29<>0, _xlfn.XLOOKUP(A29,Caracterización!$B$8:$K$8,Caracterización!$B$36:$K$36,\"\"), \"\"))","v":""}]
[null,null,{"$f":"IF(AND(A30<>0, _xlfn.XLOOKUP(A30,Caracterización!$B$8:$K$8,Caracterización!$B$10:$K$10,\"\")=\"Seleccione ...\"), \"Debe indicarlo en la caracterización de la comunidad\", IF(A30<>0, _xlfn.XLOOKUP(A30,Caracterización!$B$8:$K$8,Caracterización!$B$10:$K$10,\"\"), \"\"))","v":""},{"$f":"IF(AND(A30<>0, _xlfn.XLOOKUP(A30,Caracterización!$B$8:$K$8,Caracterización!$B$11:$K$11,\"\")=\"Seleccione ...\"), \"Debe indicarlo en la caracterización de la comunidad\", IF(A30<>0, _xlfn.XLOOKUP(A30,Caracterización!$B$8:$K$8,Caracterización!$B$11:$K$11,\"\"), \"\"))","v":""},{"$f":"IF(AND(A30<>0, _xlfn.XLOOKUP(A30,Caracterización!$B$8:$K$8,Caracterización!$B$19:$K$19,\"\")=\"Seleccione ...\"), \"Debe indicarlo en la caracterización de la comunidad\", IF(A30<>0, _xlfn.XLOOKUP(A30,Caracterización!$B$8:$K$8,Caracterización!$B$19:$K$19,\"\"), \"\"))","v":""},{"$f":"IF(AND(A30<>0, _xlfn.XLOOKUP(A30,Caracterización!$B$8:$K$8,Caracterización!$B$20:$K$20,\"\")=\"Seleccione ...\"), \"Debe indicarlo en la caracterización de la comunidad\", IF(A30<>0, _xlfn.XLOOKUP(A30,Caracterización!$B$8:$K$8,Caracterización!$B$20:$K$20,\"\"), \"\"))","v":""},{"$f":"IF(AND(A30<>0, _xlfn.XLOOKUP(A30,Caracterización!$B$8:$K$8,Caracterización!$B$22:$K$22,\"\")=\"Seleccione ...\"), \"Debe indicarlo en la caracterización de la comunidad\", IF(A30<>0, _xlfn.XLOOKUP(A30,Caracterización!$B$8:$K$8,Caracterización!$B$22:$K$22,\"\"), \"\"))","v":""},{"$f":"IF(AND(A30<>0, _xlfn.XLOOKUP(A30,Caracterización!$B$8:$K$8,Caracterización!$B$23:$K$23,\"\")=\"Seleccione ...\"), \"Debe indicarlo en la caracterización de la comunidad\", IF(A30<>0, _xlfn.XLOOKUP(A30,Caracterización!$B$8:$K$8,Caracterización!$B$23:$K$23,\"\"), \"\"))","v":""},{"$f":"IF(AND(A30<>0, _xlfn.XLOOKUP(A30,Caracterización!$B$8:$K$8,Caracterización!$B$28:$K$28,\"\")=\"Seleccione ...\"), \"Debe indicarlo en la caracterización de la comunidad\", IF(A30<>0, _xlfn.XLOOKUP(A30,Caracterización!$B$8:$K$8,Caracterización!$B$28:$K$28,\"\"), \"\"))","v":""},{"$f":"IF(AND(A30<>0, _xlfn.XLOOKUP(A30,Caracterización!$B$8:$K$8,Caracterización!$B$37:$K$37,\"\")=\"Seleccione ...\"), \"Debe indicarlo en la caracterización de la comunidad\", IF(A30<>0, _xlfn.XLOOKUP(A30,Caracterización!$B$8:$K$8,Caracterización!$B$37:$K$37,\"\"), \"\"))","v":""},{"$f":"IF(AND(A30<>0, _xlfn.XLOOKUP(A30,Caracterización!$B$8:$K$8,Caracterización!$B$40:$K$40,\"\")=\"Seleccione ...\"), \"Debe indicarlo en la caracterización de la comunidad\", IF(A30<>0, _xlfn.XLOOKUP(A30,Caracterización!$B$8:$K$8,Caracterización!$B$40:$K$40,\"\"), \"\"))","v":""},{"$f":"IF(AND(A30<>0, _xlfn.XLOOKUP(A30,Caracterización!$B$8:$K$8,Caracterización!$B$42:$K$42,\"\")=\"Seleccione ...\"), \"Debe indicarlo en la caracterización de la comunidad\", IF(A30<>0, _xlfn.XLOOKUP(A30,Caracterización!$B$8:$K$8,Caracterización!$B$42:$K$42,\"\"), \"\"))","v":""},{"$f":"IF(AND(A30<>0, _xlfn.XLOOKUP(A30,Caracterización!$B$8:$K$8,Caracterización!$B$72:$K$72,\"\")=\"Seleccione ...\"), \"Debe indicarlo en la caracterización de la comunidad\", IF(A30<>0, _xlfn.XLOOKUP(A30,Caracterización!$B$8:$K$8,Caracterización!$B$72:$K$72,\"\"), \"\"))","v":""},{"$f":"IF(AND(A30<>0, _xlfn.XLOOKUP(A30,Caracterización!$B$8:$K$8,Caracterización!$B$36:$K$36,\"\")=\"Seleccione ...\"), \"Debe indicarlo en la caracterización de la comunidad\", IF(A30<>0, _xlfn.XLOOKUP(A30,Caracterización!$B$8:$K$8,Caracterización!$B$36:$K$36,\"\"), \"\"))","v":""}]
[null,null,{"$f":"IF(AND(A31<>0, _xlfn.XLOOKUP(A31,Caracterización!$B$8:$K$8,Caracterización!$B$10:$K$10,\"\")=\"Seleccione ...\"), \"Debe indicarlo en la caracterización de la comunidad\", IF(A31<>0, _xlfn.XLOOKUP(A31,Caracterización!$B$8:$K$8,Caracterización!$B$10:$K$10,\"\"), \"\"))","v":""},{"$f":"IF(AND(A31<>0, _xlfn.XLOOKUP(A31,Caracterización!$B$8:$K$8,Caracterización!$B$11:$K$11,\"\")=\"Seleccione ...\"), \"Debe indicarlo en la caracterización de la comunidad\", IF(A31<>0, _xlfn.XLOOKUP(A31,Caracterización!$B$8:$K$8,Caracterización!$B$11:$K$11,\"\"), \"\"))","v":""},{"$f":"IF(AND(A31<>0, _xlfn.XLOOKUP(A31,Caracterización!$B$8:$K$8,Caracterización!$B$19:$K$19,\"\")=\"Seleccione ...\"), \"Debe indicarlo en la caracterización de la comunidad\", IF(A31<>0, _xlfn.XLOOKUP(A31,Caracterización!$B$8:$K$8,Caracterización!$B$19:$K$19,\"\"), \"\"))","v":""},{"$f":"IF(AND(A31<>0, _xlfn.XLOOKUP(A31,Caracterización!$B$8:$K$8,Caracterización!$B$20:$K$20,\"\")=\"Seleccione ...\"), \"Debe indicarlo en la caracterización de la comunidad\", IF(A31<>0, _xlfn.XLOOKUP(A31,Caracterización!$B$8:$K$8,Caracterización!$B$20:$K$20,\"\"), \"\"))","v":""},{"$f":"IF(AND(A31<>0, _xlfn.XLOOKUP(A31,Caracterización!$B$8:$K$8,Caracterización!$B$22:$K$22,\"\")=\"Seleccione ...\"), \"Debe indicarlo en la caracterización de la comunidad\", IF(A31<>0, _xlfn.XLOOKUP(A31,Caracterización!$B$8:$K$8,Caracterización!$B$22:$K$22,\"\"), \"\"))","v":""},{"$f":"IF(AND(A31<>0, _xlfn.XLOOKUP(A31,Caracterización!$B$8:$K$8,Caracterización!$B$23:$K$23,\"\")=\"Seleccione ...\"), \"Debe indicarlo en la caracterización de la comunidad\", IF(A31<>0, _xlfn.XLOOKUP(A31,Caracterización!$B$8:$K$8,Caracterización!$B$23:$K$23,\"\"), \"\"))","v":""},{"$f":"IF(AND(A31<>0, _xlfn.XLOOKUP(A31,Caracterización!$B$8:$K$8,Caracterización!$B$28:$K$28,\"\")=\"Seleccione ...\"), \"Debe indicarlo en la caracterización de la comunidad\", IF(A31<>0, _xlfn.XLOOKUP(A31,Caracterización!$B$8:$K$8,Caracterización!$B$28:$K$28,\"\"), \"\"))","v":""},{"$f":"IF(AND(A31<>0, _xlfn.XLOOKUP(A31,Caracterización!$B$8:$K$8,Caracterización!$B$37:$K$37,\"\")=\"Seleccione ...\"), \"Debe indicarlo en la caracterización de la comunidad\", IF(A31<>0, _xlfn.XLOOKUP(A31,Caracterización!$B$8:$K$8,Caracterización!$B$37:$K$37,\"\"), \"\"))","v":""},{"$f":"IF(AND(A31<>0, _xlfn.XLOOKUP(A31,Caracterización!$B$8:$K$8,Caracterización!$B$40:$K$40,\"\")=\"Seleccione ...\"), \"Debe indicarlo en la caracterización de la comunidad\", IF(A31<>0, _xlfn.XLOOKUP(A31,Caracterización!$B$8:$K$8,Caracterización!$B$40:$K$40,\"\"), \"\"))","v":""},{"$f":"IF(AND(A31<>0, _xlfn.XLOOKUP(A31,Caracterización!$B$8:$K$8,Caracterización!$B$42:$K$42,\"\")=\"Seleccione ...\"), \"Debe indicarlo en la caracterización de la comunidad\", IF(A31<>0, _xlfn.XLOOKUP(A31,Caracterización!$B$8:$K$8,Caracterización!$B$42:$K$42,\"\"), \"\"))","v":""},{"$f":"IF(AND(A31<>0, _xlfn.XLOOKUP(A31,Caracterización!$B$8:$K$8,Caracterización!$B$72:$K$72,\"\")=\"Seleccione ...\"), \"Debe indicarlo en la caracterización de la comunidad\", IF(A31<>0, _xlfn.XLOOKUP(A31,Caracterización!$B$8:$K$8,Caracterización!$B$72:$K$72,\"\"), \"\"))","v":""},{"$f":"IF(AND(A31<>0, _xlfn.XLOOKUP(A31,Caracterización!$B$8:$K$8,Caracterización!$B$36:$K$36,\"\")=\"Seleccione ...\"), \"Debe indicarlo en la caracterización de la comunidad\", IF(A31<>0, _xlfn.XLOOKUP(A31,Caracterización!$B$8:$K$8,Caracterización!$B$36:$K$36,\"\"), \"\"))","v":""}]
[null,null,{"$f":"IF(AND(A32<>0, _xlfn.XLOOKUP(A32,Caracterización!$B$8:$K$8,Caracterización!$B$10:$K$10,\"\")=\"Seleccione ...\"), \"Debe indicarlo en la caracterización de la comunidad\", IF(A32<>0, _xlfn.XLOOKUP(A32,Caracterización!$B$8:$K$8,Caracterización!$B$10:$K$10,\"\"), \"\"))","v":""},{"$f":"IF(AND(A32<>0, _xlfn.XLOOKUP(A32,Caracterización!$B$8:$K$8,Caracterización!$B$11:$K$11,\"\")=\"Seleccione ...\"), \"Debe indicarlo en la caracterización de la comunidad\", IF(A32<>0, _xlfn.XLOOKUP(A32,Caracterización!$B$8:$K$8,Caracterización!$B$11:$K$11,\"\"), \"\"))","v":""},{"$f":"IF(AND(A32<>0, _xlfn.XLOOKUP(A32,Caracterización!$B$8:$K$8,Caracterización!$B$19:$K$19,\"\")=\"Seleccione ...\"), \"Debe indicarlo en la caracterización de la comunidad\", IF(A32<>0, _xlfn.XLOOKUP(A32,Caracterización!$B$8:$K$8,Caracterización!$B$19:$K$19,\"\"), \"\"))","v":""},{"$f":"IF(AND(A32<>0, _xlfn.XLOOKUP(A32,Caracterización!$B$8:$K$8,Caracterización!$B$20:$K$20,\"\")=\"Seleccione ...\"), \"Debe indicarlo en la caracterización de la comunidad\", IF(A32<>0, _xlfn.XLOOKUP(A32,Caracterización!$B$8:$K$8,Caracterización!$B$20:$K$20,\"\"), \"\"))","v":""},{"$f":"IF(AND(A32<>0, _xlfn.XLOOKUP(A32,Caracterización!$B$8:$K$8,Caracterización!$B$22:$K$22,\"\")=\"Seleccione ...\"), \"Debe indicarlo en la caracterización de la comunidad\", IF(A32<>0, _xlfn.XLOOKUP(A32,Caracterización!$B$8:$K$8,Caracterización!$B$22:$K$22,\"\"), \"\"))","v":""},{"$f":"IF(AND(A32<>0, _xlfn.XLOOKUP(A32,Caracterización!$B$8:$K$8,Caracterización!$B$23:$K$23,\"\")=\"Seleccione ...\"), \"Debe indicarlo en la caracterización de la comunidad\", IF(A32<>0, _xlfn.XLOOKUP(A32,Caracterización!$B$8:$K$8,Caracterización!$B$23:$K$23,\"\"), \"\"))","v":""},{"$f":"IF(AND(A32<>0, _xlfn.XLOOKUP(A32,Caracterización!$B$8:$K$8,Caracterización!$B$28:$K$28,\"\")=\"Seleccione ...\"), \"Debe indicarlo en la caracterización de la comunidad\", IF(A32<>0, _xlfn.XLOOKUP(A32,Caracterización!$B$8:$K$8,Caracterización!$B$28:$K$28,\"\"), \"\"))","v":""},{"$f":"IF(AND(A32<>0, _xlfn.XLOOKUP(A32,Caracterización!$B$8:$K$8,Caracterización!$B$37:$K$37,\"\")=\"Seleccione ...\"), \"Debe indicarlo en la caracterización de la comunidad\", IF(A32<>0, _xlfn.XLOOKUP(A32,Caracterización!$B$8:$K$8,Caracterización!$B$37:$K$37,\"\"), \"\"))","v":""},{"$f":"IF(AND(A32<>0, _xlfn.XLOOKUP(A32,Caracterización!$B$8:$K$8,Caracterización!$B$40:$K$40,\"\")=\"Seleccione ...\"), \"Debe indicarlo en la caracterización de la comunidad\", IF(A32<>0, _xlfn.XLOOKUP(A32,Caracterización!$B$8:$K$8,Caracterización!$B$40:$K$40,\"\"), \"\"))","v":""},{"$f":"IF(AND(A32<>0, _xlfn.XLOOKUP(A32,Caracterización!$B$8:$K$8,Caracterización!$B$42:$K$42,\"\")=\"Seleccione ...\"), \"Debe indicarlo en la caracterización de la comunidad\", IF(A32<>0, _xlfn.XLOOKUP(A32,Caracterización!$B$8:$K$8,Caracterización!$B$42:$K$42,\"\"), \"\"))","v":""},{"$f":"IF(AND(A32<>0, _xlfn.XLOOKUP(A32,Caracterización!$B$8:$K$8,Caracterización!$B$72:$K$72,\"\")=\"Seleccione ...\"), \"Debe indicarlo en la caracterización de la comunidad\", IF(A32<>0, _xlfn.XLOOKUP(A32,Caracterización!$B$8:$K$8,Caracterización!$B$72:$K$72,\"\"), \"\"))","v":""},{"$f":"IF(AND(A32<>0, _xlfn.XLOOKUP(A32,Caracterización!$B$8:$K$8,Caracterización!$B$36:$K$36,\"\")=\"Seleccione ...\"), \"Debe indicarlo en la caracterización de la comunidad\", IF(A32<>0, _xlfn.XLOOKUP(A32,Caracterización!$B$8:$K$8,Caracterización!$B$36:$K$36,\"\"), \"\"))","v":""}]
[null,null,{"$f":"IF(AND(A33<>0, _xlfn.XLOOKUP(A33,Caracterización!$B$8:$K$8,Caracterización!$B$10:$K$10,\"\")=\"Seleccione ...\"), \"Debe indicarlo en la caracterización de la comunidad\", IF(A33<>0, _xlfn.XLOOKUP(A33,Caracterización!$B$8:$K$8,Caracterización!$B$10:$K$10,\"\"), \"\"))","v":""},{"$f":"IF(AND(A33<>0, _xlfn.XLOOKUP(A33,Caracterización!$B$8:$K$8,Caracterización!$B$11:$K$11,\"\")=\"Seleccione ...\"), \"Debe indicarlo en la caracterización de la comunidad\", IF(A33<>0, _xlfn.XLOOKUP(A33,Caracterización!$B$8:$K$8,Caracterización!$B$11:$K$11,\"\"), \"\"))","v":""},{"$f":"IF(AND(A33<>0, _xlfn.XLOOKUP(A33,Caracterización!$B$8:$K$8,Caracterización!$B$19:$K$19,\"\")=\"Seleccione ...\"), \"Debe indicarlo en la caracterización de la comunidad\", IF(A33<>0, _xlfn.XLOOKUP(A33,Caracterización!$B$8:$K$8,Caracterización!$B$19:$K$19,\"\"), \"\"))","v":""},{"$f":"IF(AND(A33<>0, _xlfn.XLOOKUP(A33,Caracterización!$B$8:$K$8,Caracterización!$B$20:$K$20,\"\")=\"Seleccione ...\"), \"Debe indicarlo en la caracterización de la comunidad\", IF(A33<>0, _xlfn.XLOOKUP(A33,Caracterización!$B$8:$K$8,Caracterización!$B$20:$K$20,\"\"), \"\"))","v":""},{"$f":"IF(AND(A33<>0, _xlfn.XLOOKUP(A33,Caracterización!$B$8:$K$8,Caracterización!$B$22:$K$22,\"\")=\"Seleccione ...\"), \"Debe indicarlo en la caracterización de la comunidad\", IF(A33<>0, _xlfn.XLOOKUP(A33,Caracterización!$B$8:$K$8,Caracterización!$B$22:$K$22,\"\"), \"\"))","v":""},{"$f":"IF(AND(A33<>0, _xlfn.XLOOKUP(A33,Caracterización!$B$8:$K$8,Caracterización!$B$23:$K$23,\"\")=\"Seleccione ...\"), \"Debe indicarlo en la caracterización de la comunidad\", IF(A33<>0, _xlfn.XLOOKUP(A33,Caracterización!$B$8:$K$8,Caracterización!$B$23:$K$23,\"\"), \"\"))","v":""},{"$f":"IF(AND(A33<>0, _xlfn.XLOOKUP(A33,Caracterización!$B$8:$K$8,Caracterización!$B$28:$K$28,\"\")=\"Seleccione ...\"), \"Debe indicarlo en la caracterización de la comunidad\", IF(A33<>0, _xlfn.XLOOKUP(A33,Caracterización!$B$8:$K$8,Caracterización!$B$28:$K$28,\"\"), \"\"))","v":""},{"$f":"IF(AND(A33<>0, _xlfn.XLOOKUP(A33,Caracterización!$B$8:$K$8,Caracterización!$B$37:$K$37,\"\")=\"Seleccione ...\"), \"Debe indicarlo en la caracterización de la comunidad\", IF(A33<>0, _xlfn.XLOOKUP(A33,Caracterización!$B$8:$K$8,Caracterización!$B$37:$K$37,\"\"), \"\"))","v":""},{"$f":"IF(AND(A33<>0, _xlfn.XLOOKUP(A33,Caracterización!$B$8:$K$8,Caracterización!$B$40:$K$40,\"\")=\"Seleccione ...\"), \"Debe indicarlo en la caracterización de la comunidad\", IF(A33<>0, _xlfn.XLOOKUP(A33,Caracterización!$B$8:$K$8,Caracterización!$B$40:$K$40,\"\"), \"\"))","v":""},{"$f":"IF(AND(A33<>0, _xlfn.XLOOKUP(A33,Caracterización!$B$8:$K$8,Caracterización!$B$42:$K$42,\"\")=\"Seleccione ...\"), \"Debe indicarlo en la caracterización de la comunidad\", IF(A33<>0, _xlfn.XLOOKUP(A33,Caracterización!$B$8:$K$8,Caracterización!$B$42:$K$42,\"\"), \"\"))","v":""},{"$f":"IF(AND(A33<>0, _xlfn.XLOOKUP(A33,Caracterización!$B$8:$K$8,Caracterización!$B$72:$K$72,\"\")=\"Seleccione ...\"), \"Debe indicarlo en la caracterización de la comunidad\", IF(A33<>0, _xlfn.XLOOKUP(A33,Caracterización!$B$8:$K$8,Caracterización!$B$72:$K$72,\"\"), \"\"))","v":""},{"$f":"IF(AND(A33<>0, _xlfn.XLOOKUP(A33,Caracterización!$B$8:$K$8,Caracterización!$B$36:$K$36,\"\")=\"Seleccione ...\"), \"Debe indicarlo en la caracterización de la comunidad\", IF(A33<>0, _xlfn.XLOOKUP(A33,Caracterización!$B$8:$K$8,Caracterización!$B$36:$K$36,\"\"), \"\"))","v":""}]
[null,null,{"$f":"IF(AND(A34<>0, _xlfn.XLOOKUP(A34,Caracterización!$B$8:$K$8,Caracterización!$B$10:$K$10,\"\")=\"Seleccione ...\"), \"Debe indicarlo en la caracterización de la comunidad\", IF(A34<>0, _xlfn.XLOOKUP(A34,Caracterización!$B$8:$K$8,Caracterización!$B$10:$K$10,\"\"), \"\"))","v":""},{"$f":"IF(AND(A34<>0, _xlfn.XLOOKUP(A34,Caracterización!$B$8:$K$8,Caracterización!$B$11:$K$11,\"\")=\"Seleccione ...\"), \"Debe indicarlo en la caracterización de la comunidad\", IF(A34<>0, _xlfn.XLOOKUP(A34,Caracterización!$B$8:$K$8,Caracterización!$B$11:$K$11,\"\"), \"\"))","v":""},{"$f":"IF(AND(A34<>0, _xlfn.XLOOKUP(A34,Caracterización!$B$8:$K$8,Caracterización!$B$19:$K$19,\"\")=\"Seleccione ...\"), \"Debe indicarlo en la caracterización de la comunidad\", IF(A34<>0, _xlfn.XLOOKUP(A34,Caracterización!$B$8:$K$8,Caracterización!$B$19:$K$19,\"\"), \"\"))","v":""},{"$f":"IF(AND(A34<>0, _xlfn.XLOOKUP(A34,Caracterización!$B$8:$K$8,Caracterización!$B$20:$K$20,\"\")=\"Seleccione ...\"), \"Debe indicarlo en la caracterización de la comunidad\", IF(A34<>0, _xlfn.XLOOKUP(A34,Caracterización!$B$8:$K$8,Caracterización!$B$20:$K$20,\"\"), \"\"))","v":""},{"$f":"IF(AND(A34<>0, _xlfn.XLOOKUP(A34,Caracterización!$B$8:$K$8,Caracterización!$B$22:$K$22,\"\")=\"Seleccione ...\"), \"Debe indicarlo en la caracterización de la comunidad\", IF(A34<>0, _xlfn.XLOOKUP(A34,Caracterización!$B$8:$K$8,Caracterización!$B$22:$K$22,\"\"), \"\"))","v":""},{"$f":"IF(AND(A34<>0, _xlfn.XLOOKUP(A34,Caracterización!$B$8:$K$8,Caracterización!$B$23:$K$23,\"\")=\"Seleccione ...\"), \"Debe indicarlo en la caracterización de la comunidad\", IF(A34<>0, _xlfn.XLOOKUP(A34,Caracterización!$B$8:$K$8,Caracterización!$B$23:$K$23,\"\"), \"\"))","v":""},{"$f":"IF(AND(A34<>0, _xlfn.XLOOKUP(A34,Caracterización!$B$8:$K$8,Caracterización!$B$28:$K$28,\"\")=\"Seleccione ...\"), \"Debe indicarlo en la caracterización de la comunidad\", IF(A34<>0, _xlfn.XLOOKUP(A34,Caracterización!$B$8:$K$8,Caracterización!$B$28:$K$28,\"\"), \"\"))","v":""},{"$f":"IF(AND(A34<>0, _xlfn.XLOOKUP(A34,Caracterización!$B$8:$K$8,Caracterización!$B$37:$K$37,\"\")=\"Seleccione ...\"), \"Debe indicarlo en la caracterización de la comunidad\", IF(A34<>0, _xlfn.XLOOKUP(A34,Caracterización!$B$8:$K$8,Caracterización!$B$37:$K$37,\"\"), \"\"))","v":""},{"$f":"IF(AND(A34<>0, _xlfn.XLOOKUP(A34,Caracterización!$B$8:$K$8,Caracterización!$B$40:$K$40,\"\")=\"Seleccione ...\"), \"Debe indicarlo en la caracterización de la comunidad\", IF(A34<>0, _xlfn.XLOOKUP(A34,Caracterización!$B$8:$K$8,Caracterización!$B$40:$K$40,\"\"), \"\"))","v":""},{"$f":"IF(AND(A34<>0, _xlfn.XLOOKUP(A34,Caracterización!$B$8:$K$8,Caracterización!$B$42:$K$42,\"\")=\"Seleccione ...\"), \"Debe indicarlo en la caracterización de la comunidad\", IF(A34<>0, _xlfn.XLOOKUP(A34,Caracterización!$B$8:$K$8,Caracterización!$B$42:$K$42,\"\"), \"\"))","v":""},{"$f":"IF(AND(A34<>0, _xlfn.XLOOKUP(A34,Caracterización!$B$8:$K$8,Caracterización!$B$72:$K$72,\"\")=\"Seleccione ...\"), \"Debe indicarlo en la caracterización de la comunidad\", IF(A34<>0, _xlfn.XLOOKUP(A34,Caracterización!$B$8:$K$8,Caracterización!$B$72:$K$72,\"\"), \"\"))","v":""},{"$f":"IF(AND(A34<>0, _xlfn.XLOOKUP(A34,Caracterización!$B$8:$K$8,Caracterización!$B$36:$K$36,\"\")=\"Seleccione ...\"), \"Debe indicarlo en la caracterización de la comunidad\", IF(A34<>0, _xlfn.XLOOKUP(A34,Caracterización!$B$8:$K$8,Caracterización!$B$36:$K$36,\"\"), \"\"))","v":""}]
[null,null,{"$f":"IF(AND(A35<>0, _xlfn.XLOOKUP(A35,Caracterización!$B$8:$K$8,Caracterización!$B$10:$K$10,\"\")=\"Seleccione ...\"), \"Debe indicarlo en la caracterización de la comunidad\", IF(A35<>0, _xlfn.XLOOKUP(A35,Caracterización!$B$8:$K$8,Caracterización!$B$10:$K$10,\"\"), \"\"))","v":""},{"$f":"IF(AND(A35<>0, _xlfn.XLOOKUP(A35,Caracterización!$B$8:$K$8,Caracterización!$B$11:$K$11,\"\")=\"Seleccione ...\"), \"Debe indicarlo en la caracterización de la comunidad\", IF(A35<>0, _xlfn.XLOOKUP(A35,Caracterización!$B$8:$K$8,Caracterización!$B$11:$K$11,\"\"), \"\"))","v":""},{"$f":"IF(AND(A35<>0, _xlfn.XLOOKUP(A35,Caracterización!$B$8:$K$8,Caracterización!$B$19:$K$19,\"\")=\"Seleccione ...\"), \"Debe indicarlo en la caracterización de la comunidad\", IF(A35<>0, _xlfn.XLOOKUP(A35,Caracterización!$B$8:$K$8,Caracterización!$B$19:$K$19,\"\"), \"\"))","v":""},{"$f":"IF(AND(A35<>0, _xlfn.XLOOKUP(A35,Caracterización!$B$8:$K$8,Caracterización!$B$20:$K$20,\"\")=\"Seleccione ...\"), \"Debe indicarlo en la caracterización de la comunidad\", IF(A35<>0, _xlfn.XLOOKUP(A35,Caracterización!$B$8:$K$8,Caracterización!$B$20:$K$20,\"\"), \"\"))","v":""},{"$f":"IF(AND(A35<>0, _xlfn.XLOOKUP(A35,Caracterización!$B$8:$K$8,Caracterización!$B$22:$K$22,\"\")=\"Seleccione ...\"), \"Debe indicarlo en la caracterización de la comunidad\", IF(A35<>0, _xlfn.XLOOKUP(A35,Caracterización!$B$8:$K$8,Caracterización!$B$22:$K$22,\"\"), \"\"))","v":""},{"$f":"IF(AND(A35<>0, _xlfn.XLOOKUP(A35,Caracterización!$B$8:$K$8,Caracterización!$B$23:$K$23,\"\")=\"Seleccione ...\"), \"Debe indicarlo en la caracterización de la comunidad\", IF(A35<>0, _xlfn.XLOOKUP(A35,Caracterización!$B$8:$K$8,Caracterización!$B$23:$K$23,\"\"), \"\"))","v":""},{"$f":"IF(AND(A35<>0, _xlfn.XLOOKUP(A35,Caracterización!$B$8:$K$8,Caracterización!$B$28:$K$28,\"\")=\"Seleccione ...\"), \"Debe indicarlo en la caracterización de la comunidad\", IF(A35<>0, _xlfn.XLOOKUP(A35,Caracterización!$B$8:$K$8,Caracterización!$B$28:$K$28,\"\"), \"\"))","v":""},{"$f":"IF(AND(A35<>0, _xlfn.XLOOKUP(A35,Caracterización!$B$8:$K$8,Caracterización!$B$37:$K$37,\"\")=\"Seleccione ...\"), \"Debe indicarlo en la caracterización de la comunidad\", IF(A35<>0, _xlfn.XLOOKUP(A35,Caracterización!$B$8:$K$8,Caracterización!$B$37:$K$37,\"\"), \"\"))","v":""},{"$f":"IF(AND(A35<>0, _xlfn.XLOOKUP(A35,Caracterización!$B$8:$K$8,Caracterización!$B$40:$K$40,\"\")=\"Seleccione ...\"), \"Debe indicarlo en la caracterización de la comunidad\", IF(A35<>0, _xlfn.XLOOKUP(A35,Caracterización!$B$8:$K$8,Caracterización!$B$40:$K$40,\"\"), \"\"))","v":""},{"$f":"IF(AND(A35<>0, _xlfn.XLOOKUP(A35,Caracterización!$B$8:$K$8,Caracterización!$B$42:$K$42,\"\")=\"Seleccione ...\"), \"Debe indicarlo en la caracterización de la comunidad\", IF(A35<>0, _xlfn.XLOOKUP(A35,Caracterización!$B$8:$K$8,Caracterización!$B$42:$K$42,\"\"), \"\"))","v":""},{"$f":"IF(AND(A35<>0, _xlfn.XLOOKUP(A35,Caracterización!$B$8:$K$8,Caracterización!$B$72:$K$72,\"\")=\"Seleccione ...\"), \"Debe indicarlo en la caracterización de la comunidad\", IF(A35<>0, _xlfn.XLOOKUP(A35,Caracterización!$B$8:$K$8,Caracterización!$B$72:$K$72,\"\"), \"\"))","v":""},{"$f":"IF(AND(A35<>0, _xlfn.XLOOKUP(A35,Caracterización!$B$8:$K$8,Caracterización!$B$36:$K$36,\"\")=\"Seleccione ...\"), \"Debe indicarlo en la caracterización de la comunidad\", IF(A35<>0, _xlfn.XLOOKUP(A35,Caracterización!$B$8:$K$8,Caracterización!$B$36:$K$36,\"\"), \"\"))","v":""}]
[null,null,{"$f":"IF(AND(A36<>0, _xlfn.XLOOKUP(A36,Caracterización!$B$8:$K$8,Caracterización!$B$10:$K$10,\"\")=\"Seleccione ...\"), \"Debe indicarlo en la caracterización de la comunidad\", IF(A36<>0, _xlfn.XLOOKUP(A36,Caracterización!$B$8:$K$8,Caracterización!$B$10:$K$10,\"\"), \"\"))","v":""},{"$f":"IF(AND(A36<>0, _xlfn.XLOOKUP(A36,Caracterización!$B$8:$K$8,Caracterización!$B$11:$K$11,\"\")=\"Seleccione ...\"), \"Debe indicarlo en la caracterización de la comunidad\", IF(A36<>0, _xlfn.XLOOKUP(A36,Caracterización!$B$8:$K$8,Caracterización!$B$11:$K$11,\"\"), \"\"))","v":""},{"$f":"IF(AND(A36<>0, _xlfn.XLOOKUP(A36,Caracterización!$B$8:$K$8,Caracterización!$B$19:$K$19,\"\")=\"Seleccione ...\"), \"Debe indicarlo en la caracterización de la comunidad\", IF(A36<>0, _xlfn.XLOOKUP(A36,Caracterización!$B$8:$K$8,Caracterización!$B$19:$K$19,\"\"), \"\"))","v":""},{"$f":"IF(AND(A36<>0, _xlfn.XLOOKUP(A36,Caracterización!$B$8:$K$8,Caracterización!$B$20:$K$20,\"\")=\"Seleccione ...\"), \"Debe indicarlo en la caracterización de la comunidad\", IF(A36<>0, _xlfn.XLOOKUP(A36,Caracterización!$B$8:$K$8,Caracterización!$B$20:$K$20,\"\"), \"\"))","v":""},{"$f":"IF(AND(A36<>0, _xlfn.XLOOKUP(A36,Caracterización!$B$8:$K$8,Caracterización!$B$22:$K$22,\"\")=\"Seleccione ...\"), \"Debe indicarlo en la caracterización de la comunidad\", IF(A36<>0, _xlfn.XLOOKUP(A36,Caracterización!$B$8:$K$8,Caracterización!$B$22:$K$22,\"\"), \"\"))","v":""},{"$f":"IF(AND(A36<>0, _xlfn.XLOOKUP(A36,Caracterización!$B$8:$K$8,Caracterización!$B$23:$K$23,\"\")=\"Seleccione ...\"), \"Debe indicarlo en la caracterización de la comunidad\", IF(A36<>0, _xlfn.XLOOKUP(A36,Caracterización!$B$8:$K$8,Caracterización!$B$23:$K$23,\"\"), \"\"))","v":""},{"$f":"IF(AND(A36<>0, _xlfn.XLOOKUP(A36,Caracterización!$B$8:$K$8,Caracterización!$B$28:$K$28,\"\")=\"Seleccione ...\"), \"Debe indicarlo en la caracterización de la comunidad\", IF(A36<>0, _xlfn.XLOOKUP(A36,Caracterización!$B$8:$K$8,Caracterización!$B$28:$K$28,\"\"), \"\"))","v":""},{"$f":"IF(AND(A36<>0, _xlfn.XLOOKUP(A36,Caracterización!$B$8:$K$8,Caracterización!$B$37:$K$37,\"\")=\"Seleccione ...\"), \"Debe indicarlo en la caracterización de la comunidad\", IF(A36<>0, _xlfn.XLOOKUP(A36,Caracterización!$B$8:$K$8,Caracterización!$B$37:$K$37,\"\"), \"\"))","v":""},{"$f":"IF(AND(A36<>0, _xlfn.XLOOKUP(A36,Caracterización!$B$8:$K$8,Caracterización!$B$40:$K$40,\"\")=\"Seleccione ...\"), \"Debe indicarlo en la caracterización de la comunidad\", IF(A36<>0, _xlfn.XLOOKUP(A36,Caracterización!$B$8:$K$8,Caracterización!$B$40:$K$40,\"\"), \"\"))","v":""},{"$f":"IF(AND(A36<>0, _xlfn.XLOOKUP(A36,Caracterización!$B$8:$K$8,Caracterización!$B$42:$K$42,\"\")=\"Seleccione ...\"), \"Debe indicarlo en la caracterización de la comunidad\", IF(A36<>0, _xlfn.XLOOKUP(A36,Caracterización!$B$8:$K$8,Caracterización!$B$42:$K$42,\"\"), \"\"))","v":""},{"$f":"IF(AND(A36<>0, _xlfn.XLOOKUP(A36,Caracterización!$B$8:$K$8,Caracterización!$B$72:$K$72,\"\")=\"Seleccione ...\"), \"Debe indicarlo en la caracterización de la comunidad\", IF(A36<>0, _xlfn.XLOOKUP(A36,Caracterización!$B$8:$K$8,Caracterización!$B$72:$K$72,\"\"), \"\"))","v":""},{"$f":"IF(AND(A36<>0, _xlfn.XLOOKUP(A36,Caracterización!$B$8:$K$8,Caracterización!$B$36:$K$36,\"\")=\"Seleccione ...\"), \"Debe indicarlo en la caracterización de la comunidad\", IF(A36<>0, _xlfn.XLOOKUP(A36,Caracterización!$B$8:$K$8,Caracterización!$B$36:$K$36,\"\"), \"\"))","v":""}]
[null,null,{"$f":"IF(AND(A37<>0, _xlfn.XLOOKUP(A37,Caracterización!$B$8:$K$8,Caracterización!$B$10:$K$10,\"\")=\"Seleccione ...\"), \"Debe indicarlo en la caracterización de la comunidad\", IF(A37<>0, _xlfn.XLOOKUP(A37,Caracterización!$B$8:$K$8,Caracterización!$B$10:$K$10,\"\"), \"\"))","v":""},{"$f":"IF(AND(A37<>0, _xlfn.XLOOKUP(A37,Caracterización!$B$8:$K$8,Caracterización!$B$11:$K$11,\"\")=\"Seleccione ...\"), \"Debe indicarlo en la caracterización de la comunidad\", IF(A37<>0, _xlfn.XLOOKUP(A37,Caracterización!$B$8:$K$8,Caracterización!$B$11:$K$11,\"\"), \"\"))","v":""},{"$f":"IF(AND(A37<>0, _xlfn.XLOOKUP(A37,Caracterización!$B$8:$K$8,Caracterización!$B$19:$K$19,\"\")=\"Seleccione ...\"), \"Debe indicarlo en la caracterización de la comunidad\", IF(A37<>0, _xlfn.XLOOKUP(A37,Caracterización!$B$8:$K$8,Caracterización!$B$19:$K$19,\"\"), \"\"))","v":""},{"$f":"IF(AND(A37<>0, _xlfn.XLOOKUP(A37,Caracterización!$B$8:$K$8,Caracterización!$B$20:$K$20,\"\")=\"Seleccione ...\"), \"Debe indicarlo en la caracterización de la comunidad\", IF(A37<>0, _xlfn.XLOOKUP(A37,Caracterización!$B$8:$K$8,Caracterización!$B$20:$K$20,\"\"), \"\"))","v":""},{"$f":"IF(AND(A37<>0, _xlfn.XLOOKUP(A37,Caracterización!$B$8:$K$8,Caracterización!$B$22:$K$22,\"\")=\"Seleccione ...\"), \"Debe indicarlo en la caracterización de la comunidad\", IF(A37<>0, _xlfn.XLOOKUP(A37,Caracterización!$B$8:$K$8,Caracterización!$B$22:$K$22,\"\"), \"\"))","v":""},{"$f":"IF(AND(A37<>0, _xlfn.XLOOKUP(A37,Caracterización!$B$8:$K$8,Caracterización!$B$23:$K$23,\"\")=\"Seleccione ...\"), \"Debe indicarlo en la caracterización de la comunidad\", IF(A37<>0, _xlfn.XLOOKUP(A37,Caracterización!$B$8:$K$8,Caracterización!$B$23:$K$23,\"\"), \"\"))","v":""},{"$f":"IF(AND(A37<>0, _xlfn.XLOOKUP(A37,Caracterización!$B$8:$K$8,Caracterización!$B$28:$K$28,\"\")=\"Seleccione ...\"), \"Debe indicarlo en la caracterización de la comunidad\", IF(A37<>0, _xlfn.XLOOKUP(A37,Caracterización!$B$8:$K$8,Caracterización!$B$28:$K$28,\"\"), \"\"))","v":""},{"$f":"IF(AND(A37<>0, _xlfn.XLOOKUP(A37,Caracterización!$B$8:$K$8,Caracterización!$B$37:$K$37,\"\")=\"Seleccione ...\"), \"Debe indicarlo en la caracterización de la comunidad\", IF(A37<>0, _xlfn.XLOOKUP(A37,Caracterización!$B$8:$K$8,Caracterización!$B$37:$K$37,\"\"), \"\"))","v":""},{"$f":"IF(AND(A37<>0, _xlfn.XLOOKUP(A37,Caracterización!$B$8:$K$8,Caracterización!$B$40:$K$40,\"\")=\"Seleccione ...\"), \"Debe indicarlo en la caracterización de la comunidad\", IF(A37<>0, _xlfn.XLOOKUP(A37,Caracterización!$B$8:$K$8,Caracterización!$B$40:$K$40,\"\"), \"\"))","v":""},{"$f":"IF(AND(A37<>0, _xlfn.XLOOKUP(A37,Caracterización!$B$8:$K$8,Caracterización!$B$42:$K$42,\"\")=\"Seleccione ...\"), \"Debe indicarlo en la caracterización de la comunidad\", IF(A37<>0, _xlfn.XLOOKUP(A37,Caracterización!$B$8:$K$8,Caracterización!$B$42:$K$42,\"\"), \"\"))","v":""},{"$f":"IF(AND(A37<>0, _xlfn.XLOOKUP(A37,Caracterización!$B$8:$K$8,Caracterización!$B$72:$K$72,\"\")=\"Seleccione ...\"), \"Debe indicarlo en la caracterización de la comunidad\", IF(A37<>0, _xlfn.XLOOKUP(A37,Caracterización!$B$8:$K$8,Caracterización!$B$72:$K$72,\"\"), \"\"))","v":""},{"$f":"IF(AND(A37<>0, _xlfn.XLOOKUP(A37,Caracterización!$B$8:$K$8,Caracterización!$B$36:$K$36,\"\")=\"Seleccione ...\"), \"Debe indicarlo en la caracterización de la comunidad\", IF(A37<>0, _xlfn.XLOOKUP(A37,Caracterización!$B$8:$K$8,Caracterización!$B$36:$K$36,\"\"), \"\"))","v":""}]
[null,null,{"$f":"IF(AND(A38<>0, _xlfn.XLOOKUP(A38,Caracterización!$B$8:$K$8,Caracterización!$B$10:$K$10,\"\")=\"Seleccione ...\"), \"Debe indicarlo en la caracterización de la comunidad\", IF(A38<>0, _xlfn.XLOOKUP(A38,Caracterización!$B$8:$K$8,Caracterización!$B$10:$K$10,\"\"), \"\"))","v":""},{"$f":"IF(AND(A38<>0, _xlfn.XLOOKUP(A38,Caracterización!$B$8:$K$8,Caracterización!$B$11:$K$11,\"\")=\"Seleccione ...\"), \"Debe indicarlo en la caracterización de la comunidad\", IF(A38<>0, _xlfn.XLOOKUP(A38,Caracterización!$B$8:$K$8,Caracterización!$B$11:$K$11,\"\"), \"\"))","v":""},{"$f":"IF(AND(A38<>0, _xlfn.XLOOKUP(A38,Caracterización!$B$8:$K$8,Caracterización!$B$19:$K$19,\"\")=\"Seleccione ...\"), \"Debe indicarlo en la caracterización de la comunidad\", IF(A38<>0, _xlfn.XLOOKUP(A38,Caracterización!$B$8:$K$8,Caracterización!$B$19:$K$19,\"\"), \"\"))","v":""},{"$f":"IF(AND(A38<>0, _xlfn.XLOOKUP(A38,Caracterización!$B$8:$K$8,Caracterización!$B$20:$K$20,\"\")=\"Seleccione ...\"), \"Debe indicarlo en la caracterización de la comunidad\", IF(A38<>0, _xlfn.XLOOKUP(A38,Caracterización!$B$8:$K$8,Caracterización!$B$20:$K$20,\"\"), \"\"))","v":""},{"$f":"IF(AND(A38<>0, _xlfn.XLOOKUP(A38,Caracterización!$B$8:$K$8,Caracterización!$B$22:$K$22,\"\")=\"Seleccione ...\"), \"Debe indicarlo en la caracterización de la comunidad\", IF(A38<>0, _xlfn.XLOOKUP(A38,Caracterización!$B$8:$K$8,Caracterización!$B$22:$K$22,\"\"), \"\"))","v":""},{"$f":"IF(AND(A38<>0, _xlfn.XLOOKUP(A38,Caracterización!$B$8:$K$8,Caracterización!$B$23:$K$23,\"\")=\"Seleccione ...\"), \"Debe indicarlo en la caracterización de la comunidad\", IF(A38<>0, _xlfn.XLOOKUP(A38,Caracterización!$B$8:$K$8,Caracterización!$B$23:$K$23,\"\"), \"\"))","v":""},{"$f":"IF(AND(A38<>0, _xlfn.XLOOKUP(A38,Caracterización!$B$8:$K$8,Caracterización!$B$28:$K$28,\"\")=\"Seleccione ...\"), \"Debe indicarlo en la caracterización de la comunidad\", IF(A38<>0, _xlfn.XLOOKUP(A38,Caracterización!$B$8:$K$8,Caracterización!$B$28:$K$28,\"\"), \"\"))","v":""},{"$f":"IF(AND(A38<>0, _xlfn.XLOOKUP(A38,Caracterización!$B$8:$K$8,Caracterización!$B$37:$K$37,\"\")=\"Seleccione ...\"), \"Debe indicarlo en la caracterización de la comunidad\", IF(A38<>0, _xlfn.XLOOKUP(A38,Caracterización!$B$8:$K$8,Caracterización!$B$37:$K$37,\"\"), \"\"))","v":""},{"$f":"IF(AND(A38<>0, _xlfn.XLOOKUP(A38,Caracterización!$B$8:$K$8,Caracterización!$B$40:$K$40,\"\")=\"Seleccione ...\"), \"Debe indicarlo en la caracterización de la comunidad\", IF(A38<>0, _xlfn.XLOOKUP(A38,Caracterización!$B$8:$K$8,Caracterización!$B$40:$K$40,\"\"), \"\"))","v":""},{"$f":"IF(AND(A38<>0, _xlfn.XLOOKUP(A38,Caracterización!$B$8:$K$8,Caracterización!$B$42:$K$42,\"\")=\"Seleccione ...\"), \"Debe indicarlo en la caracterización de la comunidad\", IF(A38<>0, _xlfn.XLOOKUP(A38,Caracterización!$B$8:$K$8,Caracterización!$B$42:$K$42,\"\"), \"\"))","v":""},{"$f":"IF(AND(A38<>0, _xlfn.XLOOKUP(A38,Caracterización!$B$8:$K$8,Caracterización!$B$72:$K$72,\"\")=\"Seleccione ...\"), \"Debe indicarlo en la caracterización de la comunidad\", IF(A38<>0, _xlfn.XLOOKUP(A38,Caracterización!$B$8:$K$8,Caracterización!$B$72:$K$72,\"\"), \"\"))","v":""},{"$f":"IF(AND(A38<>0, _xlfn.XLOOKUP(A38,Caracterización!$B$8:$K$8,Caracterización!$B$36:$K$36,\"\")=\"Seleccione ...\"), \"Debe indicarlo en la caracterización de la comunidad\", IF(A38<>0, _xlfn.XLOOKUP(A38,Caracterización!$B$8:$K$8,Caracterización!$B$36:$K$36,\"\"), \"\"))","v":""}]
[null,null,{"$f":"IF(AND(A39<>0, _xlfn.XLOOKUP(A39,Caracterización!$B$8:$K$8,Caracterización!$B$10:$K$10,\"\")=\"Seleccione ...\"), \"Debe indicarlo en la caracterización de la comunidad\", IF(A39<>0, _xlfn.XLOOKUP(A39,Caracterización!$B$8:$K$8,Caracterización!$B$10:$K$10,\"\"), \"\"))","v":""},{"$f":"IF(AND(A39<>0, _xlfn.XLOOKUP(A39,Caracterización!$B$8:$K$8,Caracterización!$B$11:$K$11,\"\")=\"Seleccione ...\"), \"Debe indicarlo en la caracterización de la comunidad\", IF(A39<>0, _xlfn.XLOOKUP(A39,Caracterización!$B$8:$K$8,Caracterización!$B$11:$K$11,\"\"), \"\"))","v":""},{"$f":"IF(AND(A39<>0, _xlfn.XLOOKUP(A39,Caracterización!$B$8:$K$8,Caracterización!$B$19:$K$19,\"\")=\"Seleccione ...\"), \"Debe indicarlo en la caracterización de la comunidad\", IF(A39<>0, _xlfn.XLOOKUP(A39,Caracterización!$B$8:$K$8,Caracterización!$B$19:$K$19,\"\"), \"\"))","v":""},{"$f":"IF(AND(A39<>0, _xlfn.XLOOKUP(A39,Caracterización!$B$8:$K$8,Caracterización!$B$20:$K$20,\"\")=\"Seleccione ...\"), \"Debe indicarlo en la caracterización de la comunidad\", IF(A39<>0, _xlfn.XLOOKUP(A39,Caracterización!$B$8:$K$8,Caracterización!$B$20:$K$20,\"\"), \"\"))","v":""},{"$f":"IF(AND(A39<>0, _xlfn.XLOOKUP(A39,Caracterización!$B$8:$K$8,Caracterización!$B$22:$K$22,\"\")=\"Seleccione ...\"), \"Debe indicarlo en la caracterización de la comunidad\", IF(A39<>0, _xlfn.XLOOKUP(A39,Caracterización!$B$8:$K$8,Caracterización!$B$22:$K$22,\"\"), \"\"))","v":""},{"$f":"IF(AND(A39<>0, _xlfn.XLOOKUP(A39,Caracterización!$B$8:$K$8,Caracterización!$B$23:$K$23,\"\")=\"Seleccione ...\"), \"Debe indicarlo en la caracterización de la comunidad\", IF(A39<>0, _xlfn.XLOOKUP(A39,Caracterización!$B$8:$K$8,Caracterización!$B$23:$K$23,\"\"), \"\"))","v":""},{"$f":"IF(AND(A39<>0, _xlfn.XLOOKUP(A39,Caracterización!$B$8:$K$8,Caracterización!$B$28:$K$28,\"\")=\"Seleccione ...\"), \"Debe indicarlo en la caracterización de la comunidad\", IF(A39<>0, _xlfn.XLOOKUP(A39,Caracterización!$B$8:$K$8,Caracterización!$B$28:$K$28,\"\"), \"\"))","v":""},{"$f":"IF(AND(A39<>0, _xlfn.XLOOKUP(A39,Caracterización!$B$8:$K$8,Caracterización!$B$37:$K$37,\"\")=\"Seleccione ...\"), \"Debe indicarlo en la caracterización de la comunidad\", IF(A39<>0, _xlfn.XLOOKUP(A39,Caracterización!$B$8:$K$8,Caracterización!$B$37:$K$37,\"\"), \"\"))","v":""},{"$f":"IF(AND(A39<>0, _xlfn.XLOOKUP(A39,Caracterización!$B$8:$K$8,Caracterización!$B$40:$K$40,\"\")=\"Seleccione ...\"), \"Debe indicarlo en la caracterización de la comunidad\", IF(A39<>0, _xlfn.XLOOKUP(A39,Caracterización!$B$8:$K$8,Caracterización!$B$40:$K$40,\"\"), \"\"))","v":""},{"$f":"IF(AND(A39<>0, _xlfn.XLOOKUP(A39,Caracterización!$B$8:$K$8,Caracterización!$B$42:$K$42,\"\")=\"Seleccione ...\"), \"Debe indicarlo en la caracterización de la comunidad\", IF(A39<>0, _xlfn.XLOOKUP(A39,Caracterización!$B$8:$K$8,Caracterización!$B$42:$K$42,\"\"), \"\"))","v":""},{"$f":"IF(AND(A39<>0, _xlfn.XLOOKUP(A39,Caracterización!$B$8:$K$8,Caracterización!$B$72:$K$72,\"\")=\"Seleccione ...\"), \"Debe indicarlo en la caracterización de la comunidad\", IF(A39<>0, _xlfn.XLOOKUP(A39,Caracterización!$B$8:$K$8,Caracterización!$B$72:$K$72,\"\"), \"\"))","v":""},{"$f":"IF(AND(A39<>0, _xlfn.XLOOKUP(A39,Caracterización!$B$8:$K$8,Caracterización!$B$36:$K$36,\"\")=\"Seleccione ...\"), \"Debe indicarlo en la caracterización de la comunidad\", IF(A39<>0, _xlfn.XLOOKUP(A39,Caracterización!$B$8:$K$8,Caracterización!$B$36:$K$36,\"\"), \"\"))","v":""}]
[null,null,{"$f":"IF(AND(A40<>0, _xlfn.XLOOKUP(A40,Caracterización!$B$8:$K$8,Caracterización!$B$10:$K$10,\"\")=\"Seleccione ...\"), \"Debe indicarlo en la caracterización de la comunidad\", IF(A40<>0, _xlfn.XLOOKUP(A40,Caracterización!$B$8:$K$8,Caracterización!$B$10:$K$10,\"\"), \"\"))","v":""},{"$f":"IF(AND(A40<>0, _xlfn.XLOOKUP(A40,Caracterización!$B$8:$K$8,Caracterización!$B$11:$K$11,\"\")=\"Seleccione ...\"), \"Debe indicarlo en la caracterización de la comunidad\", IF(A40<>0, _xlfn.XLOOKUP(A40,Caracterización!$B$8:$K$8,Caracterización!$B$11:$K$11,\"\"), \"\"))","v":""},{"$f":"IF(AND(A40<>0, _xlfn.XLOOKUP(A40,Caracterización!$B$8:$K$8,Caracterización!$B$19:$K$19,\"\")=\"Seleccione ...\"), \"Debe indicarlo en la caracterización de la comunidad\", IF(A40<>0, _xlfn.XLOOKUP(A40,Caracterización!$B$8:$K$8,Caracterización!$B$19:$K$19,\"\"), \"\"))","v":""},{"$f":"IF(AND(A40<>0, _xlfn.XLOOKUP(A40,Caracterización!$B$8:$K$8,Caracterización!$B$20:$K$20,\"\")=\"Seleccione ...\"), \"Debe indicarlo en la caracterización de la comunidad\", IF(A40<>0, _xlfn.XLOOKUP(A40,Caracterización!$B$8:$K$8,Caracterización!$B$20:$K$20,\"\"), \"\"))","v":""},{"$f":"IF(AND(A40<>0, _xlfn.XLOOKUP(A40,Caracterización!$B$8:$K$8,Caracterización!$B$22:$K$22,\"\")=\"Seleccione ...\"), \"Debe indicarlo en la caracterización de la comunidad\", IF(A40<>0, _xlfn.XLOOKUP(A40,Caracterización!$B$8:$K$8,Caracterización!$B$22:$K$22,\"\"), \"\"))","v":""},{"$f":"IF(AND(A40<>0, _xlfn.XLOOKUP(A40,Caracterización!$B$8:$K$8,Caracterización!$B$23:$K$23,\"\")=\"Seleccione ...\"), \"Debe indicarlo en la caracterización de la comunidad\", IF(A40<>0, _xlfn.XLOOKUP(A40,Caracterización!$B$8:$K$8,Caracterización!$B$23:$K$23,\"\"), \"\"))","v":""},{"$f":"IF(AND(A40<>0, _xlfn.XLOOKUP(A40,Caracterización!$B$8:$K$8,Caracterización!$B$28:$K$28,\"\")=\"Seleccione ...\"), \"Debe indicarlo en la caracterización de la comunidad\", IF(A40<>0, _xlfn.XLOOKUP(A40,Caracterización!$B$8:$K$8,Caracterización!$B$28:$K$28,\"\"), \"\"))","v":""},{"$f":"IF(AND(A40<>0, _xlfn.XLOOKUP(A40,Caracterización!$B$8:$K$8,Caracterización!$B$37:$K$37,\"\")=\"Seleccione ...\"), \"Debe indicarlo en la caracterización de la comunidad\", IF(A40<>0, _xlfn.XLOOKUP(A40,Caracterización!$B$8:$K$8,Caracterización!$B$37:$K$37,\"\"), \"\"))","v":""},{"$f":"IF(AND(A40<>0, _xlfn.XLOOKUP(A40,Caracterización!$B$8:$K$8,Caracterización!$B$40:$K$40,\"\")=\"Seleccione ...\"), \"Debe indicarlo en la caracterización de la comunidad\", IF(A40<>0, _xlfn.XLOOKUP(A40,Caracterización!$B$8:$K$8,Caracterización!$B$40:$K$40,\"\"), \"\"))","v":""},{"$f":"IF(AND(A40<>0, _xlfn.XLOOKUP(A40,Caracterización!$B$8:$K$8,Caracterización!$B$42:$K$42,\"\")=\"Seleccione ...\"), \"Debe indicarlo en la caracterización de la comunidad\", IF(A40<>0, _xlfn.XLOOKUP(A40,Caracterización!$B$8:$K$8,Caracterización!$B$42:$K$42,\"\"), \"\"))","v":""},{"$f":"IF(AND(A40<>0, _xlfn.XLOOKUP(A40,Caracterización!$B$8:$K$8,Caracterización!$B$72:$K$72,\"\")=\"Seleccione ...\"), \"Debe indicarlo en la caracterización de la comunidad\", IF(A40<>0, _xlfn.XLOOKUP(A40,Caracterización!$B$8:$K$8,Caracterización!$B$72:$K$72,\"\"), \"\"))","v":""},{"$f":"IF(AND(A40<>0, _xlfn.XLOOKUP(A40,Caracterización!$B$8:$K$8,Caracterización!$B$36:$K$36,\"\")=\"Seleccione ...\"), \"Debe indicarlo en la caracterización de la comunidad\", IF(A40<>0, _xlfn.XLOOKUP(A40,Caracterización!$B$8:$K$8,Caracterización!$B$36:$K$36,\"\"), \"\"))","v":""}]
[null,null,{"$f":"IF(AND(A41<>0, _xlfn.XLOOKUP(A41,Caracterización!$B$8:$K$8,Caracterización!$B$10:$K$10,\"\")=\"Seleccione ...\"), \"Debe indicarlo en la caracterización de la comunidad\", IF(A41<>0, _xlfn.XLOOKUP(A41,Caracterización!$B$8:$K$8,Caracterización!$B$10:$K$10,\"\"), \"\"))","v":""},{"$f":"IF(AND(A41<>0, _xlfn.XLOOKUP(A41,Caracterización!$B$8:$K$8,Caracterización!$B$11:$K$11,\"\")=\"Seleccione ...\"), \"Debe indicarlo en la caracterización de la comunidad\", IF(A41<>0, _xlfn.XLOOKUP(A41,Caracterización!$B$8:$K$8,Caracterización!$B$11:$K$11,\"\"), \"\"))","v":""},{"$f":"IF(AND(A41<>0, _xlfn.XLOOKUP(A41,Caracterización!$B$8:$K$8,Caracterización!$B$19:$K$19,\"\")=\"Seleccione ...\"), \"Debe indicarlo en la caracterización de la comunidad\", IF(A41<>0, _xlfn.XLOOKUP(A41,Caracterización!$B$8:$K$8,Caracterización!$B$19:$K$19,\"\"), \"\"))","v":""},{"$f":"IF(AND(A41<>0, _xlfn.XLOOKUP(A41,Caracterización!$B$8:$K$8,Caracterización!$B$20:$K$20,\"\")=\"Seleccione ...\"), \"Debe indicarlo en la caracterización de la comunidad\", IF(A41<>0, _xlfn.XLOOKUP(A41,Caracterización!$B$8:$K$8,Caracterización!$B$20:$K$20,\"\"), \"\"))","v":""},{"$f":"IF(AND(A41<>0, _xlfn.XLOOKUP(A41,Caracterización!$B$8:$K$8,Caracterización!$B$22:$K$22,\"\")=\"Seleccione ...\"), \"Debe indicarlo en la caracterización de la comunidad\", IF(A41<>0, _xlfn.XLOOKUP(A41,Caracterización!$B$8:$K$8,Caracterización!$B$22:$K$22,\"\"), \"\"))","v":""},{"$f":"IF(AND(A41<>0, _xlfn.XLOOKUP(A41,Caracterización!$B$8:$K$8,Caracterización!$B$23:$K$23,\"\")=\"Seleccione ...\"), \"Debe indicarlo en la caracterización de la comunidad\", IF(A41<>0, _xlfn.XLOOKUP(A41,Caracterización!$B$8:$K$8,Caracterización!$B$23:$K$23,\"\"), \"\"))","v":""},{"$f":"IF(AND(A41<>0, _xlfn.XLOOKUP(A41,Caracterización!$B$8:$K$8,Caracterización!$B$28:$K$28,\"\")=\"Seleccione ...\"), \"Debe indicarlo en la caracterización de la comunidad\", IF(A41<>0, _xlfn.XLOOKUP(A41,Caracterización!$B$8:$K$8,Caracterización!$B$28:$K$28,\"\"), \"\"))","v":""},{"$f":"IF(AND(A41<>0, _xlfn.XLOOKUP(A41,Caracterización!$B$8:$K$8,Caracterización!$B$37:$K$37,\"\")=\"Seleccione ...\"), \"Debe indicarlo en la caracterización de la comunidad\", IF(A41<>0, _xlfn.XLOOKUP(A41,Caracterización!$B$8:$K$8,Caracterización!$B$37:$K$37,\"\"), \"\"))","v":""},{"$f":"IF(AND(A41<>0, _xlfn.XLOOKUP(A41,Caracterización!$B$8:$K$8,Caracterización!$B$40:$K$40,\"\")=\"Seleccione ...\"), \"Debe indicarlo en la caracterización de la comunidad\", IF(A41<>0, _xlfn.XLOOKUP(A41,Caracterización!$B$8:$K$8,Caracterización!$B$40:$K$40,\"\"), \"\"))","v":""},{"$f":"IF(AND(A41<>0, _xlfn.XLOOKUP(A41,Caracterización!$B$8:$K$8,Caracterización!$B$42:$K$42,\"\")=\"Seleccione ...\"), \"Debe indicarlo en la caracterización de la comunidad\", IF(A41<>0, _xlfn.XLOOKUP(A41,Caracterización!$B$8:$K$8,Caracterización!$B$42:$K$42,\"\"), \"\"))","v":""},{"$f":"IF(AND(A41<>0, _xlfn.XLOOKUP(A41,Caracterización!$B$8:$K$8,Caracterización!$B$72:$K$72,\"\")=\"Seleccione ...\"), \"Debe indicarlo en la caracterización de la comunidad\", IF(A41<>0, _xlfn.XLOOKUP(A41,Caracterización!$B$8:$K$8,Caracterización!$B$72:$K$72,\"\"), \"\"))","v":""},{"$f":"IF(AND(A41<>0, _xlfn.XLOOKUP(A41,Caracterización!$B$8:$K$8,Caracterización!$B$36:$K$36,\"\")=\"Seleccione ...\"), \"Debe indicarlo en la caracterización de la comunidad\", IF(A41<>0, _xlfn.XLOOKUP(A41,Caracterización!$B$8:$K$8,Caracterización!$B$36:$K$36,\"\"), \"\"))","v":""}]
[null,null,{"$f":"IF(AND(A42<>0, _xlfn.XLOOKUP(A42,Caracterización!$B$8:$K$8,Caracterización!$B$10:$K$10,\"\")=\"Seleccione ...\"), \"Debe indicarlo en la caracterización de la comunidad\", IF(A42<>0, _xlfn.XLOOKUP(A42,Caracterización!$B$8:$K$8,Caracterización!$B$10:$K$10,\"\"), \"\"))","v":""},{"$f":"IF(AND(A42<>0, _xlfn.XLOOKUP(A42,Caracterización!$B$8:$K$8,Caracterización!$B$11:$K$11,\"\")=\"Seleccione ...\"), \"Debe indicarlo en la caracterización de la comunidad\", IF(A42<>0, _xlfn.XLOOKUP(A42,Caracterización!$B$8:$K$8,Caracterización!$B$11:$K$11,\"\"), \"\"))","v":""},{"$f":"IF(AND(A42<>0, _xlfn.XLOOKUP(A42,Caracterización!$B$8:$K$8,Caracterización!$B$19:$K$19,\"\")=\"Seleccione ...\"), \"Debe indicarlo en la caracterización de la comunidad\", IF(A42<>0, _xlfn.XLOOKUP(A42,Caracterización!$B$8:$K$8,Caracterización!$B$19:$K$19,\"\"), \"\"))","v":""},{"$f":"IF(AND(A42<>0, _xlfn.XLOOKUP(A42,Caracterización!$B$8:$K$8,Caracterización!$B$20:$K$20,\"\")=\"Seleccione ...\"), \"Debe indicarlo en la caracterización de la comunidad\", IF(A42<>0, _xlfn.XLOOKUP(A42,Caracterización!$B$8:$K$8,Caracterización!$B$20:$K$20,\"\"), \"\"))","v":""},{"$f":"IF(AND(A42<>0, _xlfn.XLOOKUP(A42,Caracterización!$B$8:$K$8,Caracterización!$B$22:$K$22,\"\")=\"Seleccione ...\"), \"Debe indicarlo en la caracterización de la comunidad\", IF(A42<>0, _xlfn.XLOOKUP(A42,Caracterización!$B$8:$K$8,Caracterización!$B$22:$K$22,\"\"), \"\"))","v":""},{"$f":"IF(AND(A42<>0, _xlfn.XLOOKUP(A42,Caracterización!$B$8:$K$8,Caracterización!$B$23:$K$23,\"\")=\"Seleccione ...\"), \"Debe indicarlo en la caracterización de la comunidad\", IF(A42<>0, _xlfn.XLOOKUP(A42,Caracterización!$B$8:$K$8,Caracterización!$B$23:$K$23,\"\"), \"\"))","v":""},{"$f":"IF(AND(A42<>0, _xlfn.XLOOKUP(A42,Caracterización!$B$8:$K$8,Caracterización!$B$28:$K$28,\"\")=\"Seleccione ...\"), \"Debe indicarlo en la caracterización de la comunidad\", IF(A42<>0, _xlfn.XLOOKUP(A42,Caracterización!$B$8:$K$8,Caracterización!$B$28:$K$28,\"\"), \"\"))","v":""},{"$f":"IF(AND(A42<>0, _xlfn.XLOOKUP(A42,Caracterización!$B$8:$K$8,Caracterización!$B$37:$K$37,\"\")=\"Seleccione ...\"), \"Debe indicarlo en la caracterización de la comunidad\", IF(A42<>0, _xlfn.XLOOKUP(A42,Caracterización!$B$8:$K$8,Caracterización!$B$37:$K$37,\"\"), \"\"))","v":""},{"$f":"IF(AND(A42<>0, _xlfn.XLOOKUP(A42,Caracterización!$B$8:$K$8,Caracterización!$B$40:$K$40,\"\")=\"Seleccione ...\"), \"Debe indicarlo en la caracterización de la comunidad\", IF(A42<>0, _xlfn.XLOOKUP(A42,Caracterización!$B$8:$K$8,Caracterización!$B$40:$K$40,\"\"), \"\"))","v":""},{"$f":"IF(AND(A42<>0, _xlfn.XLOOKUP(A42,Caracterización!$B$8:$K$8,Caracterización!$B$42:$K$42,\"\")=\"Seleccione ...\"), \"Debe indicarlo en la caracterización de la comunidad\", IF(A42<>0, _xlfn.XLOOKUP(A42,Caracterización!$B$8:$K$8,Caracterización!$B$42:$K$42,\"\"), \"\"))","v":""},{"$f":"IF(AND(A42<>0, _xlfn.XLOOKUP(A42,Caracterización!$B$8:$K$8,Caracterización!$B$72:$K$72,\"\")=\"Seleccione ...\"), \"Debe indicarlo en la caracterización de la comunidad\", IF(A42<>0, _xlfn.XLOOKUP(A42,Caracterización!$B$8:$K$8,Caracterización!$B$72:$K$72,\"\"), \"\"))","v":""},{"$f":"IF(AND(A42<>0, _xlfn.XLOOKUP(A42,Caracterización!$B$8:$K$8,Caracterización!$B$36:$K$36,\"\")=\"Seleccione ...\"), \"Debe indicarlo en la caracterización de la comunidad\", IF(A42<>0, _xlfn.XLOOKUP(A42,Caracterización!$B$8:$K$8,Caracterización!$B$36:$K$36,\"\"), \"\"))","v":""}]
[null,null,{"$f":"IF(AND(A43<>0, _xlfn.XLOOKUP(A43,Caracterización!$B$8:$K$8,Caracterización!$B$10:$K$10,\"\")=\"Seleccione ...\"), \"Debe indicarlo en la caracterización de la comunidad\", IF(A43<>0, _xlfn.XLOOKUP(A43,Caracterización!$B$8:$K$8,Caracterización!$B$10:$K$10,\"\"), \"\"))","v":""},{"$f":"IF(AND(A43<>0, _xlfn.XLOOKUP(A43,Caracterización!$B$8:$K$8,Caracterización!$B$11:$K$11,\"\")=\"Seleccione ...\"), \"Debe indicarlo en la caracterización de la comunidad\", IF(A43<>0, _xlfn.XLOOKUP(A43,Caracterización!$B$8:$K$8,Caracterización!$B$11:$K$11,\"\"), \"\"))","v":""},{"$f":"IF(AND(A43<>0, _xlfn.XLOOKUP(A43,Caracterización!$B$8:$K$8,Caracterización!$B$19:$K$19,\"\")=\"Seleccione ...\"), \"Debe indicarlo en la caracterización de la comunidad\", IF(A43<>0, _xlfn.XLOOKUP(A43,Caracterización!$B$8:$K$8,Caracterización!$B$19:$K$19,\"\"), \"\"))","v":""},{"$f":"IF(AND(A43<>0, _xlfn.XLOOKUP(A43,Caracterización!$B$8:$K$8,Caracterización!$B$20:$K$20,\"\")=\"Seleccione ...\"), \"Debe indicarlo en la caracterización de la comunidad\", IF(A43<>0, _xlfn.XLOOKUP(A43,Caracterización!$B$8:$K$8,Caracterización!$B$20:$K$20,\"\"), \"\"))","v":""},{"$f":"IF(AND(A43<>0, _xlfn.XLOOKUP(A43,Caracterización!$B$8:$K$8,Caracterización!$B$22:$K$22,\"\")=\"Seleccione ...\"), \"Debe indicarlo en la caracterización de la comunidad\", IF(A43<>0, _xlfn.XLOOKUP(A43,Caracterización!$B$8:$K$8,Caracterización!$B$22:$K$22,\"\"), \"\"))","v":""},{"$f":"IF(AND(A43<>0, _xlfn.XLOOKUP(A43,Caracterización!$B$8:$K$8,Caracterización!$B$23:$K$23,\"\")=\"Seleccione ...\"), \"Debe indicarlo en la caracterización de la comunidad\", IF(A43<>0, _xlfn.XLOOKUP(A43,Caracterización!$B$8:$K$8,Caracterización!$B$23:$K$23,\"\"), \"\"))","v":""},{"$f":"IF(AND(A43<>0, _xlfn.XLOOKUP(A43,Caracterización!$B$8:$K$8,Caracterización!$B$28:$K$28,\"\")=\"Seleccione ...\"), \"Debe indicarlo en la caracterización de la comunidad\", IF(A43<>0, _xlfn.XLOOKUP(A43,Caracterización!$B$8:$K$8,Caracterización!$B$28:$K$28,\"\"), \"\"))","v":""},{"$f":"IF(AND(A43<>0, _xlfn.XLOOKUP(A43,Caracterización!$B$8:$K$8,Caracterización!$B$37:$K$37,\"\")=\"Seleccione ...\"), \"Debe indicarlo en la caracterización de la comunidad\", IF(A43<>0, _xlfn.XLOOKUP(A43,Caracterización!$B$8:$K$8,Caracterización!$B$37:$K$37,\"\"), \"\"))","v":""},{"$f":"IF(AND(A43<>0, _xlfn.XLOOKUP(A43,Caracterización!$B$8:$K$8,Caracterización!$B$40:$K$40,\"\")=\"Seleccione ...\"), \"Debe indicarlo en la caracterización de la comunidad\", IF(A43<>0, _xlfn.XLOOKUP(A43,Caracterización!$B$8:$K$8,Caracterización!$B$40:$K$40,\"\"), \"\"))","v":""},{"$f":"IF(AND(A43<>0, _xlfn.XLOOKUP(A43,Caracterización!$B$8:$K$8,Caracterización!$B$42:$K$42,\"\")=\"Seleccione ...\"), \"Debe indicarlo en la caracterización de la comunidad\", IF(A43<>0, _xlfn.XLOOKUP(A43,Caracterización!$B$8:$K$8,Caracterización!$B$42:$K$42,\"\"), \"\"))","v":""},{"$f":"IF(AND(A43<>0, _xlfn.XLOOKUP(A43,Caracterización!$B$8:$K$8,Caracterización!$B$72:$K$72,\"\")=\"Seleccione ...\"), \"Debe indicarlo en la caracterización de la comunidad\", IF(A43<>0, _xlfn.XLOOKUP(A43,Caracterización!$B$8:$K$8,Caracterización!$B$72:$K$72,\"\"), \"\"))","v":""}]

{"sheet":"Calificación Privada","index":7,"n_rows":44,"n_cols":21,"rows_kept":44,"merged":[[0,1,0,12],[1,1,1,13],[2,1,2,3],[3,1,3,3],[4,1,4,4],[6,0,8,0],[9,0,17,0],[18,0,20,0],[21,0,36,0],[37,0,43,0]]}
[null,"¡Califica las Comunidades!\""]
[null,"💡 ¿Qué hacer?\nSelecciona un nivel de calificación a cada comunidad según las diferentes variables.\nSi necesitas más detalles de los indicadores, haz clic en el botón CONSULTA INFORMACIÓN SOBRE LOS INDICADORES.\n\n🚨 Nota Importante:\nSi seleccionas \"Sin información\" para una comunidad, asegúrate de mantener igual las calificaciones de las demás comunidades. \nEsto permite que la herramienta calcule de manera equitativa."]
[null,"¿Deseas darle tu propia ponderación a cada indicador?"]
[null,"Por defecto cada indicador tiene el mismo valor (%) por categoría… puedes cambiarlo, \npero la valoración total por categoría debe ser 100%\n\nSi deseas calificar por categoria sin cambiar las valoraciones individuales ve directamente a RESULTADOS"]
[null,"✅ ¡Último paso!\nCuando hayas terminado de calificar, haz clic en el botón RESULTADOS para continuar."]
["Categoría","Categoría","Indicador / Criterios","Definición","Porcentaje de valoración del indicador",null,null,"Nivel Rojo","Nivel Naranja","Nivel Amarillo","Nivel Verde",{"$f":"Caracterización!B8","v":"C1"},{"$f":"Caracterización!C8","v":"C2"},{"$f":"Caracterización!D8","v":"C3"},{"$f":"Caracterización!E8","v":"C4"},{"$f":"Caracterización!F8","v":"C5"},{"$f":"Caracterización!G8","v":"C6"},{"$f":"Caracterización!H8","v":"C7"},{"$f":"Caracterización!I8","v":"C8"},{"$f":"Caracterización!J8","v":"C9"},{"$f":"Caracterización!K8","v":"C10"}]
[{"$f":"SUM(E7:E9)","v":{"v":0.9996666000000001,"d":"100.0%"}},{"$f":"'Consulta de Rangos'!A8","v":"Ambiental"},{"$f":"'Consulta de Rangos'!B8","v":" EROI (tasa de retorno energético)"},{"$f":"'Consulta de Rangos'!C8","v":"Mide la relación entre la energía obtenida de un proyecto y la energía invertida para producirla. Un valor mayor indica mayor eficiencia energética. (Relación de energía generada/energía invertida)"},{"v":0.333,"d":"33.3%"},"Seleccione…","Sin información",{"$f":"'Consulta de Rangos'!G8","v":"< 3"},{"$f":"'Consulta de Rangos'!H8","v":"3-5"},{"$f":"'Consulta de Rangos'!I8","v":"5-10"},{"$f":"'Consulta de Rangos'!J8","v":"> 10 "},"3-5","5-10","Seleccione…","Seleccione…","Seleccione…","Seleccione…","Seleccione…","Seleccione…","Seleccione…","Seleccione…"]
[null,{"$f":"'Consulta de Rangos'!A9","v":"Ambiental"},{"$f":"'Consulta de Rangos'!B9","v":"Reducción anual de gases de efecto invernadero"},{"$f":"'Consulta de Rangos'!C9","v":"Reducción estimada de gases de efecto invernadero (CO2e) que se espera reducir cada año debido al cambio en la fuene de energía."},{"v":0.3333333,"d":"33.3%"},"Seleccione…","Sin información",{"$f":"'Consulta de Rangos'!G9","v":"< 10% reducción"},{"$f":"'Consulta de Rangos'!H9","v":"10%-20% reducción"},{"$f":"'Consulta de Rangos'!I9","v":"20%-30% reducción"},{"$f":"'Consulta de Rangos'!J9","v":"> 30% reducción"},"Seleccione…","Seleccione…","Seleccione…","Seleccione…","Seleccione…","Seleccione…","Seleccione…","Seleccione…","Seleccione…","Seleccione…"]
[null,{"$f":"'Consulta de Rangos'!A10","v":"Ambiental"},{"$f":"'Consulta de Rangos'!B10","v":"Territorios de alta dependencia de carbón térmico"},{"$f":"'Consulta de Rangos'!C10","v":"Variable incluida para focalizar aquellas comunidades ubicadas en entes territoriales cuya estructura económica muestre altos grados de dependencia de la explotación de carbón térmico, bien sea para la exportación de este mineral o para su uso interno en el país, conforme lo informado por la Unidad de Planeación Minero-Energética (UPME) en el portal del Sistema de Información Minero Colombiano (SIMCO)."},{"v":0.3333333,"d":"33.3%"},"Seleccione…","Sin información",{"$f":"'Consulta de Rangos'!G10","v":"< 10% dependencia"},{"$f":"'Consulta de Rangos'!H10","v":"10%-20% dependencia"},{"$f":"'Consulta de Rangos'!I10","v":"20%-30% dependencia"},{"$f":"'Consulta de Rangos'!J10","v":"> 30% dependencia"},"Seleccione…","Seleccione…","Seleccione…","Seleccione…","Seleccione…","Seleccione…","Seleccione…","Seleccione…","Seleccione…","Seleccione…"]
[{"$f":"SUM(E10:E18)","v":{"v":0.999666666666667,"d":"100.0%"}},{"$f":"'Consulta de Rangos'!A11","v":"Económico"},{"$f":"'Consulta de Rangos'!B11","v":"Ahorro monetario del usuario en la factura eléctrica"},{"$f":"'Consulta de Rangos'!C11","v":"Ahorros monetarios que experimenta el usuario final al formar parte de la Comunidad Energética (CEC) y consumir energía renovable."},{"v":0.4,"d":"40.0%"},"Seleccione…","Sin información",{"$f":"'Consulta de Rangos'!G11","v":"< 10% ahorro"},{"$f":"'Consulta de Rangos'!H11","v":"10%-20% ahorro"},{"$f":"'Consulta de Rangos'!I11","v":"20%-30% ahorro"},{"$f":"'Consulta de Rangos'!J11","v":"> 30% ahorro"},"Seleccione…","Seleccione…","Seleccione…","Seleccione…","Seleccione…","Seleccione…","Seleccione…","Seleccione…","Seleccione…","Seleccione…"]
[null,{"$f":"'Consulta de Rangos'!A12","v":"Económico"},{"$f":"'Consulta de Rangos'!B12","v":"Coste de generación de energía ($/MWh)"},{"$f":"'Consulta de Rangos'!C12","v":"Mide el costo promedio de producir energía eléctrica desde el Sistema Interconectado Nacional (SIN). Este costo incluye los gastos de inversión inicial, operación, mantenimiento y combustibles asociados a la generación de un megavatio-hora (MWh)."},{"v":0.483,"d":"48.3%"},"Seleccione…","Sin información",{"$f":"'Consulta de Rangos'!G12","v":"< 230 USD/MWh"},{"$f":"'Consulta de Rangos'!H12","v":"230-250 USD/MWh"},{"$f":"'Consulta de Rangos'!I12","v":" 250-280 USD/MWh"},{"$f":"'Consulta de Rangos'!J12","v":"> 280 USD/MWh"},"Seleccione…","Seleccione…","Seleccione…","Seleccione…","Seleccione…","Seleccione…","Seleccione…","Seleccione…","Seleccione…","Seleccione…"]
[null,{"$f":"'Consulta de Rangos'!A13","v":"Económico"},{"$f":"'Consulta de Rangos'!B13","v":"La comunidad realiza el pago por servicio de energía de manera cumplida"},{"$f":"'Consulta de Rangos'!C13","v":"Porcentaje de usuarios de la comunidad energética que realizan el pago del servicio energético de manera regular y dentro de los plazos establecidos."},{"v":0.016666666666666666,"d":"1.7%"},"Seleccione…","Sin información",{"$f":"'Consulta de Rangos'!G13","v":"> 60% "},{"$f":"'Consulta de Rangos'!H13","v":"40%-60% "},{"$f":"'Consulta de Rangos'!I13","v":"20%-40% "},{"$f":"'Consulta de Rangos'!J13","v":"< 20% "},"Seleccione…","Seleccione…","Seleccione…","Seleccione…","Seleccione…","Seleccione…","Seleccione…","Seleccione…","Seleccione…","Seleccione…"]
[null,{"$f":"'Consulta de Rangos'!A14","v":"Económico"},{"$f":"'Consulta de Rangos'!B14","v":"Tiempo de retorno de la inversión"},{"$f":"'Consulta de Rangos'!C14","v":"El periodo de tiempo necesario para que las ganancias acumuladas de un proyecto igualen el costo total de la inversión. "},{"v":0.016666666666666666,"d":"1.7%"},"Seleccione…","Sin información",{"$f":"'Consulta de Rangos'!G14","v":"> 15 años"},{"$f":"'Consulta de Rangos'!H14","v":"10-15 años"},{"$f":"'Consulta de Rangos'!I14","v":"6-10 años"},{"$f":"'Consulta de Rangos'!J14","v":"< 6 años"},"Seleccione…","Seleccione…","Seleccione…","Seleccione…","Seleccione…","Seleccione…","Seleccione…","Seleccione…","Seleccione…","Seleccione…"]
[null,{"$f":"'Consulta de Rangos'!A15","v":"Económico"},{"$f":"'Consulta de Rangos'!B15","v":"Tasa interna de rentabilidad (TIR)"},{"$f":"'Consulta de Rangos'!C15","v":"Medida de la rentabilidad de una inversión. "},{"v":0.016666666666666666,"d":"1.7%"},"Seleccione…","Sin información",{"$f":"'Consulta de Rangos'!G15","v":"< 5%"},{"$f":"'Consulta de Rangos'!H15","v":"5%-7% "},{"$f":"'Consulta de Rangos'!I15","v":"7%-10%"},{"$f":"'Consulta de Rangos'!J15","v":"> 10%"},"Seleccione…","Seleccione…","Seleccione…","Seleccione…","Seleccione…","Seleccione…","Seleccione…","Seleccione…","Seleccione…","Seleccione…"]
[null,{"$f":"'Consulta de Rangos'!A16","v":"Económico"},{"$f":"'Consulta de Rangos'!B16","v":"Identificación de fuentes de financiación alternativas viables"},{"$f":"'Consulta de Rangos'!C16","v":"Mide la existencia y diversidad de fuentes de financiación alternativas (subsidios, donaciones, préstamos) para el proyecto."},{"v":0.016666666666666666,"d":"1.7%"},"Seleccione…","Sin información",{"$f":"'Consulta de Rangos'!G16","v":"No se han identificado fuentes alternativas viables."},{"$f":"'Consulta de Rangos'!H16","v":"Identificación limitada con alta dependencia de una fuente."},{"$f":"'Consulta de Rangos'!I16","v":"Identificación moderada con al menos dos fuentes viables."},{"$f":"'Consulta de Rangos'!J16","v":"Identificación robusta con múltiples fuentes viables y diversificadas."},"Seleccione…","Seleccione…","Seleccione…","Seleccione…","Seleccione…","Seleccione…","Seleccione…","Seleccione…","Seleccione…","Seleccione…"]
[null,{"$f":"'Consulta de Rangos'!A17","v":"Económico"},{"$f":"'Consulta de Rangos'!B17","v":"Capacidad de cofinanciación local"},{"$f":"'Consulta de Rangos'!C17","v":"Evalúa el porcentaje de recursos que la comunidad puede aportar para financiar el proyecto."},{"v":0.016666666666666666,"d":"1.7%"},"Seleccione…","Sin información",{"$f":"'Consulta de Rangos'!G17","v":"< 10% "},{"$f":"'Consulta de Rangos'!H17","v":"10%-30% "},{"$f":"'Consulta de Rangos'!I17","v":"30%-50% "},{"$f":"'Consulta de Rangos'!J17","v":"> 50% "},"Seleccione…","Seleccione…","Seleccione…","Seleccione…","Seleccione…","Seleccione…","Seleccione…","Seleccione…","Seleccione…","Seleccione…"]
[null,{"$f":"'Consulta de Rangos'!A18","v":"Económico"},{"$f":"'Consulta de Rangos'!B18","v":"Capacidad y voluntad de los miembros de la comunidad para financiar el proyecto"},{"$f":"'Consulta de Rangos'!C18","v":"Grado en que los miembros de la comunidad pueden y desean contribuir financieramente al proyecto."},{"v":0.016666666666666666,"d":"1.7%"},"Seleccione…","Sin información",{"$f":"'Consulta de Rangos'!G18","v":"< 15% "},{"$f":"'Consulta de Rangos'!H18","v":"15%-30% "},{"$f":"'Consulta de Rangos'!I18","v":"30%-50% "},{"$f":"'Consulta de Rangos'!J18","v":"> 50% "},"Seleccione…","Seleccione…","Seleccione…","Seleccione…","Seleccione…","Seleccione…","Seleccione…","Seleccione…","Seleccione…","Seleccione…"]
[null,{"$f":"'Consulta de Rangos'!A19","v":"Económico"},{"$f":"'Consulta de Rangos'!B19","v":"Costos energéticos promedio por usuario"},{"$f":"'Consulta de Rangos'!C19","v":"Promedio de gastos en energía por hogar en la comunidad evaluada."},{"v":0.016666666666666666,"d":"1.7%"},"Seleccione…","Sin información",{"$f":"'Consulta de Rangos'!G19","v":"< 40.000 COP"},{"$f":"'Consulta de Rangos'!H19","v":"40.000-80.000 COP"},{"$f":"'Consulta de Rangos'!I19","v":"80.000-120.000"},{"$f":"'Consulta de Rangos'!J19","v":"> 120.000 COP"},"Seleccione…","Seleccione…","Seleccione…","Seleccione…","Seleccione…","Seleccione…","Seleccione…","Seleccione…","Seleccione…","Seleccione…"]
[{"$f":"SUM(E19:E21)","v":{"v":0.99999,"d":"100.0%"}},{"$f":"'Consulta de Rangos'!A20","v":"Legislativo/ normativo"},{"$f":"'Consulta de Rangos'!B20","v":"Disposición de instituciones externas para representar a la comunidad energética "},{"$f":"'Consulta de Rangos'!C20","v":"Evalúa cualitativamente la disposición de instituciones externas para representar formalmente a una comunidad energética en aspectos legales, técnicos, financieros o de gobernanza."},{"v":0.33333,"d":"33.3%"},"Seleccione…","Sin información",{"$f":"'Consulta de Rangos'!G20","v":"Baja disposición"},{"$f":"'Consulta de Rangos'!H20","v":"Media disposición"},{"$f":"'Consulta de Rangos'!I20","v":"Alta disposición"},{"$f":"'Consulta de Rangos'!J20","v":"Muy alta disposición"},"Seleccione…","Seleccione…","Seleccione…","Seleccione…","Seleccione…","Seleccione…","Seleccione…","Seleccione…","Seleccione…","Seleccione…"]
[null,{"$f":"'Consulta de Rangos'!A21","v":"Legislativo/ normativo"},{"$f":"'Consulta de Rangos'!B21","v":"¿Se cuenta con avances en lineamientos para la distribución y almacenamiento de energía? Autoconsumo"},{"$f":"'Consulta de Rangos'!C21","v":"Existencia de lineamiento  que faciliten el autoconsumo y el almacenamiento energético en la comunidad."},{"v":0.33333,"d":"33.3%"},"Seleccione…","Sin información",{"$f":"'Consulta de Rangos'!G21","v":"Sin avances regulatorios"},{"$f":"'Consulta de Rangos'!H21","v":"Avances iniciales"},{"$f":"'Consulta de Rangos'!I21","v":"Avances moderados"},{"$f":"'Consulta de Rangos'!J21","v":"Lineamientos establecidos"},"Seleccione…","Seleccione…","Seleccione…","Seleccione…","Seleccione…","Seleccione…","Seleccione…","Seleccione…","Seleccione…","Seleccione…"]
[null,{"$f":"'Consulta de Rangos'!A22","v":"Legislativo/ normativo"},{"$f":"'Consulta de Rangos'!B22","v":"Políticas de Inclusión de Género en la Gobernanza de las Comunidades Energéticas"},{"$f":"'Consulta de Rangos'!C22","v":"Evalúa la existencia, alcance y efectividad de medidas específicas orientadas a promover la inclusión de género en la gobernanza de las comunidades energéticas. "},{"v":0.33333,"d":"33.3%"},"Seleccione…","Sin información",{"$f":"'Consulta de Rangos'!G22","v":"Sin medidas de inclusión"},{"$f":"'Consulta de Rangos'!H22","v":"Avances iniciales en medidas"},{"$f":"'Consulta de Rangos'!I22","v":"Medidas parcialmente implementadas"},{"$f":"'Consulta de Rangos'!J22","v":"Medidas plenamente implementadas"},"Seleccione…","Seleccione…","Seleccione…","Seleccione…","Seleccione…","Seleccione…","Seleccione…","Seleccione…","Seleccione…","Seleccione…"]
[{"$f":"SUM(E22:E37)","v":{"v":1,"d":"100.0%"}},{"$f":"'Consulta de Rangos'!A24","v":"Social"},{"$f":"'Consulta de Rangos'!B24","v":"Participación Femenina en la Comunidad Energética"},{"$f":"'Consulta de Rangos'!C24","v":"Nivel de involucramiento de las mujeres en las actividades y decisiones de la comunidad energética."},{"v":0.0625,"d":"6.3%"},"Seleccione…","Sin información",{"$f":"'Consulta de Rangos'!G24","v":"< 20% "},{"$f":"'Consulta de Rangos'!H24","v":"20%-35% "},{"$f":"'Consulta de Rangos'!I24","v":"35%-50% "},{"$f":"'Consulta de Rangos'!J24","v":"> 50% "},"Seleccione…","Seleccione…","Seleccione…","Seleccione…","Seleccione…","Seleccione…","Seleccione…","Seleccione…","Seleccione…","Seleccione…"]
[null,{"$f":"'Consulta de Rangos'!A25","v":"Social"},{"$f":"'Consulta de Rangos'!B25","v":"Población de especial protección constitucional del sector Paz (víctimas, personas en proceso de reincorporación)"},{"$f":"'Consulta de Rangos'!C25","v":"Variable incluida para focalizar poblacionalmente a aquellas comunidades que en su constitución cuente con personas registradas en el Registro Único de Víctimas (RUV), conforme a los parámetros establecidos en la Ley 1448 de 2011, o que hayan sido reconocidas como sujetos de reparación colectiva, así como personas que se encuentren activas en el proceso de reincorporación de acuerdo con el Acto Legislativo 001 del 2017 y su normatividad regulatoria."},{"v":0.0625,"d":"6.3%"},"Seleccione…","Sin información",{"$f":"'Consulta de Rangos'!G25","v":"< 30% "},{"$f":"'Consulta de Rangos'!H25","v":"30%-40% "},{"$f":"'Consulta de Rangos'!I25","v":"40%-60% "},{"$f":"'Consulta de Rangos'!J25","v":"> 60% "},"Seleccione…","Seleccione…","Seleccione…","Seleccione…","Seleccione…","Seleccione…","Seleccione…","Seleccione…","Seleccione…","Seleccione…"]
[null,{"$f":"'Consulta de Rangos'!A26","v":"Social"},{"$f":"'Consulta de Rangos'!B26","v":"Presencia de comunidades étnicas"},{"$f":"'Consulta de Rangos'!C26","v":"Variable incluida para focalizar poblacionalmente a aquellas comunidades que en su constitución cuenten con personas o comunidades autorreconocidas como étnicas según el Censo Nacional de Población y Vivienda, y/o el último registro que dé cuenta de la población étnica con fuente DANE, y lo que en la materia haya dispuesto el Ministerio del Interior."},{"v":0.0625,"d":"6.3%"},"Seleccione…","Sin información",{"$f":"'Consulta de Rangos'!G26","v":"Sin presencia de comunidades étnicas"},{"$f":"'Consulta de Rangos'!H26","v":"Moderada presencia de comunidades étnicas"},{"$f":"'Consulta de Rangos'!I26","v":"Alta presencia de comunidades étnicas"},{"$f":"'Consulta de Rangos'!J26","v":"Corresponde a una comunidad étnica"},"Seleccione…","Seleccione…","Seleccione…","Seleccione…","Seleccione…","Seleccione…","Seleccione…","Seleccione…","Seleccione…","Seleccione…"]
[null,{"$f":"'Consulta de Rangos'!A27","v":"Social"},{"$f":"'Consulta de Rangos'!B27","v":"Territorios colectivos de pueblos originarios o comunidades indígenas"},{"$f":"'Consulta de Rangos'!C27","v":"Variable incluida para focalizar a aquellas comunidades ubicadas en estos territorios legalmente establecidos."},{"v":0.0625,"d":"6.3%"},"Seleccione…","Sin información",{"$f":"'Consulta de Rangos'!G27","v":"Sin presencia de comunidades indígenas"},{"$f":"'Consulta de Rangos'!H27","v":"Moderada presencia de comunidades indígenas"},{"$f":"'Consulta de Rangos'!I27","v":"Alta presencia de comunidades indígenas"},{"$f":"'Consulta de Rangos'!J27","v":"Corresponde a una comunidad indígena"},"Seleccione…","Seleccione…","Seleccione…","Seleccione…","Seleccione…","Seleccione…","Seleccione…","Seleccione…","Seleccione…","Seleccione…"]
[null,{"$f":"'Consulta de Rangos'!A28","v":"Social"},{"$f":"'Consulta de Rangos'!B28","v":"Territorios de Antiguos espacios territoriales de capacitación y reincorporación y áreas especiales de reincorporación colectiva"},{"$f":"'Consulta de Rangos'!C28","v":"Variable incluida para focalizar a aquellas comunidades ubicadas en los AETCR en los cuales residen firmantes del Acuerdo Final de Paz, sus familias y comunidades contemplados en Decreto número 1274 del 2017, y de las AERC contemplados en el decreto del Programa de Reincorporación Integral."},{"v":0.0625,"d":"6.3%"},"Seleccione…","Sin información",{"$f":"'Consulta de Rangos'!G28","v":"Sin presencia de comunidades"},{"$f":"'Consulta de Rangos'!H28","v":"Moderada presencia de comunidades"},{"$f":"'Consulta de Rangos'!I28","v":"Alta presencia de comunidades"},{"$f":"'Consulta de Rangos'!J28","v":"Corresponde a una comunidad "},"Seleccione…","Seleccione…","Seleccione…","Seleccione…","Seleccione…","Seleccione…","Seleccione…","Seleccione…","Seleccione…","Seleccione…"]
[null,{"$f":"'Consulta de Rangos'!A29","v":"Social"},{"$f":"'Consulta de Rangos'!B29","v":"Territorios de Paz"},{"$f":"'Consulta de Rangos'!C29","v":"Variable incluida para focalizar a aquellas comunidades ubicadas en entidades territoriales que están contempladas en el Programa de Desarrollo con Enfoque Territorial (PDET) y en las Zonas Más Afectadas por el Conflicto Armado (ZOMAC) que se constituyen dentro del marco para la paz, en relación con lo establecido por la Ley 2272 de 2022 “Ley de Paz Total”."},{"v":0.0625,"d":"6.3%"},"Seleccione…","Sin información",{"$f":"'Consulta de Rangos'!G29","v":"Sin proyectos de paz"},{"$f":"'Consulta de Rangos'!H29","v":"Proyectos en planeación"},{"$f":"'Consulta de Rangos'!I29","v":"Proyectos implementados"},{"$f":"'Consulta de Rangos'!J29","v":"Proyectos activos"},"Seleccione…","Seleccione…","Seleccione…","Seleccione…","Seleccione…","Seleccione…","Seleccione…","Seleccione…","Seleccione…","Seleccione…"]
[null,{"$f":"'Consulta de Rangos'!A30","v":"Social"},{"$f":"'Consulta de Rangos'!B30","v":"Territorios de Sistema Nacional de la Reforma Agraria y Desarrollo Rural, entre otras"},{"$f":"'Consulta de Rangos'!C30","v":"Variable incluida para focalizar a aquellas comunidades ubicadas en territorios constituidos en el marco de los términos de la Ley 160 de 1994 o demás normas concordantes o las normas que lo modifiquen o complementen."},{"v":0.0625,"d":"6.3%"},"Seleccione…","Sin información",{"$f":"'Consulta de Rangos'!G30","v":"No están priorizados"},{"$f":"'Consulta de Rangos'!H30","v":"Priorización en fase de planeación"},{"$f":"'Consulta de Rangos'!I30","v":"Priorización en etapas iniciales"},{"$f":"'Consulta de Rangos'!J30","v":"Priorización avanzada"},"Seleccione…","Seleccione…","Seleccione…","Seleccione…","Seleccione…","Seleccione…","Seleccione…","Seleccione…","Seleccione…","Seleccione…"]
[null,{"$f":"'Consulta de Rangos'!A31","v":"Social"},{"$f":"'Consulta de Rangos'!B31","v":"Redes de cooperación intercomunitaria"},{"$f":"'Consulta de Rangos'!C31","v":"Grado de colaboración entre la comunidad y otras localidades o instituciones."},{"v":0.0625,"d":"6.3%"},"Seleccione…","Sin información",{"$f":"'Consulta de Rangos'!G31","v":"No existen redes de cooperación."},{"$f":"'Consulta de Rangos'!H31","v":"Cooperación limitada y ocasional."},{"$f":"'Consulta de Rangos'!I31","v":"Cooperación moderada con al menos dos comunidades o instituciones."},{"$f":"'Consulta de Rangos'!J31","v":"Cooperación activa y sólida con múltiples comunidades o instituciones."},"Seleccione…","Seleccione…","Seleccione…","Seleccione…","Seleccione…","Seleccione…","Seleccione…","Seleccione…","Seleccione…","Seleccione…"]
[null,{"$f":"'Consulta de Rangos'!A32","v":"Social"},{"$f":"'Consulta de Rangos'!B32","v":"Transparencia de los datos"},{"$f":"'Consulta de Rangos'!C32","v":"Grado de acceso y claridad de la información del proyecto proporcionada a la comunidad."},{"v":0.0625,"d":"6.3%"},"Seleccione…","Sin información",{"$f":"'Consulta de Rangos'!G32","v":"No existe acceso a datos"},{"$f":"'Consulta de Rangos'!H32","v":"Información limitada y poco clara."},{"$f":"'Consulta de Rangos'!I32","v":"Información moderadamente accesible y clara."},{"$f":"'Consulta de Rangos'!J32","v":"Información completamente accesible, clara y actualizada."},"Seleccione…","Seleccione…","Seleccione…","Seleccione…","Seleccione…","Seleccione…","Seleccione…","Seleccione…","Seleccione…","Seleccione…"]
[null,{"$f":"'Consulta de Rangos'!A33","v":"Social"},{"$f":"'Consulta de Rangos'!B33","v":"¿Cómo es la relación entre los miembros de la comunidad y las instituciones públicas y privadas pertinentes?"},{"$f":"'Consulta de Rangos'!C33","v":"Evaluar la calidad de las interacciones entre la comunidad y las instituciones que podrían apoyar el proyecto."},{"v":0.0625,"d":"6.3%"},"Seleccione…","Sin información",{"$f":"'Consulta de Rangos'!G33","v":"< 30% "},{"$f":"'Consulta de Rangos'!H33","v":"30%-50% "},{"$f":"'Consulta de Rangos'!I33","v":"50%-70% "},{"$f":"'Consulta de Rangos'!J33","v":"> 70% "},"Seleccione…","Seleccione…","Seleccione…","Seleccione…","Seleccione…","Seleccione…","Seleccione…","Seleccione…","Seleccione…","Seleccione…"]
[null,{"$f":"'Consulta de Rangos'!A34","v":"Social"},{"$f":"'Consulta de Rangos'!B34","v":"¿Están dispuestos los miembros de la comunidad a invertir tiempo en actividades comunitarias de voluntariado?"},{"$f":"'Consulta de Rangos'!C34","v":"Grado de disposición de los miembros de la comunidad para contribuir con tiempo y esfuerzo al proyecto."},{"v":0.0625,"d":"6.3%"},"Seleccione…","Sin información",{"$f":"'Consulta de Rangos'!G34","v":"< 15% "},{"$f":"'Consulta de Rangos'!H34","v":"15%-30% "},{"$f":"'Consulta de Rangos'!I34","v":"30%-50% "},{"$f":"'Consulta de Rangos'!J34","v":"> 50% "},"Seleccione…","Seleccione…","Seleccione…","Seleccione…","Seleccione…","Seleccione…","Seleccione…","Seleccione…","Seleccione…","Seleccione…"]
[null,{"$f":"'Consulta de Rangos'!A35","v":"Social"},{"$f":"'Consulta de Rangos'!B35","v":"¿Los techos o superficies de tierra potencialmente viables son propiedad de los miembros de la comunidad?"},{"$f":"'Consulta de Rangos'!C35","v":"Evaluación de la titularidad de las áreas donde se implementará el proyecto."},{"v":0.0625,"d":"6.3%"},"Seleccione…","Sin información",{"$f":"'Consulta de Rangos'!G35","v":"Ninguna superficie viable es de propiedad comunitaria."},{"$f":"'Consulta de Rangos'!H35","v":"Menos del 50% de las superficies viables son de propiedad comunitaria."},{"$f":"'Consulta de Rangos'!I35","v":"Entre 50%-80% de las superficies viables son de propiedad comunitaria."},{"$f":"'Consulta de Rangos'!J35","v":"> 80% de las superficies viables son de propiedad comunitaria."},"Seleccione…","Seleccione…","Seleccione…","Seleccione…","Seleccione…","Seleccione…","Seleccione…","Seleccione…","Seleccione…","Seleccione…"]
[null,{"$f":"'Consulta de Rangos'!A36","v":"Social"},{"$f":"'Consulta de Rangos'!B36","v":"Aceptación del usuario"},{"$f":"'Consulta de Rangos'!C36","v":"Grado de aprobación de los usuarios hacia el proyecto energético propuesto."},{"v":0.0625,"d":"6.3%"},"Seleccione…","Sin información",{"$f":"'Consulta de Rangos'!G36","v":"< 50% aceptación"},{"$f":"'Consulta de Rangos'!H36","v":"50%-60% aceptación"},{"$f":"'Consulta de Rangos'!I36","v":"60-70% aceptación"},{"$f":"'Consulta de Rangos'!J36","v":"> 70% aceptación"},"Seleccione…","Seleccione…","Seleccione…","Seleccione…","Seleccione…","Seleccione…","Seleccione…","Seleccione…","Seleccione…","Seleccione…"]
[null,{"$f":"'Consulta de Rangos'!A37","v":"Social"},{"$f":"'Consulta de Rangos'!B37","v":"Impacto de las Iniciativas Energéticas en las Mujeres de la Comunidad"},{"$f":"'Consulta de Rangos'!C37","v":"Evaluación de los beneficios específicos que las mujeres obtendrán del proyecto energético."},{"v":0.0625,"d":"6.3%"},"Seleccione…","Sin información",{"$f":"'Consulta de Rangos'!G37","v":"< 30% "},{"$f":"'Consulta de Rangos'!H37","v":"30%-40% "},{"$f":"'Consulta de Rangos'!I37","v":"40%-60% "},{"$f":"'Consulta de Rangos'!J37","v":"> 60% "},"Seleccione…","Seleccione…","Seleccione…","Seleccione…","Seleccione…","Seleccione…","Seleccione…","Seleccione…","Seleccione…","Seleccione…"]
[null,{"$f":"'Consulta de Rangos'!A38","v":"Social"},{"$f":"'Consulta de Rangos'!B38","v":"Cumplimiento de consultas previas"},{"$f":"'Consulta de Rangos'!C38","v":"Verificar si se han realizado las consultas previas requeridas por la normativa legal en la comunidad."},{"v":0.0625,"d":"6.3%"},"Seleccione…","Sin información",{"$f":"'Consulta de Rangos'!G38","v":"No se han realizado consultas previas"},{"$f":"'Consulta de Rangos'!H38","v":"Consultas previas en proceso"},{"$f":"'Consulta de Rangos'!I38","v":"Consultas previas completamente realizadas, no documentadas"},{"$f":"'Consulta de Rangos'!J38","v":"Consultas previas completamente realizadas y documentadas"},"Seleccione…","Seleccione…","Seleccione…","Seleccione…","Seleccione…","Seleccione…","Seleccione…","Seleccione…","Seleccione…","Seleccione…"]
[null,{"$f":"'Consulta de Rangos'!A39","v":"Social"},{"$f":"'Consulta de Rangos'!B39","v":"Capacitación en Energías Renovables con Enfoque de Género"},{"$f":"'Consulta de Rangos'!C39","v":"Formación técnica ofrecida a los miembros de la comunidad, garantizando la inclusión equitativa de género."},{"v":0.0625,"d":"6.3%"},"Seleccione…","Sin información",{"$f":"'Consulta de Rangos'!G39","v":"No se han realizado capacitaciones"},{"$f":"'Consulta de Rangos'!H39","v":"Capacitaciones no completadas "},{"$f":"'Consulta de Rangos'!I39","v":"Capacitaciones completamente  ejecutadas, no documentadas"},{"$f":"'Consulta de Rangos'!J39","v":"Capacitaciones completamente ejecutadas y documentadas"},"Seleccione…","Seleccione…","Seleccione…","Seleccione…","Seleccione…","Seleccione…","Seleccione…","Seleccione…","Seleccione…","Seleccione…"]
[{"$f":"SUM(E38:E44)","v":{"v":0.9996000000000002,"d":"100.0%"}},{"$f":"'Consulta de Rangos'!A40","v":"Técnico"},{"$f":"'Consulta de Rangos'!B40","v":"¿Hay capacidad disponible en el circuito de distribución local para la capacidad de generación estimada?\n(límite del 50%)"},{"$f":"'Consulta de Rangos'!C40","v":"Verificación técnica de que el circuito de distribución puede manejar el incremento de generación sin exceder el límite del 50% de capacidad."},{"v":0.1428,"d":"14.3%"},"Seleccione…","Sin información",{"$f":"'Consulta de Rangos'!G40","v":"< 10% "},{"$f":"'Consulta de Rangos'!H40","v":"10%-30% "},{"$f":"'Consulta de Rangos'!I40","v":"30%-50% "},{"$f":"'Consulta de Rangos'!J40","v":"> 50% "},"Seleccione…","Seleccione…","Seleccione…","Seleccione…","Seleccione…","Seleccione…","Seleccione…","Seleccione…","Seleccione…","Seleccione…"]
[null,{"$f":"'Consulta de Rangos'!A41","v":"Técnico"},{"$f":"'Consulta de Rangos'!B41","v":"¿Se trata de una comunidad ya postulada y focalizada?"},{"$f":"'Consulta de Rangos'!C41","v":"Indica si la comunidad ha sido identificada previamente en programas o estrategias relacionadas con comunidades energéticas."},{"v":0.1428,"d":"14.3%"},"Seleccione…","Sin información",{"$f":"'Consulta de Rangos'!G41","v":"Ni postulada ni focalizada"},{"$f":"'Consulta de Rangos'!H41","v":"En proceso de postulación"},{"$f":"'Consulta de Rangos'!I41","v":"Postulada y parcialmente focalizada "},{"$f":"'Consulta de Rangos'!J41","v":"Postulada y focalizada"},"Seleccione…","Seleccione…","Seleccione…","Seleccione…","Seleccione…","Seleccione…","Seleccione…","Seleccione…","Seleccione…","Seleccione…"]
[null,{"$f":"'Consulta de Rangos'!A42","v":"Técnico"},{"$f":"'Consulta de Rangos'!B42","v":"Ahorro de energía de la red"},{"$f":"'Consulta de Rangos'!C42","v":"Reducción estimada en el consumo de energía de la red eléctrica del SIN como resultado del proyecto."},{"v":0.1428,"d":"14.3%"},"Seleccione…","Sin información",{"$f":"'Consulta de Rangos'!G42","v":"< 20% "},{"$f":"'Consulta de Rangos'!H42","v":"20%-35% "},{"$f":"'Consulta de Rangos'!I42","v":"35%-50% "},{"$f":"'Consulta de Rangos'!J42","v":"> 50% "},"Seleccione…","Seleccione…","Seleccione…","Seleccione…","Seleccione…","Seleccione…","Seleccione…","Seleccione…","Seleccione…","Seleccione…"]
[null,{"$f":"'Consulta de Rangos'!A43","v":"Técnico"},{"$f":"'Consulta de Rangos'!B43","v":"Capacidad técnica local (no siempre es esencial, ya que la capacitación puede ser parte del proyecto.)"},{"$f":"'Consulta de Rangos'!C43","v":"Habilidad de los miembros de la comunidad para operar y mantener los sistemas energéticos. "},{"v":0.1428,"d":"14.3%"},"Seleccione…","Sin información",{"$f":"'Consulta de Rangos'!G43","v":"< 10% "},{"$f":"'Consulta de Rangos'!H43","v":"10%-20% "},{"$f":"'Consulta de Rangos'!I43","v":"20%-30% "},{"$f":"'Consulta de Rangos'!J43","v":"> 30% "},"Seleccione…","Seleccione…","Seleccione…","Seleccione…","Seleccione…","Seleccione…","Seleccione…","Seleccione…","Seleccione…","Seleccione…"]
[null,{"$f":"'Consulta de Rangos'!A44","v":"Técnico"},{"$f":"'Consulta de Rangos'!B44","v":"Grado de avance del sistema energético que se proyecta implementar"},{"$f":"'Consulta de Rangos'!C44","v":"Nivel de preparación técnica, operativa y administrativa del sistema energético que se busca desarrollar."},{"v":0.1428,"d":"14.3%"},"Seleccione…","Sin información",{"$f":"'Consulta de Rangos'!G44","v":"Sin planificación"},{"$f":"'Consulta de Rangos'!H44","v":"Planificación inicial"},{"$f":"'Consulta de Rangos'!I44","v":"Planificación intermedia"},{"$f":"'Consulta de Rangos'!J44","v":"Sistema listo para implementación"},"Seleccione…","Seleccione…","Seleccione…","Seleccione…","Seleccione…","Seleccione…","Seleccione…","Seleccione…","Seleccione…","Seleccione…"]
[null,{"$f":"'Consulta de Rangos'!A45","v":"Técnico"},{"$f":"'Consulta de Rangos'!B45","v":"Pérdidas de Energía Eléctrica"},{"$f":"'Consulta de Rangos'!C45","v":"Evaluar las pérdidas eléctricas en áreas específicas es esencial para identificar zonas con problemáticas de conexiones irregulares. En estos casos, las soluciones orientadas a Comunidades Energéticas pueden actuar como habilitadoras para la normalización de redes eléctricas, contribuyendo a la mejora de la infraestructura, la formalización del acceso al servicio y disminución de riesgos de recaer en comportamientos ilegales o pasar a condiciones de morosidad en los pagos."},{"v":0.1428,"d":"14.3%"},"Seleccione…","Sin información",{"$f":"'Consulta de Rangos'!G45","v":"< 10% "},{"$f":"'Consulta de Rangos'!H45","v":"10%-15% "},{"$f":"'Consulta de Rangos'!I45","v":"15%-20% "},{"$f":"'Consulta de Rangos'!J45","v":"> 20% "},"Seleccione…","Seleccione…","Seleccione…","Seleccione…","Seleccione…","Seleccione…","Seleccione…","Seleccione…","Seleccione…","Seleccione…"]
[null,{"$f":"'Consulta de Rangos'!A46","v":"Técnico"},{"$f":"'Consulta de Rangos'!B46","v":"Calidad del servicio (Frecuencia y duración de interrupciones)"},{"$f":"'Consulta de Rangos'!C46","v":"Incorporar variables de calidad del servicio permitirá reflejar la continuidad percibida del servicio eléctrico en áreas específicas. Esto puede aportar información valiosa para priorizar aquellas zonas con deficiencias en la calidad del servicio, donde las Comunidades Energéticas podrían generar impactos positivos."},{"v":0.1428,"d":"14.3%"},"Seleccione…","Sin información",{"$f":"'Consulta de Rangos'!G46","v":"Alta calidad: Menos de 3 interrupciones al mes con duración promedio inferior a 1 hora."},{"$f":"'Consulta de Rangos'!H46","v":"Moderada calidad - alta: Entre 3 y 6 interrupciones al mes con duración promedio entre 1 y 2 horas."},{"$f":"'Consulta de Rangos'!I46","v":"Moderada calidad - baja: Entre 7 y 10 interrupciones al mes con duración promedio entre 2 y 4 horas."},{"$f":"'Consulta de Rangos'!J46","v":"Baja calidad: Más de 10 interrupciones al mes con duración promedio superior a 4 horas."},"Seleccione…","Seleccione…","Seleccione…","Seleccione…","Seleccione…","Seleccione…","Seleccione…","Seleccione…","Seleccione…","Seleccione…"]

{"sheet":"ResParcial Privada","index":8,"n_rows":45,"n_cols":12,"rows_kept":45,"hidden":true,"merged":[[0,0,0,11],[1,0,1,6]]}
["Resultados Normalizados por Indicadores"]
["Esta hoja muestra los resultados de las calificaciones asignadas por el usuario a las comunidades en los diferentes indicadores evaluados.\n\n🔍 ¿Qué encontrarás aquí?\nCalificaciones Normalizadas: Las calificaciones originales han sido ajustadas para garantizar comparabilidad entre los indicadores.\nDatos por Comunidad: Cada comunidad aparece evaluada según los criterios establecidos.\nPreparación para Priorización: Estos resultados son el insumo para la hoja de priorización final."]
[]
[]
[]
["Categoría","Indicador / Criterios",{"$f":"Caracterización!B8","v":"C1"},{"$f":"Caracterización!C8","v":"C2"},{"$f":"Caracterización!D8","v":"C3"},{"$f":"Caracterización!E8","v":"C4"},{"$f":"Caracterización!F8","v":"C5"},{"$f":"Caracterización!G8","v":"C6"},{"$f":"Caracterización!H8","v":"C7"},{"$f":"Caracterización!I8","v":"C8"},{"$f":"Caracterización!J8","v":"C9"},{"$f":"Caracterización!K8","v":"C10"}]
[{"$f":"INDEX('Calificación Privada'!B:B,ROW())","v":"Ambiental"},{"$f":"INDEX('Calificación Privada'!C:C,ROW())","v":" EROI (tasa de retorno energético)"},{"$f":"IF(OR(INDEX('Calificación Privada'!L:L,ROW())=\"Sin información\", INDEX('Calificación Privada'!L:L,ROW())=\"Seleccione…\"), \"\", MATCH(INDEX('Calificación Privada'!L:L,ROW()), INDEX('Calificación Privada'!$H:$K,ROW(),0), 0))","v":2},{"$f":"IF(OR(INDEX('Calificación Privada'!M:M,ROW())=\"Sin información\", INDEX('Calificación Privada'!M:M,ROW())=\"Seleccione…\"), \"\", MATCH(INDEX('Calificación Privada'!M:M,ROW()), INDEX('Calificación Privada'!$H:$K,ROW(),0), 0))","v":3},{"$f":"IF(OR(INDEX('Calificación Privada'!N:N,ROW())=\"Sin información\", INDEX('Calificación Privada'!N:N,ROW())=\"Seleccione…\"), \"\", MATCH(INDEX('Calificación Privada'!N:N,ROW()), INDEX('Calificación Privada'!$H:$K,ROW(),0), 0))","v":""},{"$f":"IF(OR(INDEX('Calificación Privada'!O:O,ROW())=\"Sin información\", INDEX('Calificación Privada'!O:O,ROW())=\"Seleccione…\"), \"\", MATCH(INDEX('Calificación Privada'!O:O,ROW()), INDEX('Calificación Privada'!$H:$K,ROW(),0), 0))","v":""},{"$f":"IF(OR(INDEX('Calificación Privada'!P:P,ROW())=\"Sin información\", INDEX('Calificación Privada'!P:P,ROW())=\"Seleccione…\"), \"\", MATCH(INDEX('Calificación Privada'!P:P,ROW()), INDEX('Calificación Privada'!$H:$K,ROW(),0), 0))","v":""},{"$f":"IF(OR(INDEX('Calificación Privada'!Q:Q,ROW())=\"Sin información\", INDEX('Calificación Privada'!Q:Q,ROW())=\"Seleccione…\"), \"\", MATCH(INDEX('Calificación Privada'!Q:Q,ROW()), INDEX('Calificación Privada'!$H:$K,ROW(),0), 0))","v":""},{"$f":"IF(OR(INDEX('Calificación Privada'!R:R,ROW())=\"Sin información\", INDEX('Calificación Privada'!R:R,ROW())=\"Seleccione…\"), \"\", MATCH(INDEX('Calificación Privada'!R:R,ROW()), INDEX('Calificación Privada'!$H:$K,ROW(),0), 0))","v":""},{"$f":"IF(OR(INDEX('Calificación Privada'!S:S,ROW())=\"Sin información\", INDEX('Calificación Privada'!S:S,ROW())=\"Seleccione…\"), \"\", MATCH(INDEX('Calificación Privada'!S:S,ROW()), INDEX('Calificación Privada'!$H:$K,ROW(),0), 0))","v":""},{"$f":"IF(OR(INDEX('Calificación Privada'!T:T,ROW())=\"Sin información\", INDEX('Calificación Privada'!T:T,ROW())=\"Seleccione…\"), \"\", MATCH(INDEX('Calificación Privada'!T:T,ROW()), INDEX('Calificación Privada'!$H:$K,ROW(),0), 0))","v":""},{"$f":"IF(OR(INDEX('Calificación Privada'!U:U,ROW())=\"Sin información\", INDEX('Calificación Privada'!U:U,ROW())=\"Seleccione…\"), \"\", MATCH(INDEX('Calificación Privada'!U:U,ROW()), INDEX('Calificación Privada'!$H:$K,ROW(),0), 0))","v":""}]
[{"$f":"INDEX('Calificación Privada'!B:B,ROW())","v":"Ambiental"},{"$f":"INDEX('Calificación Privada'!C:C,ROW())","v":"Reducción anual de gases de efecto invernadero"},{"$f":"IF(OR(INDEX('Calificación Privada'!L:L,ROW())=\"Sin información\", INDEX('Calificación Privada'!L:L,ROW())=\"Seleccione…\"), \"\", MATCH(INDEX('Calificación Privada'!L:L,ROW()), INDEX('Calificación Privada'!$H:$K,ROW(),0), 0))","v":""},{"$f":"IF(OR(INDEX('Calificación Privada'!M:M,ROW())=\"Sin información\", INDEX('Calificación Privada'!M:M,ROW())=\"Seleccione…\"), \"\", MATCH(INDEX('Calificación Privada'!M:M,ROW()), INDEX('Calificación Privada'!$H:$K,ROW(),0), 0))","v":""},{"$f":"IF(OR(INDEX('Calificación Privada'!N:N,ROW())=\"Sin información\", INDEX('Calificación Privada'!N:N,ROW())=\"Seleccione…\"), \"\", MATCH(INDEX('Calificación Privada'!N:N,ROW()), INDEX('Calificación Privada'!$H:$K,ROW(),0), 0))","v":""},{"$f":"IF(OR(INDEX('Calificación Privada'!O:O,ROW())=\"Sin información\", INDEX('Calificación Privada'!O:O,ROW())=\"Seleccione…\"), \"\", MATCH(INDEX('Calificación Privada'!O:O,ROW()), INDEX('Calificación Privada'!$H:$K,ROW(),0), 0))","v":""},{"$f":"IF(OR(INDEX('Calificación Privada'!P:P,ROW())=\"Sin información\", INDEX('Calificación Privada'!P:P,ROW())=\"Seleccione…\"), \"\", MATCH(INDEX('Calificación Privada'!P:P,ROW()), INDEX('Calificación Privada'!$H:$K,ROW(),0), 0))","v":""},{"$f":"IF(OR(INDEX('Calificación Privada'!Q:Q,ROW())=\"Sin información\", INDEX('Calificación Privada'!Q:Q,ROW())=\"Seleccione…\"), \"\", MATCH(INDEX('Calificación Privada'!Q:Q,ROW()), INDEX('Calificación Privada'!$H:$K,ROW(),0), 0))","v":""},{"$f":"IF(OR(INDEX('Calificación Privada'!R:R,ROW())=\"Sin información\", INDEX('Calificación Privada'!R:R,ROW())=\"Seleccione…\"), \"\", MATCH(INDEX('Calificación Privada'!R:R,ROW()), INDEX('Calificación Privada'!$H:$K,ROW(),0), 0))","v":""},{"$f":"IF(OR(INDEX('Calificación Privada'!S:S,ROW())=\"Sin información\", INDEX('Calificación Privada'!S:S,ROW())=\"Seleccione…\"), \"\", MATCH(INDEX('Calificación Privada'!S:S,ROW()), INDEX('Calificación Privada'!$H:$K,ROW(),0), 0))","v":""},{"$f":"IF(OR(INDEX('Calificación Privada'!T:T,ROW())=\"Sin información\", INDEX('Calificación Privada'!T:T,ROW())=\"Seleccione…\"), \"\", MATCH(INDEX('Calificación Privada'!T:T,ROW()), INDEX('Calificación Privada'!$H:$K,ROW(),0), 0))","v":""},{"$f":"IF(OR(INDEX('Calificación Privada'!U:U,ROW())=\"Sin información\", INDEX('Calificación Privada'!U:U,ROW())=\"Seleccione…\"), \"\", MATCH(INDEX('Calificación Privada'!U:U,ROW()), INDEX('Calificación Privada'!$H:$K,ROW(),0), 0))","v":""}]
[{"$f":"INDEX('Calificación Privada'!B:B,ROW())","v":"Ambiental"},{"$f":"INDEX('Calificación Privada'!C:C,ROW())","v":"Territorios de alta dependencia de carbón térmico"},{"$f":"IF(OR(INDEX('Calificación Privada'!L:L,ROW())=\"Sin información\", INDEX('Calificación Privada'!L:L,ROW())=\"Seleccione…\"), \"\", MATCH(INDEX('Calificación Privada'!L:L,ROW()), INDEX('Calificación Privada'!$H:$K,ROW(),0), 0))","v":""},{"$f":"IF(OR(INDEX('Calificación Privada'!M:M,ROW())=\"Sin información\", INDEX('Calificación Privada'!M:M,ROW())=\"Seleccione…\"), \"\", MATCH(INDEX('Calificación Privada'!M:M,ROW()), INDEX('Calificación Privada'!$H:$K,ROW(),0), 0))","v":""},{"$f":"IF(OR(INDEX('Calificación Privada'!N:N,ROW())=\"Sin información\", INDEX('Calificación Privada'!N:N,ROW())=\"Seleccione…\"), \"\", MATCH(INDEX('Calificación Privada'!N:N,ROW()), INDEX('Calificación Privada'!$H:$K,ROW(),0), 0))","v":""},{"$f":"IF(OR(INDEX('Calificación Privada'!O:O,ROW())=\"Sin información\", INDEX('Calificación Privada'!O:O,ROW())=\"Seleccione…\"), \"\", MATCH(INDEX('Calificación Privada'!O:O,ROW()), INDEX('Calificación Privada'!$H:$K,ROW(),0), 0))","v":""},{"$f":"IF(OR(INDEX('Calificación Privada'!P:P,ROW())=\"Sin información\", INDEX('Calificación Privada'!P:P,ROW())=\"Seleccione…\"), \"\", MATCH(INDEX('Calificación Privada'!P:P,ROW()), INDEX('Calificación Privada'!$H:$K,ROW(),0), 0))","v":""},{"$f":"IF(OR(INDEX('Calificación Privada'!Q:Q,ROW())=\"Sin información\", INDEX('Calificación Privada'!Q:Q,ROW())=\"Seleccione…\"), \"\", MATCH(INDEX('Calificación Privada'!Q:Q,ROW()), INDEX('Calificación Privada'!$H:$K,ROW(),0), 0))","v":""},{"$f":"IF(OR(INDEX('Calificación Privada'!R:R,ROW())=\"Sin información\", INDEX('Calificación Privada'!R:R,ROW())=\"Seleccione…\"), \"\", MATCH(INDEX('Calificación Privada'!R:R,ROW()), INDEX('Calificación Privada'!$H:$K,ROW(),0), 0))","v":""},{"$f":"IF(OR(INDEX('Calificación Privada'!S:S,ROW())=\"Sin información\", INDEX('Calificación Privada'!S:S,ROW())=\"Seleccione…\"), \"\", MATCH(INDEX('Calificación Privada'!S:S,ROW()), INDEX('Calificación Privada'!$H:$K,ROW(),0), 0))","v":""},{"$f":"IF(OR(INDEX('Calificación Privada'!T:T,ROW())=\"Sin información\", INDEX('Calificación Privada'!T:T,ROW())=\"Seleccione…\"), \"\", MATCH(INDEX('Calificación Privada'!T:T,ROW()), INDEX('Calificación Privada'!$H:$K,ROW(),0), 0))","v":""},{"$f":"IF(OR(INDEX('Calificación Privada'!U:U,ROW())=\"Sin información\", INDEX('Calificación Privada'!U:U,ROW())=\"Seleccione…\"), \"\", MATCH(INDEX('Calificación Privada'!U:U,ROW()), INDEX('Calificación Privada'!$H:$K,ROW(),0), 0))","v":""}]
[{"$f":"INDEX('Calificación Privada'!B:B,ROW())","v":"Económico"},{"$f":"INDEX('Calificación Privada'!C:C,ROW())","v":"Ahorro monetario del usuario en la factura eléctrica"},{"$f":"IF(OR(INDEX('Calificación Privada'!L:L,ROW())=\"Sin información\", INDEX('Calificación Privada'!L:L,ROW())=\"Seleccione…\"), \"\", MATCH(INDEX('Calificación Privada'!L:L,ROW()), INDEX('Calificación Privada'!$H:$K,ROW(),0), 0))","v":""},{"$f":"IF(OR(INDEX('Calificación Privada'!M:M,ROW())=\"Sin información\", INDEX('Calificación Privada'!M:M,ROW())=\"Seleccione…\"), \"\", MATCH(INDEX('Calificación Privada'!M:M,ROW()), INDEX('Calificación Privada'!$H:$K,ROW(),0), 0))","v":""},{"$f":"IF(OR(INDEX('Calificación Privada'!N:N,ROW())=\"Sin información\", INDEX('Calificación Privada'!N:N,ROW())=\"Seleccione…\"), \"\", MATCH(INDEX('Calificación Privada'!N:N,ROW()), INDEX('Calificación Privada'!$H:$K,ROW(),0), 0))","v":""},{"$f":"IF(OR(INDEX('Calificación Privada'!O:O,ROW())=\"Sin información\", INDEX('Calificación Privada'!O:O,ROW())=\"Seleccione…\"), \"\", MATCH(INDEX('Calificación Privada'!O:O,ROW()), INDEX('Calificación Privada'!$H:$K,ROW(),0), 0))","v":""},{"$f":"IF(OR(INDEX('Calificación Privada'!P:P,ROW())=\"Sin información\", INDEX('Calificación Privada'!P:P,ROW())=\"Seleccione…\"), \"\", MATCH(INDEX('Calificación Privada'!P:P,ROW()), INDEX('Calificación Privada'!$H:$K,ROW(),0), 0))","v":""},{"$f":"IF(OR(INDEX('Calificación Privada'!Q:Q,ROW())=\"Sin información\", INDEX('Calificación Privada'!Q:Q,ROW())=\"Seleccione…\"), \"\", MATCH(INDEX('Calificación Privada'!Q:Q,ROW()), INDEX('Calificación Privada'!$H:$K,ROW(),0), 0))","v":""},{"$f":"IF(OR(INDEX('Calificación Privada'!R:R,ROW())=\"Sin información\", INDEX('Calificación Privada'!R:R,ROW())=\"Seleccione…\"), \"\", MATCH(INDEX('Calificación Privada'!R:R,ROW()), INDEX('Calificación Privada'!$H:$K,ROW(),0), 0))","v":""},{"$f":"IF(OR(INDEX('Calificación Privada'!S:S,ROW())=\"Sin información\", INDEX('Calificación Privada'!S:S,ROW())=\"Seleccione…\"), \"\", MATCH(INDEX('Calificación Privada'!S:S,ROW()), INDEX('Calificación Privada'!$H:$K,ROW(),0), 0))","v":""},{"$f":"IF(OR(INDEX('Calificación Privada'!T:T,ROW())=\"Sin información\", INDEX('Calificación Privada'!T:T,ROW())=\"Seleccione…\"), \"\", MATCH(INDEX('Calificación Privada'!T:T,ROW()), INDEX('Calificación Privada'!$H:$K,ROW(),0), 0))","v":""},{"$f":"IF(OR(INDEX('Calificación Privada'!U:U,ROW())=\"Sin información\", INDEX('Calificación Privada'!U:U,ROW())=\"Seleccione…\"), \"\", MATCH(INDEX('Calificación Privada'!U:U,ROW()), INDEX('Calificación Privada'!$H:$K,ROW(),0), 0))","v":""}]
[{"$f":"INDEX('Calificación Privada'!B:B,ROW())","v":"Económico"},{"$f":"INDEX('Calificación Privada'!C:C,ROW())","v":"Coste de generación de energía ($/MWh)"},{"$f":"IF(OR(INDEX('Calificación Privada'!L:L,ROW())=\"Sin información\", INDEX('Calificación Privada'!L:L,ROW())=\"Seleccione…\"), \"\", MATCH(INDEX('Calificación Privada'!L:L,ROW()), INDEX('Calificación Privada'!$H:$K,ROW(),0), 0))","v":""},{"$f":"IF(OR(INDEX('Calificación Privada'!M:M,ROW())=\"Sin información\", INDEX('Calificación Privada'!M:M,ROW())=\"Seleccione…\"), \"\", MATCH(INDEX('Calificación Privada'!M:M,ROW()), INDEX('Calificación Privada'!$H:$K,ROW(),0), 0))","v":""},{"$f":"IF(OR(INDEX('Calificación Privada'!N:N,ROW())=\"Sin información\", INDEX('Calificación Privada'!N:N,ROW())=\"Seleccione…\"), \"\", MATCH(INDEX('Calificación Privada'!N:N,ROW()), INDEX('Calificación Privada'!$H:$K,ROW(),0), 0))","v":""},{"$f":"IF(OR(INDEX('Calificación Privada'!O:O,ROW())=\"Sin información\", INDEX('Calificación Privada'!O:O,ROW())=\"Seleccione…\"), \"\", MATCH(INDEX('Calificación Privada'!O:O,ROW()), INDEX('Calificación Privada'!$H:$K,ROW(),0), 0))","v":""},{"$f":"IF(OR(INDEX('Calificación Privada'!P:P,ROW())=\"Sin información\", INDEX('Calificación Privada'!P:P,ROW())=\"Seleccione…\"), \"\", MATCH(INDEX('Calificación Privada'!P:P,ROW()), INDEX('Calificación Privada'!$H:$K,ROW(),0), 0))","v":""},{"$f":"IF(OR(INDEX('Calificación Privada'!Q:Q,ROW())=\"Sin información\", INDEX('Calificación Privada'!Q:Q,ROW())=\"Seleccione…\"), \"\", MATCH(INDEX('Calificación Privada'!Q:Q,ROW()), INDEX('Calificación Privada'!$H:$K,ROW(),0), 0))","v":""},{"$f":"IF(OR(INDEX('Calificación Privada'!R:R,ROW())=\"Sin información\", INDEX('Calificación Privada'!R:R,ROW())=\"Seleccione…\"), \"\", MATCH(INDEX('Calificación Privada'!R:R,ROW()), INDEX('Calificación Privada'!$H:$K,ROW(),0), 0))","v":""},{"$f":"IF(OR(INDEX('Calificación Privada'!S:S,ROW())=\"Sin información\", INDEX('Calificación Privada'!S:S,ROW())=\"Seleccione…\"), \"\", MATCH(INDEX('Calificación Privada'!S:S,ROW()), INDEX('Calificación Privada'!$H:$K,ROW(),0), 0))","v":""},{"$f":"IF(OR(INDEX('Calificación Privada'!T:T,ROW())=\"Sin información\", INDEX('Calificación Privada'!T:T,ROW())=\"Seleccione…\"), \"\", MATCH(INDEX('Calificación Privada'!T:T,ROW()), INDEX('Calificación Privada'!$H:$K,ROW(),0), 0))","v":""},{"$f":"IF(OR(INDEX('Calificación Privada'!U:U,ROW())=\"Sin información\", INDEX('Calificación Privada'!U:U,ROW())=\"Seleccione…\"), \"\", MATCH(INDEX('Calificación Privada'!U:U,ROW()), INDEX('Calificación Privada'!$H:$K,ROW(),0), 0))","v":""}]
[{"$f":"INDEX('Calificación Privada'!B:B,ROW())","v":"Económico"},{"$f":"INDEX('Calificación Privada'!C:C,ROW())","v":"La comunidad realiza el pago por servicio de energía de manera cumplida"},{"$f":"IF(OR(INDEX('Calificación Privada'!L:L,ROW())=\"Sin información\", INDEX('Calificación Privada'!L:L,ROW())=\"Seleccione…\"), \"\", MATCH(INDEX('Calificación Privada'!L:L,ROW()), INDEX('Calificación Privada'!$H:$K,ROW(),0), 0))","v":""},{"$f":"IF(OR(INDEX('Calificación Privada'!M:M,ROW())=\"Sin información\", INDEX('Calificación Privada'!M:M,ROW())=\"Seleccione…\"), \"\", MATCH(INDEX('Calificación Privada'!M:M,ROW()), INDEX('Calificación Privada'!$H:$K,ROW(),0), 0))","v":""},{"$f":"IF(OR(INDEX('Calificación Privada'!N:N,ROW())=\"Sin información\", INDEX('Calificación Privada'!N:N,ROW())=\"Seleccione…\"), \"\", MATCH(INDEX('Calificación Privada'!N:N,ROW()), INDEX('Calificación Privada'!$H:$K,ROW(),0), 0))","v":""},{"$f":"IF(OR(INDEX('Calificación Privada'!O:O,ROW())=\"Sin información\", INDEX('Calificación Privada'!O:O,ROW())=\"Seleccione…\"), \"\", MATCH(INDEX('Calificación Privada'!O:O,ROW()), INDEX('Calificación Privada'!$H:$K,ROW(),0), 0))","v":""},{"$f":"IF(OR(INDEX('Calificación Privada'!P:P,ROW())=\"Sin información\", INDEX('Calificación Privada'!P:P,ROW())=\"Seleccione…\"), \"\", MATCH(INDEX('Calificación Privada'!P:P,ROW()), INDEX('Calificación Privada'!$H:$K,ROW(),0), 0))","v":""},{"$f":"IF(OR(INDEX('Calificación Privada'!Q:Q,ROW())=\"Sin información\", INDEX('Calificación Privada'!Q:Q,ROW())=\"Seleccione…\"), \"\", MATCH(INDEX('Calificación Privada'!Q:Q,ROW()), INDEX('Calificación Privada'!$H:$K,ROW(),0), 0))","v":""},{"$f":"IF(OR(INDEX('Calificación Privada'!R:R,ROW())=\"Sin información\", INDEX('Calificación Privada'!R:R,ROW())=\"Seleccione…\"), \"\", MATCH(INDEX('Calificación Privada'!R:R,ROW()), INDEX('Calificación Privada'!$H:$K,ROW(),0), 0))","v":""},{"$f":"IF(OR(INDEX('Calificación Privada'!S:S,ROW())=\"Sin información\", INDEX('Calificación Privada'!S:S,ROW())=\"Seleccione…\"), \"\", MATCH(INDEX('Calificación Privada'!S:S,ROW()), INDEX('Calificación Privada'!$H:$K,ROW(),0), 0))","v":""},{"$f":"IF(OR(INDEX('Calificación Privada'!T:T,ROW())=\"Sin información\", INDEX('Calificación Privada'!T:T,ROW())=\"Seleccione…\"), \"\", MATCH(INDEX('Calificación Privada'!T:T,ROW()), INDEX('Calificación Privada'!$H:$K,ROW(),0), 0))","v":""},{"$f":"IF(OR(INDEX('Calificación Privada'!U:U,ROW())=\"Sin información\", INDEX('Calificación Privada'!U:U,ROW())=\"Seleccione…\"), \"\", MATCH(INDEX('Calificación Privada'!U:U,ROW()), INDEX('Calificación Privada'!$H:$K,ROW(),0), 0))","v":""}]
[{"$f":"INDEX('Calificación Privada'!B:B,ROW())","v":"Económico"},{"$f":"INDEX('Calificación Privada'!C:C,ROW())","v":"Tiempo de retorno de la inversión"},{"$f":"IF(OR(INDEX('Calificación Privada'!L:L,ROW())=\"Sin información\", INDEX('Calificación Privada'!L:L,ROW())=\"Seleccione…\"), \"\", MATCH(INDEX('Calificación Privada'!L:L,ROW()), INDEX('Calificación Privada'!$H:$K,ROW(),0), 0))","v":""},{"$f":"IF(OR(INDEX('Calificación Privada'!M:M,ROW())=\"Sin información\", INDEX('Calificación Privada'!M:M,ROW())=\"Seleccione…\"), \"\", MATCH(INDEX('Calificación Privada'!M:M,ROW()), INDEX('Calificación Privada'!$H:$K,ROW(),0), 0))","v":""},{"$f":"IF(OR(INDEX('Calificación Privada'!N:N,ROW())=\"Sin información\", INDEX('Calificación Privada'!N:N,ROW())=\"Seleccione…\"), \"\", MATCH(INDEX('Calificación Privada'!N:N,ROW()), INDEX('Calificación Privada'!$H:$K,ROW(),0), 0))","v":""},{"$f":"IF(OR(INDEX('Calificación Privada'!O:O,ROW())=\"Sin información\", INDEX('Calificación Privada'!O:O,ROW())=\"Seleccione…\"), \"\", MATCH(INDEX('Calificación Privada'!O:O,ROW()), INDEX('Calificación Privada'!$H:$K,ROW(),0), 0))","v":""},{"$f":"IF(OR(INDEX('Calificación Privada'!P:P,ROW())=\"Sin información\", INDEX('Calificación Privada'!P:P,ROW())=\"Seleccione…\"), \"\", MATCH(INDEX('Calificación Privada'!P:P,ROW()), INDEX('Calificación Privada'!$H:$K,ROW(),0), 0))","v":""},{"$f":"IF(OR(INDEX('Calificación Privada'!Q:Q,ROW())=\"Sin información\", INDEX('Calificación Privada'!Q:Q,ROW())=\"Seleccione…\"), \"\", MATCH(INDEX('Calificación Privada'!Q:Q,ROW()), INDEX('Calificación Privada'!$H:$K,ROW(),0), 0))","v":""},{"$f":"IF(OR(INDEX('Calificación Privada'!R:R,ROW())=\"Sin información\", INDEX('Calificación Privada'!R:R,ROW())=\"Seleccione…\"), \"\", MATCH(INDEX('Calificación Privada'!R:R,ROW()), INDEX('Calificación Privada'!$H:$K,ROW(),0), 0))","v":""},{"$f":"IF(OR(INDEX('Calificación Privada'!S:S,ROW())=\"Sin información\", INDEX('Calificación Privada'!S:S,ROW())=\"Seleccione…\"), \"\", MATCH(INDEX('Calificación Privada'!S:S,ROW()), INDEX('Calificación Privada'!$H:$K,ROW(),0), 0))","v":""},{"$f":"IF(OR(INDEX('Calificación Privada'!T:T,ROW())=\"Sin información\", INDEX('Calificación Privada'!T:T,ROW())=\"Seleccione…\"), \"\", MATCH(INDEX('Calificación Privada'!T:T,ROW()), INDEX('Calificación Privada'!$H:$K,ROW(),0), 0))","v":""},{"$f":"IF(OR(INDEX('Calificación Privada'!U:U,ROW())=\"Sin información\", INDEX('Calificación Privada'!U:U,ROW())=\"Seleccione…\"), \"\", MATCH(INDEX('Calificación Privada'!U:U,ROW()), INDEX('Calificación Privada'!$H:$K,ROW(),0), 0))","v":""}]
[{"$f":"INDEX('Calificación Privada'!B:B,ROW())","v":"Económico"},{"$f":"INDEX('Calificación Privada'!C:C,ROW())","v":"Tasa interna de rentabilidad (TIR)"},{"$f":"IF(OR(INDEX('Calificación Privada'!L:L,ROW())=\"Sin información\", INDEX('Calificación Privada'!L:L,ROW())=\"Seleccione…\"), \"\", MATCH(INDEX('Calificación Privada'!L:L,ROW()), INDEX('Calificación Privada'!$H:$K,ROW(),0), 0))","v":""},{"$f":"IF(OR(INDEX('Calificación Privada'!M:M,ROW())=\"Sin información\", INDEX('Calificación Privada'!M:M,ROW())=\"Seleccione…\"), \"\", MATCH(INDEX('Calificación Privada'!M:M,ROW()), INDEX('Calificación Privada'!$H:$K,ROW(),0), 0))","v":""},{"$f":"IF(OR(INDEX('Calificación Privada'!N:N,ROW())=\"Sin información\", INDEX('Calificación Privada'!N:N,ROW())=\"Seleccione…\"), \"\", MATCH(INDEX('Calificación Privada'!N:N,ROW()), INDEX('Calificación Privada'!$H:$K,ROW(),0), 0))","v":""},{"$f":"IF(OR(INDEX('Calificación Privada'!O:O,ROW())=\"Sin información\", INDEX('Calificación Privada'!O:O,ROW())=\"Seleccione…\"), \"\", MATCH(INDEX('Calificación Privada'!O:O,ROW()), INDEX('Calificación Privada'!$H:$K,ROW(),0), 0))","v":""},{"$f":"IF(OR(INDEX('Calificación Privada'!P:P,ROW())=\"Sin información\", INDEX('Calificación Privada'!P:P,ROW())=\"Seleccione…\"), \"\", MATCH(INDEX('Calificación Privada'!P:P,ROW()), INDEX('Calificación Privada'!$H:$K,ROW(),0), 0))","v":""},{"$f":"IF(OR(INDEX('Calificación Privada'!Q:Q,ROW())=\"Sin información\", INDEX('Calificación Privada'!Q:Q,ROW())=\"Seleccione…\"), \"\", MATCH(INDEX('Calificación Privada'!Q:Q,ROW()), INDEX('Calificación Privada'!$H:$K,ROW(),0), 0))","v":""},{"$f":"IF(OR(INDEX('Calificación Privada'!R:R,ROW())=\"Sin información\", INDEX('Calificación Privada'!R:R,ROW())=\"Seleccione…\"), \"\", MATCH(INDEX('Calificación Privada'!R:R,ROW()), INDEX('Calificación Privada'!$H:$K,ROW(),0), 0))","v":""},{"$f":"IF(OR(INDEX('Calificación Privada'!S:S,ROW())=\"Sin información\", INDEX('Calificación Privada'!S:S,ROW())=\"Seleccione…\"), \"\", MATCH(INDEX('Calificación Privada'!S:S,ROW()), INDEX('Calificación Privada'!$H:$K,ROW(),0), 0))","v":""},{"$f":"IF(OR(INDEX('Calificación Privada'!T:T,ROW())=\"Sin información\", INDEX('Calificación Privada'!T:T,ROW())=\"Seleccione…\"), \"\", MATCH(INDEX('Calificación Privada'!T:T,ROW()), INDEX('Calificación Privada'!$H:$K,ROW(),0), 0))","v":""},{"$f":"IF(OR(INDEX('Calificación Privada'!U:U,ROW())=\"Sin información\", INDEX('Calificación Privada'!U:U,ROW())=\"Seleccione…\"), \"\", MATCH(INDEX('Calificación Privada'!U:U,ROW()), INDEX('Calificación Privada'!$H:$K,ROW(),0), 0))","v":""}]
[{"$f":"INDEX('Calificación Privada'!B:B,ROW())","v":"Económico"},{"$f":"INDEX('Calificación Privada'!C:C,ROW())","v":"Identificación de fuentes de financiación alternativas viables"},{"$f":"IF(OR(INDEX('Calificación Privada'!L:L,ROW())=\"Sin información\", INDEX('Calificación Privada'!L:L,ROW())=\"Seleccione…\"), \"\", MATCH(INDEX('Calificación Privada'!L:L,ROW()), INDEX('Calificación Privada'!$H:$K,ROW(),0), 0))","v":""},{"$f":"IF(OR(INDEX('Calificación Privada'!M:M,ROW())=\"Sin información\", INDEX('Calificación Privada'!M:M,ROW())=\"Seleccione…\"), \"\", MATCH(INDEX('Calificación Privada'!M:M,ROW()), INDEX('Calificación Privada'!$H:$K,ROW(),0), 0))","v":""},{"$f":"IF(OR(INDEX('Calificación Privada'!N:N,ROW())=\"Sin información\", INDEX('Calificación Privada'!N:N,ROW())=\"Seleccione…\"), \"\", MATCH(INDEX('Calificación Privada'!N:N,ROW()), INDEX('Calificación Privada'!$H:$K,ROW(),0), 0))","v":""},{"$f":"IF(OR(INDEX('Calificación Privada'!O:O,ROW())=\"Sin información\", INDEX('Calificación Privada'!O:O,ROW())=\"Seleccione…\"), \"\", MATCH(INDEX('Calificación Privada'!O:O,ROW()), INDEX('Calificación Privada'!$H:$K,ROW(),0), 0))","v":""},{"$f":"IF(OR(INDEX('Calificación Privada'!P:P,ROW())=\"Sin información\", INDEX('Calificación Privada'!P:P,ROW())=\"Seleccione…\"), \"\", MATCH(INDEX('Calificación Privada'!P:P,ROW()), INDEX('Calificación Privada'!$H:$K,ROW(),0), 0))","v":""},{"$f":"IF(OR(INDEX('Calificación Privada'!Q:Q,ROW())=\"Sin información\", INDEX('Calificación Privada'!Q:Q,ROW())=\"Seleccione…\"), \"\", MATCH(INDEX('Calificación Privada'!Q:Q,ROW()), INDEX('Calificación Privada'!$H:$K,ROW(),0), 0))","v":""},{"$f":"IF(OR(INDEX('Calificación Privada'!R:R,ROW())=\"Sin información\", INDEX('Calificación Privada'!R:R,ROW())=\"Seleccione…\"), \"\", MATCH(INDEX('Calificación Privada'!R:R,ROW()), INDEX('Calificación Privada'!$H:$K,ROW(),0), 0))","v":""},{"$f":"IF(OR(INDEX('Calificación Privada'!S:S,ROW())=\"Sin información\", INDEX('Calificación Privada'!S:S,ROW())=\"Seleccione…\"), \"\", MATCH(INDEX('Calificación Privada'!S:S,ROW()), INDEX('Calificación Privada'!$H:$K,ROW(),0), 0))","v":""},{"$f":"IF(OR(INDEX('Calificación Privada'!T:T,ROW())=\"Sin información\", INDEX('Calificación Privada'!T:T,ROW())=\"Seleccione…\"), \"\", MATCH(INDEX('Calificación Privada'!T:T,ROW()), INDEX('Calificación Privada'!$H:$K,ROW(),0), 0))","v":""},{"$f":"IF(OR(INDEX('Calificación Privada'!U:U,ROW())=\"Sin información\", INDEX('Calificación Privada'!U:U,ROW())=\"Seleccione…\"), \"\", MATCH(INDEX('Calificación Privada'!U:U,ROW()), INDEX('Calificación Privada'!$H:$K,ROW(),0), 0))","v":""}]
[{"$f":"INDEX('Calificación Privada'!B:B,ROW())","v":"Económico"},{"$f":"INDEX('Calificación Privada'!C:C,ROW())","v":"Capacidad de cofinanciación local"},{"$f":"IF(OR(INDEX('Calificación Privada'!L:L,ROW())=\"Sin información\", INDEX('Calificación Privada'!L:L,ROW())=\"Seleccione…\"), \"\", MATCH(INDEX('Calificación Privada'!L:L,ROW()), INDEX('Calificación Privada'!$H:$K,ROW(),0), 0))","v":""},{"$f":"IF(OR(INDEX('Calificación Privada'!M:M,ROW())=\"Sin información\", INDEX('Calificación Privada'!M:M,ROW())=\"Seleccione…\"), \"\", MATCH(INDEX('Calificación Privada'!M:M,ROW()), INDEX('Calificación Privada'!$H:$K,ROW(),0), 0))","v":""},{"$f":"IF(OR(INDEX('Calificación Privada'!N:N,ROW())=\"Sin información\", INDEX('Calificación Privada'!N:N,ROW())=\"Seleccione…\"), \"\", MATCH(INDEX('Calificación Privada'!N:N,ROW()), INDEX('Calificación Privada'!$H:$K,ROW(),0), 0))","v":""},{"$f":"IF(OR(INDEX('Calificación Privada'!O:O,ROW())=\"Sin información\", INDEX('Calificación Privada'!O:O,ROW())=\"Seleccione…\"), \"\", MATCH(INDEX('Calificación Privada'!O:O,ROW()), INDEX('Calificación Privada'!$H:$K,ROW(),0), 0))","v":""},{"$f":"IF(OR(INDEX('Calificación Privada'!P:P,ROW())=\"Sin información\", INDEX('Calificación Privada'!P:P,ROW())=\"Seleccione…\"), \"\", MATCH(INDEX('Calificación Privada'!P:P,ROW()), INDEX('Calificación Privada'!$H:$K,ROW(),0), 0))","v":""},{"$f":"IF(OR(INDEX('Calificación Privada'!Q:Q,ROW())=\"Sin información\", INDEX('Calificación Privada'!Q:Q,ROW())=\"Seleccione…\"), \"\", MATCH(INDEX('Calificación Privada'!Q:Q,ROW()), INDEX('Calificación Privada'!$H:$K,ROW(),0), 0))","v":""},{"$f":"IF(OR(INDEX('Calificación Privada'!R:R,ROW())=\"Sin información\", INDEX('Calificación Privada'!R:R,ROW())=\"Seleccione…\"), \"\", MATCH(INDEX('Calificación Privada'!R:R,ROW()), INDEX('Calificación Privada'!$H:$K,ROW(),0), 0))","v":""},{"$f":"IF(OR(INDEX('Calificación Privada'!S:S,ROW())=\"Sin información\", INDEX('Calificación Privada'!S:S,ROW())=\"Seleccione…\"), \"\", MATCH(INDEX('Calificación Privada'!S:S,ROW()), INDEX('Calificación Privada'!$H:$K,ROW(),0), 0))","v":""},{"$f":"IF(OR(INDEX('Calificación Privada'!T:T,ROW())=\"Sin información\", INDEX('Calificación Privada'!T:T,ROW())=\"Seleccione…\"), \"\", MATCH(INDEX('Calificación Privada'!T:T,ROW()), INDEX('Calificación Privada'!$H:$K,ROW(),0), 0))","v":""},{"$f":"IF(OR(INDEX('Calificación Privada'!U:U,ROW())=\"Sin información\", INDEX('Calificación Privada'!U:U,ROW())=\"Seleccione…\"), \"\", MATCH(INDEX('Calificación Privada'!U:U,ROW()), INDEX('Calificación Privada'!$H:$K,ROW(),0), 0))","v":""}]
[{"$f":"INDEX('Calificación Privada'!B:B,ROW())","v":"Económico"},{"$f":"INDEX('Calificación Privada'!C:C,ROW())","v":"Capacidad y voluntad de los miembros de la comunidad para financiar el proyecto"},{"$f":"IF(OR(INDEX('Calificación Privada'!L:L,ROW())=\"Sin información\", INDEX('Calificación Privada'!L:L,ROW())=\"Seleccione…\"), \"\", MATCH(INDEX('Calificación Privada'!L:L,ROW()), INDEX('Calificación Privada'!$H:$K,ROW(),0), 0))","v":""},{"$f":"IF(OR(INDEX('Calificación Privada'!M:M,ROW())=\"Sin información\", INDEX('Calificación Privada'!M:M,ROW())=\"Seleccione…\"), \"\", MATCH(INDEX('Calificación Privada'!M:M,ROW()), INDEX('Calificación Privada'!$H:$K,ROW(),0), 0))","v":""},{"$f":"IF(OR(INDEX('Calificación Privada'!N:N,ROW())=\"Sin información\", INDEX('Calificación Privada'!N:N,ROW())=\"Seleccione…\"), \"\", MATCH(INDEX('Calificación Privada'!N:N,ROW()), INDEX('Calificación Privada'!$H:$K,ROW(),0), 0))","v":""},{"$f":"IF(OR(INDEX('Calificación Privada'!O:O,ROW())=\"Sin información\", INDEX('Calificación Privada'!O:O,ROW())=\"Seleccione…\"), \"\", MATCH(INDEX('Calificación Privada'!O:O,ROW()), INDEX('Calificación Privada'!$H:$K,ROW(),0), 0))","v":""},{"$f":"IF(OR(INDEX('Calificación Privada'!P:P,ROW())=\"Sin información\", INDEX('Calificación Privada'!P:P,ROW())=\"Seleccione…\"), \"\", MATCH(INDEX('Calificación Privada'!P:P,ROW()), INDEX('Calificación Privada'!$H:$K,ROW(),0), 0))","v":""},{"$f":"IF(OR(INDEX('Calificación Privada'!Q:Q,ROW())=\"Sin información\", INDEX('Calificación Privada'!Q:Q,ROW())=\"Seleccione…\"), \"\", MATCH(INDEX('Calificación Privada'!Q:Q,ROW()), INDEX('Calificación Privada'!$H:$K,ROW(),0), 0))","v":""},{"$f":"IF(OR(INDEX('Calificación Privada'!R:R,ROW())=\"Sin información\", INDEX('Calificación Privada'!R:R,ROW())=\"Seleccione…\"), \"\", MATCH(INDEX('Calificación Privada'!R:R,ROW()), INDEX('Calificación Privada'!$H:$K,ROW(),0), 0))","v":""},{"$f":"IF(OR(INDEX('Calificación Privada'!S:S,ROW())=\"Sin información\", INDEX('Calificación Privada'!S:S,ROW())=\"Seleccione…\"), \"\", MATCH(INDEX('Calificación Privada'!S:S,ROW()), INDEX('Calificación Privada'!$H:$K,ROW(),0), 0))","v":""},{"$f":"IF(OR(INDEX('Calificación Privada'!T:T,ROW())=\"Sin información\", INDEX('Calificación Privada'!T:T,ROW())=\"Seleccione…\"), \"\", MATCH(INDEX('Calificación Privada'!T:T,ROW()), INDEX('Calificación Privada'!$H:$K,ROW(),0), 0))","v":""},{"$f":"IF(OR(INDEX('Calificación Privada'!U:U,ROW())=\"Sin información\", INDEX('Calificación Privada'!U:U,ROW())=\"Seleccione…\"), \"\", MATCH(INDEX('Calificación Privada'!U:U,ROW()), INDEX('Calificación Privada'!$H:$K,ROW(),0), 0))","v":""}]
[{"$f":"INDEX('Calificación Privada'!B:B,ROW())","v":"Económico"},{"$f":"INDEX('Calificación Privada'!C:C,ROW())","v":"Costos energéticos promedio por usuario"},{"$f":"IF(OR(INDEX('Calificación Privada'!L:L,ROW())=\"Sin información\", INDEX('Calificación Privada'!L:L,ROW())=\"Seleccione…\"), \"\", MATCH(INDEX('Calificación Privada'!L:L,ROW()), INDEX('Calificación Privada'!$H:$K,ROW(),0), 0))","v":""},{"$f":"IF(OR(INDEX('Calificación Privada'!M:M,ROW())=\"Sin información\", INDEX('Calificación Privada'!M:M,ROW())=\"Seleccione…\"), \"\", MATCH(INDEX('Calificación Privada'!M:M,ROW()), INDEX('Calificación Privada'!$H:$K,ROW(),0), 0))","v":""},{"$f":"IF(OR(INDEX('Calificación Privada'!N:N,ROW())=\"Sin información\", INDEX('Calificación Privada'!N:N,ROW())=\"Seleccione…\"), \"\", MATCH(INDEX('Calificación Privada'!N:N,ROW()), INDEX('Calificación Privada'!$H:$K,ROW(),0), 0))","v":""},{"$f":"IF(OR(INDEX('Calificación Privada'!O:O,ROW())=\"Sin información\", INDEX('Calificación Privada'!O:O,ROW())=\"Seleccione…\"), \"\", MATCH(INDEX('Calificación Privada'!O:O,ROW()), INDEX('Calificación Privada'!$H:$K,ROW(),0), 0))","v":""},{"$f":"IF(OR(INDEX('Calificación Privada'!P:P,ROW())=\"Sin información\", INDEX('Calificación Privada'!P:P,ROW())=\"Seleccione…\"), \"\", MATCH(INDEX('Calificación Privada'!P:P,ROW()), INDEX('Calificación Privada'!$H:$K,ROW(),0), 0))","v":""},{"$f":"IF(OR(INDEX('Calificación Privada'!Q:Q,ROW())=\"Sin información\", INDEX('Calificación Privada'!Q:Q,ROW())=\"Seleccione…\"), \"\", MATCH(INDEX('Calificación Privada'!Q:Q,ROW()), INDEX('Calificación Privada'!$H:$K,ROW(),0), 0))","v":""},{"$f":"IF(OR(INDEX('Calificación Privada'!R:R,ROW())=\"Sin información\", INDEX('Calificación Privada'!R:R,ROW())=\"Seleccione…\"), \"\", MATCH(INDEX('Calificación Privada'!R:R,ROW()), INDEX('Calificación Privada'!$H:$K,ROW(),0), 0))","v":""},{"$f":"IF(OR(INDEX('Calificación Privada'!S:S,ROW())=\"Sin información\", INDEX('Calificación Privada'!S:S,ROW())=\"Seleccione…\"), \"\", MATCH(INDEX('Calificación Privada'!S:S,ROW()), INDEX('Calificación Privada'!$H:$K,ROW(),0), 0))","v":""},{"$f":"IF(OR(INDEX('Calificación Privada'!T:T,ROW())=\"Sin información\", INDEX('Calificación Privada'!T:T,ROW())=\"Seleccione…\"), \"\", MATCH(INDEX('Calificación Privada'!T:T,ROW()), INDEX('Calificación Privada'!$H:$K,ROW(),0), 0))","v":""},{"$f":"IF(OR(INDEX('Calificación Privada'!U:U,ROW())=\"Sin información\", INDEX('Calificación Privada'!U:U,ROW())=\"Seleccione…\"), \"\", MATCH(INDEX('Calificación Privada'!U:U,ROW()), INDEX('Calificación Privada'!$H:$K,ROW(),0), 0))","v":""}]
[{"$f":"INDEX('Calificación Privada'!B:B,ROW())","v":"Legislativo/ normativo"},{"$f":"INDEX('Calificación Privada'!C:C,ROW())","v":"Disposición de instituciones externas para representar a la comunidad energética "},{"$f":"IF(OR(INDEX('Calificación Privada'!L:L,ROW())=\"Sin información\", INDEX('Calificación Privada'!L:L,ROW())=\"Seleccione…\"), \"\", MATCH(INDEX('Calificación Privada'!L:L,ROW()), INDEX('Calificación Privada'!$H:$K,ROW(),0), 0))","v":""},{"$f":"IF(OR(INDEX('Calificación Privada'!M:M,ROW())=\"Sin información\", INDEX('Calificación Privada'!M:M,ROW())=\"Seleccione…\"), \"\", MATCH(INDEX('Calificación Privada'!M:M,ROW()), INDEX('Calificación Privada'!$H:$K,ROW(),0), 0))","v":""},{"$f":"IF(OR(INDEX('Calificación Privada'!N:N,ROW())=\"Sin información\", INDEX('Calificación Privada'!N:N,ROW())=\"Seleccione…\"), \"\", MATCH(INDEX('Calificación Privada'!N:N,ROW()), INDEX('Calificación Privada'!$H:$K,ROW(),0), 0))","v":""},{"$f":"IF(OR(INDEX('Calificación Privada'!O:O,ROW())=\"Sin información\", INDEX('Calificación Privada'!O:O,ROW())=\"Seleccione…\"), \"\", MATCH(INDEX('Calificación Privada'!O:O,ROW()), INDEX('Calificación Privada'!$H:$K,ROW(),0), 0))","v":""},{"$f":"IF(OR(INDEX('Calificación Privada'!P:P,ROW())=\"Sin información\", INDEX('Calificación Privada'!P:P,ROW())=\"Seleccione…\"), \"\", MATCH(INDEX('Calificación Privada'!P:P,ROW()), INDEX('Calificación Privada'!$H:$K,ROW(),0), 0))","v":""},{"$f":"IF(OR(INDEX('Calificación Privada'!Q:Q,ROW())=\"Sin información\", INDEX('Calificación Privada'!Q:Q,ROW())=\"Seleccione…\"), \"\", MATCH(INDEX('Calificación Privada'!Q:Q,ROW()), INDEX('Calificación Privada'!$H:$K,ROW(),0), 0))","v":""},{"$f":"IF(OR(INDEX('Calificación Privada'!R:R,ROW())=\"Sin información\", INDEX('Calificación Privada'!R:R,ROW())=\"Seleccione…\"), \"\", MATCH(INDEX('Calificación Privada'!R:R,ROW()), INDEX('Calificación Privada'!$H:$K,ROW(),0), 0))","v":""},{"$f":"IF(OR(INDEX('Calificación Privada'!S:S,ROW())=\"Sin información\", INDEX('Calificación Privada'!S:S,ROW())=\"Seleccione…\"), \"\", MATCH(INDEX('Calificación Privada'!S:S,ROW()), INDEX('Calificación Privada'!$H:$K,ROW(),0), 0))","v":""},{"$f":"IF(OR(INDEX('Calificación Privada'!T:T,ROW())=\"Sin información\", INDEX('Calificación Privada'!T:T,ROW())=\"Seleccione…\"), \"\", MATCH(INDEX('Calificación Privada'!T:T,ROW()), INDEX('Calificación Privada'!$H:$K,ROW(),0), 0))","v":""},{"$f":"IF(OR(INDEX('Calificación Privada'!U:U,ROW())=\"Sin información\", INDEX('Calificación Privada'!U:U,ROW())=\"Seleccione…\"), \"\", MATCH(INDEX('Calificación Privada'!U:U,ROW()), INDEX('Calificación Privada'!$H:$K,ROW(),0), 0))","v":""}]
[{"$f":"INDEX('Calificación Privada'!B:B,ROW())","v":"Legislativo/ normativo"},{"$f":"INDEX('Calificación Privada'!C:C,ROW())","v":"¿Se cuenta con avances en lineamientos para la distribución y almacenamiento de energía? Autoconsumo"},{"$f":"IF(OR(INDEX('Calificación Privada'!L:L,ROW())=\"Sin información\", INDEX('Calificación Privada'!L:L,ROW())=\"Seleccione…\"), \"\", MATCH(INDEX('Calificación Privada'!L:L,ROW()), INDEX('Calificación Privada'!$H:$K,ROW(),0), 0))","v":""},{"$f":"IF(OR(INDEX('Calificación Privada'!M:M,ROW())=\"Sin información\", INDEX('Calificación Privada'!M:M,ROW())=\"Seleccione…\"), \"\", MATCH(INDEX('Calificación Privada'!M:M,ROW()), INDEX('Calificación Privada'!$H:$K,ROW(),0), 0))","v":""},{"$f":"IF(OR(INDEX('Calificación Privada'!N:N,ROW())=\"Sin información\", INDEX('Calificación Privada'!N:N,ROW())=\"Seleccione…\"), \"\", MATCH(INDEX('Calificación Privada'!N:N,ROW()), INDEX('Calificación Privada'!$H:$K,ROW(),0), 0))","v":""},{"$f":"IF(OR(INDEX('Calificación Privada'!O:O,ROW())=\"Sin información\", INDEX('Calificación Privada'!O:O,ROW())=\"Seleccione…\"), \"\", MATCH(INDEX('Calificación Privada'!O:O,ROW()), INDEX('Calificación Privada'!$H:$K,ROW(),0), 0))","v":""},{"$f":"IF(OR(INDEX('Calificación Privada'!P:P,ROW())=\"Sin información\", INDEX('Calificación Privada'!P:P,ROW())=\"Seleccione…\"), \"\", MATCH(INDEX('Calificación Privada'!P:P,ROW()), INDEX('Calificación Privada'!$H:$K,ROW(),0), 0))","v":""},{"$f":"IF(OR(INDEX('Calificación Privada'!Q:Q,ROW())=\"Sin información\", INDEX('Calificación Privada'!Q:Q,ROW())=\"Seleccione…\"), \"\", MATCH(INDEX('Calificación Privada'!Q:Q,ROW()), INDEX('Calificación Privada'!$H:$K,ROW(),0), 0))","v":""},{"$f":"IF(OR(INDEX('Calificación Privada'!R:R,ROW())=\"Sin información\", INDEX('Calificación Privada'!R:R,ROW())=\"Seleccione…\"), \"\", MATCH(INDEX('Calificación Privada'!R:R,ROW()), INDEX('Calificación Privada'!$H:$K,ROW(),0), 0))","v":""},{"$f":"IF(OR(INDEX('Calificación Privada'!S:S,ROW())=\"Sin información\", INDEX('Calificación Privada'!S:S,ROW())=\"Seleccione…\"), \"\", MATCH(INDEX('Calificación Privada'!S:S,ROW()), INDEX('Calificación Privada'!$H:$K,ROW(),0), 0))","v":""},{"$f":"IF(OR(INDEX('Calificación Privada'!T:T,ROW())=\"Sin información\", INDEX('Calificación Privada'!T:T,ROW())=\"Seleccione…\"), \"\", MATCH(INDEX('Calificación Privada'!T:T,ROW()), INDEX('Calificación Privada'!$H:$K,ROW(),0), 0))","v":""},{"$f":"IF(OR(INDEX('Calificación Privada'!U:U,ROW())=\"Sin información\", INDEX('Calificación Privada'!U:U,ROW())=\"Seleccione…\"), \"\", MATCH(INDEX('Calificación Privada'!U:U,ROW()), INDEX('Calificación Privada'!$H:$K,ROW(),0), 0))","v":""}]
[{"$f":"INDEX('Calificación Privada'!B:B,ROW())","v":"Legislativo/ normativo"},{"$f":"INDEX('Calificación Privada'!C:C,ROW())","v":"Políticas de Inclusión de Género en la Gobernanza de las Comunidades Energéticas"},{"$f":"IF(OR(INDEX('Calificación Privada'!L:L,ROW())=\"Sin información\", INDEX('Calificación Privada'!L:L,ROW())=\"Seleccione…\"), \"\", MATCH(INDEX('Calificación Privada'!L:L,ROW()), INDEX('Calificación Privada'!$H:$K,ROW(),0), 0))","v":""},{"$f":"IF(OR(INDEX('Calificación Privada'!M:M,ROW())=\"Sin información\", INDEX('Calificación Privada'!M:M,ROW())=\"Seleccione…\"), \"\", MATCH(INDEX('Calificación Privada'!M:M,ROW()), INDEX('Calificación Privada'!$H:$K,ROW(),0), 0))","v":""},{"$f":"IF(OR(INDEX('Calificación Privada'!N:N,ROW())=\"Sin información\", INDEX('Calificación Privada'!N:N,ROW())=\"Seleccione…\"), \"\", MATCH(INDEX('Calificación Privada'!N:N,ROW()), INDEX('Calificación Privada'!$H:$K,ROW(),0), 0))","v":""},{"$f":"IF(OR(INDEX('Calificación Privada'!O:O,ROW())=\"Sin información\", INDEX('Calificación Privada'!O:O,ROW())=\"Seleccione…\"), \"\", MATCH(INDEX('Calificación Privada'!O:O,ROW()), INDEX('Calificación Privada'!$H:$K,ROW(),0), 0))","v":""},{"$f":"IF(OR(INDEX('Calificación Privada'!P:P,ROW())=\"Sin información\", INDEX('Calificación Privada'!P:P,ROW())=\"Seleccione…\"), \"\", MATCH(INDEX('Calificación Privada'!P:P,ROW()), INDEX('Calificación Privada'!$H:$K,ROW(),0), 0))","v":""},{"$f":"IF(OR(INDEX('Calificación Privada'!Q:Q,ROW())=\"Sin información\", INDEX('Calificación Privada'!Q:Q,ROW())=\"Seleccione…\"), \"\", MATCH(INDEX('Calificación Privada'!Q:Q,ROW()), INDEX('Calificación Privada'!$H:$K,ROW(),0), 0))","v":""},{"$f":"IF(OR(INDEX('Calificación Privada'!R:R,ROW())=\"Sin información\", INDEX('Calificación Privada'!R:R,ROW())=\"Seleccione…\"), \"\", MATCH(INDEX('Calificación Privada'!R:R,ROW()), INDEX('Calificación Privada'!$H:$K,ROW(),0), 0))","v":""},{"$f":"IF(OR(INDEX('Calificación Privada'!S:S,ROW())=\"Sin información\", INDEX('Calificación Privada'!S:S,ROW())=\"Seleccione…\"), \"\", MATCH(INDEX('Calificación Privada'!S:S,ROW()), INDEX('Calificación Privada'!$H:$K,ROW(),0), 0))","v":""},{"$f":"IF(OR(INDEX('Calificación Privada'!T:T,ROW())=\"Sin información\", INDEX('Calificación Privada'!T:T,ROW())=\"Seleccione…\"), \"\", MATCH(INDEX('Calificación Privada'!T:T,ROW()), INDEX('Calificación Privada'!$H:$K,ROW(),0), 0))","v":""},{"$f":"IF(OR(INDEX('Calificación Privada'!U:U,ROW())=\"Sin información\", INDEX('Calificación Privada'!U:U,ROW())=\"Seleccione…\"), \"\", MATCH(INDEX('Calificación Privada'!U:U,ROW()), INDEX('Calificación Privada'!$H:$K,ROW(),0), 0))","v":""}]
[{"$f":"INDEX('Calificación Privada'!B:B,ROW())","v":"Social"},{"$f":"INDEX('Calificación Privada'!C:C,ROW())","v":"Participación Femenina en la Comunidad Energética"},{"$f":"IF(OR(INDEX('Calificación Privada'!L:L,ROW())=\"Sin información\", INDEX('Calificación Privada'!L:L,ROW())=\"Seleccione…\"), \"\", MATCH(INDEX('Calificación Privada'!L:L,ROW()), INDEX('Calificación Privada'!$H:$K,ROW(),0), 0))","v":""},{"$f":"IF(OR(INDEX('Calificación Privada'!M:M,ROW())=\"Sin información\", INDEX('Calificación Privada'!M:M,ROW())=\"Seleccione…\"), \"\", MATCH(INDEX('Calificación Privada'!M:M,ROW()), INDEX('Calificación Privada'!$H:$K,ROW(),0), 0))","v":""},{"$f":"IF(OR(INDEX('Calificación Privada'!N:N,ROW())=\"Sin información\", INDEX('Calificación Privada'!N:N,ROW())=\"Seleccione…\"), \"\", MATCH(INDEX('Calificación Privada'!N:N,ROW()), INDEX('Calificación Privada'!$H:$K,ROW(),0), 0))","v":""},{"$f":"IF(OR(INDEX('Calificación Privada'!O:O,ROW())=\"Sin información\", INDEX('Calificación Privada'!O:O,ROW())=\"Seleccione…\"), \"\", MATCH(INDEX('Calificación Privada'!O:O,ROW()), INDEX('Calificación Privada'!$H:$K,ROW(),0), 0))","v":""},{"$f":"IF(OR(INDEX('Calificación Privada'!P:P,ROW())=\"Sin información\", INDEX('Calificación Privada'!P:P,ROW())=\"Seleccione…\"), \"\", MATCH(INDEX('Calificación Privada'!P:P,ROW()), INDEX('Calificación Privada'!$H:$K,ROW(),0), 0))","v":""},{"$f":"IF(OR(INDEX('Calificación Privada'!Q:Q,ROW())=\"Sin información\", INDEX('Calificación Privada'!Q:Q,ROW())=\"Seleccione…\"), \"\", MATCH(INDEX('Calificación Privada'!Q:Q,ROW()), INDEX('Calificación Privada'!$H:$K,ROW(),0), 0))","v":""},{"$f":"IF(OR(INDEX('Calificación Privada'!R:R,ROW())=\"Sin información\", INDEX('Calificación Privada'!R:R,ROW())=\"Seleccione…\"), \"\", MATCH(INDEX('Calificación Privada'!R:R,ROW()), INDEX('Calificación Privada'!$H:$K,ROW(),0), 0))","v":""},{"$f":"IF(OR(INDEX('Calificación Privada'!S:S,ROW())=\"Sin información\", INDEX('Calificación Privada'!S:S,ROW())=\"Seleccione…\"), \"\", MATCH(INDEX('Calificación Privada'!S:S,ROW()), INDEX('Calificación Privada'!$H:$K,ROW(),0), 0))","v":""},{"$f":"IF(OR(INDEX('Calificación Privada'!T:T,ROW())=\"Sin información\", INDEX('Calificación Privada'!T:T,ROW())=\"Seleccione…\"), \"\", MATCH(INDEX('Calificación Privada'!T:T,ROW()), INDEX('Calificación Privada'!$H:$K,ROW(),0), 0))","v":""},{"$f":"IF(OR(INDEX('Calificación Privada'!U:U,ROW())=\"Sin información\", INDEX('Calificación Privada'!U:U,ROW())=\"Seleccione…\"), \"\", MATCH(INDEX('Calificación Privada'!U:U,ROW()), INDEX('Calificación Privada'!$H:$K,ROW(),0), 0))","v":""}]
[{"$f":"INDEX('Calificación Privada'!B:B,ROW())","v":"Social"},{"$f":"INDEX('Calificación Privada'!C:C,ROW())","v":"Población de especial protección constitucional del sector Paz (víctimas, personas en proceso de reincorporación)"},{"$f":"IF(OR(INDEX('Calificación Privada'!L:L,ROW())=\"Sin información\", INDEX('Calificación Privada'!L:L,ROW())=\"Seleccione…\"), \"\", MATCH(INDEX('Calificación Privada'!L:L,ROW()), INDEX('Calificación Privada'!$H:$K,ROW(),0), 0))","v":""},{"$f":"IF(OR(INDEX('Calificación Privada'!M:M,ROW())=\"Sin información\", INDEX('Calificación Privada'!M:M,ROW())=\"Seleccione…\"), \"\", MATCH(INDEX('Calificación Privada'!M:M,ROW()), INDEX('Calificación Privada'!$H:$K,ROW(),0), 0))","v":""},{"$f":"IF(OR(INDEX('Calificación Privada'!N:N,ROW())=\"Sin información\", INDEX('Calificación Privada'!N:N,ROW())=\"Seleccione…\"), \"\", MATCH(INDEX('Calificación Privada'!N:N,ROW()), INDEX('Calificación Privada'!$H:$K,ROW(),0), 0))","v":""},{"$f":"IF(OR(INDEX('Calificación Privada'!O:O,ROW())=\"Sin información\", INDEX('Calificación Privada'!O:O,ROW())=\"Seleccione…\"), \"\", MATCH(INDEX('Calificación Privada'!O:O,ROW()), INDEX('Calificación Privada'!$H:$K,ROW(),0), 0))","v":""},{"$f":"IF(OR(INDEX('Calificación Privada'!P:P,ROW())=\"Sin información\", INDEX('Calificación Privada'!P:P,ROW())=\"Seleccione…\"), \"\", MATCH(INDEX('Calificación Privada'!P:P,ROW()), INDEX('Calificación Privada'!$H:$K,ROW(),0), 0))","v":""},{"$f":"IF(OR(INDEX('Calificación Privada'!Q:Q,ROW())=\"Sin información\", INDEX('Calificación Privada'!Q:Q,ROW())=\"Seleccione…\"), \"\", MATCH(INDEX('Calificación Privada'!Q:Q,ROW()), INDEX('Calificación Privada'!$H:$K,ROW(),0), 0))","v":""},{"$f":"IF(OR(INDEX('Calificación Privada'!R:R,ROW())=\"Sin información\", INDEX('Calificación Privada'!R:R,ROW())=\"Seleccione…\"), \"\", MATCH(INDEX('Calificación Privada'!R:R,ROW()), INDEX('Calificación Privada'!$H:$K,ROW(),0), 0))","v":""},{"$f":"IF(OR(INDEX('Calificación Privada'!S:S,ROW())=\"Sin información\", INDEX('Calificación Privada'!S:S,ROW())=\"Seleccione…\"), \"\", MATCH(INDEX('Calificación Privada'!S:S,ROW()), INDEX('Calificación Privada'!$H:$K,ROW(),0), 0))","v":""},{"$f":"IF(OR(INDEX('Calificación Privada'!T:T,ROW())=\"Sin información\", INDEX('Calificación Privada'!T:T,ROW())=\"Seleccione…\"), \"\", MATCH(INDEX('Calificación Privada'!T:T,ROW()), INDEX('Calificación Privada'!$H:$K,ROW(),0), 0))","v":""},{"$f":"IF(OR(INDEX('Calificación Privada'!U:U,ROW())=\"Sin información\", INDEX('Calificación Privada'!U:U,ROW())=\"Seleccione…\"), \"\", MATCH(INDEX('Calificación Privada'!U:U,ROW()), INDEX('Calificación Privada'!$H:$K,ROW(),0), 0))","v":""}]
[{"$f":"INDEX('Calificación Privada'!B:B,ROW())","v":"Social"},{"$f":"INDEX('Calificación Privada'!C:C,ROW())","v":"Presencia de comunidades étnicas"},{"$f":"IF(OR(INDEX('Calificación Privada'!L:L,ROW())=\"Sin información\", INDEX('Calificación Privada'!L:L,ROW())=\"Seleccione…\"), \"\", MATCH(INDEX('Calificación Privada'!L:L,ROW()), INDEX('Calificación Privada'!$H:$K,ROW(),0), 0))","v":""},{"$f":"IF(OR(INDEX('Calificación Privada'!M:M,ROW())=\"Sin información\", INDEX('Calificación Privada'!M:M,ROW())=\"Seleccione…\"), \"\", MATCH(INDEX('Calificación Privada'!M:M,ROW()), INDEX('Calificación Privada'!$H:$K,ROW(),0), 0))","v":""},{"$f":"IF(OR(INDEX('Calificación Privada'!N:N,ROW())=\"Sin información\", INDEX('Calificación Privada'!N:N,ROW())=\"Seleccione…\"), \"\", MATCH(INDEX('Calificación Privada'!N:N,ROW()), INDEX('Calificación Privada'!$H:$K,ROW(),0), 0))","v":""},{"$f":"IF(OR(INDEX('Calificación Privada'!O:O,ROW())=\"Sin información\", INDEX('Calificación Privada'!O:O,ROW())=\"Seleccione…\"), \"\", MATCH(INDEX('Calificación Privada'!O:O,ROW()), INDEX('Calificación Privada'!$H:$K,ROW(),0), 0))","v":""},{"$f":"IF(OR(INDEX('Calificación Privada'!P:P,ROW())=\"Sin información\", INDEX('Calificación Privada'!P:P,ROW())=\"Seleccione…\"), \"\", MATCH(INDEX('Calificación Privada'!P:P,ROW()), INDEX('Calificación Privada'!$H:$K,ROW(),0), 0))","v":""},{"$f":"IF(OR(INDEX('Calificación Privada'!Q:Q,ROW())=\"Sin información\", INDEX('Calificación Privada'!Q:Q,ROW())=\"Seleccione…\"), \"\", MATCH(INDEX('Calificación Privada'!Q:Q,ROW()), INDEX('Calificación Privada'!$H:$K,ROW(),0), 0))","v":""},{"$f":"IF(OR(INDEX('Calificación Privada'!R:R,ROW())=\"Sin información\", INDEX('Calificación Privada'!R:R,ROW())=\"Seleccione…\"), \"\", MATCH(INDEX('Calificación Privada'!R:R,ROW()), INDEX('Calificación Privada'!$H:$K,ROW(),0), 0))","v":""},{"$f":"IF(OR(INDEX('Calificación Privada'!S:S,ROW())=\"Sin información\", INDEX('Calificación Privada'!S:S,ROW())=\"Seleccione…\"), \"\", MATCH(INDEX('Calificación Privada'!S:S,ROW()), INDEX('Calificación Privada'!$H:$K,ROW(),0), 0))","v":""},{"$f":"IF(OR(INDEX('Calificación Privada'!T:T,ROW())=\"Sin información\", INDEX('Calificación Privada'!T:T,ROW())=\"Seleccione…\"), \"\", MATCH(INDEX('Calificación Privada'!T:T,ROW()), INDEX('Calificación Privada'!$H:$K,ROW(),0), 0))","v":""},{"$f":"IF(OR(INDEX('Calificación Privada'!U:U,ROW())=\"Sin información\", INDEX('Calificación Privada'!U:U,ROW())=\"Seleccione…\"), \"\", MATCH(INDEX('Calificación Privada'!U:U,ROW()), INDEX('Calificación Privada'!$H:$K,ROW(),0), 0))","v":""}]
[{"$f":"INDEX('Calificación Privada'!B:B,ROW())","v":"Social"},{"$f":"INDEX('Calificación Privada'!C:C,ROW())","v":"Territorios colectivos de pueblos originarios o comunidades indígenas"},{"$f":"IF(OR(INDEX('Calificación Privada'!L:L,ROW())=\"Sin información\", INDEX('Calificación Privada'!L:L,ROW())=\"Seleccione…\"), \"\", MATCH(INDEX('Calificación Privada'!L:L,ROW()), INDEX('Calificación Privada'!$H:$K,ROW(),0), 0))","v":""},{"$f":"IF(OR(INDEX('Calificación Privada'!M:M,ROW())=\"Sin información\", INDEX('Calificación Privada'!M:M,ROW())=\"Seleccione…\"), \"\", MATCH(INDEX('Calificación Privada'!M:M,ROW()), INDEX('Calificación Privada'!$H:$K,ROW(),0), 0))","v":""},{"$f":"IF(OR(INDEX('Calificación Privada'!N:N,ROW())=\"Sin información\", INDEX('Calificación Privada'!N:N,ROW())=\"Seleccione…\"), \"\", MATCH(INDEX('Calificación Privada'!N:N,ROW()), INDEX('Calificación Privada'!$H:$K,ROW(),0), 0))","v":""},{"$f":"IF(OR(INDEX('Calificación Privada'!O:O,ROW())=\"Sin información\", INDEX('Calificación Privada'!O:O,ROW())=\"Seleccione…\"), \"\", MATCH(INDEX('Calificación Privada'!O:O,ROW()), INDEX('Calificación Privada'!$H:$K,ROW(),0), 0))","v":""},{"$f":"IF(OR(INDEX('Calificación Privada'!P:P,ROW())=\"Sin información\", INDEX('Calificación Privada'!P:P,ROW())=\"Seleccione…\"), \"\", MATCH(INDEX('Calificación Privada'!P:P,ROW()), INDEX('Calificación Privada'!$H:$K,ROW(),0), 0))","v":""},{"$f":"IF(OR(INDEX('Calificación Privada'!Q:Q,ROW())=\"Sin información\", INDEX('Calificación Privada'!Q:Q,ROW())=\"Seleccione…\"), \"\", MATCH(INDEX('Calificación Privada'!Q:Q,ROW()), INDEX('Calificación Privada'!$H:$K,ROW(),0), 0))","v":""},{"$f":"IF(OR(INDEX('Calificación Privada'!R:R,ROW())=\"Sin información\", INDEX('Calificación Privada'!R:R,ROW())=\"Seleccione…\"), \"\", MATCH(INDEX('Calificación Privada'!R:R,ROW()), INDEX('Calificación Privada'!$H:$K,ROW(),0), 0))","v":""},{"$f":"IF(OR(INDEX('Calificación Privada'!S:S,ROW())=\"Sin información\", INDEX('Calificación Privada'!S:S,ROW())=\"Seleccione…\"), \"\", MATCH(INDEX('Calificación Privada'!S:S,ROW()), INDEX('Calificación Privada'!$H:$K,ROW(),0), 0))","v":""},{"$f":"IF(OR(INDEX('Calificación Privada'!T:T,ROW())=\"Sin información\", INDEX('Calificación Privada'!T:T,ROW())=\"Seleccione…\"), \"\", MATCH(INDEX('Calificación Privada'!T:T,ROW()), INDEX('Calificación Privada'!$H:$K,ROW(),0), 0))","v":""},{"$f":"IF(OR(INDEX('Calificación Privada'!U:U,ROW())=\"Sin información\", INDEX('Calificación Privada'!U:U,ROW())=\"Seleccione…\"), \"\", MATCH(INDEX('Calificación Privada'!U:U,ROW()), INDEX('Calificación Privada'!$H:$K,ROW(),0), 0))","v":""}]
[{"$f":"INDEX('Calificación Privada'!B:B,ROW())","v":"Social"},{"$f":"INDEX('Calificación Privada'!C:C,ROW())","v":"Territorios de Antiguos espacios territoriales de capacitación y reincorporación y áreas especiales de reincorporación colectiva"},{"$f":"IF(OR(INDEX('Calificación Privada'!L:L,ROW())=\"Sin información\", INDEX('Calificación Privada'!L:L,ROW())=\"Seleccione…\"), \"\", MATCH(INDEX('Calificación Privada'!L:L,ROW()), INDEX('Calificación Privada'!$H:$K,ROW(),0), 0))","v":""},{"$f":"IF(OR(INDEX('Calificación Privada'!M:M,ROW())=\"Sin información\", INDEX('Calificación Privada'!M:M,ROW())=\"Seleccione…\"), \"\", MATCH(INDEX('Calificación Privada'!M:M,ROW()), INDEX('Calificación Privada'!$H:$K,ROW(),0), 0))","v":""},{"$f":"IF(OR(INDEX('Calificación Privada'!N:N,ROW())=\"Sin información\", INDEX('Calificación Privada'!N:N,ROW())=\"Seleccione…\"), \"\", MATCH(INDEX('Calificación Privada'!N:N,ROW()), INDEX('Calificación Privada'!$H:$K,ROW(),0), 0))","v":""},{"$f":"IF(OR(INDEX('Calificación Privada'!O:O,ROW())=\"Sin información\", INDEX('Calificación Privada'!O:O,ROW())=\"Seleccione…\"), \"\", MATCH(INDEX('Calificación Privada'!O:O,ROW()), INDEX('Calificación Privada'!$H:$K,ROW(),0), 0))","v":""},{"$f":"IF(OR(INDEX('Calificación Privada'!P:P,ROW())=\"Sin información\", INDEX('Calificación Privada'!P:P,ROW())=\"Seleccione…\"), \"\", MATCH(INDEX('Calificación Privada'!P:P,ROW()), INDEX('Calificación Privada'!$H:$K,ROW(),0), 0))","v":""},{"$f":"IF(OR(INDEX('Calificación Privada'!Q:Q,ROW())=\"Sin información\", INDEX('Calificación Privada'!Q:Q,ROW())=\"Seleccione…\"), \"\", MATCH(INDEX('Calificación Privada'!Q:Q,ROW()), INDEX('Calificación Privada'!$H:$K,ROW(),0), 0))","v":""},{"$f":"IF(OR(INDEX('Calificación Privada'!R:R,ROW())=\"Sin información\", INDEX('Calificación Privada'!R:R,ROW())=\"Seleccione…\"), \"\", MATCH(INDEX('Calificación Privada'!R:R,ROW()), INDEX('Calificación Privada'!$H:$K,ROW(),0), 0))","v":""},{"$f":"IF(OR(INDEX('Calificación Privada'!S:S,ROW())=\"Sin información\", INDEX('Calificación Privada'!S:S,ROW())=\"Seleccione…\"), \"\", MATCH(INDEX('Calificación Privada'!S:S,ROW()), INDEX('Calificación Privada'!$H:$K,ROW(),0), 0))","v":""},{"$f":"IF(OR(INDEX('Calificación Privada'!T:T,ROW())=\"Sin información\", INDEX('Calificación Privada'!T:T,ROW())=\"Seleccione…\"), \"\", MATCH(INDEX('Calificación Privada'!T:T,ROW()), INDEX('Calificación Privada'!$H:$K,ROW(),0), 0))","v":""},{"$f":"IF(OR(INDEX('Calificación Privada'!U:U,ROW())=\"Sin información\", INDEX('Calificación Privada'!U:U,ROW())=\"Seleccione…\"), \"\", MATCH(INDEX('Calificación Privada'!U:U,ROW()), INDEX('Calificación Privada'!$H:$K,ROW(),0), 0))","v":""}]
[{"$f":"INDEX('Calificación Privada'!B:B,ROW())","v":"Social"},{"$f":"INDEX('Calificación Privada'!C:C,ROW())","v":"Territorios de Paz"},{"$f":"IF(OR(INDEX('Calificación Privada'!L:L,ROW())=\"Sin información\", INDEX('Calificación Privada'!L:L,ROW())=\"Seleccione…\"), \"\", MATCH(INDEX('Calificación Privada'!L:L,ROW()), INDEX('Calificación Privada'!$H:$K,ROW(),0), 0))","v":""},{"$f":"IF(OR(INDEX('Calificación Privada'!M:M,ROW())=\"Sin información\", INDEX('Calificación Privada'!M:M,ROW())=\"Seleccione…\"), \"\", MATCH(INDEX('Calificación Privada'!M:M,ROW()), INDEX('Calificación Privada'!$H:$K,ROW(),0), 0))","v":""},{"$f":"IF(OR(INDEX('Calificación Privada'!N:N,ROW())=\"Sin información\", INDEX('Calificación Privada'!N:N,ROW())=\"Seleccione…\"), \"\", MATCH(INDEX('Calificación Privada'!N:N,ROW()), INDEX('Calificación Privada'!$H:$K,ROW(),0), 0))","v":""},{"$f":"IF(OR(INDEX('Calificación Privada'!O:O,ROW())=\"Sin información\", INDEX('Calificación Privada'!O:O,ROW())=\"Seleccione…\"), \"\", MATCH(INDEX('Calificación Privada'!O:O,ROW()), INDEX('Calificación Privada'!$H:$K,ROW(),0), 0))","v":""},{"$f":"IF(OR(INDEX('Calificación Privada'!P:P,ROW())=\"Sin información\", INDEX('Calificación Privada'!P:P,ROW())=\"Seleccione…\"), \"\", MATCH(INDEX('Calificación Privada'!P:P,ROW()), INDEX('Calificación Privada'!$H:$K,ROW(),0), 0))","v":""},{"$f":"IF(OR(INDEX('Calificación Privada'!Q:Q,ROW())=\"Sin información\", INDEX('Calificación Privada'!Q:Q,ROW())=\"Seleccione…\"), \"\", MATCH(INDEX('Calificación Privada'!Q:Q,ROW()), INDEX('Calificación Privada'!$H:$K,ROW(),0), 0))","v":""},{"$f":"IF(OR(INDEX('Calificación Privada'!R:R,ROW())=\"Sin información\", INDEX('Calificación Privada'!R:R,ROW())=\"Seleccione…\"), \"\", MATCH(INDEX('Calificación Privada'!R:R,ROW()), INDEX('Calificación Privada'!$H:$K,ROW(),0), 0))","v":""},{"$f":"IF(OR(INDEX('Calificación Privada'!S:S,ROW())=\"Sin información\", INDEX('Calificación Privada'!S:S,ROW())=\"Seleccione…\"), \"\", MATCH(INDEX('Calificación Privada'!S:S,ROW()), INDEX('Calificación Privada'!$H:$K,ROW(),0), 0))","v":""},{"$f":"IF(OR(INDEX('Calificación Privada'!T:T,ROW())=\"Sin información\", INDEX('Calificación Privada'!T:T,ROW())=\"Seleccione…\"), \"\", MATCH(INDEX('Calificación Privada'!T:T,ROW()), INDEX('Calificación Privada'!$H:$K,ROW(),0), 0))","v":""},{"$f":"IF(OR(INDEX('Calificación Privada'!U:U,ROW())=\"Sin información\", INDEX('Calificación Privada'!U:U,ROW())=\"Seleccione…\"), \"\", MATCH(INDEX('Calificación Privada'!U:U,ROW()), INDEX('Calificación Privada'!$H:$K,ROW(),0), 0))","v":""}]
[{"$f":"INDEX('Calificación Privada'!B:B,ROW())","v":"Social"},{"$f":"INDEX('Calificación Privada'!C:C,ROW())","v":"Territorios de Sistema Nacional de la Reforma Agraria y Desarrollo Rural, entre otras"},{"$f":"IF(OR(INDEX('Calificación Privada'!L:L,ROW())=\"Sin información\", INDEX('Calificación Privada'!L:L,ROW())=\"Seleccione…\"), \"\", MATCH(INDEX('Calificación Privada'!L:L,ROW()), INDEX('Calificación Privada'!$H:$K,ROW(),0), 0))","v":""},{"$f":"IF(OR(INDEX('Calificación Privada'!M:M,ROW())=\"Sin información\", INDEX('Calificación Privada'!M:M,ROW())=\"Seleccione…\"), \"\", MATCH(INDEX('Calificación Privada'!M:M,ROW()), INDEX('Calificación Privada'!$H:$K,ROW(),0), 0))","v":""},{"$f":"IF(OR(INDEX('Calificación Privada'!N:N,ROW())=\"Sin información\", INDEX('Calificación Privada'!N:N,ROW())=\"Seleccione…\"), \"\", MATCH(INDEX('Calificación Privada'!N:N,ROW()), INDEX('Calificación Privada'!$H:$K,ROW(),0), 0))","v":""},{"$f":"IF(OR(INDEX('Calificación Privada'!O:O,ROW())=\"Sin información\", INDEX('Calificación Privada'!O:O,ROW())=\"Seleccione…\"), \"\", MATCH(INDEX('Calificación Privada'!O:O,ROW()), INDEX('Calificación Privada'!$H:$K,ROW(),0), 0))","v":""},{"$f":"IF(OR(INDEX('Calificación Privada'!P:P,ROW())=\"Sin información\", INDEX('Calificación Privada'!P:P,ROW())=\"Seleccione…\"), \"\", MATCH(INDEX('Calificación Privada'!P:P,ROW()), INDEX('Calificación Privada'!$H:$K,ROW(),0), 0))","v":""},{"$f":"IF(OR(INDEX('Calificación Privada'!Q:Q,ROW())=\"Sin información\", INDEX('Calificación Privada'!Q:Q,ROW())=\"Seleccione…\"), \"\", MATCH(INDEX('Calificación Privada'!Q:Q,ROW()), INDEX('Calificación Privada'!$H:$K,ROW(),0), 0))","v":""},{"$f":"IF(OR(INDEX('Calificación Privada'!R:R,ROW())=\"Sin información\", INDEX('Calificación Privada'!R:R,ROW())=\"Seleccione…\"), \"\", MATCH(INDEX('Calificación Privada'!R:R,ROW()), INDEX('Calificación Privada'!$H:$K,ROW(),0), 0))","v":""},{"$f":"IF(OR(INDEX('Calificación Privada'!S:S,ROW())=\"Sin información\", INDEX('Calificación Privada'!S:S,ROW())=\"Seleccione…\"), \"\", MATCH(INDEX('Calificación Privada'!S:S,ROW()), INDEX('Calificación Privada'!$H:$K,ROW(),0), 0))","v":""},{"$f":"IF(OR(INDEX('Calificación Privada'!T:T,ROW())=\"Sin información\", INDEX('Calificación Privada'!T:T,ROW())=\"Seleccione…\"), \"\", MATCH(INDEX('Calificación Privada'!T:T,ROW()), INDEX('Calificación Privada'!$H:$K,ROW(),0), 0))","v":""},{"$f":"IF(OR(INDEX('Calificación Privada'!U:U,ROW())=\"Sin información\", INDEX('Calificación Privada'!U:U,ROW())=\"Seleccione…\"), \"\", MATCH(INDEX('Calificación Privada'!U:U,ROW()), INDEX('Calificación Privada'!$H:$K,ROW(),0), 0))","v":""}]
[{"$f":"INDEX('Calificación Privada'!B:B,ROW())","v":"Social"},{"$f":"INDEX('Calificación Privada'!C:C,ROW())","v":"Redes de cooperación intercomunitaria"},{"$f":"IF(OR(INDEX('Calificación Privada'!L:L,ROW())=\"Sin información\", INDEX('Calificación Privada'!L:L,ROW())=\"Seleccione…\"), \"\", MATCH(INDEX('Calificación Privada'!L:L,ROW()), INDEX('Calificación Privada'!$H:$K,ROW(),0), 0))","v":""},{"$f":"IF(OR(INDEX('Calificación Privada'!M:M,ROW())=\"Sin información\", INDEX('Calificación Privada'!M:M,ROW())=\"Seleccione…\"), \"\", MATCH(INDEX('Calificación Privada'!M:M,ROW()), INDEX('Calificación Privada'!$H:$K,ROW(),0), 0))","v":""},{"$f":"IF(OR(INDEX('Calificación Privada'!N:N,ROW())=\"Sin información\", INDEX('Calificación Privada'!N:N,ROW())=\"Seleccione…\"), \"\", MATCH(INDEX('Calificación Privada'!N:N,ROW()), INDEX('Calificación Privada'!$H:$K,ROW(),0), 0))","v":""},{"$f":"IF(OR(INDEX('Calificación Privada'!O:O,ROW())=\"Sin información\", INDEX('Calificación Privada'!O:O,ROW())=\"Seleccione…\"), \"\", MATCH(INDEX('Calificación Privada'!O:O,ROW()), INDEX('Calificación Privada'!$H:$K,ROW(),0), 0))","v":""},{"$f":"IF(OR(INDEX('Calificación Privada'!P:P,ROW())=\"Sin información\", INDEX('Calificación Privada'!P:P,ROW())=\"Seleccione…\"), \"\", MATCH(INDEX('Calificación Privada'!P:P,ROW()), INDEX('Calificación Privada'!$H:$K,ROW(),0), 0))","v":""},{"$f":"IF(OR(INDEX('Calificación Privada'!Q:Q,ROW())=\"Sin información\", INDEX('Calificación Privada'!Q:Q,ROW())=\"Seleccione…\"), \"\", MATCH(INDEX('Calificación Privada'!Q:Q,ROW()), INDEX('Calificación Privada'!$H:$K,ROW(),0), 0))","v":""},{"$f":"IF(OR(INDEX('Calificación Privada'!R:R,ROW())=\"Sin información\", INDEX('Calificación Privada'!R:R,ROW())=\"Seleccione…\"), \"\", MATCH(INDEX('Calificación Privada'!R:R,ROW()), INDEX('Calificación Privada'!$H:$K,ROW(),0), 0))","v":""},{"$f":"IF(OR(INDEX('Calificación Privada'!S:S,ROW())=\"Sin información\", INDEX('Calificación Privada'!S:S,ROW())=\"Seleccione…\"), \"\", MATCH(INDEX('Calificación Privada'!S:S,ROW()), INDEX('Calificación Privada'!$H:$K,ROW(),0), 0))","v":""},{"$f":"IF(OR(INDEX('Calificación Privada'!T:T,ROW())=\"Sin información\", INDEX('Calificación Privada'!T:T,ROW())=\"Seleccione…\"), \"\", MATCH(INDEX('Calificación Privada'!T:T,ROW()), INDEX('Calificación Privada'!$H:$K,ROW(),0), 0))","v":""},{"$f":"IF(OR(INDEX('Calificación Privada'!U:U,ROW())=\"Sin información\", INDEX('Calificación Privada'!U:U,ROW())=\"Seleccione…\"), \"\", MATCH(INDEX('Calificación Privada'!U:U,ROW()), INDEX('Calificación Privada'!$H:$K,ROW(),0), 0))","v":""}]
[{"$f":"INDEX('Calificación Privada'!B:B,ROW())","v":"Social"},{"$f":"INDEX('Calificación Privada'!C:C,ROW())","v":"Transparencia de los datos"},{"$f":"IF(OR(INDEX('Calificación Privada'!L:L,ROW())=\"Sin información\", INDEX('Calificación Privada'!L:L,ROW())=\"Seleccione…\"), \"\", MATCH(INDEX('Calificación Privada'!L:L,ROW()), INDEX('Calificación Privada'!$H:$K,ROW(),0), 0))","v":""},{"$f":"IF(OR(INDEX('Calificación Privada'!M:M,ROW())=\"Sin información\", INDEX('Calificación Privada'!M:M,ROW())=\"Seleccione…\"), \"\", MATCH(INDEX('Calificación Privada'!M:M,ROW()), INDEX('Calificación Privada'!$H:$K,ROW(),0), 0))","v":""},{"$f":"IF(OR(INDEX('Calificación Privada'!N:N,ROW())=\"Sin información\", INDEX('Calificación Privada'!N:N,ROW())=\"Seleccione…\"), \"\", MATCH(INDEX('Calificación Privada'!N:N,ROW()), INDEX('Calificación Privada'!$H:$K,ROW(),0), 0))","v":""},{"$f":"IF(OR(INDEX('Calificación Privada'!O:O,ROW())=\"Sin información\", INDEX('Calificación Privada'!O:O,ROW())=\"Seleccione…\"), \"\", MATCH(INDEX('Calificación Privada'!O:O,ROW()), INDEX('Calificación Privada'!$H:$K,ROW(),0), 0))","v":""},{"$f":"IF(OR(INDEX('Calificación Privada'!P:P,ROW())=\"Sin información\", INDEX('Calificación Privada'!P:P,ROW())=\"Seleccione…\"), \"\", MATCH(INDEX('Calificación Privada'!P:P,ROW()), INDEX('Calificación Privada'!$H:$K,ROW(),0), 0))","v":""},{"$f":"IF(OR(INDEX('Calificación Privada'!Q:Q,ROW())=\"Sin información\", INDEX('Calificación Privada'!Q:Q,ROW())=\"Seleccione…\"), \"\", MATCH(INDEX('Calificación Privada'!Q:Q,ROW()), INDEX('Calificación Privada'!$H:$K,ROW(),0), 0))","v":""},{"$f":"IF(OR(INDEX('Calificación Privada'!R:R,ROW())=\"Sin información\", INDEX('Calificación Privada'!R:R,ROW())=\"Seleccione…\"), \"\", MATCH(INDEX('Calificación Privada'!R:R,ROW()), INDEX('Calificación Privada'!$H:$K,ROW(),0), 0))","v":""},{"$f":"IF(OR(INDEX('Calificación Privada'!S:S,ROW())=\"Sin información\", INDEX('Calificación Privada'!S:S,ROW())=\"Seleccione…\"), \"\", MATCH(INDEX('Calificación Privada'!S:S,ROW()), INDEX('Calificación Privada'!$H:$K,ROW(),0), 0))","v":""},{"$f":"IF(OR(INDEX('Calificación Privada'!T:T,ROW())=\"Sin información\", INDEX('Calificación Privada'!T:T,ROW())=\"Seleccione…\"), \"\", MATCH(INDEX('Calificación Privada'!T:T,ROW()), INDEX('Calificación Privada'!$H:$K,ROW(),0), 0))","v":""},{"$f":"IF(OR(INDEX('Calificación Privada'!U:U,ROW())=\"Sin información\", INDEX('Calificación Privada'!U:U,ROW())=\"Seleccione…\"), \"\", MATCH(INDEX('Calificación Privada'!U:U,ROW()), INDEX('Calificación Privada'!$H:$K,ROW(),0), 0))","v":""}]
[{"$f":"INDEX('Calificación Privada'!B:B,ROW())","v":"Social"},{"$f":"INDEX('Calificación Privada'!C:C,ROW())","v":"¿Cómo es la relación entre los miembros de la comunidad y las instituciones públicas y privadas pertinentes?"},{"$f":"IF(OR(INDEX('Calificación Privada'!L:L,ROW())=\"Sin información\", INDEX('Calificación Privada'!L:L,ROW())=\"Seleccione…\"), \"\", MATCH(INDEX('Calificación Privada'!L:L,ROW()), INDEX('Calificación Privada'!$H:$K,ROW(),0), 0))","v":""},{"$f":"IF(OR(INDEX('Calificación Privada'!M:M,ROW())=\"Sin información\", INDEX('Calificación Privada'!M:M,ROW())=\"Seleccione…\"), \"\", MATCH(INDEX('Calificación Privada'!M:M,ROW()), INDEX('Calificación Privada'!$H:$K,ROW(),0), 0))","v":""},{"$f":"IF(OR(INDEX('Calificación Privada'!N:N,ROW())=\"Sin información\", INDEX('Calificación Privada'!N:N,ROW())=\"Seleccione…\"), \"\", MATCH(INDEX('Calificación Privada'!N:N,ROW()), INDEX('Calificación Privada'!$H:$K,ROW(),0), 0))","v":""},{"$f":"IF(OR(INDEX('Calificación Privada'!O:O,ROW())=\"Sin información\", INDEX('Calificación Privada'!O:O,ROW())=\"Seleccione…\"), \"\", MATCH(INDEX('Calificación Privada'!O:O,ROW()), INDEX('Calificación Privada'!$H:$K,ROW(),0), 0))","v":""},{"$f":"IF(OR(INDEX('Calificación Privada'!P:P,ROW())=\"Sin información\", INDEX('Calificación Privada'!P:P,ROW())=\"Seleccione…\"), \"\", MATCH(INDEX('Calificación Privada'!P:P,ROW()), INDEX('Calificación Privada'!$H:$K,ROW(),0), 0))","v":""},{"$f":"IF(OR(INDEX('Calificación Privada'!Q:Q,ROW())=\"Sin información\", INDEX('Calificación Privada'!Q:Q,ROW())=\"Seleccione…\"), \"\", MATCH(INDEX('Calificación Privada'!Q:Q,ROW()), INDEX('Calificación Privada'!$H:$K,ROW(),0), 0))","v":""},{"$f":"IF(OR(INDEX('Calificación Privada'!R:R,ROW())=\"Sin información\", INDEX('Calificación Privada'!R:R,ROW())=\"Seleccione…\"), \"\", MATCH(INDEX('Calificación Privada'!R:R,ROW()), INDEX('Calificación Privada'!$H:$K,ROW(),0), 0))","v":""},{"$f":"IF(OR(INDEX('Calificación Privada'!S:S,ROW())=\"Sin información\", INDEX('Calificación Privada'!S:S,ROW())=\"Seleccione…\"), \"\", MATCH(INDEX('Calificación Privada'!S:S,ROW()), INDEX('Calificación Privada'!$H:$K,ROW(),0), 0))","v":""},{"$f":"IF(OR(INDEX('Calificación Privada'!T:T,ROW())=\"Sin información\", INDEX('Calificación Privada'!T:T,ROW())=\"Seleccione…\"), \"\", MATCH(INDEX('Calificación Privada'!T:T,ROW()), INDEX('Calificación Privada'!$H:$K,ROW(),0), 0))","v":""},{"$f":"IF(OR(INDEX('Calificación Privada'!U:U,ROW())=\"Sin información\", INDEX('Calificación Privada'!U:U,ROW())=\"Seleccione…\"), \"\", MATCH(INDEX('Calificación Privada'!U:U,ROW()), INDEX('Calificación Privada'!$H:$K,ROW(),0), 0))","v":""}]
[{"$f":"INDEX('Calificación Privada'!B:B,ROW())","v":"Social"},{"$f":"INDEX('Calificación Privada'!C:C,ROW())","v":"¿Están dispuestos los miembros de la comunidad a invertir tiempo en actividades comunitarias de voluntariado?"},{"$f":"IF(OR(INDEX('Calificación Privada'!L:L,ROW())=\"Sin información\", INDEX('Calificación Privada'!L:L,ROW())=\"Seleccione…\"), \"\", MATCH(INDEX('Calificación Privada'!L:L,ROW()), INDEX('Calificación Privada'!$H:$K,ROW(),0), 0))","v":""},{"$f":"IF(OR(INDEX('Calificación Privada'!M:M,ROW())=\"Sin información\", INDEX('Calificación Privada'!M:M,ROW())=\"Seleccione…\"), \"\", MATCH(INDEX('Calificación Privada'!M:M,ROW()), INDEX('Calificación Privada'!$H:$K,ROW(),0), 0))","v":""},{"$f":"IF(OR(INDEX('Calificación Privada'!N:N,ROW())=\"Sin información\", INDEX('Calificación Privada'!N:N,ROW())=\"Seleccione…\"), \"\", MATCH(INDEX('Calificación Privada'!N:N,ROW()), INDEX('Calificación Privada'!$H:$K,ROW(),0), 0))","v":""},{"$f":"IF(OR(INDEX('Calificación Privada'!O:O,ROW())=\"Sin información\", INDEX('Calificación Privada'!O:O,ROW())=\"Seleccione…\"), \"\", MATCH(INDEX('Calificación Privada'!O:O,ROW()), INDEX('Calificación Privada'!$H:$K,ROW(),0), 0))","v":""},{"$f":"IF(OR(INDEX('Calificación Privada'!P:P,ROW())=\"Sin información\", INDEX('Calificación Privada'!P:P,ROW())=\"Seleccione…\"), \"\", MATCH(INDEX('Calificación Privada'!P:P,ROW()), INDEX('Calificación Privada'!$H:$K,ROW(),0), 0))","v":""},{"$f":"IF(OR(INDEX('Calificación Privada'!Q:Q,ROW())=\"Sin información\", INDEX('Calificación Privada'!Q:Q,ROW())=\"Seleccione…\"), \"\", MATCH(INDEX('Calificación Privada'!Q:Q,ROW()), INDEX('Calificación Privada'!$H:$K,ROW(),0), 0))","v":""},{"$f":"IF(OR(INDEX('Calificación Privada'!R:R,ROW())=\"Sin información\", INDEX('Calificación Privada'!R:R,ROW())=\"Seleccione…\"), \"\", MATCH(INDEX('Calificación Privada'!R:R,ROW()), INDEX('Calificación Privada'!$H:$K,ROW(),0), 0))","v":""},{"$f":"IF(OR(INDEX('Calificación Privada'!S:S,ROW())=\"Sin información\", INDEX('Calificación Privada'!S:S,ROW())=\"Seleccione…\"), \"\", MATCH(INDEX('Calificación Privada'!S:S,ROW()), INDEX('Calificación Privada'!$H:$K,ROW(),0), 0))","v":""},{"$f":"IF(OR(INDEX('Calificación Privada'!T:T,ROW())=\"Sin información\", INDEX('Calificación Privada'!T:T,ROW())=\"Seleccione…\"), \"\", MATCH(INDEX('Calificación Privada'!T:T,ROW()), INDEX('Calificación Privada'!$H:$K,ROW(),0), 0))","v":""},{"$f":"IF(OR(INDEX('Calificación Privada'!U:U,ROW())=\"Sin información\", INDEX('Calificación Privada'!U:U,ROW())=\"Seleccione…\"), \"\", MATCH(INDEX('Calificación Privada'!U:U,ROW()), INDEX('Calificación Privada'!$H:$K,ROW(),0), 0))","v":""}]
[{"$f":"INDEX('Calificación Privada'!B:B,ROW())","v":"Social"},{"$f":"INDEX('Calificación Privada'!C:C,ROW())","v":"¿Los techos o superficies de tierra potencialmente viables son propiedad de los miembros de la comunidad?"},{"$f":"IF(OR(INDEX('Calificación Privada'!L:L,ROW())=\"Sin información\", INDEX('Calificación Privada'!L:L,ROW())=\"Seleccione…\"), \"\", MATCH(INDEX('Calificación Privada'!L:L,ROW()), INDEX('Calificación Privada'!$H:$K,ROW(),0), 0))","v":""},{"$f":"IF(OR(INDEX('Calificación Privada'!M:M,ROW())=\"Sin información\", INDEX('Calificación Privada'!M:M,ROW())=\"Seleccione…\"), \"\", MATCH(INDEX('Calificación Privada'!M:M,ROW()), INDEX('Calificación Privada'!$H:$K,ROW(),0), 0))","v":""},{"$f":"IF(OR(INDEX('Calificación Privada'!N:N,ROW())=\"Sin información\", INDEX('Calificación Privada'!N:N,ROW())=\"Seleccione…\"), \"\", MATCH(INDEX('Calificación Privada'!N:N,ROW()), INDEX('Calificación Privada'!$H:$K,ROW(),0), 0))","v":""},{"$f":"IF(OR(INDEX('Calificación Privada'!O:O,ROW())=\"Sin información\", INDEX('Calificación Privada'!O:O,ROW())=\"Seleccione…\"), \"\", MATCH(INDEX('Calificación Privada'!O:O,ROW()), INDEX('Calificación Privada'!$H:$K,ROW(),0), 0))","v":""},{"$f":"IF(OR(INDEX('Calificación Privada'!P:P,ROW())=\"Sin información\", INDEX('Calificación Privada'!P:P,ROW())=\"Seleccione…\"), \"\", MATCH(INDEX('Calificación Privada'!P:P,ROW()), INDEX('Calificación Privada'!$H:$K,ROW(),0), 0))","v":""},{"$f":"IF(OR(INDEX('Calificación Privada'!Q:Q,ROW())=\"Sin información\", INDEX('Calificación Privada'!Q:Q,ROW())=\"Seleccione…\"), \"\", MATCH(INDEX('Calificación Privada'!Q:Q,ROW()), INDEX('Calificación Privada'!$H:$K,ROW(),0), 0))","v":""},{"$f":"IF(OR(INDEX('Calificación Privada'!R:R,ROW())=\"Sin información\", INDEX('Calificación Privada'!R:R,ROW())=\"Seleccione…\"), \"\", MATCH(INDEX('Calificación Privada'!R:R,ROW()), INDEX('Calificación Privada'!$H:$K,ROW(),0), 0))","v":""},{"$f":"IF(OR(INDEX('Calificación Privada'!S:S,ROW())=\"Sin información\", INDEX('Calificación Privada'!S:S,ROW())=\"Seleccione…\"), \"\", MATCH(INDEX('Calificación Privada'!S:S,ROW()), INDEX('Calificación Privada'!$H:$K,ROW(),0), 0))","v":""},{"$f":"IF(OR(INDEX('Calificación Privada'!T:T,ROW())=\"Sin información\", INDEX('Calificación Privada'!T:T,ROW())=\"Seleccione…\"), \"\", MATCH(INDEX('Calificación Privada'!T:T,ROW()), INDEX('Calificación Privada'!$H:$K,ROW(),0), 0))","v":""},{"$f":"IF(OR(INDEX('Calificación Privada'!U:U,ROW())=\"Sin información\", INDEX('Calificación Privada'!U:U,ROW())=\"Seleccione…\"), \"\", MATCH(INDEX('Calificación Privada'!U:U,ROW()), INDEX('Calificación Privada'!$H:$K,ROW(),0), 0))","v":""}]
[{"$f":"INDEX('Calificación Privada'!B:B,ROW())","v":"Social"},{"$f":"INDEX('Calificación Privada'!C:C,ROW())","v":"Aceptación del usuario"},{"$f":"IF(OR(INDEX('Calificación Privada'!L:L,ROW())=\"Sin información\", INDEX('Calificación Privada'!L:L,ROW())=\"Seleccione…\"), \"\", MATCH(INDEX('Calificación Privada'!L:L,ROW()), INDEX('Calificación Privada'!$H:$K,ROW(),0), 0))","v":""},{"$f":"IF(OR(INDEX('Calificación Privada'!M:M,ROW())=\"Sin información\", INDEX('Calificación Privada'!M:M,ROW())=\"Seleccione…\"), \"\", MATCH(INDEX('Calificación Privada'!M:M,ROW()), INDEX('Calificación Privada'!$H:$K,ROW(),0), 0))","v":""},{"$f":"IF(OR(INDEX('Calificación Privada'!N:N,ROW())=\"Sin información\", INDEX('Calificación Privada'!N:N,ROW())=\"Seleccione…\"), \"\", MATCH(INDEX('Calificación Privada'!N:N,ROW()), INDEX('Calificación Privada'!$H:$K,ROW(),0), 0))","v":""},{"$f":"IF(OR(INDEX('Calificación Privada'!O:O,ROW())=\"Sin información\", INDEX('Calificación Privada'!O:O,ROW())=\"Seleccione…\"), \"\", MATCH(INDEX('Calificación Privada'!O:O,ROW()), INDEX('Calificación Privada'!$H:$K,ROW(),0), 0))","v":""},{"$f":"IF(OR(INDEX('Calificación Privada'!P:P,ROW())=\"Sin información\", INDEX('Calificación Privada'!P:P,ROW())=\"Seleccione…\"), \"\", MATCH(INDEX('Calificación Privada'!P:P,ROW()), INDEX('Calificación Privada'!$H:$K,ROW(),0), 0))","v":""},{"$f":"IF(OR(INDEX('Calificación Privada'!Q:Q,ROW())=\"Sin información\", INDEX('Calificación Privada'!Q:Q,ROW())=\"Seleccione…\"), \"\", MATCH(INDEX('Calificación Privada'!Q:Q,ROW()), INDEX('Calificación Privada'!$H:$K,ROW(),0), 0))","v":""},{"$f":"IF(OR(INDEX('Calificación Privada'!R:R,ROW())=\"Sin información\", INDEX('Calificación Privada'!R:R,ROW())=\"Seleccione…\"), \"\", MATCH(INDEX('Calificación Privada'!R:R,ROW()), INDEX('Calificación Privada'!$H:$K,ROW(),0), 0))","v":""},{"$f":"IF(OR(INDEX('Calificación Privada'!S:S,ROW())=\"Sin información\", INDEX('Calificación Privada'!S:S,ROW())=\"Seleccione…\"), \"\", MATCH(INDEX('Calificación Privada'!S:S,ROW()), INDEX('Calificación Privada'!$H:$K,ROW(),0), 0))","v":""},{"$f":"IF(OR(INDEX('Calificación Privada'!T:T,ROW())=\"Sin información\", INDEX('Calificación Privada'!T:T,ROW())=\"Seleccione…\"), \"\", MATCH(INDEX('Calificación Privada'!T:T,ROW()), INDEX('Calificación Privada'!$H:$K,ROW(),0), 0))","v":""},{"$f":"IF(OR(INDEX('Calificación Privada'!U:U,ROW())=\"Sin información\", INDEX('Calificación Privada'!U:U,ROW())=\"Seleccione…\"), \"\", MATCH(INDEX('Calificación Privada'!U:U,ROW()), INDEX('Calificación Privada'!$H:$K,ROW(),0), 0))","v":""}]
[{"$f":"INDEX('Calificación Privada'!B:B,ROW())","v":"Social"},{"$f":"INDEX('Calificación Privada'!C:C,ROW())","v":"Impacto de las Iniciativas Energéticas en las Mujeres de la Comunidad"},{"$f":"IF(OR(INDEX('Calificación Privada'!L:L,ROW())=\"Sin información\", INDEX('Calificación Privada'!L:L,ROW())=\"Seleccione…\"), \"\", MATCH(INDEX('Calificación Privada'!L:L,ROW()), INDEX('Calificación Privada'!$H:$K,ROW(),0), 0))","v":""},{"$f":"IF(OR(INDEX('Calificación Privada'!M:M,ROW())=\"Sin información\", INDEX('Calificación Privada'!M:M,ROW())=\"Seleccione…\"), \"\", MATCH(INDEX('Calificación Privada'!M:M,ROW()), INDEX('Calificación Privada'!$H:$K,ROW(),0), 0))","v":""},{"$f":"IF(OR(INDEX('Calificación Privada'!N:N,ROW())=\"Sin información\", INDEX('Calificación Privada'!N:N,ROW())=\"Seleccione…\"), \"\", MATCH(INDEX('Calificación Privada'!N:N,ROW()), INDEX('Calificación Privada'!$H:$K,ROW(),0), 0))","v":""},{"$f":"IF(OR(INDEX('Calificación Privada'!O:O,ROW())=\"Sin información\", INDEX('Calificación Privada'!O:O,ROW())=\"Seleccione…\"), \"\", MATCH(INDEX('Calificación Privada'!O:O,ROW()), INDEX('Calificación Privada'!$H:$K,ROW(),0), 0))","v":""},{"$f":"IF(OR(INDEX('Calificación Privada'!P:P,ROW())=\"Sin información\", INDEX('Calificación Privada'!P:P,ROW())=\"Seleccione…\"), \"\", MATCH(INDEX('Calificación Privada'!P:P,ROW()), INDEX('Calificación Privada'!$H:$K,ROW(),0), 0))","v":""},{"$f":"IF(OR(INDEX('Calificación Privada'!Q:Q,ROW())=\"Sin información\", INDEX('Calificación Privada'!Q:Q,ROW())=\"Seleccione…\"), \"\", MATCH(INDEX('Calificación Privada'!Q:Q,ROW()), INDEX('Calificación Privada'!$H:$K,ROW(),0), 0))","v":""},{"$f":"IF(OR(INDEX('Calificación Privada'!R:R,ROW())=\"Sin información\", INDEX('Calificación Privada'!R:R,ROW())=\"Seleccione…\"), \"\", MATCH(INDEX('Calificación Privada'!R:R,ROW()), INDEX('Calificación Privada'!$H:$K,ROW(),0), 0))","v":""},{"$f":"IF(OR(INDEX('Calificación Privada'!S:S,ROW())=\"Sin información\", INDEX('Calificación Privada'!S:S,ROW())=\"Seleccione…\"), \"\", MATCH(INDEX('Calificación Privada'!S:S,ROW()), INDEX('Calificación Privada'!$H:$K,ROW(),0), 0))","v":""},{"$f":"IF(OR(INDEX('Calificación Privada'!T:T,ROW())=\"Sin información\", INDEX('Calificación Privada'!T:T,ROW())=\"Seleccione…\"), \"\", MATCH(INDEX('Calificación Privada'!T:T,ROW()), INDEX('Calificación Privada'!$H:$K,ROW(),0), 0))","v":""},{"$f":"IF(OR(INDEX('Calificación Privada'!U:U,ROW())=\"Sin información\", INDEX('Calificación Privada'!U:U,ROW())=\"Seleccione…\"), \"\", MATCH(INDEX('Calificación Privada'!U:U,ROW()), INDEX('Calificación Privada'!$H:$K,ROW(),0), 0))","v":""}]
[{"$f":"INDEX('Calificación Privada'!B:B,ROW())","v":"Social"},{"$f":"INDEX('Calificación Privada'!C:C,ROW())","v":"Cumplimiento de consultas previas"},{"$f":"IF(OR(INDEX('Calificación Privada'!L:L,ROW())=\"Sin información\", INDEX('Calificación Privada'!L:L,ROW())=\"Seleccione…\"), \"\", MATCH(INDEX('Calificación Privada'!L:L,ROW()), INDEX('Calificación Privada'!$H:$K,ROW(),0), 0))","v":""},{"$f":"IF(OR(INDEX('Calificación Privada'!M:M,ROW())=\"Sin información\", INDEX('Calificación Privada'!M:M,ROW())=\"Seleccione…\"), \"\", MATCH(INDEX('Calificación Privada'!M:M,ROW()), INDEX('Calificación Privada'!$H:$K,ROW(),0), 0))","v":""},{"$f":"IF(OR(INDEX('Calificación Privada'!N:N,ROW())=\"Sin información\", INDEX('Calificación Privada'!N:N,ROW())=\"Seleccione…\"), \"\", MATCH(INDEX('Calificación Privada'!N:N,ROW()), INDEX('Calificación Privada'!$H:$K,ROW(),0), 0))","v":""},{"$f":"IF(OR(INDEX('Calificación Privada'!O:O,ROW())=\"Sin información\", INDEX('Calificación Privada'!O:O,ROW())=\"Seleccione…\"), \"\", MATCH(INDEX('Calificación Privada'!O:O,ROW()), INDEX('Calificación Privada'!$H:$K,ROW(),0), 0))","v":""},{"$f":"IF(OR(INDEX('Calificación Privada'!P:P,ROW())=\"Sin información\", INDEX('Calificación Privada'!P:P,ROW())=\"Seleccione…\"), \"\", MATCH(INDEX('Calificación Privada'!P:P,ROW()), INDEX('Calificación Privada'!$H:$K,ROW(),0), 0))","v":""},{"$f":"IF(OR(INDEX('Calificación Privada'!Q:Q,ROW())=\"Sin información\", INDEX('Calificación Privada'!Q:Q,ROW())=\"Seleccione…\"), \"\", MATCH(INDEX('Calificación Privada'!Q:Q,ROW()), INDEX('Calificación Privada'!$H:$K,ROW(),0), 0))","v":""},{"$f":"IF(OR(INDEX('Calificación Privada'!R:R,ROW())=\"Sin información\", INDEX('Calificación Privada'!R:R,ROW())=\"Seleccione…\"), \"\", MATCH(INDEX('Calificación Privada'!R:R,ROW()), INDEX('Calificación Privada'!$H:$K,ROW(),0), 0))","v":""},{"$f":"IF(OR(INDEX('Calificación Privada'!S:S,ROW())=\"Sin información\", INDEX('Calificación Privada'!S:S,ROW())=\"Seleccione…\"), \"\", MATCH(INDEX('Calificación Privada'!S:S,ROW()), INDEX('Calificación Privada'!$H:$K,ROW(),0), 0))","v":""},{"$f":"IF(OR(INDEX('Calificación Privada'!T:T,ROW())=\"Sin información\", INDEX('Calificación Privada'!T:T,ROW())=\"Seleccione…\"), \"\", MATCH(INDEX('Calificación Privada'!T:T,ROW()), INDEX('Calificación Privada'!$H:$K,ROW(),0), 0))","v":""},{"$f":"IF(OR(INDEX('Calificación Privada'!U:U,ROW())=\"Sin información\", INDEX('Calificación Privada'!U:U,ROW())=\"Seleccione…\"), \"\", MATCH(INDEX('Calificación Privada'!U:U,ROW()), INDEX('Calificación Privada'!$H:$K,ROW(),0), 0))","v":""}]
[{"$f":"INDEX('Calificación Privada'!B:B,ROW())","v":"Social"},{"$f":"INDEX('Calificación Privada'!C:C,ROW())","v":"Capacitación en Energías Renovables con Enfoque de Género"},{"$f":"IF(OR(INDEX('Calificación Privada'!L:L,ROW())=\"Sin información\", INDEX('Calificación Privada'!L:L,ROW())=\"Seleccione…\"), \"\", MATCH(INDEX('Calificación Privada'!L:L,ROW()), INDEX('Calificación Privada'!$H:$K,ROW(),0), 0))","v":""},{"$f":"IF(OR(INDEX('Calificación Privada'!M:M,ROW())=\"Sin información\", INDEX('Calificación Privada'!M:M,ROW())=\"Seleccione…\"), \"\", MATCH(INDEX('Calificación Privada'!M:M,ROW()), INDEX('Calificación Privada'!$H:$K,ROW(),0), 0))","v":""},{"$f":"IF(OR(INDEX('Calificación Privada'!N:N,ROW())=\"Sin información\", INDEX('Calificación Privada'!N:N,ROW())=\"Seleccione…\"), \"\", MATCH(INDEX('Calificación Privada'!N:N,ROW()), INDEX('Calificación Privada'!$H:$K,ROW(),0), 0))","v":""},{"$f":"IF(OR(INDEX('Calificación Privada'!O:O,ROW())=\"Sin información\", INDEX('Calificación Privada'!O:O,ROW())=\"Seleccione…\"), \"\", MATCH(INDEX('Calificación Privada'!O:O,ROW()), INDEX('Calificación Privada'!$H:$K,ROW(),0), 0))","v":""},{"$f":"IF(OR(INDEX('Calificación Privada'!P:P,ROW())=\"Sin información\", INDEX('Calificación Privada'!P:P,ROW())=\"Seleccione…\"), \"\", MATCH(INDEX('Calificación Privada'!P:P,ROW()), INDEX('Calificación Privada'!$H:$K,ROW(),0), 0))","v":""},{"$f":"IF(OR(INDEX('Calificación Privada'!Q:Q,ROW())=\"Sin información\", INDEX('Calificación Privada'!Q:Q,ROW())=\"Seleccione…\"), \"\", MATCH(INDEX('Calificación Privada'!Q:Q,ROW()), INDEX('Calificación Privada'!$H:$K,ROW(),0), 0))","v":""},{"$f":"IF(OR(INDEX('Calificación Privada'!R:R,ROW())=\"Sin información\", INDEX('Calificación Privada'!R:R,ROW())=\"Seleccione…\"), \"\", MATCH(INDEX('Calificación Privada'!R:R,ROW()), INDEX('Calificación Privada'!$H:$K,ROW(),0), 0))","v":""},{"$f":"IF(OR(INDEX('Calificación Privada'!S:S,ROW())=\"Sin información\", INDEX('Calificación Privada'!S:S,ROW())=\"Seleccione…\"), \"\", MATCH(INDEX('Calificación Privada'!S:S,ROW()), INDEX('Calificación Privada'!$H:$K,ROW(),0), 0))","v":""},{"$f":"IF(OR(INDEX('Calificación Privada'!T:T,ROW())=\"Sin información\", INDEX('Calificación Privada'!T:T,ROW())=\"Seleccione…\"), \"\", MATCH(INDEX('Calificación Privada'!T:T,ROW()), INDEX('Calificación Privada'!$H:$K,ROW(),0), 0))","v":""},{"$f":"IF(OR(INDEX('Calificación Privada'!U:U,ROW())=\"Sin información\", INDEX('Calificación Privada'!U:U,ROW())=\"Seleccione…\"), \"\", MATCH(INDEX('Calificación Privada'!U:U,ROW()), INDEX('Calificación Privada'!$H:$K,ROW(),0), 0))","v":""}]
[{"$f":"INDEX('Calificación Privada'!B:B,ROW())","v":"Técnico"},{"$f":"INDEX('Calificación Privada'!C:C,ROW())","v":"¿Hay capacidad disponible en el circuito de distribución local para la capacidad de generación estimada?\n(límite del 50%)"},{"$f":"IF(OR(INDEX('Calificación Privada'!L:L,ROW())=\"Sin información\", INDEX('Calificación Privada'!L:L,ROW())=\"Seleccione…\"), \"\", MATCH(INDEX('Calificación Privada'!L:L,ROW()), INDEX('Calificación Privada'!$H:$K,ROW(),0), 0))","v":""},{"$f":"IF(OR(INDEX('Calificación Privada'!M:M,ROW())=\"Sin información\", INDEX('Calificación Privada'!M:M,ROW())=\"Seleccione…\"), \"\", MATCH(INDEX('Calificación Privada'!M:M,ROW()), INDEX('Calificación Privada'!$H:$K,ROW(),0), 0))","v":""},{"$f":"IF(OR(INDEX('Calificación Privada'!N:N,ROW())=\"Sin información\", INDEX('Calificación Privada'!N:N,ROW())=\"Seleccione…\"), \"\", MATCH(INDEX('Calificación Privada'!N:N,ROW()), INDEX('Calificación Privada'!$H:$K,ROW(),0), 0))","v":""},{"$f":"IF(OR(INDEX('Calificación Privada'!O:O,ROW())=\"Sin información\", INDEX('Calificación Privada'!O:O,ROW())=\"Seleccione…\"), \"\", MATCH(INDEX('Calificación Privada'!O:O,ROW()), INDEX('Calificación Privada'!$H:$K,ROW(),0), 0))","v":""},{"$f":"IF(OR(INDEX('Calificación Privada'!P:P,ROW())=\"Sin información\", INDEX('Calificación Privada'!P:P,ROW())=\"Seleccione…\"), \"\", MATCH(INDEX('Calificación Privada'!P:P,ROW()), INDEX('Calificación Privada'!$H:$K,ROW(),0), 0))","v":""},{"$f":"IF(OR(INDEX('Calificación Privada'!Q:Q,ROW())=\"Sin información\", INDEX('Calificación Privada'!Q:Q,ROW())=\"Seleccione…\"), \"\", MATCH(INDEX('Calificación Privada'!Q:Q,ROW()), INDEX('Calificación Privada'!$H:$K,ROW(),0), 0))","v":""},{"$f":"IF(OR(INDEX('Calificación Privada'!R:R,ROW())=\"Sin información\", INDEX('Calificación Privada'!R:R,ROW())=\"Seleccione…\"), \"\", MATCH(INDEX('Calificación Privada'!R:R,ROW()), INDEX('Calificación Privada'!$H:$K,ROW(),0), 0))","v":""},{"$f":"IF(OR(INDEX('Calificación Privada'!S:S,ROW())=\"Sin información\", INDEX('Calificación Privada'!S:S,ROW())=\"Seleccione…\"), \"\", MATCH(INDEX('Calificación Privada'!S:S,ROW()), INDEX('Calificación Privada'!$H:$K,ROW(),0), 0))","v":""},{"$f":"IF(OR(INDEX('Calificación Privada'!T:T,ROW())=\"Sin información\", INDEX('Calificación Privada'!T:T,ROW())=\"Seleccione…\"), \"\", MATCH(INDEX('Calificación Privada'!T:T,ROW()), INDEX('Calificación Privada'!$H:$K,ROW(),0), 0))","v":""},{"$f":"IF(OR(INDEX('Calificación Privada'!U:U,ROW())=\"Sin información\", INDEX('Calificación Privada'!U:U,ROW())=\"Seleccione…\"), \"\", MATCH(INDEX('Calificación Privada'!U:U,ROW()), INDEX('Calificación Privada'!$H:$K,ROW(),0), 0))","v":""}]
[{"$f":"INDEX('Calificación Privada'!B:B,ROW())","v":"Técnico"},{"$f":"INDEX('Calificación Privada'!C:C,ROW())","v":"¿Se trata de una comunidad ya postulada y focalizada?"},{"$f":"IF(OR(INDEX('Calificación Privada'!L:L,ROW())=\"Sin información\", INDEX('Calificación Privada'!L:L,ROW())=\"Seleccione…\"), \"\", MATCH(INDEX('Calificación Privada'!L:L,ROW()), INDEX('Calificación Privada'!$H:$K,ROW(),0), 0))","v":""},{"$f":"IF(OR(INDEX('Calificación Privada'!M:M,ROW())=\"Sin información\", INDEX('Calificación Privada'!M:M,ROW())=\"Seleccione…\"), \"\", MATCH(INDEX('Calificación Privada'!M:M,ROW()), INDEX('Calificación Privada'!$H:$K,ROW(),0), 0))","v":""},{"$f":"IF(OR(INDEX('Calificación Privada'!N:N,ROW())=\"Sin información\", INDEX('Calificación Privada'!N:N,ROW())=\"Seleccione…\"), \"\", MATCH(INDEX('Calificación Privada'!N:N,ROW()), INDEX('Calificación Privada'!$H:$K,ROW(),0), 0))","v":""},{"$f":"IF(OR(INDEX('Calificación Privada'!O:O,ROW())=\"Sin información\", INDEX('Calificación Privada'!O:O,ROW())=\"Seleccione…\"), \"\", MATCH(INDEX('Calificación Privada'!O:O,ROW()), INDEX('Calificación Privada'!$H:$K,ROW(),0), 0))","v":""},{"$f":"IF(OR(INDEX('Calificación Privada'!P:P,ROW())=\"Sin información\", INDEX('Calificación Privada'!P:P,ROW())=\"Seleccione…\"), \"\", MATCH(INDEX('Calificación Privada'!P:P,ROW()), INDEX('Calificación Privada'!$H:$K,ROW(),0), 0))","v":""},{"$f":"IF(OR(INDEX('Calificación Privada'!Q:Q,ROW())=\"Sin información\", INDEX('Calificación Privada'!Q:Q,ROW())=\"Seleccione…\"), \"\", MATCH(INDEX('Calificación Privada'!Q:Q,ROW()), INDEX('Calificación Privada'!$H:$K,ROW(),0), 0))","v":""},{"$f":"IF(OR(INDEX('Calificación Privada'!R:R,ROW())=\"Sin información\", INDEX('Calificación Privada'!R:R,ROW())=\"Seleccione…\"), \"\", MATCH(INDEX('Calificación Privada'!R:R,ROW()), INDEX('Calificación Privada'!$H:$K,ROW(),0), 0))","v":""},{"$f":"IF(OR(INDEX('Calificación Privada'!S:S,ROW())=\"Sin información\", INDEX('Calificación Privada'!S:S,ROW())=\"Seleccione…\"), \"\", MATCH(INDEX('Calificación Privada'!S:S,ROW()), INDEX('Calificación Privada'!$H:$K,ROW(),0), 0))","v":""},{"$f":"IF(OR(INDEX('Calificación Privada'!T:T,ROW())=\"Sin información\", INDEX('Calificación Privada'!T:T,ROW())=\"Seleccione…\"), \"\", MATCH(INDEX('Calificación Privada'!T:T,ROW()), INDEX('Calificación Privada'!$H:$K,ROW(),0), 0))","v":""},{"$f":"IF(OR(INDEX('Calificación Privada'!U:U,ROW())=\"Sin información\", INDEX('Calificación Privada'!U:U,ROW())=\"Seleccione…\"), \"\", MATCH(INDEX('Calificación Privada'!U:U,ROW()), INDEX('Calificación Privada'!$H:$K,ROW(),0), 0))","v":""}]
[{"$f":"INDEX('Calificación Privada'!B:B,ROW())","v":"Técnico"},{"$f":"INDEX('Calificación Privada'!C:C,ROW())","v":"Ahorro de energía de la red"},{"$f":"IF(OR(INDEX('Calificación Privada'!L:L,ROW())=\"Sin información\", INDEX('Calificación Privada'!L:L,ROW())=\"Seleccione…\"), \"\", MATCH(INDEX('Calificación Privada'!L:L,ROW()), INDEX('Calificación Privada'!$H:$K,ROW(),0), 0))","v":""},{"$f":"IF(OR(INDEX('Calificación Privada'!M:M,ROW())=\"Sin información\", INDEX('Calificación Privada'!M:M,ROW())=\"Seleccione…\"), \"\", MATCH(INDEX('Calificación Privada'!M:M,ROW()), INDEX('Calificación Privada'!$H:$K,ROW(),0), 0))","v":""},{"$f":"IF(OR(INDEX('Calificación Privada'!N:N,ROW())=\"Sin información\", INDEX('Calificación Privada'!N:N,ROW())=\"Seleccione…\"), \"\", MATCH(INDEX('Calificación Privada'!N:N,ROW()), INDEX('Calificación Privada'!$H:$K,ROW(),0), 0))","v":""},{"$f":"IF(OR(INDEX('Calificación Privada'!O:O,ROW())=\"Sin información\", INDEX('Calificación Privada'!O:O,ROW())=\"Seleccione…\"), \"\", MATCH(INDEX('Calificación Privada'!O:O,ROW()), INDEX('Calificación Privada'!$H:$K,ROW(),0), 0))","v":""},{"$f":"IF(OR(INDEX('Calificación Privada'!P:P,ROW())=\"Sin información\", INDEX('Calificación Privada'!P:P,ROW())=\"Seleccione…\"), \"\", MATCH(INDEX('Calificación Privada'!P:P,ROW()), INDEX('Calificación Privada'!$H:$K,ROW(),0), 0))","v":""},{"$f":"IF(OR(INDEX('Calificación Privada'!Q:Q,ROW())=\"Sin información\", INDEX('Calificación Privada'!Q:Q,ROW())=\"Seleccione…\"), \"\", MATCH(INDEX('Calificación Privada'!Q:Q,ROW()), INDEX('Calificación Privada'!$H:$K,ROW(),0), 0))","v":""},{"$f":"IF(OR(INDEX('Calificación Privada'!R:R,ROW())=\"Sin información\", INDEX('Calificación Privada'!R:R,ROW())=\"Seleccione…\"), \"\", MATCH(INDEX('Calificación Privada'!R:R,ROW()), INDEX('Calificación Privada'!$H:$K,ROW(),0), 0))","v":""},{"$f":"IF(OR(INDEX('Calificación Privada'!S:S,ROW())=\"Sin información\", INDEX('Calificación Privada'!S:S,ROW())=\"Seleccione…\"), \"\", MATCH(INDEX('Calificación Privada'!S:S,ROW()), INDEX('Calificación Privada'!$H:$K,ROW(),0), 0))","v":""},{"$f":"IF(OR(INDEX('Calificación Privada'!T:T,ROW())=\"Sin información\", INDEX('Calificación Privada'!T:T,ROW())=\"Seleccione…\"), \"\", MATCH(INDEX('Calificación Privada'!T:T,ROW()), INDEX('Calificación Privada'!$H:$K,ROW(),0), 0))","v":""},{"$f":"IF(OR(INDEX('Calificación Privada'!U:U,ROW())=\"Sin información\", INDEX('Calificación Privada'!U:U,ROW())=\"Seleccione…\"), \"\", MATCH(INDEX('Calificación Privada'!U:U,ROW()), INDEX('Calificación Privada'!$H:$K,ROW(),0), 0))","v":""}]
[{"$f":"INDEX('Calificación Privada'!B:B,ROW())","v":"Técnico"},{"$f":"INDEX('Calificación Privada'!C:C,ROW())","v":"Capacidad técnica local (no siempre es esencial, ya que la capacitación puede ser parte del proyecto.)"},{"$f":"IF(OR(INDEX('Calificación Privada'!L:L,ROW())=\"Sin información\", INDEX('Calificación Privada'!L:L,ROW())=\"Seleccione…\"), \"\", MATCH(INDEX('Calificación Privada'!L:L,ROW()), INDEX('Calificación Privada'!$H:$K,ROW(),0), 0))","v":""},{"$f":"IF(OR(INDEX('Calificación Privada'!M:M,ROW())=\"Sin información\", INDEX('Calificación Privada'!M:M,ROW())=\"Seleccione…\"), \"\", MATCH(INDEX('Calificación Privada'!M:M,ROW()), INDEX('Calificación Privada'!$H:$K,ROW(),0), 0))","v":""},{"$f":"IF(OR(INDEX('Calificación Privada'!N:N,ROW())=\"Sin información\", INDEX('Calificación Privada'!N:N,ROW())=\"Seleccione…\"), \"\", MATCH(INDEX('Calificación Privada'!N:N,ROW()), INDEX('Calificación Privada'!$H:$K,ROW(),0), 0))","v":""},{"$f":"IF(OR(INDEX('Calificación Privada'!O:O,ROW())=\"Sin información\", INDEX('Calificación Privada'!O:O,ROW())=\"Seleccione…\"), \"\", MATCH(INDEX('Calificación Privada'!O:O,ROW()), INDEX('Calificación Privada'!$H:$K,ROW(),0), 0))","v":""},{"$f":"IF(OR(INDEX('Calificación Privada'!P:P,ROW())=\"Sin información\", INDEX('Calificación Privada'!P:P,ROW())=\"Seleccione…\"), \"\", MATCH(INDEX('Calificación Privada'!P:P,ROW()), INDEX('Calificación Privada'!$H:$K,ROW(),0), 0))","v":""},{"$f":"IF(OR(INDEX('Calificación Privada'!Q:Q,ROW())=\"Sin información\", INDEX('Calificación Privada'!Q:Q,ROW())=\"Seleccione…\"), \"\", MATCH(INDEX('Calificación Privada'!Q:Q,ROW()), INDEX('Calificación Privada'!$H:$K,ROW(),0), 0))","v":""},{"$f":"IF(OR(INDEX('Calificación Privada'!R:R,ROW())=\"Sin información\", INDEX('Calificación Privada'!R:R,ROW())=\"Seleccione…\"), \"\", MATCH(INDEX('Calificación Privada'!R:R,ROW()), INDEX('Calificación Privada'!$H:$K,ROW(),0), 0))","v":""},{"$f":"IF(OR(INDEX('Calificación Privada'!S:S,ROW())=\"Sin información\", INDEX('Calificación Privada'!S:S,ROW())=\"Seleccione…\"), \"\", MATCH(INDEX('Calificación Privada'!S:S,ROW()), INDEX('Calificación Privada'!$H:$K,ROW(),0), 0))","v":""},{"$f":"IF(OR(INDEX('Calificación Privada'!T:T,ROW())=\"Sin información\", INDEX('Calificación Privada'!T:T,ROW())=\"Seleccione…\"), \"\", MATCH(INDEX('Calificación Privada'!T:T,ROW()), INDEX('Calificación Privada'!$H:$K,ROW(),0), 0))","v":""},{"$f":"IF(OR(INDEX('Calificación Privada'!U:U,ROW())=\"Sin información\", INDEX('Calificación Privada'!U:U,ROW())=\"Seleccione…\"), \"\", MATCH(INDEX('Calificación Privada'!U:U,ROW()), INDEX('Calificación Privada'!$H:$K,ROW(),0), 0))","v":""}]
[{"$f":"INDEX('Calificación Privada'!B:B,ROW())","v":"Técnico"},{"$f":"INDEX('Calificación Privada'!C:C,ROW())","v":"Grado de avance del sistema energético que se proyecta implementar"},{"$f":"IF(OR(INDEX('Calificación Privada'!L:L,ROW())=\"Sin información\", INDEX('Calificación Privada'!L:L,ROW())=\"Seleccione…\"), \"\", MATCH(INDEX('Calificación Privada'!L:L,ROW()), INDEX('Calificación Privada'!$H:$K,ROW(),0), 0))","v":""},{"$f":"IF(OR(INDEX('Calificación Privada'!M:M,ROW())=\"Sin información\", INDEX('Calificación Privada'!M:M,ROW())=\"Seleccione…\"), \"\", MATCH(INDEX('Calificación Privada'!M:M,ROW()), INDEX('Calificación Privada'!$H:$K,ROW(),0), 0))","v":""},{"$f":"IF(OR(INDEX('Calificación Privada'!N:N,ROW())=\"Sin información\", INDEX('Calificación Privada'!N:N,ROW())=\"Seleccione…\"), \"\", MATCH(INDEX('Calificación Privada'!N:N,ROW()), INDEX('Calificación Privada'!$H:$K,ROW(),0), 0))","v":""},{"$f":"IF(OR(INDEX('Calificación Privada'!O:O,ROW())=\"Sin información\", INDEX('Calificación Privada'!O:O,ROW())=\"Seleccione…\"), \"\", MATCH(INDEX('Calificación Privada'!O:O,ROW()), INDEX('Calificación Privada'!$H:$K,ROW(),0), 0))","v":""},{"$f":"IF(OR(INDEX('Calificación Privada'!P:P,ROW())=\"Sin información\", INDEX('Calificación Privada'!P:P,ROW())=\"Seleccione…\"), \"\", MATCH(INDEX('Calificación Privada'!P:P,ROW()), INDEX('Calificación Privada'!$H:$K,ROW(),0), 0))","v":""},{"$f":"IF(OR(INDEX('Calificación Privada'!Q:Q,ROW())=\"Sin información\", INDEX('Calificación Privada'!Q:Q,ROW())=\"Seleccione…\"), \"\", MATCH(INDEX('Calificación Privada'!Q:Q,ROW()), INDEX('Calificación Privada'!$H:$K,ROW(),0), 0))","v":""},{"$f":"IF(OR(INDEX('Calificación Privada'!R:R,ROW())=\"Sin información\", INDEX('Calificación Privada'!R:R,ROW())=\"Seleccione…\"), \"\", MATCH(INDEX('Calificación Privada'!R:R,ROW()), INDEX('Calificación Privada'!$H:$K,ROW(),0), 0))","v":""},{"$f":"IF(OR(INDEX('Calificación Privada'!S:S,ROW())=\"Sin información\", INDEX('Calificación Privada'!S:S,ROW())=\"Seleccione…\"), \"\", MATCH(INDEX('Calificación Privada'!S:S,ROW()), INDEX('Calificación Privada'!$H:$K,ROW(),0), 0))","v":""},{"$f":"IF(OR(INDEX('Calificación Privada'!T:T,ROW())=\"Sin información\", INDEX('Calificación Privada'!T:T,ROW())=\"Seleccione…\"), \"\", MATCH(INDEX('Calificación Privada'!T:T,ROW()), INDEX('Calificación Privada'!$H:$K,ROW(),0), 0))","v":""},{"$f":"IF(OR(INDEX('Calificación Privada'!U:U,ROW())=\"Sin información\", INDEX('Calificación Privada'!U:U,ROW())=\"Seleccione…\"), \"\", MATCH(INDEX('Calificación Privada'!U:U,ROW()), INDEX('Calificación Privada'!$H:$K,ROW(),0), 0))","v":""}]
[{"$f":"INDEX('Calificación Privada'!B:B,ROW())","v":"Técnico"},{"$f":"INDEX('Calificación Privada'!C:C,ROW())","v":"Pérdidas de Energía Eléctrica"},{"$f":"IF(OR(INDEX('Calificación Privada'!L:L,ROW())=\"Sin información\", INDEX('Calificación Privada'!L:L,ROW())=\"Seleccione…\"), \"\", MATCH(INDEX('Calificación Privada'!L:L,ROW()), INDEX('Calificación Privada'!$H:$K,ROW(),0), 0))","v":""},{"$f":"IF(OR(INDEX('Calificación Privada'!M:M,ROW())=\"Sin información\", INDEX('Calificación Privada'!M:M,ROW())=\"Seleccione…\"), \"\", MATCH(INDEX('Calificación Privada'!M:M,ROW()), INDEX('Calificación Privada'!$H:$K,ROW(),0), 0))","v":""},{"$f":"IF(OR(INDEX('Calificación Privada'!N:N,ROW())=\"Sin información\", INDEX('Calificación Privada'!N:N,ROW())=\"Seleccione…\"), \"\", MATCH(INDEX('Calificación Privada'!N:N,ROW()), INDEX('Calificación Privada'!$H:$K,ROW(),0), 0))","v":""},{"$f":"IF(OR(INDEX('Calificación Privada'!O:O,ROW())=\"Sin información\", INDEX('Calificación Privada'!O:O,ROW())=\"Seleccione…\"), \"\", MATCH(INDEX('Calificación Privada'!O:O,ROW()), INDEX('Calificación Privada'!$H:$K,ROW(),0), 0))","v":""},{"$f":"IF(OR(INDEX('Calificación Privada'!P:P,ROW())=\"Sin información\", INDEX('Calificación Privada'!P:P,ROW())=\"Seleccione…\"), \"\", MATCH(INDEX('Calificación Privada'!P:P,ROW()), INDEX('Calificación Privada'!$H:$K,ROW(),0), 0))","v":""},{"$f":"IF(OR(INDEX('Calificación Privada'!Q:Q,ROW())=\"Sin información\", INDEX('Calificación Privada'!Q:Q,ROW())=\"Seleccione…\"), \"\", MATCH(INDEX('Calificación Privada'!Q:Q,ROW()), INDEX('Calificación Privada'!$H:$K,ROW(),0), 0))","v":""},{"$f":"IF(OR(INDEX('Calificación Privada'!R:R,ROW())=\"Sin información\", INDEX('Calificación Privada'!R:R,ROW())=\"Seleccione…\"), \"\", MATCH(INDEX('Calificación Privada'!R:R,ROW()), INDEX('Calificación Privada'!$H:$K,ROW(),0), 0))","v":""},{"$f":"IF(OR(INDEX('Calificación Privada'!S:S,ROW())=\"Sin información\", INDEX('Calificación Privada'!S:S,ROW())=\"Seleccione…\"), \"\", MATCH(INDEX('Calificación Privada'!S:S,ROW()), INDEX('Calificación Privada'!$H:$K,ROW(),0), 0))","v":""},{"$f":"IF(OR(INDEX('Calificación Privada'!T:T,ROW())=\"Sin información\", INDEX('Calificación Privada'!T:T,ROW())=\"Seleccione…\"), \"\", MATCH(INDEX('Calificación Privada'!T:T,ROW()), INDEX('Calificación Privada'!$H:$K,ROW(),0), 0))","v":""},{"$f":"IF(OR(INDEX('Calificación Privada'!U:U,ROW())=\"Sin información\", INDEX('Calificación Privada'!U:U,ROW())=\"Seleccione…\"), \"\", MATCH(INDEX('Calificación Privada'!U:U,ROW()), INDEX('Calificación Privada'!$H:$K,ROW(),0), 0))","v":""}]
[{"$f":"INDEX('Calificación Privada'!B:B,ROW())","v":"Técnico"},{"$f":"INDEX('Calificación Privada'!C:C,ROW())","v":"Calidad del servicio (Frecuencia y duración de interrupciones)"},{"$f":"IF(OR(INDEX('Calificación Privada'!L:L,ROW())=\"Sin información\", INDEX('Calificación Privada'!L:L,ROW())=\"Seleccione…\"), \"\", MATCH(INDEX('Calificación Privada'!L:L,ROW()), INDEX('Calificación Privada'!$H:$K,ROW(),0), 0))","v":""},{"$f":"IF(OR(INDEX('Calificación Privada'!M:M,ROW())=\"Sin información\", INDEX('Calificación Privada'!M:M,ROW())=\"Seleccione…\"), \"\", MATCH(INDEX('Calificación Privada'!M:M,ROW()), INDEX('Calificación Privada'!$H:$K,ROW(),0), 0))","v":""},{"$f":"IF(OR(INDEX('Calificación Privada'!N:N,ROW())=\"Sin información\", INDEX('Calificación Privada'!N:N,ROW())=\"Seleccione…\"), \"\", MATCH(INDEX('Calificación Privada'!N:N,ROW()), INDEX('Calificación Privada'!$H:$K,ROW(),0), 0))","v":""},{"$f":"IF(OR(INDEX('Calificación Privada'!O:O,ROW())=\"Sin información\", INDEX('Calificación Privada'!O:O,ROW())=\"Seleccione…\"), \"\", MATCH(INDEX('Calificación Privada'!O:O,ROW()), INDEX('Calificación Privada'!$H:$K,ROW(),0), 0))","v":""},{"$f":"IF(OR(INDEX('Calificación Privada'!P:P,ROW())=\"Sin información\", INDEX('Calificación Privada'!P:P,ROW())=\"Seleccione…\"), \"\", MATCH(INDEX('Calificación Privada'!P:P,ROW()), INDEX('Calificación Privada'!$H:$K,ROW(),0), 0))","v":""},{"$f":"IF(OR(INDEX('Calificación Privada'!Q:Q,ROW())=\"Sin información\", INDEX('Calificación Privada'!Q:Q,ROW())=\"Seleccione…\"), \"\", MATCH(INDEX('Calificación Privada'!Q:Q,ROW()), INDEX('Calificación Privada'!$H:$K,ROW(),0), 0))","v":""},{"$f":"IF(OR(INDEX('Calificación Privada'!R:R,ROW())=\"Sin información\", INDEX('Calificación Privada'!R:R,ROW())=\"Seleccione…\"), \"\", MATCH(INDEX('Calificación Privada'!R:R,ROW()), INDEX('Calificación Privada'!$H:$K,ROW(),0), 0))","v":""},{"$f":"IF(OR(INDEX('Calificación Privada'!S:S,ROW())=\"Sin información\", INDEX('Calificación Privada'!S:S,ROW())=\"Seleccione…\"), \"\", MATCH(INDEX('Calificación Privada'!S:S,ROW()), INDEX('Calificación Privada'!$H:$K,ROW(),0), 0))","v":""},{"$f":"IF(OR(INDEX('Calificación Privada'!T:T,ROW())=\"Sin información\", INDEX('Calificación Privada'!T:T,ROW())=\"Seleccione…\"), \"\", MATCH(INDEX('Calificación Privada'!T:T,ROW()), INDEX('Calificación Privada'!$H:$K,ROW(),0), 0))","v":""},{"$f":"IF(OR(INDEX('Calificación Privada'!U:U,ROW())=\"Sin información\", INDEX('Calificación Privada'!U:U,ROW())=\"Seleccione…\"), \"\", MATCH(INDEX('Calificación Privada'!U:U,ROW()), INDEX('Calificación Privada'!$H:$K,ROW(),0), 0))","v":""}]
[{"$f":"INDEX('Calificación Privada'!B:B,ROW())","v":0},{"$f":"INDEX('Calificación Privada'!C:C,ROW())","v":0},{"$f":"IF(OR(INDEX('Calificación Privada'!L:L,ROW())=\"Sin información\", INDEX('Calificación Privada'!L:L,ROW())=\"Seleccione…\"), \"\", MATCH(INDEX('Calificación Privada'!L:L,ROW()), INDEX('Calificación Privada'!$H:$K,ROW(),0), 0))","v":{"$error":"#N/A"}},{"$f":"IF(OR(INDEX('Calificación Privada'!M:M,ROW())=\"Sin información\", INDEX('Calificación Privada'!M:M,ROW())=\"Seleccione…\"), \"\", MATCH(INDEX('Calificación Privada'!M:M,ROW()), INDEX('Calificación Privada'!$H:$K,ROW(),0), 0))","v":{"$error":"#N/A"}},{"$f":"IF(OR(INDEX('Calificación Privada'!N:N,ROW())=\"Sin información\", INDEX('Calificación Privada'!N:N,ROW())=\"Seleccione…\"), \"\", MATCH(INDEX('Calificación Privada'!N:N,ROW()), INDEX('Calificación Privada'!$H:$K,ROW(),0), 0))","v":{"$error":"#N/A"}},{"$f":"IF(OR(INDEX('Calificación Privada'!O:O,ROW())=\"Sin información\", INDEX('Calificación Privada'!O:O,ROW())=\"Seleccione…\"), \"\", MATCH(INDEX('Calificación Privada'!O:O,ROW()), INDEX('Calificación Privada'!$H:$K,ROW(),0), 0))","v":{"$error":"#N/A"}},{"$f":"IF(OR(INDEX('Calificación Privada'!P:P,ROW())=\"Sin información\", INDEX('Calificación Privada'!P:P,ROW())=\"Seleccione…\"), \"\", MATCH(INDEX('Calificación Privada'!P:P,ROW()), INDEX('Calificación Privada'!$H:$K,ROW(),0), 0))","v":{"$error":"#N/A"}},{"$f":"IF(OR(INDEX('Calificación Privada'!Q:Q,ROW())=\"Sin información\", INDEX('Calificación Privada'!Q:Q,ROW())=\"Seleccione…\"), \"\", MATCH(INDEX('Calificación Privada'!Q:Q,ROW()), INDEX('Calificación Privada'!$H:$K,ROW(),0), 0))","v":{"$error":"#N/A"}},{"$f":"IF(OR(INDEX('Calificación Privada'!R:R,ROW())=\"Sin información\", INDEX('Calificación Privada'!R:R,ROW())=\"Seleccione…\"), \"\", MATCH(INDEX('Calificación Privada'!R:R,ROW()), INDEX('Calificación Privada'!$H:$K,ROW(),0), 0))","v":{"$error":"#N/A"}},{"$f":"IF(OR(INDEX('Calificación Privada'!S:S,ROW())=\"Sin información\", INDEX('Calificación Privada'!S:S,ROW())=\"Seleccione…\"), \"\", MATCH(INDEX('Calificación Privada'!S:S,ROW()), INDEX('Calificación Privada'!$H:$K,ROW(),0), 0))","v":{"$error":"#N/A"}},{"$f":"IF(OR(INDEX('Calificación Privada'!T:T,ROW())=\"Sin información\", INDEX('Calificación Privada'!T:T,ROW())=\"Seleccione…\"), \"\", MATCH(INDEX('Calificación Privada'!T:T,ROW()), INDEX('Calificación Privada'!$H:$K,ROW(),0), 0))","v":{"$error":"#N/A"}},{"$f":"IF(OR(INDEX('Calificación Privada'!U:U,ROW())=\"Sin información\", INDEX('Calificación Privada'!U:U,ROW())=\"Seleccione…\"), \"\", MATCH(INDEX('Calificación Privada'!U:U,ROW()), INDEX('Calificación Privada'!$H:$K,ROW(),0), 0))","v":{"$error":"#N/A"}}]

{"sheet":"Resultados Privada","index":9,"n_rows":43,"n_cols":14,"rows_kept":43,"merged":[[0,0,0,11],[1,0,1,10],[21,0,21,6],[23,0,24,0],[23,1,24,1],[23,2,24,2],[23,3,24,3],[23,4,24,4],[23,5,24,5],[23,6,24,6],[23,7,24,7],[23,8,24,8],[23,9,24,9],[23,10,24,10],[23,11,24,11],[23,12,24,12],[23,13,24,14],[25,13,25,14],[26,13,26,14],[27,13,27,14],[28,13,28,14],[29,13,29,14],[30,13,30,14],[31,13,31,14],[32,13,32,14],[33,13,33,14],[34,13,34,14],[35,13,35,14],[36,13,36,14],[37,13,37,14],[38,13,38,14],[39,13,39,14],[40,13,40,14],[41,13,41,14]]}
["Resultados de Priorización"]
["Bienvenido a la sección de resultados. A continuación, podrás consultar los valores calculados para cada categoría y el resultado final de la priorización para cada comunidad.\n1. Ajusta las ponderaciones:    Modifica los porcentajes de las categorías según tus necesidades o criterios específicos.\n2. Consulta los resultados:    La priorización actualizada se mostrará automáticamente. \n     (Recuerda seleccionar el municipio y el tipo de energía a implementar en la Caracterización de la comunidad)\n     El Potencial se toma directamente de los resultados del potencial energético, evaluados según lo descrito en la Sección 4 de la Hoja de Ruta para el Despliegue de \n       Comunidades Energéticas. Quieres ver estos resultados, haz clic en \"Consulta el potencial por municipio\"\n3. Consulta los resultados ordenados de mayor a menor,    para que identifiques las mejores opciones rápidamente.\n"]
[]
["Categoría de indicadores","Porcentaje de ponderación"]
["Ambiental ",{"v":0.1,"d":"10%"}]
["Económico",{"v":0.1,"d":"10%"}]
["Legislativo/ Normativo",{"v":0.2,"d":"20%"}]
["Social ",{"v":0.3,"d":"30%"}]
["Técnico ",{"v":0.3,"d":"30%"}]
["Total",{"$f":"SUM(B5:B9)","v":{"v":1,"d":"100%"}}]
[]
["Resultados de la calificación de la priorización para las comunidades por categoría de variables"]
[]
["Categoría/comunidad ",{"$f":"Caracterización!B8","v":"C1"},{"$f":"Caracterización!C8","v":"C2"},{"$f":"Caracterización!D8","v":"C3"},{"$f":"Caracterización!E8","v":"C4"},{"$f":"Caracterización!F8","v":"C5"},{"$f":"Caracterización!G8","v":"C6"},{"$f":"Caracterización!H8","v":"C7"},{"$f":"Caracterización!I8","v":"C8"},{"$f":"Caracterización!J8","v":"C9"},{"$f":"Caracterización!K8","v":"C10"}]
["Ambiental",{"$f":"IFERROR(AVERAGEIF('ResParcial Privada'!$A$7:$A$60,'Resultados Privada'!$A$15,'ResParcial Privada'!C$7:C$60),\"\")","v":{"v":2,"d":"2.00"}},{"$f":"IFERROR(AVERAGEIF('ResParcial Privada'!$A$7:$A$60,'Resultados Privada'!$A$15,'ResParcial Privada'!D$7:D$60),\"\")","v":{"v":3,"d":"3.00"}},{"$f":"IFERROR(AVERAGEIF('ResParcial Privada'!$A$7:$A$60,'Resultados Privada'!$A$15,'ResParcial Privada'!E$7:E$60),\"\")","v":""},{"$f":"IFERROR(AVERAGEIF('ResParcial Privada'!$A$7:$A$60,'Resultados Privada'!$A$15,'ResParcial Privada'!F$7:F$60),\"\")","v":""},{"$f":"IFERROR(AVERAGEIF('ResParcial Privada'!$A$7:$A$60,'Resultados Privada'!$A$15,'ResParcial Privada'!G$7:G$60),\"\")","v":""},{"$f":"IFERROR(AVERAGEIF('ResParcial Privada'!$A$7:$A$60,'Resultados Privada'!$A$15,'ResParcial Privada'!H$7:H$60),\"\")","v":""},{"$f":"IFERROR(AVERAGEIF('ResParcial Privada'!$A$7:$A$60,'Resultados Privada'!$A$15,'ResParcial Privada'!I$7:I$60),\"\")","v":""},{"$f":"IFERROR(AVERAGEIF('ResParcial Privada'!$A$7:$A$60,'Resultados Privada'!$A$15,'ResParcial Privada'!J$7:J$60),\"\")","v":""},{"$f":"IFERROR(AVERAGEIF('ResParcial Privada'!$A$7:$A$60,'Resultados Privada'!$A$15,'ResParcial Privada'!K$7:K$60),\"\")","v":""},{"$f":"IFERROR(AVERAGEIF('ResParcial Privada'!$A$7:$A$60,'Resultados Privada'!$A$15,'ResParcial Privada'!L$7:L$60),\"\")","v":""}]
["Económico",{"$f":"IFERROR(AVERAGEIF('ResParcial Privada'!$A$7:$A$60,'Resultados Privada'!$A$16,'ResParcial Privada'!C$7:C$60),\"\")","v":""},{"$f":"IFERROR(AVERAGEIF('ResParcial Privada'!$A$7:$A$60,'Resultados Privada'!$A$16,'ResParcial Privada'!D$7:D$60),\"\")","v":""},{"$f":"IFERROR(AVERAGEIF('ResParcial Privada'!$A$7:$A$60,'Resultados Privada'!$A$16,'ResParcial Privada'!E$7:E$60),\"\")","v":""},{"$f":"IFERROR(AVERAGEIF('ResParcial Privada'!$A$7:$A$60,'Resultados Privada'!$A$16,'ResParcial Privada'!F$7:F$60),\"\")","v":""},{"$f":"IFERROR(AVERAGEIF('ResParcial Privada'!$A$7:$A$60,'Resultados Privada'!$A$16,'ResParcial Privada'!G$7:G$60),\"\")","v":""},{"$f":"IFERROR(AVERAGEIF('ResParcial Privada'!$A$7:$A$60,'Resultados Privada'!$A$16,'ResParcial Privada'!H$7:H$60),\"\")","v":""},{"$f":"IFERROR(AVERAGEIF('ResParcial Privada'!$A$7:$A$60,'Resultados Privada'!$A$16,'ResParcial Privada'!I$7:I$60),\"\")","v":""},{"$f":"IFERROR(AVERAGEIF('ResParcial Privada'!$A$7:$A$60,'Resultados Privada'!$A$16,'ResParcial Privada'!J$7:J$60),\"\")","v":""},{"$f":"IFERROR(AVERAGEIF('ResParcial Privada'!$A$7:$A$60,'Resultados Privada'!$A$16,'ResParcial Privada'!K$7:K$60),\"\")","v":""},{"$f":"IFERROR(AVERAGEIF('ResParcial Privada'!$A$7:$A$60,'Resultados Privada'!$A$16,'ResParcial Privada'!L$7:L$60),\"\")","v":""}]
["Legislativo/ normativo",{"$f":"IFERROR(AVERAGEIF('ResParcial Privada'!$A$7:$A$60,'Resultados Privada'!$A$17,'ResParcial Privada'!C$7:C$60),\"\")","v":""},{"$f":"IFERROR(AVERAGEIF('ResParcial Privada'!$A$7:$A$60,'Resultados Privada'!$A$17,'ResParcial Privada'!D$7:D$60),\"\")","v":""},{"$f":"IFERROR(AVERAGEIF('ResParcial Privada'!$A$7:$A$60,'Resultados Privada'!$A$17,'ResParcial Privada'!E$7:E$60),\"\")","v":""},{"$f":"IFERROR(AVERAGEIF('ResParcial Privada'!$A$7:$A$60,'Resultados Privada'!$A$17,'ResParcial Privada'!F$7:F$60),\"\")","v":""},{"$f":"IFERROR(AVERAGEIF('ResParcial Privada'!$A$7:$A$60,'Resultados Privada'!$A$17,'ResParcial Privada'!G$7:G$60),\"\")","v":""},{"$f":"IFERROR(AVERAGEIF('ResParcial Privada'!$A$7:$A$60,'Resultados Privada'!$A$17,'ResParcial Privada'!H$7:H$60),\"\")","v":""},{"$f":"IFERROR(AVERAGEIF('ResParcial Privada'!$A$7:$A$60,'Resultados Privada'!$A$17,'ResParcial Privada'!I$7:I$60),\"\")","v":""},{"$f":"IFERROR(AVERAGEIF('ResParcial Privada'!$A$7:$A$60,'Resultados Privada'!$A$17,'ResParcial Privada'!J$7:J$60),\"\")","v":""},{"$f":"IFERROR(AVERAGEIF('ResParcial Privada'!$A$7:$A$60,'Resultados Privada'!$A$17,'ResParcial Privada'!K$7:K$60),\"\")","v":""},{"$f":"IFERROR(AVERAGEIF('ResParcial Privada'!$A$7:$A$60,'Resultados Privada'!$A$17,'ResParcial Privada'!L$7:L$60),\"\")","v":""}]
["Social",{"$f":"IFERROR(AVERAGEIF('ResParcial Privada'!$A$7:$A$60,'Resultados Privada'!$A$18,'ResParcial Privada'!C$7:C$60),\"\")","v":""},{"$f":"IFERROR(AVERAGEIF('ResParcial Privada'!$A$7:$A$60,'Resultados Privada'!$A$18,'ResParcial Privada'!D$7:D$60),\"\")","v":""},{"$f":"IFERROR(AVERAGEIF('ResParcial Privada'!$A$7:$A$60,'Resultados Privada'!$A$18,'ResParcial Privada'!E$7:E$60),\"\")","v":""},{"$f":"IFERROR(AVERAGEIF('ResParcial Privada'!$A$7:$A$60,'Resultados Privada'!$A$18,'ResParcial Privada'!F$7:F$60),\"\")","v":""},{"$f":"IFERROR(AVERAGEIF('ResParcial Privada'!$A$7:$A$60,'Resultados Privada'!$A$18,'ResParcial Privada'!G$7:G$60),\"\")","v":""},{"$f":"IFERROR(AVERAGEIF('ResParcial Privada'!$A$7:$A$60,'Resultados Privada'!$A$18,'ResParcial Privada'!H$7:H$60),\"\")","v":""},{"$f":"IFERROR(AVERAGEIF('ResParcial Privada'!$A$7:$A$60,'Resultados Privada'!$A$18,'ResParcial Privada'!I$7:I$60),\"\")","v":""},{"$f":"IFERROR(AVERAGEIF('ResParcial Privada'!$A$7:$A$60,'Resultados Privada'!$A$18,'ResParcial Privada'!J$7:J$60),\"\")","v":""},{"$f":"IFERROR(AVERAGEIF('ResParcial Privada'!$A$7:$A$60,'Resultados Privada'!$A$18,'ResParcial Privada'!K$7:K$60),\"\")","v":""},{"$f":"IFERROR(AVERAGEIF('ResParcial Privada'!$A$7:$A$60,'Resultados Privada'!$A$18,'ResParcial Privada'!L$7:L$60),\"\")","v":""}]
["Técnico",{"$f":"IFERROR(AVERAGEIF('ResParcial Privada'!$A$7:$A$60,'Resultados Privada'!$A$19,'ResParcial Privada'!C$7:C$60),\"\")","v":""},{"$f":"IFERROR(AVERAGEIF('ResParcial Privada'!$A$7:$A$60,'Resultados Privada'!$A$19,'ResParcial Privada'!D$7:D$60),\"\")","v":""},{"$f":"IFERROR(AVERAGEIF('ResParcial Privada'!$A$7:$A$60,'Resultados Privada'!$A$19,'ResParcial Privada'!E$7:E$60),\"\")","v":""},{"$f":"IFERROR(AVERAGEIF('ResParcial Privada'!$A$7:$A$60,'Resultados Privada'!$A$19,'ResParcial Privada'!F$7:F$60),\"\")","v":""},{"$f":"IFERROR(AVERAGEIF('ResParcial Privada'!$A$7:$A$60,'Resultados Privada'!$A$19,'ResParcial Privada'!G$7:G$60),\"\")","v":""},{"$f":"IFERROR(AVERAGEIF('ResParcial Privada'!$A$7:$A$60,'Resultados Privada'!$A$19,'ResParcial Privada'!H$7:H$60),\"\")","v":""},{"$f":"IFERROR(AVERAGEIF('ResParcial Privada'!$A$7:$A$60,'Resultados Privada'!$A$19,'ResParcial Privada'!I$7:I$60),\"\")","v":""},{"$f":"IFERROR(AVERAGEIF('ResParcial Privada'!$A$7:$A$60,'Resultados Privada'!$A$19,'ResParcial Privada'!J$7:J$60),\"\")","v":""},{"$f":"IFERROR(AVERAGEIF('ResParcial Privada'!$A$7:$A$60,'Resultados Privada'!$A$19,'ResParcial Privada'!K$7:K$60),\"\")","v":""},{"$f":"IFERROR(AVERAGEIF('ResParcial Privada'!$A$7:$A$60,'Resultados Privada'!$A$19,'ResParcial Privada'!L$7:L$60),\"\")","v":""}]
["Potencial",{"$f":"IF(Caracterización!B20=\"Seleccione…\",\"\",INDEX('Consulta de Potencial'!$D$14:$H$1134, MATCH(Caracterización!B11, 'Consulta de Potencial'!$C$14:$C$1134, 0), MATCH(Caracterización!B20, 'Consulta de Potencial'!$D$13:$H$13, 0)))","v":{"v":0.2784938053,"d":"0.28"}},{"$f":"IF(Caracterización!C20=\"Seleccione…\",\"\",INDEX('Consulta de Potencial'!$D$14:$H$1134, MATCH(Caracterización!C11, 'Consulta de Potencial'!$C$14:$C$1134, 0), MATCH(Caracterización!C20, 'Consulta de Potencial'!$D$13:$H$13, 0)))","v":{"v":0.2207527931,"d":"0.22"}},{"$f":"IF(Caracterización!D20=\"Seleccione…\",\"\",INDEX('Consulta de Potencial'!$D$14:$H$1134, MATCH(Caracterización!D11, 'Consulta de Potencial'!$C$14:$C$1134, 0), MATCH(Caracterización!D20, 'Consulta de Potencial'!$D$13:$H$13, 0)))","v":{"v":0.2603108106,"d":"0.26"}},{"$f":"IF(Caracterización!E20=\"Seleccione…\",\"\",INDEX('Consulta de Potencial'!$D$14:$H$1134, MATCH(Caracterización!E11, 'Consulta de Potencial'!$C$14:$C$1134, 0), MATCH(Caracterización!E20, 'Consulta de Potencial'!$D$13:$H$13, 0)))","v":{"v":0.292302467,"d":"0.29"}},{"$f":"IF(Caracterización!F20=\"Seleccione…\",\"\",INDEX('Consulta de Potencial'!$D$14:$H$1134, MATCH(Caracterización!F11, 'Consulta de Potencial'!$C$14:$C$1134, 0), MATCH(Caracterización!F20, 'Consulta de Potencial'!$D$13:$H$13, 0)))","v":{"v":0.2726994114,"d":"0.27"}},{"$f":"IF(Caracterización!G20=\"Seleccione…\",\"\",INDEX('Consulta de Potencial'!$D$14:$H$1134, MATCH(Caracterización!G11, 'Consulta de Potencial'!$C$14:$C$1134, 0), MATCH(Caracterización!G20, 'Consulta de Potencial'!$D$13:$H$13, 0)))","v":{"v":0.4280307356,"d":"0.43"}},{"$f":"IF(Caracterización!H20=\"Seleccione…\",\"\",INDEX('Consulta de Potencial'!$D$14:$H$1134, MATCH(Caracterización!H11, 'Consulta de Potencial'!$C$14:$C$1134, 0), MATCH(Caracterización!H20, 'Consulta de Potencial'!$D$13:$H$13, 0)))","v":{"v":0.3475150136,"d":"0.35"}},{"$f":"IF(Caracterización!I20=\"Seleccione…\",\"\",INDEX('Consulta de Potencial'!$D$14:$H$1134, MATCH(Caracterización!I11, 'Consulta de Potencial'!$C$14:$C$1134, 0), MATCH(Caracterización!I20, 'Consulta de Potencial'!$D$13:$H$13, 0)))","v":{"v":0.2207527931,"d":"0.22"}},{"$f":"IF(Caracterización!J20=\"Seleccione…\",\"\",INDEX('Consulta de Potencial'!$D$14:$H$1134, MATCH(Caracterización!J11, 'Consulta de Potencial'!$C$14:$C$1134, 0), MATCH(Caracterización!J20, 'Consulta de Potencial'!$D$13:$H$13, 0)))","v":{"v":0.2084452707,"d":"0.21"}},{"$f":"IF(Caracterización!K20=\"Seleccione…\",\"\",INDEX('Consulta de Potencial'!$D$14:$H$1134, MATCH(Caracterización!K11, 'Consulta de Potencial'!$C$14:$C$1134, 0), MATCH(Caracterización!K20, 'Consulta de Potencial'!$D$13:$H$13, 0)))","v":{"v":0.6580858588,"d":"0.66"}}]
["Puntaje de Priorización",{"$f":"IF(SUMPRODUCT((B15:B19<>0)*(B15:B19<>\"\"))=0,0,IF(OR(Caracterización!B11=\"Seleccione…\",Caracterización!B20=\"Seleccione…\"),\"Debe seleccionar el municipio y el tipo de energía a implementar\",(SUMPRODUCT('Calificación Privada'!$E$7:$E$9,'ResParcial Privada'!C7:C9)*'Resultados Privada'!$B$5+SUMPRODUCT('Calificación Privada'!$E$10:$E$18,'ResParcial Privada'!C10:C18)*'Resultados Privada'!$B$6+SUMPRODUCT('Calificación Privada'!$E$19:$E$21,'ResParcial Privada'!C19:C21)*'Resultados Privada'!$B$7+SUMPRODUCT('Calificación Privada'!$E$22:$E$37,'ResParcial Privada'!C22:C37)*'Resultados Privada'!$B$8+SUMPRODUCT('Calificación Privada'!$E$38:$E$44,'ResParcial Privada'!C38:C44)*'Resultados Privada'!$B$9)+B20))","v":{"v":0.3450938053,"d":"0.35"}},{"$f":"IF(SUMPRODUCT((C15:C19<>0)*(C15:C19<>\"\"))=0,0,IF(OR(Caracterización!C11=\"Seleccione…\",Caracterización!C20=\"Seleccione…\"),\"Debe seleccionar el municipio y el tipo de energía a implementar\",(SUMPRODUCT('Calificación Privada'!$E$7:$E$9,'ResParcial Privada'!D7:D9)*'Resultados Privada'!$B$5+SUMPRODUCT('Calificación Privada'!$E$10:$E$18,'ResParcial Privada'!D10:D18)*'Resultados Privada'!$B$6+SUMPRODUCT('Calificación Privada'!$E$19:$E$21,'ResParcial Privada'!D19:D21)*'Resultados Privada'!$B$7+SUMPRODUCT('Calificación Privada'!$E$22:$E$37,'ResParcial Privada'!D22:D37)*'Resultados Privada'!$B$8+SUMPRODUCT('Calificación Privada'!$E$38:$E$44,'ResParcial Privada'!D38:D44)*'Resultados Privada'!$B$9)+C20))","v":{"v":0.32065279310000006,"d":"0.32"}},{"$f":"IF(SUMPRODUCT((D15:D19<>0)*(D15:D19<>\"\"))=0,0,IF(OR(Caracterización!D11=\"Seleccione…\",Caracterización!D20=\"Seleccione…\"),\"Debe seleccionar el municipio y el tipo de energía a implementar\",(SUMPRODUCT('Calificación Privada'!$E$7:$E$9,'ResParcial Privada'!E7:E9)*'Resultados Privada'!$B$5+SUMPRODUCT('Calificación Privada'!$E$10:$E$18,'ResParcial Privada'!E10:E18)*'Resultados Privada'!$B$6+SUMPRODUCT('Calificación Privada'!$E$19:$E$21,'ResParcial Privada'!E19:E21)*'Resultados Privada'!$B$7+SUMPRODUCT('Calificación Privada'!$E$22:$E$37,'ResParcial Privada'!E22:E37)*'Resultados Privada'!$B$8+SUMPRODUCT('Calificación Privada'!$E$38:$E$44,'ResParcial Privada'!E38:E44)*'Resultados Privada'!$B$9)+D20))","v":{"v":0,"d":"0.00"}},{"$f":"IF(SUMPRODUCT((E15:E19<>0)*(E15:E19<>\"\"))=0,0,IF(OR(Caracterización!E11=\"Seleccione…\",Caracterización!E20=\"Seleccione…\"),\"Debe seleccionar el municipio y el tipo de energía a implementar\",(SUMPRODUCT('Calificación Privada'!$E$7:$E$9,'ResParcial Privada'!F7:F9)*'Resultados Privada'!$B$5+SUMPRODUCT('Calificación Privada'!$E$10:$E$18,'ResParcial Privada'!F10:F18)*'Resultados Privada'!$B$6+SUMPRODUCT('Calificación Privada'!$E$19:$E$21,'ResParcial Privada'!F19:F21)*'Resultados Privada'!$B$7+SUMPRODUCT('Calificación Privada'!$E$22:$E$37,'ResParcial Privada'!F22:F37)*'Resultados Privada'!$B$8+SUMPRODUCT('Calificación Privada'!$E$38:$E$44,'ResParcial Privada'!F38:F44)*'Resultados Privada'!$B$9)+E20))","v":{"v":0,"d":"0.00"}},{"$f":"IF(SUMPRODUCT((F15:F19<>0)*(F15:F19<>\"\"))=0,0,IF(OR(Caracterización!F11=\"Seleccione…\",Caracterización!F20=\"Seleccione…\"),\"Debe seleccionar el municipio y el tipo de energía a implementar\",(SUMPRODUCT('Calificación Privada'!$E$7:$E$9,'ResParcial Privada'!G7:G9)*'Resultados Privada'!$B$5+SUMPRODUCT('Calificación Privada'!$E$10:$E$18,'ResParcial Privada'!G10:G18)*'Resultados Privada'!$B$6+SUMPRODUCT('Calificación Privada'!$E$19:$E$21,'ResParcial Privada'!G19:G21)*'Resultados Privada'!$B$7+SUMPRODUCT('Calificación Privada'!$E$22:$E$37,'ResParcial Privada'!G22:G37)*'Resultados Privada'!$B$8+SUMPRODUCT('Calificación Privada'!$E$38:$E$44,'ResParcial Privada'!G38:G44)*'Resultados Privada'!$B$9)+F20))","v":{"v":0,"d":"0.00"}},{"$f":"IF(SUMPRODUCT((G15:G19<>0)*(G15:G19<>\"\"))=0,0,IF(OR(Caracterización!G11=\"Seleccione…\",Caracterización!G20=\"Seleccione…\"),\"Debe seleccionar el municipio y el tipo de energía a implementar\",(SUMPRODUCT('Calificación Privada'!$E$7:$E$9,'ResParcial Privada'!H7:H9)*'Resultados Privada'!$B$5+SUMPRODUCT('Calificación Privada'!$E$10:$E$18,'ResParcial Privada'!H10:H18)*'Resultados Privada'!$B$6+SUMPRODUCT('Calificación Privada'!$E$19:$E$21,'ResParcial Privada'!H19:H21)*'Resultados Privada'!$B$7+SUMPRODUCT('Calificación Privada'!$E$22:$E$37,'ResParcial Privada'!H22:H37)*'Resultados Privada'!$B$8+SUMPRODUCT('Calificación Privada'!$E$38:$E$44,'ResParcial Privada'!H38:H44)*'Resultados Privada'!$B$9)+G20))","v":{"v":0,"d":"0.00"}},{"$f":"IF(SUMPRODUCT((H15:H19<>0)*(H15:H19<>\"\"))=0,0,IF(OR(Caracterización!H11=\"Seleccione…\",Caracterización!H20=\"Seleccione…\"),\"Debe seleccionar el municipio y el tipo de energía a implementar\",(SUMPRODUCT('Calificación Privada'!$E$7:$E$9,'ResParcial Privada'!I7:I9)*'Resultados Privada'!$B$5+SUMPRODUCT('Calificación Privada'!$E$10:$E$18,'ResParcial Privada'!I10:I18)*'Resultados Privada'!$B$6+SUMPRODUCT('Calificación Privada'!$E$19:$E$21,'ResParcial Privada'!I19:I21)*'Resultados Privada'!$B$7+SUMPRODUCT('Calificación Privada'!$E$22:$E$37,'ResParcial Privada'!I22:I37)*'Resultados Privada'!$B$8+SUMPRODUCT('Calificación Privada'!$E$38:$E$44,'ResParcial Privada'!I38:I44)*'Resultados Privada'!$B$9)+H20))","v":{"v":0,"d":"0.00"}},{"$f":"IF(SUMPRODUCT((I15:I19<>0)*(I15:I19<>\"\"))=0,0,IF(OR(Caracterización!I11=\"Seleccione…\",Caracterización!I20=\"Seleccione…\"),\"Debe seleccionar el municipio y el tipo de energía a implementar\",(SUMPRODUCT('Calificación Privada'!$E$7:$E$9,'ResParcial Privada'!J7:J9)*'Resultados Privada'!$B$5+SUMPRODUCT('Calificación Privada'!$E$10:$E$18,'ResParcial Privada'!J10:J18)*'Resultados Privada'!$B$6+SUMPRODUCT('Calificación Privada'!$E$19:$E$21,'ResParcial Privada'!J19:J21)*'Resultados Privada'!$B$7+SUMPRODUCT('Calificación Privada'!$E$22:$E$37,'ResParcial Privada'!J22:J37)*'Resultados Privada'!$B$8+SUMPRODUCT('Calificación Privada'!$E$38:$E$44,'ResParcial Privada'!J38:J44)*'Resultados Privada'!$B$9)+I20))","v":{"v":0,"d":"0.00"}},{"$f":"IF(SUMPRODUCT((J15:J19<>0)*(J15:J19<>\"\"))=0,0,IF(OR(Caracterización!J11=\"Seleccione…\",Caracterización!J20=\"Seleccione…\"),\"Debe seleccionar el municipio y el tipo de energía a implementar\",(SUMPRODUCT('Calificación Privada'!$E$7:$E$9,'ResParcial Privada'!K7:K9)*'Resultados Privada'!$B$5+SUMPRODUCT('Calificación Privada'!$E$10:$E$18,'ResParcial Privada'!K10:K18)*'Resultados Privada'!$B$6+SUMPRODUCT('Calificación Privada'!$E$19:$E$21,'ResParcial Privada'!K19:K21)*'Resultados Privada'!$B$7+SUMPRODUCT('Calificación Privada'!$E$22:$E$37,'ResParcial Privada'!K22:K37)*'Resultados Privada'!$B$8+SUMPRODUCT('Calificación Privada'!$E$38:$E$44,'ResParcial Privada'!K38:K44)*'Resultados Privada'!$B$9)+J20))","v":{"v":0,"d":"0.00"}},{"$f":"IF(SUMPRODUCT((K15:K19<>0)*(K15:K19<>\"\"))=0,0,IF(OR(Caracterización!K11=\"Seleccione…\",Caracterización!K20=\"Seleccione…\"),\"Debe seleccionar el municipio y el tipo de energía a implementar\",(SUMPRODUCT('Calificación Privada'!$E$7:$E$9,'ResParcial Privada'!L7:L9)*'Resultados Privada'!$B$5+SUMPRODUCT('Calificación Privada'!$E$10:$E$18,'ResParcial Privada'!L10:L18)*'Resultados Privada'!$B$6+SUMPRODUCT('Calificación Privada'!$E$19:$E$21,'ResParcial Privada'!L19:L21)*'Resultados Privada'!$B$7+SUMPRODUCT('Calificación Privada'!$E$22:$E$37,'ResParcial Privada'!L22:L37)*'Resultados Privada'!$B$8+SUMPRODUCT('Calificación Privada'!$E$38:$E$44,'ResParcial Privada'!L38:L44)*'Resultados Privada'!$B$9)+K20))","v":{"v":0,"d":"0.00"}}]
["Resultados ordenados de mayor a menor\nAquí puedes ver las calificaciones organizadas de forma automática para que identifiques las mejores opciones rápidamente."]
[]
["Comunidad","Calificación Final Priorización","Departamento ","Municipio","Estado actual de la comunidad energética","Tipo de energía a implementar en la comunidad","Capacidad estimada de generación de energía del proyecto (kWh)","No. Miembros en la comunidad","Descripción del área (Ha)","Zona no interconectada ZNI","Costo total del proyecto (COP)","% de los costos de capital que se requiere sean cubiertos","% Fortalezas","Alerta área protegida "]
[]
[{"$f":"_xlfn._xlws.SORT(_xlfn._xlws.FILTER(_xlfn.HSTACK(TRANSPOSE(B14:K14),TRANSPOSE(B21:K21)),(TRANSPOSE(B21:K21)<>0)*(TRANSPOSE(B21:K21)<>\"Debe seleccionar el municipio y el tipo de energía a implementar\")),2,-1)","v":"C1"},{"v":0.3450938053,"d":"0.35"},{"$f":"IF(AND(A26<>0, _xlfn.XLOOKUP(A26,Caracterización!$B$8:$K$8,Caracterización!$B$10:$K$10,\"\")=\"Seleccione ...\"), \"Debe indicarlo en la caracterización de la comunidad\", IF(A26<>0, _xlfn.XLOOKUP(A26,Caracterización!$B$8:$K$8,Caracterización!$B$10:$K$10,\"\"), \"\"))","v":"Tolima"},{"$f":"IF(AND(A26<>0, _xlfn.XLOOKUP(A26,Caracterización!$B$8:$K$8,Caracterización!$B$11:$K$11,\"\")=\"Seleccione ...\"), \"Debe indicarlo en la caracterización de la comunidad\", IF(A26<>0, _xlfn.XLOOKUP(A26,Caracterización!$B$8:$K$8,Caracterización!$B$11:$K$11,\"\"), \"\"))","v":"Casabianca"},{"$f":"IF(AND(A26<>0, _xlfn.XLOOKUP(A26,Caracterización!$B$8:$K$8,Caracterización!$B$19:$K$19,\"\")=\"Seleccione ...\"), \"Debe indicarlo en la caracterización de la comunidad\", IF(A26<>0, _xlfn.XLOOKUP(A26,Caracterización!$B$8:$K$8,Caracterización!$B$19:$K$19,\"\"), \"\"))","v":"Inicial"},{"$f":"IF(AND(A26<>0, _xlfn.XLOOKUP(A26,Caracterización!$B$8:$K$8,Caracterización!$B$20:$K$20,\"\")=\"Seleccione ...\"), \"Debe indicarlo en la caracterización de la comunidad\", IF(A26<>0, _xlfn.XLOOKUP(A26,Caracterización!$B$8:$K$8,Caracterización!$B$20:$K$20,\"\"), \"\"))","v":"Biomasa vegetal"},{"$f":"IF(AND(A26<>0, _xlfn.XLOOKUP(A26,Caracterización!$B$8:$K$8,Caracterización!$B$22:$K$22,\"\")=\"Seleccione ...\"), \"Debe indicarlo en la caracterización de la comunidad\", IF(A26<>0, _xlfn.XLOOKUP(A26,Caracterización!$B$8:$K$8,Caracterización!$B$22:$K$22,\"\"), \"\"))","v":0},{"$f":"IF(AND(A26<>0, _xlfn.XLOOKUP(A26,Caracterización!$B$8:$K$8,Caracterización!$B$23:$K$23,\"\")=\"Seleccione ...\"), \"Debe indicarlo en la caracterización de la comunidad\", IF(A26<>0, _xlfn.XLOOKUP(A26,Caracterización!$B$8:$K$8,Caracterización!$B$23:$K$23,\"\"), \"\"))","v":0},{"$f":"IF(AND(A26<>0, _xlfn.XLOOKUP(A26,Caracterización!$B$8:$K$8,Caracterización!$B$28:$K$28,\"\")=\"Seleccione ...\"), \"Debe indicarlo en la caracterización de la comunidad\", IF(A26<>0, _xlfn.XLOOKUP(A26,Caracterización!$B$8:$K$8,Caracterización!$B$28:$K$28,\"\"), \"\"))","v":0},{"$f":"IF(AND(A26<>0, _xlfn.XLOOKUP(A26,Caracterización!$B$8:$K$8,Caracterización!$B$37:$K$37,\"\")=\"Seleccione ...\"), \"Debe indicarlo en la caracterización de la comunidad\", IF(A26<>0, _xlfn.XLOOKUP(A26,Caracterización!$B$8:$K$8,Caracterización!$B$37:$K$37,\"\"), \"\"))","v":0},{"$f":"IF(AND(A26<>0, _xlfn.XLOOKUP(A26,Caracterización!$B$8:$K$8,Caracterización!$B$40:$K$40,\"\")=\"Seleccione ...\"), \"Debe indicarlo en la caracterización de la comunidad\", IF(A26<>0, _xlfn.XLOOKUP(A26,Caracterización!$B$8:$K$8,Caracterización!$B$40:$K$40,\"\"), \"\"))","v":50},{"$f":"IF(AND(A26<>0, _xlfn.XLOOKUP(A26,Caracterización!$B$8:$K$8,Caracterización!$B$42:$K$42,\"\")=\"Seleccione ...\"), \"Debe indicarlo en la caracterización de la comunidad\", IF(A26<>0, _xlfn.XLOOKUP(A26,Caracterización!$B$8:$K$8,Caracterización!$B$42:$K$42,\"\"), \"\"))","v":1},{"$f":"IF(AND(A26<>0, _xlfn.XLOOKUP(A26,Caracterización!$B$8:$K$8,Caracterización!$B$72:$K$72,\"\")=\"Seleccione ...\"), \"Debe indicarlo en la caracterización de la comunidad\", IF(A26<>0, _xlfn.XLOOKUP(A26,Caracterización!$B$8:$K$8,Caracterización!$B$72:$K$72,\"\"), \"\"))","v":{"v":0.68,"d":"68%"}},{"$f":"IF(AND(A26<>0, _xlfn.XLOOKUP(A26,Caracterización!$B$8:$K$8,Caracterización!$B$36:$K$36,\"\")=\"Seleccione ...\"), \"Debe indicarlo en la caracterización de la comunidad\", IF(A26<>0, _xlfn.XLOOKUP(A26,Caracterización!$B$8:$K$8,Caracterización!$B$36:$K$36,\"\"), \"\"))","v":"Sí está en área protegida"}]
["C2",{"v":0.32065279310000006,"d":"0.32"},{"$f":"IF(AND(A27<>0, _xlfn.XLOOKUP(A27,Caracterización!$B$8:$K$8,Caracterización!$B$10:$K$10,\"\")=\"Seleccione ...\"), \"Debe indicarlo en la caracterización de la comunidad\", IF(A27<>0, _xlfn.XLOOKUP(A27,Caracterización!$B$8:$K$8,Caracterización!$B$10:$K$10,\"\"), \"\"))","v":"Bogotá, D.C"},{"$f":"IF(AND(A27<>0, _xlfn.XLOOKUP(A27,Caracterización!$B$8:$K$8,Caracterización!$B$11:$K$11,\"\")=\"Seleccione ...\"), \"Debe indicarlo en la caracterización de la comunidad\", IF(A27<>0, _xlfn.XLOOKUP(A27,Caracterización!$B$8:$K$8,Caracterización!$B$11:$K$11,\"\"), \"\"))","v":"Bogotá, D.C."},{"$f":"IF(AND(A27<>0, _xlfn.XLOOKUP(A27,Caracterización!$B$8:$K$8,Caracterización!$B$19:$K$19,\"\")=\"Seleccione ...\"), \"Debe indicarlo en la caracterización de la comunidad\", IF(A27<>0, _xlfn.XLOOKUP(A27,Caracterización!$B$8:$K$8,Caracterización!$B$19:$K$19,\"\"), \"\"))","v":"En operación"},{"$f":"IF(AND(A27<>0, _xlfn.XLOOKUP(A27,Caracterización!$B$8:$K$8,Caracterización!$B$20:$K$20,\"\")=\"Seleccione ...\"), \"Debe indicarlo en la caracterización de la comunidad\", IF(A27<>0, _xlfn.XLOOKUP(A27,Caracterización!$B$8:$K$8,Caracterización!$B$20:$K$20,\"\"), \"\"))","v":"Biomasa vegetal"},{"$f":"IF(AND(A27<>0, _xlfn.XLOOKUP(A27,Caracterización!$B$8:$K$8,Caracterización!$B$22:$K$22,\"\")=\"Seleccione ...\"), \"Debe indicarlo en la caracterización de la comunidad\", IF(A27<>0, _xlfn.XLOOKUP(A27,Caracterización!$B$8:$K$8,Caracterización!$B$22:$K$22,\"\"), \"\"))","v":0},{"$f":"IF(AND(A27<>0, _xlfn.XLOOKUP(A27,Caracterización!$B$8:$K$8,Caracterización!$B$23:$K$23,\"\")=\"Seleccione ...\"), \"Debe indicarlo en la caracterización de la comunidad\", IF(A27<>0, _xlfn.XLOOKUP(A27,Caracterización!$B$8:$K$8,Caracterización!$B$23:$K$23,\"\"), \"\"))","v":0},{"$f":"IF(AND(A27<>0, _xlfn.XLOOKUP(A27,Caracterización!$B$8:$K$8,Caracterización!$B$28:$K$28,\"\")=\"Seleccione ...\"), \"Debe indicarlo en la caracterización de la comunidad\", IF(A27<>0, _xlfn.XLOOKUP(A27,Caracterización!$B$8:$K$8,Caracterización!$B$28:$K$28,\"\"), \"\"))","v":0},{"$f":"IF(AND(A27<>0, _xlfn.XLOOKUP(A27,Caracterización!$B$8:$K$8,Caracterización!$B$37:$K$37,\"\")=\"Seleccione ...\"), \"Debe indicarlo en la caracterización de la comunidad\", IF(A27<>0, _xlfn.XLOOKUP(A27,Caracterización!$B$8:$K$8,Caracterización!$B$37:$K$37,\"\"), \"\"))","v":0},{"$f":"IF(AND(A27<>0, _xlfn.XLOOKUP(A27,Caracterización!$B$8:$K$8,Caracterización!$B$40:$K$40,\"\")=\"Seleccione ...\"), \"Debe indicarlo en la caracterización de la comunidad\", IF(A27<>0, _xlfn.XLOOKUP(A27,Caracterización!$B$8:$K$8,Caracterización!$B$40:$K$40,\"\"), \"\"))","v":0},{"$f":"IF(AND(A27<>0, _xlfn.XLOOKUP(A27,Caracterización!$B$8:$K$8,Caracterización!$B$42:$K$42,\"\")=\"Seleccione ...\"), \"Debe indicarlo en la caracterización de la comunidad\", IF(A27<>0, _xlfn.XLOOKUP(A27,Caracterización!$B$8:$K$8,Caracterización!$B$42:$K$42,\"\"), \"\"))","v":0},{"$f":"IF(AND(A27<>0, _xlfn.XLOOKUP(A27,Caracterización!$B$8:$K$8,Caracterización!$B$72:$K$72,\"\")=\"Seleccione ...\"), \"Debe indicarlo en la caracterización de la comunidad\", IF(A27<>0, _xlfn.XLOOKUP(A27,Caracterización!$B$8:$K$8,Caracterización!$B$72:$K$72,\"\"), \"\"))","v":{"v":0.72,"d":"72%"}},{"$f":"IF(AND(A27<>0, _xlfn.XLOOKUP(A27,Caracterización!$B$8:$K$8,Caracterización!$B$36:$K$36,\"\")=\"Seleccione ...\"), \"Debe indicarlo en la caracterización de la comunidad\", IF(A27<>0, _xlfn.XLOOKUP(A27,Caracterización!$B$8:$K$8,Caracterización!$B$36:$K$36,\"\"), \"\"))","v":"No está en área protegida "}]
[null,null,{"$f":"IF(AND(A28<>0, _xlfn.XLOOKUP(A28,Caracterización!$B$8:$K$8,Caracterización!$B$10:$K$10,\"\")=\"Seleccione ...\"), \"Debe indicarlo en la caracterización de la comunidad\", IF(A28<>0, _xlfn.XLOOKUP(A28,Caracterización!$B$8:$K$8,Caracterización!$B$10:$K$10,\"\"), \"\"))","v":""},{"$f":"IF(AND(A28<>0, _xlfn.XLOOKUP(A28,Caracterización!$B$8:$K$8,Caracterización!$B$11:$K$11,\"\")=\"Seleccione ...\"), \"Debe indicarlo en la caracterización de la comunidad\", IF(A28<>0, _xlfn.XLOOKUP(A28,Caracterización!$B$8:$K$8,Caracterización!$B$11:$K$11,\"\"), \"\"))","v":""},{"$f":"IF(AND(A28<>0, _xlfn.XLOOKUP(A28,Caracterización!$B$8:$K$8,Caracterización!$B$19:$K$19,\"\")=\"Seleccione ...\"), \"Debe indicarlo en la caracterización de la comunidad\", IF(A28<>0, _xlfn.XLOOKUP(A28,Caracterización!$B$8:$K$8,Caracterización!$B$19:$K$19,\"\"), \"\"))","v":""},{"$f":"IF(AND(A28<>0, _xlfn.XLOOKUP(A28,Caracterización!$B$8:$K$8,Caracterización!$B$20:$K$20,\"\")=\"Seleccione ...\"), \"Debe indicarlo en la caracterización de la comunidad\", IF(A28<>0, _xlfn.XLOOKUP(A28,Caracterización!$B$8:$K$8,Caracterización!$B$20:$K$20,\"\"), \"\"))","v":""},{"$f":"IF(AND(A28<>0, _xlfn.XLOOKUP(A28,Caracterización!$B$8:$K$8,Caracterización!$B$22:$K$22,\"\")=\"Seleccione ...\"), \"Debe indicarlo en la caracterización de la comunidad\", IF(A28<>0, _xlfn.XLOOKUP(A28,Caracterización!$B$8:$K$8,Caracterización!$B$22:$K$22,\"\"), \"\"))","v":""},{"$f":"IF(AND(A28<>0, _xlfn.XLOOKUP(A28,Caracterización!$B$8:$K$8,Caracterización!$B$23:$K$23,\"\")=\"Seleccione ...\"), \"Debe indicarlo en la caracterización de la comunidad\", IF(A28<>0, _xlfn.XLOOKUP(A28,Caracterización!$B$8:$K$8,Caracterización!$B$23:$K$23,\"\"), \"\"))","v":""},{"$f":"IF(AND(A28<>0, _xlfn.XLOOKUP(A28,Caracterización!$B$8:$K$8,Caracterización!$B$28:$K$28,\"\")=\"Seleccione ...\"), \"Debe indicarlo en la caracterización de la comunidad\", IF(A28<>0, _xlfn.XLOOKUP(A28,Caracterización!$B$8:$K$8,Caracterización!$B$28:$K$28,\"\"), \"\"))","v":""},{"$f":"IF(AND(A28<>0, _xlfn.XLOOKUP(A28,Caracterización!$B$8:$K$8,Caracterización!$B$37:$K$37,\"\")=\"Seleccione ...\"), \"Debe indicarlo en la caracterización de la comunidad\", IF(A28<>0, _xlfn.XLOOKUP(A28,Caracterización!$B$8:$K$8,Caracterización!$B$37:$K$37,\"\"), \"\"))","v":""},{"$f":"IF(AND(A28<>0, _xlfn.XLOOKUP(A28,Caracterización!$B$8:$K$8,Caracterización!$B$40:$K$40,\"\")=\"Seleccione ...\"), \"Debe indicarlo en la caracterización de la comunidad\", IF(A28<>0, _xlfn.XLOOKUP(A28,Caracterización!$B$8:$K$8,Caracterización!$B$40:$K$40,\"\"), \"\"))","v":""},{"$f":"IF(AND(A28<>0, _xlfn.XLOOKUP(A28,Caracterización!$B$8:$K$8,Caracterización!$B$42:$K$42,\"\")=\"Seleccione ...\"), \"Debe indicarlo en la caracterización de la comunidad\", IF(A28<>0, _xlfn.XLOOKUP(A28,Caracterización!$B$8:$K$8,Caracterización!$B$42:$K$42,\"\"), \"\"))","v":""},{"$f":"IF(AND(A28<>0, _xlfn.XLOOKUP(A28,Caracterización!$B$8:$K$8,Caracterización!$B$72:$K$72,\"\")=\"Seleccione ...\"), \"Debe indicarlo en la caracterización de la comunidad\", IF(A28<>0, _xlfn.XLOOKUP(A28,Caracterización!$B$8:$K$8,Caracterización!$B$72:$K$72,\"\"), \"\"))","v":""},{"$f":"IF(AND(A28<>0, _xlfn.XLOOKUP(A28,Caracterización!$B$8:$K$8,Caracterización!$B$36:$K$36,\"\")=\"Seleccione ...\"), \"Debe indicarlo en la caracterización de la comunidad\", IF(A28<>0, _xlfn.XLOOKUP(A28,Caracterización!$B$8:$K$8,Caracterización!$B$36:$K$36,\"\"), \"\"))","v":""}]
[null,null,{"$f":"IF(AND(A29<>0, _xlfn.XLOOKUP(A29,Caracterización!$B$8:$K$8,Caracterización!$B$10:$K$10,\"\")=\"Seleccione ...\"), \"Debe indicarlo en la caracterización de la comunidad\", IF(A29<>0, _xlfn.XLOOKUP(A29,Caracterización!$B$8:$K$8,Caracterización!$B$10:$K$10,\"\"), \"\"))","v":""},{"$f":"IF(AND(A29<>0, _xlfn.XLOOKUP(A29,Caracterización!$B$8:$K$8,Caracterización!$B$11:$K$11,\"\")=\"Seleccione ...\"), \"Debe indicarlo en la caracterización de la comunidad\", IF(A29<>0, _xlfn.XLOOKUP(A29,Caracterización!$B$8:$K$8,Caracterización!$B$11:$K$11,\"\"), \"\"))","v":""},{"$f":"IF(AND(A29<>0, _xlfn.XLOOKUP(A29,Caracterización!$B$8:$K$8,Caracterización!$B$19:$K$19,\"\")=\"Seleccione ...\"), \"Debe indicarlo en la caracterización de la comunidad\", IF(A29<>0, _xlfn.XLOOKUP(A29,Caracterización!$B$8:$K$8,Caracterización!$B$19:$K$19,\"\"), \"\"))","v":""},{"$f":"IF(AND(A29<>0, _xlfn.XLOOKUP(A29,Caracterización!$B$8:$K$8,Caracterización!$B$20:$K$20,\"\")=\"Seleccione ...\"), \"Debe indicarlo en la caracterización de la comunidad\", IF(A29<>0, _xlfn.XLOOKUP(A29,Caracterización!$B$8:$K$8,Caracterización!$B$20:$K$20,\"\"), \"\"))","v":""},{"$f":"IF(AND(A29<>0, _xlfn.XLOOKUP(A29,Caracterización!$B$8:$K$8,Caracterización!$B$22:$K$22,\"\")=\"Seleccione ...\"), \"Debe indicarlo en la caracterización de la comunidad\", IF(A29<>0, _xlfn.XLOOKUP(A29,Caracterización!$B$8:$K$8,Caracterización!$B$22:$K$22,\"\"), \"\"))","v":""},{"$f":"IF(AND(A29<>0, _xlfn.XLOOKUP(A29,Caracterización!$B$8:$K$8,Caracterización!$B$23:$K$23,\"\")=\"Seleccione ...\"), \"Debe indicarlo en la caracterización de la comunidad\", IF(A29<>0, _xlfn.XLOOKUP(A29,Caracterización!$B$8:$K$8,Caracterización!$B$23:$K$23,\"\"), \"\"))","v":""},{"$f":"IF(AND(A29<>0, _xlfn.XLOOKUP(A29,Caracterización!$B$8:$K$8,Caracterización!$B$28:$K$28,\"\")=\"Seleccione ...\"), \"Debe indicarlo en la caracterización de la comunidad\", IF(A29<>0, _xlfn.XLOOKUP(A29,Caracterización!$B$8:$K$8,Caracterización!$B$28:$K$28,\"\"), \"\"))","v":""},{"$f":"IF(AND(A29<>0, _xlfn.XLOOKUP(A29,Caracterización!$B$8:$K$8,Caracterización!$B$37:$K$37,\"\")=\"Seleccione ...\"), \"Debe indicarlo en la caracterización de la comunidad\", IF(A29<>0, _xlfn.XLOOKUP(A29,Caracterización!$B$8:$K$8,Caracterización!$B$37:$K$37,\"\"), \"\"))","v":""},{"$f":"IF(AND(A29<>0, _xlfn.XLOOKUP(A29,Caracterización!$B$8:$K$8,Caracterización!$B$40:$K$40,\"\")=\"Seleccione ...\"), \"Debe indicarlo en la caracterización de la comunidad\", IF(A29<>0, _xlfn.XLOOKUP(A29,Caracterización!$B$8:$K$8,Caracterización!$B$40:$K$40,\"\"), \"\"))","v":""},{"$f":"IF(AND(A29<>0, _xlfn.XLOOKUP(A29,Caracterización!$B$8:$K$8,Caracterización!$B$42:$K$42,\"\")=\"Seleccione ...\"), \"Debe indicarlo en la caracterización de la comunidad\", IF(A29<>0, _xlfn.XLOOKUP(A29,Caracterización!$B$8:$K$8,Caracterización!$B$42:$K$42,\"\"), \"\"))","v":""},{"$f":"IF(AND(A29<>0, _xlfn.XLOOKUP(A29,Caracterización!$B$8:$K$8,Caracterización!$B$72:$K$72,\"\")=\"Seleccione ...\"), \"Debe indicarlo en la caracterización de la comunidad\", IF(A29<>0, _xlfn.XLOOKUP(A29,Caracterización!$B$8:$K$8,Caracterización!$B$72:$K$72,\"\"), \"\"))","v":""},{"$f":"IF(AND(A29<>0, _xlfn.XLOOKUP(A29,Caracterización!$B$8:$K$8,Caracterización!$B$36:$K$36,\"\")=\"Seleccione ...\"), \"Debe indicarlo en la caracterización de la comunidad\", IF(A29<>0, _xlfn.XLOOKUP(A29,Caracterización!$B$8:$K$8,Caracterización!$B$36:$K$36,\"\"), \"\"))","v":""}]
[null,null,{"$f":"IF(AND(A30<>0, _xlfn.XLOOKUP(A30,Caracterización!$B$8:$K$8,Caracterización!$B$10:$K$10,\"\")=\"Seleccione ...\"), \"Debe indicarlo en la caracterización de la comunidad\", IF(A30<>0, _xlfn.XLOOKUP(A30,Caracterización!$B$8:$K$8,Caracterización!$B$10:$K$10,\"\"), \"\"))","v":""},{"$f":"IF(AND(A30<>0, _xlfn.XLOOKUP(A30,Caracterización!$B$8:$K$8,Caracterización!$B$11:$K$11,\"\")=\"Seleccione ...\"), \"Debe indicarlo en la caracterización de la comunidad\", IF(A30<>0, _xlfn.XLOOKUP(A30,Caracterización!$B$8:$K$8,Caracterización!$B$11:$K$11,\"\"), \"\"))","v":""},{"$f":"IF(AND(A30<>0, _xlfn.XLOOKUP(A30,Caracterización!$B$8:$K$8,Caracterización!$B$19:$K$19,\"\")=\"Seleccione ...\"), \"Debe indicarlo en la caracterización de la comunidad\", IF(A30<>0, _xlfn.XLOOKUP(A30,Caracterización!$B$8:$K$8,Caracterización!$B$19:$K$19,\"\"), \"\"))","v":""},{"$f":"IF(AND(A30<>0, _xlfn.XLOOKUP(A30,Caracterización!$B$8:$K$8,Caracterización!$B$20:$K$20,\"\")=\"Seleccione ...\"), \"Debe indicarlo en la caracterización de la comunidad\", IF(A30<>0, _xlfn.XLOOKUP(A30,Caracterización!$B$8:$K$8,Caracterización!$B$20:$K$20,\"\"), \"\"))","v":""},{"$f":"IF(AND(A30<>0, _xlfn.XLOOKUP(A30,Caracterización!$B$8:$K$8,Caracterización!$B$22:$K$22,\"\")=\"Seleccione ...\"), \"Debe indicarlo en la caracterización de la comunidad\", IF(A30<>0, _xlfn.XLOOKUP(A30,Caracterización!$B$8:$K$8,Caracterización!$B$22:$K$22,\"\"), \"\"))","v":""},{"$f":"IF(AND(A30<>0, _xlfn.XLOOKUP(A30,Caracterización!$B$8:$K$8,Caracterización!$B$23:$K$23,\"\")=\"Seleccione ...\"), \"Debe indicarlo en la caracterización de la comunidad\", IF(A30<>0, _xlfn.XLOOKUP(A30,Caracterización!$B$8:$K$8,Caracterización!$B$23:$K$23,\"\"), \"\"))","v":""},{"$f":"IF(AND(A30<>0, _xlfn.XLOOKUP(A30,Caracterización!$B$8:$K$8,Caracterización!$B$28:$K$28,\"\")=\"Seleccione ...\"), \"Debe indicarlo en la caracterización de la comunidad\", IF(A30<>0, _xlfn.XLOOKUP(A30,Caracterización!$B$8:$K$8,Caracterización!$B$28:$K$28,\"\"), \"\"))","v":""},{"$f":"IF(AND(A30<>0, _xlfn.XLOOKUP(A30,Caracterización!$B$8:$K$8,Caracterización!$B$37:$K$37,\"\")=\"Seleccione ...\"), \"Debe indicarlo en la caracterización de la comunidad\", IF(A30<>0, _xlfn.XLOOKUP(A30,Caracterización!$B$8:$K$8,Caracterización!$B$37:$K$37,\"\"), \"\"))","v":""},{"$f":"IF(AND(A30<>0, _xlfn.XLOOKUP(A30,Caracterización!$B$8:$K$8,Caracterización!$B$40:$K$40,\"\")=\"Seleccione ...\"), \"Debe indicarlo en la caracterización de la comunidad\", IF(A30<>0, _xlfn.XLOOKUP(A30,Caracterización!$B$8:$K$8,Caracterización!$B$40:$K$40,\"\"), \"\"))","v":""},{"$f":"IF(AND(A30<>0, _xlfn.XLOOKUP(A30,Caracterización!$B$8:$K$8,Caracterización!$B$42:$K$42,\"\")=\"Seleccione ...\"), \"Debe indicarlo en la caracterización de la comunidad\", IF(A30<>0, _xlfn.XLOOKUP(A30,Caracterización!$B$8:$K$8,Caracterización!$B$42:$K$42,\"\"), \"\"))","v":""},{"$f":"IF(AND(A30<>0, _xlfn.XLOOKUP(A30,Caracterización!$B$8:$K$8,Caracterización!$B$72:$K$72,\"\")=\"Seleccione ...\"), \"Debe indicarlo en la caracterización de la comunidad\", IF(A30<>0, _xlfn.XLOOKUP(A30,Caracterización!$B$8:$K$8,Caracterización!$B$72:$K$72,\"\"), \"\"))","v":""},{"$f":"IF(AND(A30<>0, _xlfn.XLOOKUP(A30,Caracterización!$B$8:$K$8,Caracterización!$B$36:$K$36,\"\")=\"Seleccione ...\"), \"Debe indicarlo en la caracterización de la comunidad\", IF(A30<>0, _xlfn.XLOOKUP(A30,Caracterización!$B$8:$K$8,Caracterización!$B$36:$K$36,\"\"), \"\"))","v":""}]
[null,null,{"$f":"IF(AND(A31<>0, _xlfn.XLOOKUP(A31,Caracterización!$B$8:$K$8,Caracterización!$B$10:$K$10,\"\")=\"Seleccione ...\"), \"Debe indicarlo en la caracterización de la comunidad\", IF(A31<>0, _xlfn.XLOOKUP(A31,Caracterización!$B$8:$K$8,Caracterización!$B$10:$K$10,\"\"), \"\"))","v":""},{"$f":"IF(AND(A31<>0, _xlfn.XLOOKUP(A31,Caracterización!$B$8:$K$8,Caracterización!$B$11:$K$11,\"\")=\"Seleccione ...\"), \"Debe indicarlo en la caracterización de la comunidad\", IF(A31<>0, _xlfn.XLOOKUP(A31,Caracterización!$B$8:$K$8,Caracterización!$B$11:$K$11,\"\"), \"\"))","v":""},{"$f":"IF(AND(A31<>0, _xlfn.XLOOKUP(A31,Caracterización!$B$8:$K$8,Caracterización!$B$19:$K$19,\"\")=\"Seleccione ...\"), \"Debe indicarlo en la caracterización de la comunidad\", IF(A31<>0, _xlfn.XLOOKUP(A31,Caracterización!$B$8:$K$8,Caracterización!$B$19:$K$19,\"\"), \"\"))","v":""},{"$f":"IF(AND(A31<>0, _xlfn.XLOOKUP(A31,Caracterización!$B$8:$K$8,Caracterización!$B$20:$K$20,\"\")=\"Seleccione ...\"), \"Debe indicarlo en la caracterización de la comunidad\", IF(A31<>0, _xlfn.XLOOKUP(A31,Caracterización!$B$8:$K$8,Caracterización!$B$20:$K$20,\"\"), \"\"))","v":""},{"$f":"IF(AND(A31<>0, _xlfn.XLOOKUP(A31,Caracterización!$B$8:$K$8,Caracterización!$B$22:$K$22,\"\")=\"Seleccione ...\"), \"Debe indicarlo en la caracterización de la comunidad\", IF(A31<>0, _xlfn.XLOOKUP(A31,Caracterización!$B$8:$K$8,Caracterización!$B$22:$K$22,\"\"), \"\"))","v":""},{"$f":"IF(AND(A31<>0, _xlfn.XLOOKUP(A31,Caracterización!$B$8:$K$8,Caracterización!$B$23:$K$23,\"\")=\"Seleccione ...\"), \"Debe indicarlo en la caracterización de la comunidad\", IF(A31<>0, _xlfn.XLOOKUP(A31,Caracterización!$B$8:$K$8,Caracterización!$B$23:$K$23,\"\"), \"\"))","v":""},{"$f":"IF(AND(A31<>0, _xlfn.XLOOKUP(A31,Caracterización!$B$8:$K$8,Caracterización!$B$28:$K$28,\"\")=\"Seleccione ...\"), \"Debe indicarlo en la caracterización de la comunidad\", IF(A31<>0, _xlfn.XLOOKUP(A31,Caracterización!$B$8:$K$8,Caracterización!$B$28:$K$28,\"\"), \"\"))","v":""},{"$f":"IF(AND(A31<>0, _xlfn.XLOOKUP(A31,Caracterización!$B$8:$K$8,Caracterización!$B$37:$K$37,\"\")=\"Seleccione ...\"), \"Debe indicarlo en la caracterización de la comunidad\", IF(A31<>0, _xlfn.XLOOKUP(A31,Caracterización!$B$8:$K$8,Caracterización!$B$37:$K$37,\"\"), \"\"))","v":""},{"$f":"IF(AND(A31<>0, _xlfn.XLOOKUP(A31,Caracterización!$B$8:$K$8,Caracterización!$B$40:$K$40,\"\")=\"Seleccione ...\"), \"Debe indicarlo en la caracterización de la comunidad\", IF(A31<>0, _xlfn.XLOOKUP(A31,Caracterización!$B$8:$K$8,Caracterización!$B$40:$K$40,\"\"), \"\"))","v":""},{"$f":"IF(AND(A31<>0, _xlfn.XLOOKUP(A31,Caracterización!$B$8:$K$8,Caracterización!$B$42:$K$42,\"\")=\"Seleccione ...\"), \"Debe indicarlo en la caracterización de la comunidad\", IF(A31<>0, _xlfn.XLOOKUP(A31,Caracterización!$B$8:$K$8,Caracterización!$B$42:$K$42,\"\"), \"\"))","v":""},{"$f":"IF(AND(A31<>0, _xlfn.XLOOKUP(A31,Caracterización!$B$8:$K$8,Caracterización!$B$72:$K$72,\"\")=\"Seleccione ...\"), \"Debe indicarlo en la caracterización de la comunidad\", IF(A31<>0, _xlfn.XLOOKUP(A31,Caracterización!$B$8:$K$8,Caracterización!$B$72:$K$72,\"\"), \"\"))","v":""},{"$f":"IF(AND(A31<>0, _xlfn.XLOOKUP(A31,Caracterización!$B$8:$K$8,Caracterización!$B$36:$K$36,\"\")=\"Seleccione ...\"), \"Debe indicarlo en la caracterización de la comunidad\", IF(A31<>0, _xlfn.XLOOKUP(A31,Caracterización!$B$8:$K$8,Caracterización!$B$36:$K$36,\"\"), \"\"))","v":""}]
[null,null,{"$f":"IF(AND(A32<>0, _xlfn.XLOOKUP(A32,Caracterización!$B$8:$K$8,Caracterización!$B$10:$K$10,\"\")=\"Seleccione ...\"), \"Debe indicarlo en la caracterización de la comunidad\", IF(A32<>0, _xlfn.XLOOKUP(A32,Caracterización!$B$8:$K$8,Caracterización!$B$10:$K$10,\"\"), \"\"))","v":""},{"$f":"IF(AND(A32<>0, _xlfn.XLOOKUP(A32,Caracterización!$B$8:$K$8,Caracterización!$B$11:$K$11,\"\")=\"Seleccione ...\"), \"Debe indicarlo en la caracterización de la comunidad\", IF(A32<>0, _xlfn.XLOOKUP(A32,Caracterización!$B$8:$K$8,Caracterización!$B$11:$K$11,\"\"), \"\"))","v":""},{"$f":"IF(AND(A32<>0, _xlfn.XLOOKUP(A32,Caracterización!$B$8:$K$8,Caracterización!$B$19:$K$19,\"\")=\"Seleccione ...\"), \"Debe indicarlo en la caracterización de la comunidad\", IF(A32<>0, _xlfn.XLOOKUP(A32,Caracterización!$B$8:$K$8,Caracterización!$B$19:$K$19,\"\"), \"\"))","v":""},{"$f":"IF(AND(A32<>0, _xlfn.XLOOKUP(A32,Caracterización!$B$8:$K$8,Caracterización!$B$20:$K$20,\"\")=\"Seleccione ...\"), \"Debe indicarlo en la caracterización de la comunidad\", IF(A32<>0, _xlfn.XLOOKUP(A32,Caracterización!$B$8:$K$8,Caracterización!$B$20:$K$20,\"\"), \"\"))","v":""},{"$f":"IF(AND(A32<>0, _xlfn.XLOOKUP(A32,Caracterización!$B$8:$K$8,Caracterización!$B$22:$K$22,\"\")=\"Seleccione ...\"), \"Debe indicarlo en la caracterización de la comunidad\", IF(A32<>0, _xlfn.XLOOKUP(A32,Caracterización!$B$8:$K$8,Caracterización!$B$22:$K$22,\"\"), \"\"))","v":""},{"$f":"IF(AND(A32<>0, _xlfn.XLOOKUP(A32,Caracterización!$B$8:$K$8,Caracterización!$B$23:$K$23,\"\")=\"Seleccione ...\"), \"Debe indicarlo en la caracterización de la comunidad\", IF(A32<>0, _xlfn.XLOOKUP(A32,Caracterización!$B$8:$K$8,Caracterización!$B$23:$K$23,\"\"), \"\"))","v":""},{"$f":"IF(AND(A32<>0, _xlfn.XLOOKUP(A32,Caracterización!$B$8:$K$8,Caracterización!$B$28:$K$28,\"\")=\"Seleccione ...\"), \"Debe indicarlo en la caracterización de la comunidad\", IF(A32<>0, _xlfn.XLOOKUP(A32,Caracterización!$B$8:$K$8,Caracterización!$B$28:$K$28,\"\"), \"\"))","v":""},{"$f":"IF(AND(A32<>0, _xlfn.XLOOKUP(A32,Caracterización!$B$8:$K$8,Caracterización!$B$37:$K$37,\"\")=\"Seleccione ...\"), \"Debe indicarlo en la caracterización de la comunidad\", IF(A32<>0, _xlfn.XLOOKUP(A32,Caracterización!$B$8:$K$8,Caracterización!$B$37:$K$37,\"\"), \"\"))","v":""},{"$f":"IF(AND(A32<>0, _xlfn.XLOOKUP(A32,Caracterización!$B$8:$K$8,Caracterización!$B$40:$K$40,\"\")=\"Seleccione ...\"), \"Debe indicarlo en la caracterización de la comunidad\", IF(A32<>0, _xlfn.XLOOKUP(A32,Caracterización!$B$8:$K$8,Caracterización!$B$40:$K$40,\"\"), \"\"))","v":""},{"$f":"IF(AND(A32<>0, _xlfn.XLOOKUP(A32,Caracterización!$B$8:$K$8,Caracterización!$B$42:$K$42,\"\")=\"Seleccione ...\"), \"Debe indicarlo en la caracterización de la comunidad\", IF(A32<>0, _xlfn.XLOOKUP(A32,Caracterización!$B$8:$K$8,Caracterización!$B$42:$K$42,\"\"), \"\"))","v":""},{"$f":"IF(AND(A32<>0, _xlfn.XLOOKUP(A32,Caracterización!$B$8:$K$8,Caracterización!$B$72:$K$72,\"\")=\"Seleccione ...\"), \"Debe indicarlo en la caracterización de la comunidad\", IF(A32<>0, _xlfn.XLOOKUP(A32,Caracterización!$B$8:$K$8,Caracterización!$B$72:$K$72,\"\"), \"\"))","v":""},{"$f":"IF(AND(A32<>0, _xlfn.XLOOKUP(A32,Caracterización!$B$8:$K$8,Caracterización!$B$36:$K$36,\"\")=\"Seleccione ...\"), \"Debe indicarlo en la caracterización de la comunidad\", IF(A32<>0, _xlfn.XLOOKUP(A32,Caracterización!$B$8:$K$8,Caracterización!$B$36:$K$36,\"\"), \"\"))","v":""}]
[null,null,{"$f":"IF(AND(A33<>0, _xlfn.XLOOKUP(A33,Caracterización!$B$8:$K$8,Caracterización!$B$10:$K$10,\"\")=\"Seleccione ...\"), \"Debe indicarlo en la caracterización de la comunidad\", IF(A33<>0, _xlfn.XLOOKUP(A33,Caracterización!$B$8:$K$8,Caracterización!$B$10:$K$10,\"\"), \"\"))","v":""},{"$f":"IF(AND(A33<>0, _xlfn.XLOOKUP(A33,Caracterización!$B$8:$K$8,Caracterización!$B$11:$K$11,\"\")=\"Seleccione ...\"), \"Debe indicarlo en la caracterización de la comunidad\", IF(A33<>0, _xlfn.XLOOKUP(A33,Caracterización!$B$8:$K$8,Caracterización!$B$11:$K$11,\"\"), \"\"))","v":""},{"$f":"IF(AND(A33<>0, _xlfn.XLOOKUP(A33,Caracterización!$B$8:$K$8,Caracterización!$B$19:$K$19,\"\")=\"Seleccione ...\"), \"Debe indicarlo en la caracterización de la comunidad\", IF(A33<>0, _xlfn.XLOOKUP(A33,Caracterización!$B$8:$K$8,Caracterización!$B$19:$K$19,\"\"), \"\"))","v":""},{"$f":"IF(AND(A33<>0, _xlfn.XLOOKUP(A33,Caracterización!$B$8:$K$8,Caracterización!$B$20:$K$20,\"\")=\"Seleccione ...\"), \"Debe indicarlo en la caracterización de la comunidad\", IF(A33<>0, _xlfn.XLOOKUP(A33,Caracterización!$B$8:$K$8,Caracterización!$B$20:$K$20,\"\"), \"\"))","v":""},{"$f":"IF(AND(A33<>0, _xlfn.XLOOKUP(A33,Caracterización!$B$8:$K$8,Caracterización!$B$22:$K$22,\"\")=\"Seleccione ...\"), \"Debe indicarlo en la caracterización de la comunidad\", IF(A33<>0, _xlfn.XLOOKUP(A33,Caracterización!$B$8:$K$8,Caracterización!$B$22:$K$22,\"\"), \"\"))","v":""},{"$f":"IF(AND(A33<>0, _xlfn.XLOOKUP(A33,Caracterización!$B$8:$K$8,Caracterización!$B$23:$K$23,\"\")=\"Seleccione ...\"), \"Debe indicarlo en la caracterización de la comunidad\", IF(A33<>0, _xlfn.XLOOKUP(A33,Caracterización!$B$8:$K$8,Caracterización!$B$23:$K$23,\"\"), \"\"))","v":""},{"$f":"IF(AND(A33<>0, _xlfn.XLOOKUP(A33,Caracterización!$B$8:$K$8,Caracterización!$B$28:$K$28,\"\")=\"Seleccione ...\"), \"Debe indicarlo en la caracterización de la comunidad\", IF(A33<>0, _xlfn.XLOOKUP(A33,Caracterización!$B$8:$K$8,Caracterización!$B$28:$K$28,\"\"), \"\"))","v":""},{"$f":"IF(AND(A33<>0, _xlfn.XLOOKUP(A33,Caracterización!$B$8:$K$8,Caracterización!$B$37:$K$37,\"\")=\"Seleccione ...\"), \"Debe indicarlo en la caracterización de la comunidad\", IF(A33<>0, _xlfn.XLOOKUP(A33,Caracterización!$B$8:$K$8,Caracterización!$B$37:$K$37,\"\"), \"\"))","v":""},{"$f":"IF(AND(A33<>0, _xlfn.XLOOKUP(A33,Caracterización!$B$8:$K$8,Caracterización!$B$40:$K$40,\"\")=\"Seleccione ...\"), \"Debe indicarlo en la caracterización de la comunidad\", IF(A33<>0, _xlfn.XLOOKUP(A33,Caracterización!$B$8:$K$8,Caracterización!$B$40:$K$40,\"\"), \"\"))","v":""},{"$f":"IF(AND(A33<>0, _xlfn.XLOOKUP(A33,Caracterización!$B$8:$K$8,Caracterización!$B$42:$K$42,\"\")=\"Seleccione ...\"), \"Debe indicarlo en la caracterización de la comunidad\", IF(A33<>0, _xlfn.XLOOKUP(A33,Caracterización!$B$8:$K$8,Caracterización!$B$42:$K$42,\"\"), \"\"))","v":""},{"$f":"IF(AND(A33<>0, _xlfn.XLOOKUP(A33,Caracterización!$B$8:$K$8,Caracterización!$B$72:$K$72,\"\")=\"Seleccione ...\"), \"Debe indicarlo en la caracterización de la comunidad\", IF(A33<>0, _xlfn.XLOOKUP(A33,Caracterización!$B$8:$K$8,Caracterización!$B$72:$K$72,\"\"), \"\"))","v":""},{"$f":"IF(AND(A33<>0, _xlfn.XLOOKUP(A33,Caracterización!$B$8:$K$8,Caracterización!$B$36:$K$36,\"\")=\"Seleccione ...\"), \"Debe indicarlo en la caracterización de la comunidad\", IF(A33<>0, _xlfn.XLOOKUP(A33,Caracterización!$B$8:$K$8,Caracterización!$B$36:$K$36,\"\"), \"\"))","v":""}]
[null,null,{"$f":"IF(AND(A34<>0, _xlfn.XLOOKUP(A34,Caracterización!$B$8:$K$8,Caracterización!$B$10:$K$10,\"\")=\"Seleccione ...\"), \"Debe indicarlo en la caracterización de la comunidad\", IF(A34<>0, _xlfn.XLOOKUP(A34,Caracterización!$B$8:$K$8,Caracterización!$B$10:$K$10,\"\"), \"\"))","v":""},{"$f":"IF(AND(A34<>0, _xlfn.XLOOKUP(A34,Caracterización!$B$8:$K$8,Caracterización!$B$11:$K$11,\"\")=\"Seleccione ...\"), \"Debe indicarlo en la caracterización de la comunidad\", IF(A34<>0, _xlfn.XLOOKUP(A34,Caracterización!$B$8:$K$8,Caracterización!$B$11:$K$11,\"\"), \"\"))","v":""},{"$f":"IF(AND(A34<>0, _xlfn.XLOOKUP(A34,Caracterización!$B$8:$K$8,Caracterización!$B$19:$K$19,\"\")=\"Seleccione ...\"), \"Debe indicarlo en la caracterización de la comunidad\", IF(A34<>0, _xlfn.XLOOKUP(A34,Caracterización!$B$8:$K$8,Caracterización!$B$19:$K$19,\"\"), \"\"))","v":""},{"$f":"IF(AND(A34<>0, _xlfn.XLOOKUP(A34,Caracterización!$B$8:$K$8,Caracterización!$B$20:$K$20,\"\")=\"Seleccione ...\"), \"Debe indicarlo en la caracterización de la comunidad\", IF(A34<>0, _xlfn.XLOOKUP(A34,Caracterización!$B$8:$K$8,Caracterización!$B$20:$K$20,\"\"), \"\"))","v":""},{"$f":"IF(AND(A34<>0, _xlfn.XLOOKUP(A34,Caracterización!$B$8:$K$8,Caracterización!$B$22:$K$22,\"\")=\"Seleccione ...\"), \"Debe indicarlo en la caracterización de la comunidad\", IF(A34<>0, _xlfn.XLOOKUP(A34,Caracterización!$B$8:$K$8,Caracterización!$B$22:$K$22,\"\"), \"\"))","v":""},{"$f":"IF(AND(A34<>0, _xlfn.XLOOKUP(A34,Caracterización!$B$8:$K$8,Caracterización!$B$23:$K$23,\"\")=\"Seleccione ...\"), \"Debe indicarlo en la caracterización de la comunidad\", IF(A34<>0, _xlfn.XLOOKUP(A34,Caracterización!$B$8:$K$8,Caracterización!$B$23:$K$23,\"\"), \"\"))","v":""},{"$f":"IF(AND(A34<>0, _xlfn.XLOOKUP(A34,Caracterización!$B$8:$K$8,Caracterización!$B$28:$K$28,\"\")=\"Seleccione ...\"), \"Debe indicarlo en la caracterización de la comunidad\", IF(A34<>0, _xlfn.XLOOKUP(A34,Caracterización!$B$8:$K$8,Caracterización!$B$28:$K$28,\"\"), \"\"))","v":""},{"$f":"IF(AND(A34<>0, _xlfn.XLOOKUP(A34,Caracterización!$B$8:$K$8,Caracterización!$B$37:$K$37,\"\")=\"Seleccione ...\"), \"Debe indicarlo en la caracterización de la comunidad\", IF(A34<>0, _xlfn.XLOOKUP(A34,Caracterización!$B$8:$K$8,Caracterización!$B$37:$K$37,\"\"), \"\"))","v":""},{"$f":"IF(AND(A34<>0, _xlfn.XLOOKUP(A34,Caracterización!$B$8:$K$8,Caracterización!$B$40:$K$40,\"\")=\"Seleccione ...\"), \"Debe indicarlo en la caracterización de la comunidad\", IF(A34<>0, _xlfn.XLOOKUP(A34,Caracterización!$B$8:$K$8,Caracterización!$B$40:$K$40,\"\"), \"\"))","v":""},{"$f":"IF(AND(A34<>0, _xlfn.XLOOKUP(A34,Caracterización!$B$8:$K$8,Caracterización!$B$42:$K$42,\"\")=\"Seleccione ...\"), \"Debe indicarlo en la caracterización de la comunidad\", IF(A34<>0, _xlfn.XLOOKUP(A34,Caracterización!$B$8:$K$8,Caracterización!$B$42:$K$42,\"\"), \"\"))","v":""},{"$f":"IF(AND(A34<>0, _xlfn.XLOOKUP(A34,Caracterización!$B$8:$K$8,Caracterización!$B$72:$K$72,\"\")=\"Seleccione ...\"), \"Debe indicarlo en la caracterización de la comunidad\", IF(A34<>0, _xlfn.XLOOKUP(A34,Caracterización!$B$8:$K$8,Caracterización!$B$72:$K$72,\"\"), \"\"))","v":""},{"$f":"IF(AND(A34<>0, _xlfn.XLOOKUP(A34,Caracterización!$B$8:$K$8,Caracterización!$B$36:$K$36,\"\")=\"Seleccione ...\"), \"Debe indicarlo en la caracterización de la comunidad\", IF(A34<>0, _xlfn.XLOOKUP(A34,Caracterización!$B$8:$K$8,Caracterización!$B$36:$K$36,\"\"), \"\"))","v":""}]
[null,null,{"$f":"IF(AND(A35<>0, _xlfn.XLOOKUP(A35,Caracterización!$B$8:$K$8,Caracterización!$B$10:$K$10,\"\")=\"Seleccione ...\"), \"Debe indicarlo en la caracterización de la comunidad\", IF(A35<>0, _xlfn.XLOOKUP(A35,Caracterización!$B$8:$K$8,Caracterización!$B$10:$K$10,\"\"), \"\"))","v":""},{"$f":"IF(AND(A35<>0, _xlfn.XLOOKUP(A35,Caracterización!$B$8:$K$8,Caracterización!$B$11:$K$11,\"\")=\"Seleccione ...\"), \"Debe indicarlo en la caracterización de la comunidad\", IF(A35<>0, _xlfn.XLOOKUP(A35,Caracterización!$B$8:$K$8,Caracterización!$B$11:$K$11,\"\"), \"\"))","v":""},{"$f":"IF(AND(A35<>0, _xlfn.XLOOKUP(A35,Caracterización!$B$8:$K$8,Caracterización!$B$19:$K$19,\"\")=\"Seleccione ...\"), \"Debe indicarlo en la caracterización de la comunidad\", IF(A35<>0, _xlfn.XLOOKUP(A35,Caracterización!$B$8:$K$8,Caracterización!$B$19:$K$19,\"\"), \"\"))","v":""},{"$f":"IF(AND(A35<>0, _xlfn.XLOOKUP(A35,Caracterización!$B$8:$K$8,Caracterización!$B$20:$K$20,\"\")=\"Seleccione ...\"), \"Debe indicarlo en la caracterización de la comunidad\", IF(A35<>0, _xlfn.XLOOKUP(A35,Caracterización!$B$8:$K$8,Caracterización!$B$20:$K$20,\"\"), \"\"))","v":""},{"$f":"IF(AND(A35<>0, _xlfn.XLOOKUP(A35,Caracterización!$B$8:$K$8,Caracterización!$B$22:$K$22,\"\")=\"Seleccione ...\"), \"Debe indicarlo en la caracterización de la comunidad\", IF(A35<>0, _xlfn.XLOOKUP(A35,Caracterización!$B$8:$K$8,Caracterización!$B$22:$K$22,\"\"), \"\"))","v":""},{"$f":"IF(AND(A35<>0, _xlfn.XLOOKUP(A35,Caracterización!$B$8:$K$8,Caracterización!$B$23:$K$23,\"\")=\"Seleccione ...\"), \"Debe indicarlo en la caracterización de la comunidad\", IF(A35<>0, _xlfn.XLOOKUP(A35,Caracterización!$B$8:$K$8,Caracterización!$B$23:$K$23,\"\"), \"\"))","v":""},{"$f":"IF(AND(A35<>0, _xlfn.XLOOKUP(A35,Caracterización!$B$8:$K$8,Caracterización!$B$28:$K$28,\"\")=\"Seleccione ...\"), \"Debe indicarlo en la caracterización de la comunidad\", IF(A35<>0, _xlfn.XLOOKUP(A35,Caracterización!$B$8:$K$8,Caracterización!$B$28:$K$28,\"\"), \"\"))","v":""},{"$f":"IF(AND(A35<>0, _xlfn.XLOOKUP(A35,Caracterización!$B$8:$K$8,Caracterización!$B$37:$K$37,\"\")=\"Seleccione ...\"), \"Debe indicarlo en la caracterización de la comunidad\", IF(A35<>0, _xlfn.XLOOKUP(A35,Caracterización!$B$8:$K$8,Caracterización!$B$37:$K$37,\"\"), \"\"))","v":""},{"$f":"IF(AND(A35<>0, _xlfn.XLOOKUP(A35,Caracterización!$B$8:$K$8,Caracterización!$B$40:$K$40,\"\")=\"Seleccione ...\"), \"Debe indicarlo en la caracterización de la comunidad\", IF(A35<>0, _xlfn.XLOOKUP(A35,Caracterización!$B$8:$K$8,Caracterización!$B$40:$K$40,\"\"), \"\"))","v":""},{"$f":"IF(AND(A35<>0, _xlfn.XLOOKUP(A35,Caracterización!$B$8:$K$8,Caracterización!$B$42:$K$42,\"\")=\"Seleccione ...\"), \"Debe indicarlo en la caracterización de la comunidad\", IF(A35<>0, _xlfn.XLOOKUP(A35,Caracterización!$B$8:$K$8,Caracterización!$B$42:$K$42,\"\"), \"\"))","v":""},{"$f":"IF(AND(A35<>0, _xlfn.XLOOKUP(A35,Caracterización!$B$8:$K$8,Caracterización!$B$72:$K$72,\"\")=\"Seleccione ...\"), \"Debe indicarlo en la caracterización de la comunidad\", IF(A35<>0, _xlfn.XLOOKUP(A35,Caracterización!$B$8:$K$8,Caracterización!$B$72:$K$72,\"\"), \"\"))","v":""},{"$f":"IF(AND(A35<>0, _xlfn.XLOOKUP(A35,Caracterización!$B$8:$K$8,Caracterización!$B$36:$K$36,\"\")=\"Seleccione ...\"), \"Debe indicarlo en la caracterización de la comunidad\", IF(A35<>0, _xlfn.XLOOKUP(A35,Caracterización!$B$8:$K$8,Caracterización!$B$36:$K$36,\"\"), \"\"))","v":""}]
[null,null,{"$f":"IF(AND(A36<>0, _xlfn.XLOOKUP(A36,Caracterización!$B$8:$K$8,Caracterización!$B$10:$K$10,\"\")=\"Seleccione ...\"), \"Debe indicarlo en la caracterización de la comunidad\", IF(A36<>0, _xlfn.XLOOKUP(A36,Caracterización!$B$8:$K$8,Caracterización!$B$10:$K$10,\"\"), \"\"))","v":""},{"$f":"IF(AND(A36<>0, _xlfn.XLOOKUP(A36,Caracterización!$B$8:$K$8,Caracterización!$B$11:$K$11,\"\")=\"Seleccione ...\"), \"Debe indicarlo en la caracterización de la comunidad\", IF(A36<>0, _xlfn.XLOOKUP(A36,Caracterización!$B$8:$K$8,Caracterización!$B$11:$K$11,\"\"), \"\"))","v":""},{"$f":"IF(AND(A36<>0, _xlfn.XLOOKUP(A36,Caracterización!$B$8:$K$8,Caracterización!$B$19:$K$19,\"\")=\"Seleccione ...\"), \"Debe indicarlo en la caracterización de la comunidad\", IF(A36<>0, _xlfn.XLOOKUP(A36,Caracterización!$B$8:$K$8,Caracterización!$B$19:$K$19,\"\"), \"\"))","v":""},{"$f":"IF(AND(A36<>0, _xlfn.XLOOKUP(A36,Caracterización!$B$8:$K$8,Caracterización!$B$20:$K$20,\"\")=\"Seleccione ...\"), \"Debe indicarlo en la caracterización de la comunidad\", IF(A36<>0, _xlfn.XLOOKUP(A36,Caracterización!$B$8:$K$8,Caracterización!$B$20:$K$20,\"\"), \"\"))","v":""},{"$f":"IF(AND(A36<>0, _xlfn.XLOOKUP(A36,Caracterización!$B$8:$K$8,Caracterización!$B$22:$K$22,\"\")=\"Seleccione ...\"), \"Debe indicarlo en la caracterización de la comunidad\", IF(A36<>0, _xlfn.XLOOKUP(A36,Caracterización!$B$8:$K$8,Caracterización!$B$22:$K$22,\"\"), \"\"))","v":""},{"$f":"IF(AND(A36<>0, _xlfn.XLOOKUP(A36,Caracterización!$B$8:$K$8,Caracterización!$B$23:$K$23,\"\")=\"Seleccione ...\"), \"Debe indicarlo en la caracterización de la comunidad\", IF(A36<>0, _xlfn.XLOOKUP(A36,Caracterización!$B$8:$K$8,Caracterización!$B$23:$K$23,\"\"), \"\"))","v":""},{"$f":"IF(AND(A36<>0, _xlfn.XLOOKUP(A36,Caracterización!$B$8:$K$8,Caracterización!$B$28:$K$28,\"\")=\"Seleccione ...\"), \"Debe indicarlo en la caracterización de la comunidad\", IF(A36<>0, _xlfn.XLOOKUP(A36,Caracterización!$B$8:$K$8,Caracterización!$B$28:$K$28,\"\"), \"\"))","v":""},{"$f":"IF(AND(A36<>0, _xlfn.XLOOKUP(A36,Caracterización!$B$8:$K$8,Caracterización!$B$37:$K$37,\"\")=\"Seleccione ...\"), \"Debe indicarlo en la caracterización de la comunidad\", IF(A36<>0, _xlfn.XLOOKUP(A36,Caracterización!$B$8:$K$8,Caracterización!$B$37:$K$37,\"\"), \"\"))","v":""},{"$f":"IF(AND(A36<>0, _xlfn.XLOOKUP(A36,Caracterización!$B$8:$K$8,Caracterización!$B$40:$K$40,\"\")=\"Seleccione ...\"), \"Debe indicarlo en la caracterización de la comunidad\", IF(A36<>0, _xlfn.XLOOKUP(A36,Caracterización!$B$8:$K$8,Caracterización!$B$40:$K$40,\"\"), \"\"))","v":""},{"$f":"IF(AND(A36<>0, _xlfn.XLOOKUP(A36,Caracterización!$B$8:$K$8,Caracterización!$B$42:$K$42,\"\")=\"Seleccione ...\"), \"Debe indicarlo en la caracterización de la comunidad\", IF(A36<>0, _xlfn.XLOOKUP(A36,Caracterización!$B$8:$K$8,Caracterización!$B$42:$K$42,\"\"), \"\"))","v":""},{"$f":"IF(AND(A36<>0, _xlfn.XLOOKUP(A36,Caracterización!$B$8:$K$8,Caracterización!$B$72:$K$72,\"\")=\"Seleccione ...\"), \"Debe indicarlo en la caracterización de la comunidad\", IF(A36<>0, _xlfn.XLOOKUP(A36,Caracterización!$B$8:$K$8,Caracterización!$B$72:$K$72,\"\"), \"\"))","v":""},{"$f":"IF(AND(A36<>0, _xlfn.XLOOKUP(A36,Caracterización!$B$8:$K$8,Caracterización!$B$36:$K$36,\"\")=\"Seleccione ...\"), \"Debe indicarlo en la caracterización de la comunidad\", IF(A36<>0, _xlfn.XLOOKUP(A36,Caracterización!$B$8:$K$8,Caracterización!$B$36:$K$36,\"\"), \"\"))","v":""}]
[null,null,{"$f":"IF(AND(A37<>0, _xlfn.XLOOKUP(A37,Caracterización!$B$8:$K$8,Caracterización!$B$10:$K$10,\"\")=\"Seleccione ...\"), \"Debe indicarlo en la caracterización de la comunidad\", IF(A37<>0, _xlfn.XLOOKUP(A37,Caracterización!$B$8:$K$8,Caracterización!$B$10:$K$10,\"\"), \"\"))","v":""},{"$f":"IF(AND(A37<>0, _xlfn.XLOOKUP(A37,Caracterización!$B$8:$K$8,Caracterización!$B$11:$K$11,\"\")=\"Seleccione ...\"), \"Debe indicarlo en la caracterización de la comunidad\", IF(A37<>0, _xlfn.XLOOKUP(A37,Caracterización!$B$8:$K$8,Caracterización!$B$11:$K$11,\"\"), \"\"))","v":""},{"$f":"IF(AND(A37<>0, _xlfn.XLOOKUP(A37,Caracterización!$B$8:$K$8,Caracterización!$B$19:$K$19,\"\")=\"Seleccione ...\"), \"Debe indicarlo en la caracterización de la comunidad\", IF(A37<>0, _xlfn.XLOOKUP(A37,Caracterización!$B$8:$K$8,Caracterización!$B$19:$K$19,\"\"), \"\"))","v":""},{"$f":"IF(AND(A37<>0, _xlfn.XLOOKUP(A37,Caracterización!$B$8:$K$8,Caracterización!$B$20:$K$20,\"\")=\"Seleccione ...\"), \"Debe indicarlo en la caracterización de la comunidad\", IF(A37<>0, _xlfn.XLOOKUP(A37,Caracterización!$B$8:$K$8,Caracterización!$B$20:$K$20,\"\"), \"\"))","v":""},{"$f":"IF(AND(A37<>0, _xlfn.XLOOKUP(A37,Caracterización!$B$8:$K$8,Caracterización!$B$22:$K$22,\"\")=\"Seleccione ...\"), \"Debe indicarlo en la caracterización de la comunidad\", IF(A37<>0, _xlfn.XLOOKUP(A37,Caracterización!$B$8:$K$8,Caracterización!$B$22:$K$22,\"\"), \"\"))","v":""},{"$f":"IF(AND(A37<>0, _xlfn.XLOOKUP(A37,Caracterización!$B$8:$K$8,Caracterización!$B$23:$K$23,\"\")=\"Seleccione ...\"), \"Debe indicarlo en la caracterización de la comunidad\", IF(A37<>0, _xlfn.XLOOKUP(A37,Caracterización!$B$8:$K$8,Caracterización!$B$23:$K$23,\"\"), \"\"))","v":""},{"$f":"IF(AND(A37<>0, _xlfn.XLOOKUP(A37,Caracterización!$B$8:$K$8,Caracterización!$B$28:$K$28,\"\")=\"Seleccione ...\"), \"Debe indicarlo en la caracterización de la comunidad\", IF(A37<>0, _xlfn.XLOOKUP(A37,Caracterización!$B$8:$K$8,Caracterización!$B$28:$K$28,\"\"), \"\"))","v":""},{"$f":"IF(AND(A37<>0, _xlfn.XLOOKUP(A37,Caracterización!$B$8:$K$8,Caracterización!$B$37:$K$37,\"\")=\"Seleccione ...\"), \"Debe indicarlo en la caracterización de la comunidad\", IF(A37<>0, _xlfn.XLOOKUP(A37,Caracterización!$B$8:$K$8,Caracterización!$B$37:$K$37,\"\"), \"\"))","v":""},{"$f":"IF(AND(A37<>0, _xlfn.XLOOKUP(A37,Caracterización!$B$8:$K$8,Caracterización!$B$40:$K$40,\"\")=\"Seleccione ...\"), \"Debe indicarlo en la caracterización de la comunidad\", IF(A37<>0, _xlfn.XLOOKUP(A37,Caracterización!$B$8:$K$8,Caracterización!$B$40:$K$40,\"\"), \"\"))","v":""},{"$f":"IF(AND(A37<>0, _xlfn.XLOOKUP(A37,Caracterización!$B$8:$K$8,Caracterización!$B$42:$K$42,\"\")=\"Seleccione ...\"), \"Debe indicarlo en la caracterización de la comunidad\", IF(A37<>0, _xlfn.XLOOKUP(A37,Caracterización!$B$8:$K$8,Caracterización!$B$42:$K$42,\"\"), \"\"))","v":""},{"$f":"IF(AND(A37<>0, _xlfn.XLOOKUP(A37,Caracterización!$B$8:$K$8,Caracterización!$B$72:$K$72,\"\")=\"Seleccione ...\"), \"Debe indicarlo en la caracterización de la comunidad\", IF(A37<>0, _xlfn.XLOOKUP(A37,Caracterización!$B$8:$K$8,Caracterización!$B$72:$K$72,\"\"), \"\"))","v":""},{"$f":"IF(AND(A37<>0, _xlfn.XLOOKUP(A37,Caracterización!$B$8:$K$8,Caracterización!$B$36:$K$36,\"\")=\"Seleccione ...\"), \"Debe indicarlo en la caracterización de la comunidad\", IF(A37<>0, _xlfn.XLOOKUP(A37,Caracterización!$B$8:$K$8,Caracterización!$B$36:$K$36,\"\"), \"\"))","v":""}]
[null,null,{"$f":"IF(AND(A38<>0, _xlfn.XLOOKUP(A38,Caracterización!$B$8:$K$8,Caracterización!$B$10:$K$10,\"\")=\"Seleccione ...\"), \"Debe indicarlo en la caracterización de la comunidad\", IF(A38<>0, _xlfn.XLOOKUP(A38,Caracterización!$B$8:$K$8,Caracterización!$B$10:$K$10,\"\"), \"\"))","v":""},{"$f":"IF(AND(A38<>0, _xlfn.XLOOKUP(A38,Caracterización!$B$8:$K$8,Caracterización!$B$11:$K$11,\"\")=\"Seleccione ...\"), \"Debe indicarlo en la caracterización de la comunidad\", IF(A38<>0, _xlfn.XLOOKUP(A38,Caracterización!$B$8:$K$8,Caracterización!$B$11:$K$11,\"\"), \"\"))","v":""},{"$f":"IF(AND(A38<>0, _xlfn.XLOOKUP(A38,Caracterización!$B$8:$K$8,Caracterización!$B$19:$K$19,\"\")=\"Seleccione ...\"), \"Debe indicarlo en la caracterización de la comunidad\", IF(A38<>0, _xlfn.XLOOKUP(A38,Caracterización!$B$8:$K$8,Caracterización!$B$19:$K$19,\"\"), \"\"))","v":""},{"$f":"IF(AND(A38<>0, _xlfn.XLOOKUP(A38,Caracterización!$B$8:$K$8,Caracterización!$B$20:$K$20,\"\")=\"Seleccione ...\"), \"Debe indicarlo en la caracterización de la comunidad\", IF(A38<>0, _xlfn.XLOOKUP(A38,Caracterización!$B$8:$K$8,Caracterización!$B$20:$K$20,\"\"), \"\"))","v":""},{"$f":"IF(AND(A38<>0, _xlfn.XLOOKUP(A38,Caracterización!$B$8:$K$8,Caracterización!$B$22:$K$22,\"\")=\"Seleccione ...\"), \"Debe indicarlo en la caracterización de la comunidad\", IF(A38<>0, _xlfn.XLOOKUP(A38,Caracterización!$B$8:$K$8,Caracterización!$B$22:$K$22,\"\"), \"\"))","v":""},{"$f":"IF(AND(A38<>0, _xlfn.XLOOKUP(A38,Caracterización!$B$8:$K$8,Caracterización!$B$23:$K$23,\"\")=\"Seleccione ...\"), \"Debe indicarlo en la caracterización de la comunidad\", IF(A38<>0, _xlfn.XLOOKUP(A38,Caracterización!$B$8:$K$8,Caracterización!$B$23:$K$23,\"\"), \"\"))","v":""},{"$f":"IF(AND(A38<>0, _xlfn.XLOOKUP(A38,Caracterización!$B$8:$K$8,Caracterización!$B$28:$K$28,\"\")=\"Seleccione ...\"), \"Debe indicarlo en la caracterización de la comunidad\", IF(A38<>0, _xlfn.XLOOKUP(A38,Caracterización!$B$8:$K$8,Caracterización!$B$28:$K$28,\"\"), \"\"))","v":""},{"$f":"IF(AND(A38<>0, _xlfn.XLOOKUP(A38,Caracterización!$B$8:$K$8,Caracterización!$B$37:$K$37,\"\")=\"Seleccione ...\"), \"Debe indicarlo en la caracterización de la comunidad\", IF(A38<>0, _xlfn.XLOOKUP(A38,Caracterización!$B$8:$K$8,Caracterización!$B$37:$K$37,\"\"), \"\"))","v":""},{"$f":"IF(AND(A38<>0, _xlfn.XLOOKUP(A38,Caracterización!$B$8:$K$8,Caracterización!$B$40:$K$40,\"\")=\"Seleccione ...\"), \"Debe indicarlo en la caracterización de la comunidad\", IF(A38<>0, _xlfn.XLOOKUP(A38,Caracterización!$B$8:$K$8,Caracterización!$B$40:$K$40,\"\"), \"\"))","v":""},{"$f":"IF(AND(A38<>0, _xlfn.XLOOKUP(A38,Caracterización!$B$8:$K$8,Caracterización!$B$42:$K$42,\"\")=\"Seleccione ...\"), \"Debe indicarlo en la caracterización de la comunidad\", IF(A38<>0, _xlfn.XLOOKUP(A38,Caracterización!$B$8:$K$8,Caracterización!$B$42:$K$42,\"\"), \"\"))","v":""},{"$f":"IF(AND(A38<>0, _xlfn.XLOOKUP(A38,Caracterización!$B$8:$K$8,Caracterización!$B$72:$K$72,\"\")=\"Seleccione ...\"), \"Debe indicarlo en la caracterización de la comunidad\", IF(A38<>0, _xlfn.XLOOKUP(A38,Caracterización!$B$8:$K$8,Caracterización!$B$72:$K$72,\"\"), \"\"))","v":""},{"$f":"IF(AND(A38<>0, _xlfn.XLOOKUP(A38,Caracterización!$B$8:$K$8,Caracterización!$B$36:$K$36,\"\")=\"Seleccione ...\"), \"Debe indicarlo en la caracterización de la comunidad\", IF(A38<>0, _xlfn.XLOOKUP(A38,Caracterización!$B$8:$K$8,Caracterización!$B$36:$K$36,\"\"), \"\"))","v":""}]
[null,null,{"$f":"IF(AND(A39<>0, _xlfn.XLOOKUP(A39,Caracterización!$B$8:$K$8,Caracterización!$B$10:$K$10,\"\")=\"Seleccione ...\"), \"Debe indicarlo en la caracterización de la comunidad\", IF(A39<>0, _xlfn.XLOOKUP(A39,Caracterización!$B$8:$K$8,Caracterización!$B$10:$K$10,\"\"), \"\"))","v":""},{"$f":"IF(AND(A39<>0, _xlfn.XLOOKUP(A39,Caracterización!$B$8:$K$8,Caracterización!$B$11:$K$11,\"\")=\"Seleccione ...\"), \"Debe indicarlo en la caracterización de la comunidad\", IF(A39<>0, _xlfn.XLOOKUP(A39,Caracterización!$B$8:$K$8,Caracterización!$B$11:$K$11,\"\"), \"\"))","v":""},{"$f":"IF(AND(A39<>0, _xlfn.XLOOKUP(A39,Caracterización!$B$8:$K$8,Caracterización!$B$19:$K$19,\"\")=\"Seleccione ...\"), \"Debe indicarlo en la caracterización de la comunidad\", IF(A39<>0, _xlfn.XLOOKUP(A39,Caracterización!$B$8:$K$8,Caracterización!$B$19:$K$19,\"\"), \"\"))","v":""},{"$f":"IF(AND(A39<>0, _xlfn.XLOOKUP(A39,Caracterización!$B$8:$K$8,Caracterización!$B$20:$K$20,\"\")=\"Seleccione ...\"), \"Debe indicarlo en la caracterización de la comunidad\", IF(A39<>0, _xlfn.XLOOKUP(A39,Caracterización!$B$8:$K$8,Caracterización!$B$20:$K$20,\"\"), \"\"))","v":""},{"$f":"IF(AND(A39<>0, _xlfn.XLOOKUP(A39,Caracterización!$B$8:$K$8,Caracterización!$B$22:$K$22,\"\")=\"Seleccione ...\"), \"Debe indicarlo en la caracterización de la comunidad\", IF(A39<>0, _xlfn.XLOOKUP(A39,Caracterización!$B$8:$K$8,Caracterización!$B$22:$K$22,\"\"), \"\"))","v":""},{"$f":"IF(AND(A39<>0, _xlfn.XLOOKUP(A39,Caracterización!$B$8:$K$8,Caracterización!$B$23:$K$23,\"\")=\"Seleccione ...\"), \"Debe indicarlo en la caracterización de la comunidad\", IF(A39<>0, _xlfn.XLOOKUP(A39,Caracterización!$B$8:$K$8,Caracterización!$B$23:$K$23,\"\"), \"\"))","v":""},{"$f":"IF(AND(A39<>0, _xlfn.XLOOKUP(A39,Caracterización!$B$8:$K$8,Caracterización!$B$28:$K$28,\"\")=\"Seleccione ...\"), \"Debe indicarlo en la caracterización de la comunidad\", IF(A39<>0, _xlfn.XLOOKUP(A39,Caracterización!$B$8:$K$8,Caracterización!$B$28:$K$28,\"\"), \"\"))","v":""},{"$f":"IF(AND(A39<>0, _xlfn.XLOOKUP(A39,Caracterización!$B$8:$K$8,Caracterización!$B$37:$K$37,\"\")=\"Seleccione ...\"), \"Debe indicarlo en la caracterización de la comunidad\", IF(A39<>0, _xlfn.XLOOKUP(A39,Caracterización!$B$8:$K$8,Caracterización!$B$37:$K$37,\"\"), \"\"))","v":""},{"$f":"IF(AND(A39<>0, _xlfn.XLOOKUP(A39,Caracterización!$B$8:$K$8,Caracterización!$B$40:$K$40,\"\")=\"Seleccione ...\"), \"Debe indicarlo en la caracterización de la comunidad\", IF(A39<>0, _xlfn.XLOOKUP(A39,Caracterización!$B$8:$K$8,Caracterización!$B$40:$K$40,\"\"), \"\"))","v":""},{"$f":"IF(AND(A39<>0, _xlfn.XLOOKUP(A39,Caracterización!$B$8:$K$8,Caracterización!$B$42:$K$42,\"\")=\"Seleccione ...\"), \"Debe indicarlo en la caracterización de la comunidad\", IF(A39<>0, _xlfn.XLOOKUP(A39,Caracterización!$B$8:$K$8,Caracterización!$B$42:$K$42,\"\"), \"\"))","v":""},{"$f":"IF(AND(A39<>0, _xlfn.XLOOKUP(A39,Caracterización!$B$8:$K$8,Caracterización!$B$72:$K$72,\"\")=\"Seleccione ...\"), \"Debe indicarlo en la caracterización de la comunidad\", IF(A39<>0, _xlfn.XLOOKUP(A39,Caracterización!$B$8:$K$8,Caracterización!$B$72:$K$72,\"\"), \"\"))","v":""},{"$f":"IF(AND(A39<>0, _xlfn.XLOOKUP(A39,Caracterización!$B$8:$K$8,Caracterización!$B$36:$K$36,\"\")=\"Seleccione ...\"), \"Debe indicarlo en la caracterización de la comunidad\", IF(A39<>0, _xlfn.XLOOKUP(A39,Caracterización!$B$8:$K$8,Caracterización!$B$36:$K$36,\"\"), \"\"))","v":""}]
[null,null,{"$f":"IF(AND(A40<>0, _xlfn.XLOOKUP(A40,Caracterización!$B$8:$K$8,Caracterización!$B$10:$K$10,\"\")=\"Seleccione ...\"), \"Debe indicarlo en la caracterización de la comunidad\", IF(A40<>0, _xlfn.XLOOKUP(A40,Caracterización!$B$8:$K$8,Caracterización!$B$10:$K$10,\"\"), \"\"))","v":""},{"$f":"IF(AND(A40<>0, _xlfn.XLOOKUP(A40,Caracterización!$B$8:$K$8,Caracterización!$B$11:$K$11,\"\")=\"Seleccione ...\"), \"Debe indicarlo en la caracterización de la comunidad\", IF(A40<>0, _xlfn.XLOOKUP(A40,Caracterización!$B$8:$K$8,Caracterización!$B$11:$K$11,\"\"), \"\"))","v":""},{"$f":"IF(AND(A40<>0, _xlfn.XLOOKUP(A40,Caracterización!$B$8:$K$8,Caracterización!$B$19:$K$19,\"\")=\"Seleccione ...\"), \"Debe indicarlo en la caracterización de la comunidad\", IF(A40<>0, _xlfn.XLOOKUP(A40,Caracterización!$B$8:$K$8,Caracterización!$B$19:$K$19,\"\"), \"\"))","v":""},{"$f":"IF(AND(A40<>0, _xlfn.XLOOKUP(A40,Caracterización!$B$8:$K$8,Caracterización!$B$20:$K$20,\"\")=\"Seleccione ...\"), \"Debe indicarlo en la caracterización de la comunidad\", IF(A40<>0, _xlfn.XLOOKUP(A40,Caracterización!$B$8:$K$8,Caracterización!$B$20:$K$20,\"\"), \"\"))","v":""},{"$f":"IF(AND(A40<>0, _xlfn.XLOOKUP(A40,Caracterización!$B$8:$K$8,Caracterización!$B$22:$K$22,\"\")=\"Seleccione ...\"), \"Debe indicarlo en la caracterización de la comunidad\", IF(A40<>0, _xlfn.XLOOKUP(A40,Caracterización!$B$8:$K$8,Caracterización!$B$22:$K$22,\"\"), \"\"))","v":""},{"$f":"IF(AND(A40<>0, _xlfn.XLOOKUP(A40,Caracterización!$B$8:$K$8,Caracterización!$B$23:$K$23,\"\")=\"Seleccione ...\"), \"Debe indicarlo en la caracterización de la comunidad\", IF(A40<>0, _xlfn.XLOOKUP(A40,Caracterización!$B$8:$K$8,Caracterización!$B$23:$K$23,\"\"), \"\"))","v":""},{"$f":"IF(AND(A40<>0, _xlfn.XLOOKUP(A40,Caracterización!$B$8:$K$8,Caracterización!$B$28:$K$28,\"\")=\"Seleccione ...\"), \"Debe indicarlo en la caracterización de la comunidad\", IF(A40<>0, _xlfn.XLOOKUP(A40,Caracterización!$B$8:$K$8,Caracterización!$B$28:$K$28,\"\"), \"\"))","v":""},{"$f":"IF(AND(A40<>0, _xlfn.XLOOKUP(A40,Caracterización!$B$8:$K$8,Caracterización!$B$37:$K$37,\"\")=\"Seleccione ...\"), \"Debe indicarlo en la caracterización de la comunidad\", IF(A40<>0, _xlfn.XLOOKUP(A40,Caracterización!$B$8:$K$8,Caracterización!$B$37:$K$37,\"\"), \"\"))","v":""},{"$f":"IF(AND(A40<>0, _xlfn.XLOOKUP(A40,Caracterización!$B$8:$K$8,Caracterización!$B$40:$K$40,\"\")=\"Seleccione ...\"), \"Debe indicarlo en la caracterización de la comunidad\", IF(A40<>0, _xlfn.XLOOKUP(A40,Caracterización!$B$8:$K$8,Caracterización!$B$40:$K$40,\"\"), \"\"))","v":""},{"$f":"IF(AND(A40<>0, _xlfn.XLOOKUP(A40,Caracterización!$B$8:$K$8,Caracterización!$B$42:$K$42,\"\")=\"Seleccione ...\"), \"Debe indicarlo en la caracterización de la comunidad\", IF(A40<>0, _xlfn.XLOOKUP(A40,Caracterización!$B$8:$K$8,Caracterización!$B$42:$K$42,\"\"), \"\"))","v":""},{"$f":"IF(AND(A40<>0, _xlfn.XLOOKUP(A40,Caracterización!$B$8:$K$8,Caracterización!$B$72:$K$72,\"\")=\"Seleccione ...\"), \"Debe indicarlo en la caracterización de la comunidad\", IF(A40<>0, _xlfn.XLOOKUP(A40,Caracterización!$B$8:$K$8,Caracterización!$B$72:$K$72,\"\"), \"\"))","v":""},{"$f":"IF(AND(A40<>0, _xlfn.XLOOKUP(A40,Caracterización!$B$8:$K$8,Caracterización!$B$36:$K$36,\"\")=\"Seleccione ...\"), \"Debe indicarlo en la caracterización de la comunidad\", IF(A40<>0, _xlfn.XLOOKUP(A40,Caracterización!$B$8:$K$8,Caracterización!$B$36:$K$36,\"\"), \"\"))","v":""}]
[null,null,{"$f":"IF(AND(A41<>0, _xlfn.XLOOKUP(A41,Caracterización!$B$8:$K$8,Caracterización!$B$10:$K$10,\"\")=\"Seleccione ...\"), \"Debe indicarlo en la caracterización de la comunidad\", IF(A41<>0, _xlfn.XLOOKUP(A41,Caracterización!$B$8:$K$8,Caracterización!$B$10:$K$10,\"\"), \"\"))","v":""},{"$f":"IF(AND(A41<>0, _xlfn.XLOOKUP(A41,Caracterización!$B$8:$K$8,Caracterización!$B$11:$K$11,\"\")=\"Seleccione ...\"), \"Debe indicarlo en la caracterización de la comunidad\", IF(A41<>0, _xlfn.XLOOKUP(A41,Caracterización!$B$8:$K$8,Caracterización!$B$11:$K$11,\"\"), \"\"))","v":""},{"$f":"IF(AND(A41<>0, _xlfn.XLOOKUP(A41,Caracterización!$B$8:$K$8,Caracterización!$B$19:$K$19,\"\")=\"Seleccione ...\"), \"Debe indicarlo en la caracterización de la comunidad\", IF(A41<>0, _xlfn.XLOOKUP(A41,Caracterización!$B$8:$K$8,Caracterización!$B$19:$K$19,\"\"), \"\"))","v":""},{"$f":"IF(AND(A41<>0, _xlfn.XLOOKUP(A41,Caracterización!$B$8:$K$8,Caracterización!$B$20:$K$20,\"\")=\"Seleccione ...\"), \"Debe indicarlo en la caracterización de la comunidad\", IF(A41<>0, _xlfn.XLOOKUP(A41,Caracterización!$B$8:$K$8,Caracterización!$B$20:$K$20,\"\"), \"\"))","v":""},{"$f":"IF(AND(A41<>0, _xlfn.XLOOKUP(A41,Caracterización!$B$8:$K$8,Caracterización!$B$22:$K$22,\"\")=\"Seleccione ...\"), \"Debe indicarlo en la caracterización de la comunidad\", IF(A41<>0, _xlfn.XLOOKUP(A41,Caracterización!$B$8:$K$8,Caracterización!$B$22:$K$22,\"\"), \"\"))","v":""},{"$f":"IF(AND(A41<>0, _xlfn.XLOOKUP(A41,Caracterización!$B$8:$K$8,Caracterización!$B$23:$K$23,\"\")=\"Seleccione ...\"), \"Debe indicarlo en la caracterización de la comunidad\", IF(A41<>0, _xlfn.XLOOKUP(A41,Caracterización!$B$8:$K$8,Caracterización!$B$23:$K$23,\"\"), \"\"))","v":""},{"$f":"IF(AND(A41<>0, _xlfn.XLOOKUP(A41,Caracterización!$B$8:$K$8,Caracterización!$B$28:$K$28,\"\")=\"Seleccione ...\"), \"Debe indicarlo en la caracterización de la comunidad\", IF(A41<>0, _xlfn.XLOOKUP(A41,Caracterización!$B$8:$K$8,Caracterización!$B$28:$K$28,\"\"), \"\"))","v":""},{"$f":"IF(AND(A41<>0, _xlfn.XLOOKUP(A41,Caracterización!$B$8:$K$8,Caracterización!$B$37:$K$37,\"\")=\"Seleccione ...\"), \"Debe indicarlo en la caracterización de la comunidad\", IF(A41<>0, _xlfn.XLOOKUP(A41,Caracterización!$B$8:$K$8,Caracterización!$B$37:$K$37,\"\"), \"\"))","v":""},{"$f":"IF(AND(A41<>0, _xlfn.XLOOKUP(A41,Caracterización!$B$8:$K$8,Caracterización!$B$40:$K$40,\"\")=\"Seleccione ...\"), \"Debe indicarlo en la caracterización de la comunidad\", IF(A41<>0, _xlfn.XLOOKUP(A41,Caracterización!$B$8:$K$8,Caracterización!$B$40:$K$40,\"\"), \"\"))","v":""},{"$f":"IF(AND(A41<>0, _xlfn.XLOOKUP(A41,Caracterización!$B$8:$K$8,Caracterización!$B$42:$K$42,\"\")=\"Seleccione ...\"), \"Debe indicarlo en la caracterización de la comunidad\", IF(A41<>0, _xlfn.XLOOKUP(A41,Caracterización!$B$8:$K$8,Caracterización!$B$42:$K$42,\"\"), \"\"))","v":""},{"$f":"IF(AND(A41<>0, _xlfn.XLOOKUP(A41,Caracterización!$B$8:$K$8,Caracterización!$B$72:$K$72,\"\")=\"Seleccione ...\"), \"Debe indicarlo en la caracterización de la comunidad\", IF(A41<>0, _xlfn.XLOOKUP(A41,Caracterización!$B$8:$K$8,Caracterización!$B$72:$K$72,\"\"), \"\"))","v":""},{"$f":"IF(AND(A41<>0, _xlfn.XLOOKUP(A41,Caracterización!$B$8:$K$8,Caracterización!$B$36:$K$36,\"\")=\"Seleccione ...\"), \"Debe indicarlo en la caracterización de la comunidad\", IF(A41<>0, _xlfn.XLOOKUP(A41,Caracterización!$B$8:$K$8,Caracterización!$B$36:$K$36,\"\"), \"\"))","v":""}]
[null,null,{"$f":"IF(AND(A42<>0, _xlfn.XLOOKUP(A42,Caracterización!$B$8:$K$8,Caracterización!$B$10:$K$10,\"\")=\"Seleccione ...\"), \"Debe indicarlo en la caracterización de la comunidad\", IF(A42<>0, _xlfn.XLOOKUP(A42,Caracterización!$B$8:$K$8,Caracterización!$B$10:$K$10,\"\"), \"\"))","v":""},{"$f":"IF(AND(A42<>0, _xlfn.XLOOKUP(A42,Caracterización!$B$8:$K$8,Caracterización!$B$11:$K$11,\"\")=\"Seleccione ...\"), \"Debe indicarlo en la caracterización de la comunidad\", IF(A42<>0, _xlfn.XLOOKUP(A42,Caracterización!$B$8:$K$8,Caracterización!$B$11:$K$11,\"\"), \"\"))","v":""},{"$f":"IF(AND(A42<>0, _xlfn.XLOOKUP(A42,Caracterización!$B$8:$K$8,Caracterización!$B$19:$K$19,\"\")=\"Seleccione ...\"), \"Debe indicarlo en la caracterización de la comunidad\", IF(A42<>0, _xlfn.XLOOKUP(A42,Caracterización!$B$8:$K$8,Caracterización!$B$19:$K$19,\"\"), \"\"))","v":""},{"$f":"IF(AND(A42<>0, _xlfn.XLOOKUP(A42,Caracterización!$B$8:$K$8,Caracterización!$B$20:$K$20,\"\")=\"Seleccione ...\"), \"Debe indicarlo en la caracterización de la comunidad\", IF(A42<>0, _xlfn.XLOOKUP(A42,Caracterización!$B$8:$K$8,Caracterización!$B$20:$K$20,\"\"), \"\"))","v":""},{"$f":"IF(AND(A42<>0, _xlfn.XLOOKUP(A42,Caracterización!$B$8:$K$8,Caracterización!$B$22:$K$22,\"\")=\"Seleccione ...\"), \"Debe indicarlo en la caracterización de la comunidad\", IF(A42<>0, _xlfn.XLOOKUP(A42,Caracterización!$B$8:$K$8,Caracterización!$B$22:$K$22,\"\"), \"\"))","v":""},{"$f":"IF(AND(A42<>0, _xlfn.XLOOKUP(A42,Caracterización!$B$8:$K$8,Caracterización!$B$23:$K$23,\"\")=\"Seleccione ...\"), \"Debe indicarlo en la caracterización de la comunidad\", IF(A42<>0, _xlfn.XLOOKUP(A42,Caracterización!$B$8:$K$8,Caracterización!$B$23:$K$23,\"\"), \"\"))","v":""},{"$f":"IF(AND(A42<>0, _xlfn.XLOOKUP(A42,Caracterización!$B$8:$K$8,Caracterización!$B$28:$K$28,\"\")=\"Seleccione ...\"), \"Debe indicarlo en la caracterización de la comunidad\", IF(A42<>0, _xlfn.XLOOKUP(A42,Caracterización!$B$8:$K$8,Caracterización!$B$28:$K$28,\"\"), \"\"))","v":""},{"$f":"IF(AND(A42<>0, _xlfn.XLOOKUP(A42,Caracterización!$B$8:$K$8,Caracterización!$B$37:$K$37,\"\")=\"Seleccione ...\"), \"Debe indicarlo en la caracterización de la comunidad\", IF(A42<>0, _xlfn.XLOOKUP(A42,Caracterización!$B$8:$K$8,Caracterización!$B$37:$K$37,\"\"), \"\"))","v":""},{"$f":"IF(AND(A42<>0, _xlfn.XLOOKUP(A42,Caracterización!$B$8:$K$8,Caracterización!$B$40:$K$40,\"\")=\"Seleccione ...\"), \"Debe indicarlo en la caracterización de la comunidad\", IF(A42<>0, _xlfn.XLOOKUP(A42,Caracterización!$B$8:$K$8,Caracterización!$B$40:$K$40,\"\"), \"\"))","v":""},{"$f":"IF(AND(A42<>0, _xlfn.XLOOKUP(A42,Caracterización!$B$8:$K$8,Caracterización!$B$42:$K$42,\"\")=\"Seleccione ...\"), \"Debe indicarlo en la caracterización de la comunidad\", IF(A42<>0, _xlfn.XLOOKUP(A42,Caracterización!$B$8:$K$8,Caracterización!$B$42:$K$42,\"\"), \"\"))","v":""},{"$f":"IF(AND(A42<>0, _xlfn.XLOOKUP(A42,Caracterización!$B$8:$K$8,Caracterización!$B$72:$K$72,\"\")=\"Seleccione ...\"), \"Debe indicarlo en la caracterización de la comunidad\", IF(A42<>0, _xlfn.XLOOKUP(A42,Caracterización!$B$8:$K$8,Caracterización!$B$72:$K$72,\"\"), \"\"))","v":""},{"$f":"IF(AND(A42<>0, _xlfn.XLOOKUP(A42,Caracterización!$B$8:$K$8,Caracterización!$B$36:$K$36,\"\")=\"Seleccione ...\"), \"Debe indicarlo en la caracterización de la comunidad\", IF(A42<>0, _xlfn.XLOOKUP(A42,Caracterización!$B$8:$K$8,Caracterización!$B$36:$K$36,\"\"), \"\"))","v":""}]
[null,null,{"$f":"IF(AND(A43<>0, _xlfn.XLOOKUP(A43,Caracterización!$B$8:$K$8,Caracterización!$B$10:$K$10,\"\")=\"Seleccione ...\"), \"Debe indicarlo en la caracterización de la comunidad\", IF(A43<>0, _xlfn.XLOOKUP(A43,Caracterización!$B$8:$K$8,Caracterización!$B$10:$K$10,\"\"), \"\"))","v":""},{"$f":"IF(AND(A43<>0, _xlfn.XLOOKUP(A43,Caracterización!$B$8:$K$8,Caracterización!$B$11:$K$11,\"\")=\"Seleccione ...\"), \"Debe indicarlo en la caracterización de la comunidad\", IF(A43<>0, _xlfn.XLOOKUP(A43,Caracterización!$B$8:$K$8,Caracterización!$B$11:$K$11,\"\"), \"\"))","v":""},{"$f":"IF(AND(A43<>0, _xlfn.XLOOKUP(A43,Caracterización!$B$8:$K$8,Caracterización!$B$19:$K$19,\"\")=\"Seleccione ...\"), \"Debe indicarlo en la caracterización de la comunidad\", IF(A43<>0, _xlfn.XLOOKUP(A43,Caracterización!$B$8:$K$8,Caracterización!$B$19:$K$19,\"\"), \"\"))","v":""},{"$f":"IF(AND(A43<>0, _xlfn.XLOOKUP(A43,Caracterización!$B$8:$K$8,Caracterización!$B$20:$K$20,\"\")=\"Seleccione ...\"), \"Debe indicarlo en la caracterización de la comunidad\", IF(A43<>0, _xlfn.XLOOKUP(A43,Caracterización!$B$8:$K$8,Caracterización!$B$20:$K$20,\"\"), \"\"))","v":""},{"$f":"IF(AND(A43<>0, _xlfn.XLOOKUP(A43,Caracterización!$B$8:$K$8,Caracterización!$B$22:$K$22,\"\")=\"Seleccione ...\"), \"Debe indicarlo en la caracterización de la comunidad\", IF(A43<>0, _xlfn.XLOOKUP(A43,Caracterización!$B$8:$K$8,Caracterización!$B$22:$K$22,\"\"), \"\"))","v":""},{"$f":"IF(AND(A43<>0, _xlfn.XLOOKUP(A43,Caracterización!$B$8:$K$8,Caracterización!$B$23:$K$23,\"\")=\"Seleccione ...\"), \"Debe indicarlo en la caracterización de la comunidad\", IF(A43<>0, _xlfn.XLOOKUP(A43,Caracterización!$B$8:$K$8,Caracterización!$B$23:$K$23,\"\"), \"\"))","v":""},{"$f":"IF(AND(A43<>0, _xlfn.XLOOKUP(A43,Caracterización!$B$8:$K$8,Caracterización!$B$28:$K$28,\"\")=\"Seleccione ...\"), \"Debe indicarlo en la caracterización de la comunidad\", IF(A43<>0, _xlfn.XLOOKUP(A43,Caracterización!$B$8:$K$8,Caracterización!$B$28:$K$28,\"\"), \"\"))","v":""},{"$f":"IF(AND(A43<>0, _xlfn.XLOOKUP(A43,Caracterización!$B$8:$K$8,Caracterización!$B$37:$K$37,\"\")=\"Seleccione ...\"), \"Debe indicarlo en la caracterización de la comunidad\", IF(A43<>0, _xlfn.XLOOKUP(A43,Caracterización!$B$8:$K$8,Caracterización!$B$37:$K$37,\"\"), \"\"))","v":""},{"$f":"IF(AND(A43<>0, _xlfn.XLOOKUP(A43,Caracterización!$B$8:$K$8,Caracterización!$B$40:$K$40,\"\")=\"Seleccione ...\"), \"Debe indicarlo en la caracterización de la comunidad\", IF(A43<>0, _xlfn.XLOOKUP(A43,Caracterización!$B$8:$K$8,Caracterización!$B$40:$K$40,\"\"), \"\"))","v":""},{"$f":"IF(AND(A43<>0, _xlfn.XLOOKUP(A43,Caracterización!$B$8:$K$8,Caracterización!$B$42:$K$42,\"\")=\"Seleccione ...\"), \"Debe indicarlo en la caracterización de la comunidad\", IF(A43<>0, _xlfn.XLOOKUP(A43,Caracterización!$B$8:$K$8,Caracterización!$B$42:$K$42,\"\"), \"\"))","v":""},{"$f":"IF(AND(A43<>0, _xlfn.XLOOKUP(A43,Caracterización!$B$8:$K$8,Caracterización!$B$72:$K$72,\"\")=\"Seleccione ...\"), \"Debe indicarlo en la caracterización de la comunidad\", IF(A43<>0, _xlfn.XLOOKUP(A43,Caracterización!$B$8:$K$8,Caracterización!$B$72:$K$72,\"\"), \"\"))","v":""}]

{"sheet":"Calificación Mixta","index":10,"n_rows":44,"n_cols":21,"rows_kept":44,"merged":[[0,1,0,12],[1,1,1,13],[2,1,2,3],[3,1,3,3],[4,1,4,4],[6,0,8,0],[9,0,17,0],[18,0,20,0],[21,0,36,0],[37,0,43,0]]}
[null,"¡Califica las Comunidades!\""]
[null,"💡 ¿Qué hacer?\nSelecciona un nivel de calificación a cada comunidad según las diferentes variables.\nSi necesitas más detalles de los indicadores, haz clic en el botón CONSULTA INFORMACIÓN SOBRE LOS INDICADORES.\n\n🚨 Nota Importante:\nSi seleccionas \"Sin información\" para una comunidad, asegúrate de mantener igual las calificaciones de las demás comunidades. \nEsto permite que la herramienta calcule de manera equitativa."]
[null,"¿Deseas darle tu propia ponderación a cada indicador?"]
[null,"Por defecto cada indicador tiene el mismo valor (%) por categoría… puedes cambiarlo, \npero la valoración total por categoría debe ser 100%\n\nSi deseas calificar por categoria sin cambiar las valoraciones individuales ve directamente a RESULTADOS"]
[null,"✅ ¡Último paso!\nCuando hayas terminado de calificar, haz clic en el botón RESULTADOS para continuar."]
["Categoría","Categoría","Indicador / Criterios","Definición","Porcentaje de valoración del indicador",null,null,"Nivel Rojo","Nivel Naranja","Nivel Amarillo","Nivel Verde",{"$f":"Caracterización!B8","v":"C1"},{"$f":"Caracterización!C8","v":"C2"},{"$f":"Caracterización!D8","v":"C3"},{"$f":"Caracterización!E8","v":"C4"},{"$f":"Caracterización!F8","v":"C5"},{"$f":"Caracterización!G8","v":"C6"},{"$f":"Caracterización!H8","v":"C7"},{"$f":"Caracterización!I8","v":"C8"},{"$f":"Caracterización!J8","v":"C9"},{"$f":"Caracterización!K8","v":"C10"}]
[{"$f":"SUM(E7:E9)","v":{"v":0.9999998999999999,"d":"100.0%"}},{"$f":"'Consulta de Rangos'!A8","v":"Ambiental"},{"$f":"'Consulta de Rangos'!B8","v":" EROI (tasa de retorno energético)"},{"$f":"'Consulta de Rangos'!C8","v":"Mide la relación entre la energía obtenida de un proyecto y la energía invertida para producirla. Un valor mayor indica mayor eficiencia energética. (Relación de energía generada/energía invertida)"},{"v":0.3333333,"d":"33.3%"},"Seleccione…","Sin información",{"$f":"'Consulta de Rangos'!G8","v":"< 3"},{"$f":"'Consulta de Rangos'!H8","v":"3-5"},{"$f":"'Consulta de Rangos'!I8","v":"5-10"},{"$f":"'Consulta de Rangos'!J8","v":"> 10 "},"3-5","5-10","Seleccione…","Seleccione…","Seleccione…","Seleccione…","Seleccione…","Seleccione…","Seleccione…","Seleccione…"]
[null,{"$f":"'Consulta de Rangos'!A9","v":"Ambiental"},{"$f":"'Consulta de Rangos'!B9","v":"Reducción anual de gases de efecto invernadero"},{"$f":"'Consulta de Rangos'!C9","v":"Reducción estimada de gases de efecto invernadero (CO2e) que se espera reducir cada año debido al cambio en la fuene de energía."},{"v":0.3333333,"d":"33.3%"},"Seleccione…","Sin información",{"$f":"'Consulta de Rangos'!G9","v":"< 10% reducción"},{"$f":"'Consulta de Rangos'!H9","v":"10%-20% reducción"},{"$f":"'Consulta de Rangos'!I9","v":"20%-30% reducción"},{"$f":"'Consulta de Rangos'!J9","v":"> 30% reducción"},"< 10% reducción","Seleccione…","Seleccione…","Seleccione…","Seleccione…","Seleccione…","Seleccione…","Seleccione…","Seleccione…","Seleccione…"]
[null,{"$f":"'Consulta de Rangos'!A10","v":"Ambiental"},{"$f":"'Consulta de Rangos'!B10","v":"Territorios de alta dependencia de carbón térmico"},{"$f":"'Consulta de Rangos'!C10","v":"Variable incluida para focalizar aquellas comunidades ubicadas en entes territoriales cuya estructura económica muestre altos grados de dependencia de la explotación de carbón térmico, bien sea para la exportación de este mineral o para su uso interno en el país, conforme lo informado por la Unidad de Planeación Minero-Energética (UPME) en el portal del Sistema de Información Minero Colombiano (SIMCO)."},{"v":0.3333333,"d":"33.3%"},"Seleccione…","Sin información",{"$f":"'Consulta de Rangos'!G10","v":"< 10% dependencia"},{"$f":"'Consulta de Rangos'!H10","v":"10%-20% dependencia"},{"$f":"'Consulta de Rangos'!I10","v":"20%-30% dependencia"},{"$f":"'Consulta de Rangos'!J10","v":"> 30% dependencia"},"Seleccione…","Seleccione…","Seleccione…","Seleccione…","Seleccione…","Seleccione…","Seleccione…","Seleccione…","Seleccione…","Seleccione…"]
[{"$f":"SUM(E10:E18)","v":{"v":0.999666666666667,"d":"100.0%"}},{"$f":"'Consulta de Rangos'!A11","v":"Económico"},{"$f":"'Consulta de Rangos'!B11","v":"Ahorro monetario del usuario en la factura eléctrica"},{"$f":"'Consulta de Rangos'!C11","v":"Ahorros monetarios que experimenta el usuario final al formar parte de la Comunidad Energética (CEC) y consumir energía renovable."},{"v":0.4,"d":"40.0%"},"Seleccione…","Sin información",{"$f":"'Consulta de Rangos'!G11","v":"< 10% ahorro"},{"$f":"'Consulta de Rangos'!H11","v":"10%-20% ahorro"},{"$f":"'Consulta de Rangos'!I11","v":"20%-30% ahorro"},{"$f":"'Consulta de Rangos'!J11","v":"> 30% ahorro"},"Seleccione…","Seleccione…","Seleccione…","Seleccione…","Seleccione…","Seleccione…","Seleccione…","Seleccione…","Seleccione…","Seleccione…"]
[null,{"$f":"'Consulta de Rangos'!A12","v":"Económico"},{"$f":"'Consulta de Rangos'!B12","v":"Coste de generación de energía ($/MWh)"},{"$f":"'Consulta de Rangos'!C12","v":"Mide el costo promedio de producir energía eléctrica desde el Sistema Interconectado Nacional (SIN). Este costo incluye los gastos de inversión inicial, operación, mantenimiento y combustibles asociados a la generación de un megavatio-hora (MWh)."},{"v":0.483,"d":"48.3%"},"Seleccione…","Sin información",{"$f":"'Consulta de Rangos'!G12","v":"< 230 USD/MWh"},{"$f":"'Consulta de Rangos'!H12","v":"230-250 USD/MWh"},{"$f":"'Consulta de Rangos'!I12","v":" 250-280 USD/MWh"},{"$f":"'Consulta de Rangos'!J12","v":"> 280 USD/MWh"},"Seleccione…","Seleccione…","Seleccione…","Seleccione…","Seleccione…","Seleccione…","Seleccione…","Seleccione…","Seleccione…","Seleccione…"]
[null,{"$f":"'Consulta de Rangos'!A13","v":"Económico"},{"$f":"'Consulta de Rangos'!B13","v":"La comunidad realiza el pago por servicio de energía de manera cumplida"},{"$f":"'Consulta de Rangos'!C13","v":"Porcentaje de usuarios de la comunidad energética que realizan el pago del servicio energético de manera regular y dentro de los plazos establecidos."},{"v":0.016666666666666666,"d":"1.7%"},"Seleccione…","Sin información",{"$f":"'Consulta de Rangos'!G13","v":"> 60% "},{"$f":"'Consulta de Rangos'!H13","v":"40%-60% "},{"$f":"'Consulta de Rangos'!I13","v":"20%-40% "},{"$f":"'Consulta de Rangos'!J13","v":"< 20% "},"Seleccione…","Seleccione…","Seleccione…","Seleccione…","Seleccione…","Seleccione…","Seleccione…","Seleccione…","Seleccione…","Seleccione…"]
[null,{"$f":"'Consulta de Rangos'!A14","v":"Económico"},{"$f":"'Consulta de Rangos'!B14","v":"Tiempo de retorno de la inversión"},{"$f":"'Consulta de Rangos'!C14","v":"El periodo de tiempo necesario para que las ganancias acumuladas de un proyecto igualen el costo total de la inversión. "},{"v":0.016666666666666666,"d":"1.7%"},"Seleccione…","Sin información",{"$f":"'Consulta de Rangos'!G14","v":"> 15 años"},{"$f":"'Consulta de Rangos'!H14","v":"10-15 años"},{"$f":"'Consulta de Rangos'!I14","v":"6-10 años"},{"$f":"'Consulta de Rangos'!J14","v":"< 6 años"},"Seleccione…","Seleccione…","Seleccione…","Seleccione…","Seleccione…","Seleccione…","Seleccione…","Seleccione…","Seleccione…","Seleccione…"]
[null,{"$f":"'Consulta de Rangos'!A15","v":"Económico"},{"$f":"'Consulta de Rangos'!B15","v":"Tasa interna de rentabilidad (TIR)"},{"$f":"'Consulta de Rangos'!C15","v":"Medida de la rentabilidad de una inversión. "},{"v":0.016666666666666666,"d":"1.7%"},"Seleccione…","Sin información",{"$f":"'Consulta de Rangos'!G15","v":"< 5%"},{"$f":"'Consulta de Rangos'!H15","v":"5%-7% "},{"$f":"'Consulta de Rangos'!I15","v":"7%-10%"},{"$f":"'Consulta de Rangos'!J15","v":"> 10%"},"Seleccione…","Seleccione…","Seleccione…","Seleccione…","Seleccione…","Seleccione…","Seleccione…","Seleccione…","Seleccione…","Seleccione…"]
[null,{"$f":"'Consulta de Rangos'!A16","v":"Económico"},{"$f":"'Consulta de Rangos'!B16","v":"Identificación de fuentes de financiación alternativas viables"},{"$f":"'Consulta de Rangos'!C16","v":"Mide la existencia y diversidad de fuentes de financiación alternativas (subsidios, donaciones, préstamos) para el proyecto."},{"v":0.016666666666666666,"d":"1.7%"},"Seleccione…","Sin información",{"$f":"'Consulta de Rangos'!G16","v":"No se han identificado fuentes alternativas viables."},{"$f":"'Consulta de Rangos'!H16","v":"Identificación limitada con alta dependencia de una fuente."},{"$f":"'Consulta de Rangos'!I16","v":"Identificación moderada con al menos dos fuentes viables."},{"$f":"'Consulta de Rangos'!J16","v":"Identificación robusta con múltiples fuentes viables y diversificadas."},"Seleccione…","Seleccione…","Seleccione…","Seleccione…","Seleccione…","Seleccione…","Seleccione…","Seleccione…","Seleccione…","Seleccione…"]
[null,{"$f":"'Consulta de Rangos'!A17","v":"Económico"},{"$f":"'Consulta de Rangos'!B17","v":"Capacidad de cofinanciación local"},{"$f":"'Consulta de Rangos'!C17","v":"Evalúa el porcentaje de recursos que la comunidad puede aportar para financiar el proyecto."},{"v":0.016666666666666666,"d":"1.7%"},"Seleccione…","Sin información",{"$f":"'Consulta de Rangos'!G17","v":"< 10% "},{"$f":"'Consulta de Rangos'!H17","v":"10%-30% "},{"$f":"'Consulta de Rangos'!I17","v":"30%-50% "},{"$f":"'Consulta de Rangos'!J17","v":"> 50% "},"Seleccione…","Seleccione…","Seleccione…","Seleccione…","Seleccione…","Seleccione…","Seleccione…","Seleccione…","Seleccione…","Seleccione…"]
[null,{"$f":"'Consulta de Rangos'!A18","v":"Económico"},{"$f":"'Consulta de Rangos'!B18","v":"Capacidad y voluntad de los miembros de la comunidad para financiar el proyecto"},{"$f":"'Consulta de Rangos'!C18","v":"Grado en que los miembros de la comunidad pueden y desean contribuir financieramente al proyecto."},{"v":0.016666666666666666,"d":"1.7%"},"Seleccione…","Sin información",{"$f":"'Consulta de Rangos'!G18","v":"< 15% "},{"$f":"'Consulta de Rangos'!H18","v":"15%-30% "},{"$f":"'Consulta de Rangos'!I18","v":"30%-50% "},{"$f":"'Consulta de Rangos'!J18","v":"> 50% "},"Seleccione…","Seleccione…","Seleccione…","Seleccione…","Seleccione…","Seleccione…","Seleccione…","Seleccione…","Seleccione…","Seleccione…"]
[null,{"$f":"'Consulta de Rangos'!A19","v":"Económico"},{"$f":"'Consulta de Rangos'!B19","v":"Costos energéticos promedio por usuario"},{"$f":"'Consulta de Rangos'!C19","v":"Promedio de gastos en energía por hogar en la comunidad evaluada."},{"v":0.016666666666666666,"d":"1.7%"},"Seleccione…","Sin información",{"$f":"'Consulta de Rangos'!G19","v":"< 40.000 COP"},{"$f":"'Consulta de Rangos'!H19","v":"40.000-80.000 COP"},{"$f":"'Consulta de Rangos'!I19","v":"80.000-120.000"},{"$f":"'Consulta de Rangos'!J19","v":"> 120.000 COP"},"Seleccione…","Seleccione…","Seleccione…","Seleccione…","Seleccione…","Seleccione…","Seleccione…","Seleccione…","Seleccione…","Seleccione…"]
[{"$f":"SUM(E19:E21)","v":{"v":0.99999,"d":"100.0%"}},{"$f":"'Consulta de Rangos'!A20","v":"Legislativo/ normativo"},{"$f":"'Consulta de Rangos'!B20","v":"Disposición de instituciones externas para representar a la comunidad energética "},{"$f":"'Consulta de Rangos'!C20","v":"Evalúa cualitativamente la disposición de instituciones externas para representar formalmente a una comunidad energética en aspectos legales, técnicos, financieros o de gobernanza."},{"v":0.33333,"d":"33.3%"},"Seleccione…","Sin información",{"$f":"'Consulta de Rangos'!G20","v":"Baja disposición"},{"$f":"'Consulta de Rangos'!H20","v":"Media disposición"},{"$f":"'Consulta de Rangos'!I20","v":"Alta disposición"},{"$f":"'Consulta de Rangos'!J20","v":"Muy alta disposición"},"Seleccione…","Seleccione…","Seleccione…","Seleccione…","Seleccione…","Seleccione…","Seleccione…","Seleccione…","Seleccione…","Seleccione…"]
[null,{"$f":"'Consulta de Rangos'!A21","v":"Legislativo/ normativo"},{"$f":"'Consulta de Rangos'!B21","v":"¿Se cuenta con avances en lineamientos para la distribución y almacenamiento de energía? Autoconsumo"},{"$f":"'Consulta de Rangos'!C21","v":"Existencia de lineamiento  que faciliten el autoconsumo y el almacenamiento energético en la comunidad."},{"v":0.33333,"d":"33.3%"},"Seleccione…","Sin información",{"$f":"'Consulta de Rangos'!G21","v":"Sin avances regulatorios"},{"$f":"'Consulta de Rangos'!H21","v":"Avances iniciales"},{"$f":"'Consulta de Rangos'!I21","v":"Avances moderados"},{"$f":"'Consulta de Rangos'!J21","v":"Lineamientos establecidos"},"Seleccione…","Seleccione…","Seleccione…","Seleccione…","Seleccione…","Seleccione…","Seleccione…","Seleccione…","Seleccione…","Seleccione…"]
[null,{"$f":"'Consulta de Rangos'!A22","v":"Legislativo/ normativo"},{"$f":"'Consulta de Rangos'!B22","v":"Políticas de Inclusión de Género en la Gobernanza de las Comunidades Energéticas"},{"$f":"'Consulta de Rangos'!C22","v":"Evalúa la existencia, alcance y efectividad de medidas específicas orientadas a promover la inclusión de género en la gobernanza de las comunidades energéticas. "},{"v":0.33333,"d":"33.3%"},"Seleccione…","Sin información",{"$f":"'Consulta de Rangos'!G22","v":"Sin medidas de inclusión"},{"$f":"'Consulta de Rangos'!H22","v":"Avances iniciales en medidas"},{"$f":"'Consulta de Rangos'!I22","v":"Medidas parcialmente implementadas"},{"$f":"'Consulta de Rangos'!J22","v":"Medidas plenamente implementadas"},"Seleccione…","Seleccione…","Seleccione…","Seleccione…","Seleccione…","Seleccione…","Seleccione…","Seleccione…","Seleccione…","Seleccione…"]
[{"$f":"SUM(E22:E37)","v":{"v":1,"d":"100.0%"}},{"$f":"'Consulta de Rangos'!A24","v":"Social"},{"$f":"'Consulta de Rangos'!B24","v":"Participación Femenina en la Comunidad Energética"},{"$f":"'Consulta de Rangos'!C24","v":"Nivel de involucramiento de las mujeres en las actividades y decisiones de la comunidad energética."},{"v":0.0625,"d":"6.3%"},"Seleccione…","Sin información",{"$f":"'Consulta de Rangos'!G24","v":"< 20% "},{"$f":"'Consulta de Rangos'!H24","v":"20%-35% "},{"$f":"'Consulta de Rangos'!I24","v":"35%-50% "},{"$f":"'Consulta de Rangos'!J24","v":"> 50% "},"Seleccione…","Seleccione…","Seleccione…","Seleccione…","Seleccione…","Seleccione…","Seleccione…","Seleccione…","Seleccione…","Seleccione…"]
[null,{"$f":"'Consulta de Rangos'!A25","v":"Social"},{"$f":"'Consulta de Rangos'!B25","v":"Población de especial protección constitucional del sector Paz (víctimas, personas en proceso de reincorporación)"},{"$f":"'Consulta de Rangos'!C25","v":"Variable incluida para focalizar poblacionalmente a aquellas comunidades que en su constitución cuente con personas registradas en el Registro Único de Víctimas (RUV), conforme a los parámetros establecidos en la Ley 1448 de 2011, o que hayan sido reconocidas como sujetos de reparación colectiva, así como personas que se encuentren activas en el proceso de reincorporación de acuerdo con el Acto Legislativo 001 del 2017 y su normatividad regulatoria."},{"v":0.0625,"d":"6.3%"},"Seleccione…","Sin información",{"$f":"'Consulta de Rangos'!G25","v":"< 30% "},{"$f":"'Consulta de Rangos'!H25","v":"30%-40% "},{"$f":"'Consulta de Rangos'!I25","v":"40%-60% "},{"$f":"'Consulta de Rangos'!J25","v":"> 60% "},"Seleccione…","Seleccione…","Seleccione…","Seleccione…","Seleccione…","Seleccione…","Seleccione…","Seleccione…","Seleccione…","Seleccione…"]
[null,{"$f":"'Consulta de Rangos'!A26","v":"Social"},{"$f":"'Consulta de Rangos'!B26","v":"Presencia de comunidades étnicas"},{"$f":"'Consulta de Rangos'!C26","v":"Variable incluida para focalizar poblacionalmente a aquellas comunidades que en su constitución cuenten con personas o comunidades autorreconocidas como étnicas según el Censo Nacional de Población y Vivienda, y/o el último registro que dé cuenta de la población étnica con fuente DANE, y lo que en la materia haya dispuesto el Ministerio del Interior."},{"v":0.0625,"d":"6.3%"},"Seleccione…","Sin información",{"$f":"'Consulta de Rangos'!G26","v":"Sin presencia de comunidades étnicas"},{"$f":"'Consulta de Rangos'!H26","v":"Moderada presencia de comunidades étnicas"},{"$f":"'Consulta de Rangos'!I26","v":"Alta presencia de comunidades étnicas"},{"$f":"'Consulta de Rangos'!J26","v":"Corresponde a una comunidad étnica"},"Seleccione…","Seleccione…","Seleccione…","Seleccione…","Seleccione…","Seleccione…","Seleccione…","Seleccione…","Seleccione…","Seleccione…"]
[null,{"$f":"'Consulta de Rangos'!A27","v":"Social"},{"$f":"'Consulta de Rangos'!B27","v":"Territorios colectivos de pueblos originarios o comunidades indígenas"},{"$f":"'Consulta de Rangos'!C27","v":"Variable incluida para focalizar a aquellas comunidades ubicadas en estos territorios legalmente establecidos."},{"v":0.0625,"d":"6.3%"},"Seleccione…","Sin información",{"$f":"'Consulta de Rangos'!G27","v":"Sin presencia de comunidades indígenas"},{"$f":"'Consulta de Rangos'!H27","v":"Moderada presencia de comunidades indígenas"},{"$f":"'Consulta de Rangos'!I27","v":"Alta presencia de comunidades indígenas"},{"$f":"'Consulta de Rangos'!J27","v":"Corresponde a una comunidad indígena"},"Seleccione…","Seleccione…","Seleccione…","Seleccione…","Seleccione…","Seleccione…","Seleccione…","Seleccione…","Seleccione…","Seleccione…"]
[null,{"$f":"'Consulta de Rangos'!A28","v":"Social"},{"$f":"'Consulta de Rangos'!B28","v":"Territorios de Antiguos espacios territoriales de capacitación y reincorporación y áreas especiales de reincorporación colectiva"},{"$f":"'Consulta de Rangos'!C28","v":"Variable incluida para focalizar a aquellas comunidades ubicadas en los AETCR en los cuales residen firmantes del Acuerdo Final de Paz, sus familias y comunidades contemplados en Decreto número 1274 del 2017, y de las AERC contemplados en el decreto del Programa de Reincorporación Integral."},{"v":0.0625,"d":"6.3%"},"Seleccione…","Sin información",{"$f":"'Consulta de Rangos'!G28","v":"Sin presencia de comunidades"},{"$f":"'Consulta de Rangos'!H28","v":"Moderada presencia de comunidades"},{"$f":"'Consulta de Rangos'!I28","v":"Alta presencia de comunidades"},{"$f":"'Consulta de Rangos'!J28","v":"Corresponde a una comunidad "},"Seleccione…","Seleccione…","Seleccione…","Seleccione…","Seleccione…","Seleccione…","Seleccione…","Seleccione…","Seleccione…","Seleccione…"]
[null,{"$f":"'Consulta de Rangos'!A29","v":"Social"},{"$f":"'Consulta de Rangos'!B29","v":"Territorios de Paz"},{"$f":"'Consulta de Rangos'!C29","v":"Variable incluida para focalizar a aquellas comunidades ubicadas en entidades territoriales que están contempladas en el Programa de Desarrollo con Enfoque Territorial (PDET) y en las Zonas Más Afectadas por el Conflicto Armado (ZOMAC) que se constituyen dentro del marco para la paz, en relación con lo establecido por la Ley 2272 de 2022 “Ley de Paz Total”."},{"v":0.0625,"d":"6.3%"},"Seleccione…","Sin información",{"$f":"'Consulta de Rangos'!G29","v":"Sin proyectos de paz"},{"$f":"'Consulta de Rangos'!H29","v":"Proyectos en planeación"},{"$f":"'Consulta de Rangos'!I29","v":"Proyectos implementados"},{"$f":"'Consulta de Rangos'!J29","v":"Proyectos activos"},"Seleccione…","Seleccione…","Seleccione…","Seleccione…","Seleccione…","Seleccione…","Seleccione…","Seleccione…","Seleccione…","Seleccione…"]
[null,{"$f":"'Consulta de Rangos'!A30","v":"Social"},{"$f":"'Consulta de Rangos'!B30","v":"Territorios de Sistema Nacional de la Reforma Agraria y Desarrollo Rural, entre otras"},{"$f":"'Consulta de Rangos'!C30","v":"Variable incluida para focalizar a aquellas comunidades ubicadas en territorios constituidos en el marco de los términos de la Ley 160 de 1994 o demás normas concordantes o las normas que lo modifiquen o complementen."},{"v":0.0625,"d":"6.3%"},"Seleccione…","Sin información",{"$f":"'Consulta de Rangos'!G30","v":"No están priorizados"},{"$f":"'Consulta de Rangos'!H30","v":"Priorización en fase de planeación"},{"$f":"'Consulta de Rangos'!I30","v":"Priorización en etapas iniciales"},{"$f":"'Consulta de Rangos'!J30","v":"Priorización avanzada"},"Seleccione…","Seleccione…","Seleccione…","Seleccione…","Seleccione…","Seleccione…","Seleccione…","Seleccione…","Seleccione…","Seleccione…"]
[null,{"$f":"'Consulta de Rangos'!A31","v":"Social"},{"$f":"'Consulta de Rangos'!B31","v":"Redes de cooperación intercomunitaria"},{"$f":"'Consulta de Rangos'!C31","v":"Grado de colaboración entre la comunidad y otras localidades o instituciones."},{"v":0.0625,"d":"6.3%"},"Seleccione…","Sin información",{"$f":"'Consulta de Rangos'!G31","v":"No existen redes de cooperación."},{"$f":"'Consulta de Rangos'!H31","v":"Cooperación limitada y ocasional."},{"$f":"'Consulta de Rangos'!I31","v":"Cooperación moderada con al menos dos comunidades o instituciones."},{"$f":"'Consulta de Rangos'!J31","v":"Cooperación activa y sólida con múltiples comunidades o instituciones."},"Seleccione…","Seleccione…","Seleccione…","Seleccione…","Seleccione…","Seleccione…","Seleccione…","Seleccione…","Seleccione…","Seleccione…"]
[null,{"$f":"'Consulta de Rangos'!A32","v":"Social"},{"$f":"'Consulta de Rangos'!B32","v":"Transparencia de los datos"},{"$f":"'Consulta de Rangos'!C32","v":"Grado de acceso y claridad de la información del proyecto proporcionada a la comunidad."},{"v":0.0625,"d":"6.3%"},"Seleccione…","Sin información",{"$f":"'Consulta de Rangos'!G32","v":"No existe acceso a datos"},{"$f":"'Consulta de Rangos'!H32","v":"Información limitada y poco clara."},{"$f":"'Consulta de Rangos'!I32","v":"Información moderadamente accesible y clara."},{"$f":"'Consulta de Rangos'!J32","v":"Información completamente accesible, clara y actualizada."},"Seleccione…","Seleccione…","Seleccione…","Seleccione…","Seleccione…","Seleccione…","Seleccione…","Seleccione…","Seleccione…","Seleccione…"]
[null,{"$f":"'Consulta de Rangos'!A33","v":"Social"},{"$f":"'Consulta de Rangos'!B33","v":"¿Cómo es la relación entre los miembros de la comunidad y las instituciones públicas y privadas pertinentes?"},{"$f":"'Consulta de Rangos'!C33","v":"Evaluar la calidad de las interacciones entre la comunidad y las instituciones que podrían apoyar el proyecto."},{"v":0.0625,"d":"6.3%"},"Seleccione…","Sin información",{"$f":"'Consulta de Rangos'!G33","v":"< 30% "},{"$f":"'Consulta de Rangos'!H33","v":"30%-50% "},{"$f":"'Consulta de Rangos'!I33","v":"50%-70% "},{"$f":"'Consulta de Rangos'!J33","v":"> 70% "},"Seleccione…","Seleccione…","Seleccione…","Seleccione…","Seleccione…","Seleccione…","Seleccione…","Seleccione…","Seleccione…","Seleccione…"]
[null,{"$f":"'Consulta de Rangos'!A34","v":"Social"},{"$f":"'Consulta de Rangos'!B34","v":"¿Están dispuestos los miembros de la comunidad a invertir tiempo en actividades comunitarias de voluntariado?"},{"$f":"'Consulta de Rangos'!C34","v":"Grado de disposición de los miembros de la comunidad para contribuir con tiempo y esfuerzo al proyecto."},{"v":0.0625,"d":"6.3%"},"Seleccione…","Sin información",{"$f":"'Consulta de Rangos'!G34","v":"< 15% "},{"$f":"'Consulta de Rangos'!H34","v":"15%-30% "},{"$f":"'Consulta de Rangos'!I34","v":"30%-50% "},{"$f":"'Consulta de Rangos'!J34","v":"> 50% "},"Seleccione…","Seleccione…","Seleccione…","Seleccione…","Seleccione…","Seleccione…","Seleccione…","Seleccione…","Seleccione…","Seleccione…"]
[null,{"$f":"'Consulta de Rangos'!A35","v":"Social"},{"$f":"'Consulta de Rangos'!B35","v":"¿Los techos o superficies de tierra potencialmente viables son propiedad de los miembros de la comunidad?"},{"$f":"'Consulta de Rangos'!C35","v":"Evaluación de la titularidad de las áreas donde se implementará el proyecto."},{"v":0.0625,"d":"6.3%"},"Seleccione…","Sin información",{"$f":"'Consulta de Rangos'!G35","v":"Ninguna superficie viable es de propiedad comunitaria."},{"$f":"'Consulta de Rangos'!H35","v":"Menos del 50% de las superficies viables son de propiedad comunitaria."},{"$f":"'Consulta de Rangos'!I35","v":"Entre 50%-80% de las superficies viables son de propiedad comunitaria."},{"$f":"'Consulta de Rangos'!J35","v":"> 80% de las superficies viables son de propiedad comunitaria."},"Seleccione…","Seleccione…","Seleccione…","Seleccione…","Seleccione…","Seleccione…","Seleccione…","Seleccione…","Seleccione…","Seleccione…"]
[null,{"$f":"'Consulta de Rangos'!A36","v":"Social"},{"$f":"'Consulta de Rangos'!B36","v":"Aceptación del usuario"},{"$f":"'Consulta de Rangos'!C36","v":"Grado de aprobación de los usuarios hacia el proyecto energético propuesto."},{"v":0.0625,"d":"6.3%"},"Seleccione…","Sin información",{"$f":"'Consulta de Rangos'!G36","v":"< 50% aceptación"},{"$f":"'Consulta de Rangos'!H36","v":"50%-60% aceptación"},{"$f":"'Consulta de Rangos'!I36","v":"60-70% aceptación"},{"$f":"'Consulta de Rangos'!J36","v":"> 70% aceptación"},"Seleccione…","Seleccione…","Seleccione…","Seleccione…","Seleccione…","Seleccione…","Seleccione…","Seleccione…","Seleccione…","Seleccione…"]
[null,{"$f":"'Consulta de Rangos'!A37","v":"Social"},{"$f":"'Consulta de Rangos'!B37","v":"Impacto de las Iniciativas Energéticas en las Mujeres de la Comunidad"},{"$f":"'Consulta de Rangos'!C37","v":"Evaluación de los beneficios específicos que las mujeres obtendrán del proyecto energético."},{"v":0.0625,"d":"6.3%"},"Seleccione…","Sin información",{"$f":"'Consulta de Rangos'!G37","v":"< 30% "},{"$f":"'Consulta de Rangos'!H37","v":"30%-40% "},{"$f":"'Consulta de Rangos'!I37","v":"40%-60% "},{"$f":"'Consulta de Rangos'!J37","v":"> 60% "},"Seleccione…","Seleccione…","Seleccione…","Seleccione…","Seleccione…","Seleccione…","Seleccione…","Seleccione…","Seleccione…","Seleccione…"]
[null,{"$f":"'Consulta de Rangos'!A38","v":"Social"},{"$f":"'Consulta de Rangos'!B38","v":"Cumplimiento de consultas previas"},{"$f":"'Consulta de Rangos'!C38","v":"Verificar si se han realizado las consultas previas requeridas por la normativa legal en la comunidad."},{"v":0.0625,"d":"6.3%"},"Seleccione…","Sin información",{"$f":"'Consulta de Rangos'!G38","v":"No se han realizado consultas previas"},{"$f":"'Consulta de Rangos'!H38","v":"Consultas previas en proceso"},{"$f":"'Consulta de Rangos'!I38","v":"Consultas previas completamente realizadas, no documentadas"},{"$f":"'Consulta de Rangos'!J38","v":"Consultas previas completamente realizadas y documentadas"},"Seleccione…","Seleccione…","Seleccione…","Seleccione…","Seleccione…","Seleccione…","Seleccione…","Seleccione…","Seleccione…","Seleccione…"]
[null,{"$f":"'Consulta de Rangos'!A39","v":"Social"},{"$f":"'Consulta de Rangos'!B39","v":"Capacitación en Energías Renovables con Enfoque de Género"},{"$f":"'Consulta de Rangos'!C39","v":"Formación técnica ofrecida a los miembros de la comunidad, garantizando la inclusión equitativa de género."},{"v":0.0625,"d":"6.3%"},"Seleccione…","Sin información",{"$f":"'Consulta de Rangos'!G39","v":"No se han realizado capacitaciones"},{"$f":"'Consulta de Rangos'!H39","v":"Capacitaciones no completadas "},{"$f":"'Consulta de Rangos'!I39","v":"Capacitaciones completamente  ejecutadas, no documentadas"},{"$f":"'Consulta de Rangos'!J39","v":"Capacitaciones completamente ejecutadas y documentadas"},"Seleccione…","Seleccione…","Seleccione…","Seleccione…","Seleccione…","Seleccione…","Seleccione…","Seleccione…","Seleccione…","Seleccione…"]
[{"$f":"SUM(E38:E44)","v":{"v":0.9996000000000002,"d":"100.0%"}},{"$f":"'Consulta de Rangos'!A40","v":"Técnico"},{"$f":"'Consulta de Rangos'!B40","v":"¿Hay capacidad disponible en el circuito de distribución local para la capacidad de generación estimada?\n(límite del 50%)"},{"$f":"'Consulta de Rangos'!C40","v":"Verificación técnica de que el circuito de distribución puede manejar el incremento de generación sin exceder el límite del 50% de capacidad."},{"v":0.1428,"d":"14.3%"},"Seleccione…","Sin información",{"$f":"'Consulta de Rangos'!G40","v":"< 10% "},{"$f":"'Consulta de Rangos'!H40","v":"10%-30% "},{"$f":"'Consulta de Rangos'!I40","v":"30%-50% "},{"$f":"'Consulta de Rangos'!J40","v":"> 50% "},"Seleccione…","Seleccione…","Seleccione…","Seleccione…","Seleccione…","Seleccione…","Seleccione…","Seleccione…","Seleccione…","Seleccione…"]
[null,{"$f":"'Consulta de Rangos'!A41","v":"Técnico"},{"$f":"'Consulta de Rangos'!B41","v":"¿Se trata de una comunidad ya postulada y focalizada?"},{"$f":"'Consulta de Rangos'!C41","v":"Indica si la comunidad ha sido identificada previamente en programas o estrategias relacionadas con comunidades energéticas."},{"v":0.1428,"d":"14.3%"},"Seleccione…","Sin información",{"$f":"'Consulta de Rangos'!G41","v":"Ni postulada ni focalizada"},{"$f":"'Consulta de Rangos'!H41","v":"En proceso de postulación"},{"$f":"'Consulta de Rangos'!I41","v":"Postulada y parcialmente focalizada "},{"$f":"'Consulta de Rangos'!J41","v":"Postulada y focalizada"},"Seleccione…","Seleccione…","Seleccione…","Seleccione…","Seleccione…","Seleccione…","Seleccione…","Seleccione…","Seleccione…","Seleccione…"]
[null,{"$f":"'Consulta de Rangos'!A42","v":"Técnico"},{"$f":"'Consulta de Rangos'!B42","v":"Ahorro de energía de la red"},{"$f":"'Consulta de Rangos'!C42","v":"Reducción estimada en el consumo de energía de la red eléctrica del SIN como resultado del proyecto."},{"v":0.1428,"d":"14.3%"},"Seleccione…","Sin información",{"$f":"'Consulta de Rangos'!G42","v":"< 20% "},{"$f":"'Consulta de Rangos'!H42","v":"20%-35% "},{"$f":"'Consulta de Rangos'!I42","v":"35%-50% "},{"$f":"'Consulta de Rangos'!J42","v":"> 50% "},"Seleccione…","Seleccione…","Seleccione…","Seleccione…","Seleccione…","Seleccione…","Seleccione…","Seleccione…","Seleccione…","Seleccione…"]
[null,{"$f":"'Consulta de Rangos'!A43","v":"Técnico"},{"$f":"'Consulta de Rangos'!B43","v":"Capacidad técnica local (no siempre es esencial, ya que la capacitación puede ser parte del proyecto.)"},{"$f":"'Consulta de Rangos'!C43","v":"Habilidad de los miembros de la comunidad para operar y mantener los sistemas energéticos. "},{"v":0.1428,"d":"14.3%"},"Seleccione…","Sin información",{"$f":"'Consulta de Rangos'!G43","v":"< 10% "},{"$f":"'Consulta de Rangos'!H43","v":"10%-20% "},{"$f":"'Consulta de Rangos'!I43","v":"20%-30% "},{"$f":"'Consulta de Rangos'!J43","v":"> 30% "},"Seleccione…","Seleccione…","Seleccione…","Seleccione…","Seleccione…","Seleccione…","Seleccione…","Seleccione…","Seleccione…","Seleccione…"]
[null,{"$f":"'Consulta de Rangos'!A44","v":"Técnico"},{"$f":"'Consulta de Rangos'!B44","v":"Grado de avance del sistema energético que se proyecta implementar"},{"$f":"'Consulta de Rangos'!C44","v":"Nivel de preparación técnica, operativa y administrativa del sistema energético que se busca desarrollar."},{"v":0.1428,"d":"14.3%"},"Seleccione…","Sin información",{"$f":"'Consulta de Rangos'!G44","v":"Sin planificación"},{"$f":"'Consulta de Rangos'!H44","v":"Planificación inicial"},{"$f":"'Consulta de Rangos'!I44","v":"Planificación intermedia"},{"$f":"'Consulta de Rangos'!J44","v":"Sistema listo para implementación"},"Seleccione…","Seleccione…","Seleccione…","Seleccione…","Seleccione…","Seleccione…","Seleccione…","Seleccione…","Seleccione…","Seleccione…"]
[null,{"$f":"'Consulta de Rangos'!A45","v":"Técnico"},{"$f":"'Consulta de Rangos'!B45","v":"Pérdidas de Energía Eléctrica"},{"$f":"'Consulta de Rangos'!C45","v":"Evaluar las pérdidas eléctricas en áreas específicas es esencial para identificar zonas con problemáticas de conexiones irregulares. En estos casos, las soluciones orientadas a Comunidades Energéticas pueden actuar como habilitadoras para la normalización de redes eléctricas, contribuyendo a la mejora de la infraestructura, la formalización del acceso al servicio y disminución de riesgos de recaer en comportamientos ilegales o pasar a condiciones de morosidad en los pagos."},{"v":0.1428,"d":"14.3%"},"Seleccione…","Sin información",{"$f":"'Consulta de Rangos'!G45","v":"< 10% "},{"$f":"'Consulta de Rangos'!H45","v":"10%-15% "},{"$f":"'Consulta de Rangos'!I45","v":"15%-20% "},{"$f":"'Consulta de Rangos'!J45","v":"> 20% "},"Seleccione…","Seleccione…","Seleccione…","Seleccione…","Seleccione…","Seleccione…","Seleccione…","Seleccione…","Seleccione…","Seleccione…"]
[null,{"$f":"'Consulta de Rangos'!A46","v":"Técnico"},{"$f":"'Consulta de Rangos'!B46","v":"Calidad del servicio (Frecuencia y duración de interrupciones)"},{"$f":"'Consulta de Rangos'!C46","v":"Incorporar variables de calidad del servicio permitirá reflejar la continuidad percibida del servicio eléctrico en áreas específicas. Esto puede aportar información valiosa para priorizar aquellas zonas con deficiencias en la calidad del servicio, donde las Comunidades Energéticas podrían generar impactos positivos."},{"v":0.1428,"d":"14.3%"},"Seleccione…","Sin información",{"$f":"'Consulta de Rangos'!G46","v":"Alta calidad: Menos de 3 interrupciones al mes con duración promedio inferior a 1 hora."},{"$f":"'Consulta de Rangos'!H46","v":"Moderada calidad - alta: Entre 3 y 6 interrupciones al mes con duración promedio entre 1 y 2 horas."},{"$f":"'Consulta de Rangos'!I46","v":"Moderada calidad - baja: Entre 7 y 10 interrupciones al mes con duración promedio entre 2 y 4 horas."},{"$f":"'Consulta de Rangos'!J46","v":"Baja calidad: Más de 10 interrupciones al mes con duración promedio superior a 4 horas."},"Seleccione…","Seleccione…","Seleccione…","Seleccione…","Seleccione…","Seleccione…","Seleccione…","Seleccione…","Seleccione…","Seleccione…"]

{"sheet":"ResParcial Mixta","index":11,"n_rows":45,"n_cols":12,"rows_kept":45,"hidden":true,"merged":[[0,0,0,11],[1,0,1,6]]}
["Resultados Normalizados por Indicadores"]
["Esta hoja muestra los resultados de las calificaciones asignadas por el usuario a las comunidades en los diferentes indicadores evaluados.\n\n🔍 ¿Qué encontrarás aquí?\nCalificaciones Normalizadas: Las calificaciones originales han sido ajustadas para garantizar comparabilidad entre los indicadores.\nDatos por Comunidad: Cada comunidad aparece evaluada según los criterios establecidos.\nPreparación para Priorización: Estos resultados son el insumo para la hoja de priorización final."]
[]
[]
[]
["Categoría","Indicador / Criterios",{"$f":"Caracterización!B8","v":"C1"},{"$f":"Caracterización!C8","v":"C2"},{"$f":"Caracterización!D8","v":"C3"},{"$f":"Caracterización!E8","v":"C4"},{"$f":"Caracterización!F8","v":"C5"},{"$f":"Caracterización!G8","v":"C6"},{"$f":"Caracterización!H8","v":"C7"},{"$f":"Caracterización!I8","v":"C8"},{"$f":"Caracterización!J8","v":"C9"},{"$f":"Caracterización!K8","v":"C10"}]
[{"$f":"INDEX('Calificación Mixta'!B:B,ROW())","v":"Ambiental"},{"$f":"INDEX('Calificación Mixta'!C:C,ROW())","v":" EROI (tasa de retorno energético)"},{"$f":"IF(OR(INDEX('Calificación Mixta'!L:L,ROW())=\"Sin información\", INDEX('Calificación Mixta'!L:L,ROW())=\"Seleccione…\"), \"\", MATCH(INDEX('Calificación Mixta'!L:L,ROW()), INDEX('Calificación Mixta'!$H:$K,ROW(),0), 0))","v":2},{"$f":"IF(OR(INDEX('Calificación Mixta'!M:M,ROW())=\"Sin información\", INDEX('Calificación Mixta'!M:M,ROW())=\"Seleccione…\"), \"\", MATCH(INDEX('Calificación Mixta'!M:M,ROW()), INDEX('Calificación Mixta'!$H:$K,ROW(),0), 0))","v":3},{"$f":"IF(OR(INDEX('Calificación Mixta'!N:N,ROW())=\"Sin información\", INDEX('Calificación Mixta'!N:N,ROW())=\"Seleccione…\"), \"\", MATCH(INDEX('Calificación Mixta'!N:N,ROW()), INDEX('Calificación Mixta'!$H:$K,ROW(),0), 0))","v":""},{"$f":"IF(OR(INDEX('Calificación Mixta'!O:O,ROW())=\"Sin información\", INDEX('Calificación Mixta'!O:O,ROW())=\"Seleccione…\"), \"\", MATCH(INDEX('Calificación Mixta'!O:O,ROW()), INDEX('Calificación Mixta'!$H:$K,ROW(),0), 0))","v":""},{"$f":"IF(OR(INDEX('Calificación Mixta'!P:P,ROW())=\"Sin información\", INDEX('Calificación Mixta'!P:P,ROW())=\"Seleccione…\"), \"\", MATCH(INDEX('Calificación Mixta'!P:P,ROW()), INDEX('Calificación Mixta'!$H:$K,ROW(),0), 0))","v":""},{"$f":"IF(OR(INDEX('Calificación Mixta'!Q:Q,ROW())=\"Sin información\", INDEX('Calificación Mixta'!Q:Q,ROW())=\"Seleccione…\"), \"\", MATCH(INDEX('Calificación Mixta'!Q:Q,ROW()), INDEX('Calificación Mixta'!$H:$K,ROW(),0), 0))","v":""},{"$f":"IF(OR(INDEX('Calificación Mixta'!R:R,ROW())=\"Sin información\", INDEX('Calificación Mixta'!R:R,ROW())=\"Seleccione…\"), \"\", MATCH(INDEX('Calificación Mixta'!R:R,ROW()), INDEX('Calificación Mixta'!$H:$K,ROW(),0), 0))","v":""},{"$f":"IF(OR(INDEX('Calificación Mixta'!S:S,ROW())=\"Sin información\", INDEX('Calificación Mixta'!S:S,ROW())=\"Seleccione…\"), \"\", MATCH(INDEX('Calificación Mixta'!S:S,ROW()), INDEX('Calificación Mixta'!$H:$K,ROW(),0), 0))","v":""},{"$f":"IF(OR(INDEX('Calificación Mixta'!T:T,ROW())=\"Sin información\", INDEX('Calificación Mixta'!T:T,ROW())=\"Seleccione…\"), \"\", MATCH(INDEX('Calificación Mixta'!T:T,ROW()), INDEX('Calificación Mixta'!$H:$K,ROW(),0), 0))","v":""},{"$f":"IF(OR(INDEX('Calificación Mixta'!U:U,ROW())=\"Sin información\", INDEX('Calificación Mixta'!U:U,ROW())=\"Seleccione…\"), \"\", MATCH(INDEX('Calificación Mixta'!U:U,ROW()), INDEX('Calificación Mixta'!$H:$K,ROW(),0), 0))","v":""}]
[{"$f":"INDEX('Calificación Mixta'!B:B,ROW())","v":"Ambiental"},{"$f":"INDEX('Calificación Mixta'!C:C,ROW())","v":"Reducción anual de gases de efecto invernadero"},{"$f":"IF(OR(INDEX('Calificación Mixta'!L:L,ROW())=\"Sin información\", INDEX('Calificación Mixta'!L:L,ROW())=\"Seleccione…\"), \"\", MATCH(INDEX('Calificación Mixta'!L:L,ROW()), INDEX('Calificación Mixta'!$H:$K,ROW(),0), 0))","v":1},{"$f":"IF(OR(INDEX('Calificación Mixta'!M:M,ROW())=\"Sin información\", INDEX('Calificación Mixta'!M:M,ROW())=\"Seleccione…\"), \"\", MATCH(INDEX('Calificación Mixta'!M:M,ROW()), INDEX('Calificación Mixta'!$H:$K,ROW(),0), 0))","v":""},{"$f":"IF(OR(INDEX('Calificación Mixta'!N:N,ROW())=\"Sin información\", INDEX('Calificación Mixta'!N:N,ROW())=\"Seleccione…\"), \"\", MATCH(INDEX('Calificación Mixta'!N:N,ROW()), INDEX('Calificación Mixta'!$H:$K,ROW(),0), 0))","v":""},{"$f":"IF(OR(INDEX('Calificación Mixta'!O:O,ROW())=\"Sin información\", INDEX('Calificación Mixta'!O:O,ROW())=\"Seleccione…\"), \"\", MATCH(INDEX('Calificación Mixta'!O:O,ROW()), INDEX('Calificación Mixta'!$H:$K,ROW(),0), 0))","v":""},{"$f":"IF(OR(INDEX('Calificación Mixta'!P:P,ROW())=\"Sin información\", INDEX('Calificación Mixta'!P:P,ROW())=\"Seleccione…\"), \"\", MATCH(INDEX('Calificación Mixta'!P:P,ROW()), INDEX('Calificación Mixta'!$H:$K,ROW(),0), 0))","v":""},{"$f":"IF(OR(INDEX('Calificación Mixta'!Q:Q,ROW())=\"Sin información\", INDEX('Calificación Mixta'!Q:Q,ROW())=\"Seleccione…\"), \"\", MATCH(INDEX('Calificación Mixta'!Q:Q,ROW()), INDEX('Calificación Mixta'!$H:$K,ROW(),0), 0))","v":""},{"$f":"IF(OR(INDEX('Calificación Mixta'!R:R,ROW())=\"Sin información\", INDEX('Calificación Mixta'!R:R,ROW())=\"Seleccione…\"), \"\", MATCH(INDEX('Calificación Mixta'!R:R,ROW()), INDEX('Calificación Mixta'!$H:$K,ROW(),0), 0))","v":""},{"$f":"IF(OR(INDEX('Calificación Mixta'!S:S,ROW())=\"Sin información\", INDEX('Calificación Mixta'!S:S,ROW())=\"Seleccione…\"), \"\", MATCH(INDEX('Calificación Mixta'!S:S,ROW()), INDEX('Calificación Mixta'!$H:$K,ROW(),0), 0))","v":""},{"$f":"IF(OR(INDEX('Calificación Mixta'!T:T,ROW())=\"Sin información\", INDEX('Calificación Mixta'!T:T,ROW())=\"Seleccione…\"), \"\", MATCH(INDEX('Calificación Mixta'!T:T,ROW()), INDEX('Calificación Mixta'!$H:$K,ROW(),0), 0))","v":""},{"$f":"IF(OR(INDEX('Calificación Mixta'!U:U,ROW())=\"Sin información\", INDEX('Calificación Mixta'!U:U,ROW())=\"Seleccione…\"), \"\", MATCH(INDEX('Calificación Mixta'!U:U,ROW()), INDEX('Calificación Mixta'!$H:$K,ROW(),0), 0))","v":""}]
[{"$f":"INDEX('Calificación Mixta'!B:B,ROW())","v":"Ambiental"},{"$f":"INDEX('Calificación Mixta'!C:C,ROW())","v":"Territorios de alta dependencia de carbón térmico"},{"$f":"IF(OR(INDEX('Calificación Mixta'!L:L,ROW())=\"Sin información\", INDEX('Calificación Mixta'!L:L,ROW())=\"Seleccione…\"), \"\", MATCH(INDEX('Calificación Mixta'!L:L,ROW()), INDEX('Calificación Mixta'!$H:$K,ROW(),0), 0))","v":""},{"$f":"IF(OR(INDEX('Calificación Mixta'!M:M,ROW())=\"Sin información\", INDEX('Calificación Mixta'!M:M,ROW())=\"Seleccione…\"), \"\", MATCH(INDEX('Calificación Mixta'!M:M,ROW()), INDEX('Calificación Mixta'!$H:$K,ROW(),0), 0))","v":""},{"$f":"IF(OR(INDEX('Calificación Mixta'!N:N,ROW())=\"Sin información\", INDEX('Calificación Mixta'!N:N,ROW())=\"Seleccione…\"), \"\", MATCH(INDEX('Calificación Mixta'!N:N,ROW()), INDEX('Calificación Mixta'!$H:$K,ROW(),0), 0))","v":""},{"$f":"IF(OR(INDEX('Calificación Mixta'!O:O,ROW())=\"Sin información\", INDEX('Calificación Mixta'!O:O,ROW())=\"Seleccione…\"), \"\", MATCH(INDEX('Calificación Mixta'!O:O,ROW()), INDEX('Calificación Mixta'!$H:$K,ROW(),0), 0))","v":""},{"$f":"IF(OR(INDEX('Calificación Mixta'!P:P,ROW())=\"Sin información\", INDEX('Calificación Mixta'!P:P,ROW())=\"Seleccione…\"), \"\", MATCH(INDEX('Calificación Mixta'!P:P,ROW()), INDEX('Calificación Mixta'!$H:$K,ROW(),0), 0))","v":""},{"$f":"IF(OR(INDEX('Calificación Mixta'!Q:Q,ROW())=\"Sin información\", INDEX('Calificación Mixta'!Q:Q,ROW())=\"Seleccione…\"), \"\", MATCH(INDEX('Calificación Mixta'!Q:Q,ROW()), INDEX('Calificación Mixta'!$H:$K,ROW(),0), 0))","v":""},{"$f":"IF(OR(INDEX('Calificación Mixta'!R:R,ROW())=\"Sin información\", INDEX('Calificación Mixta'!R:R,ROW())=\"Seleccione…\"), \"\", MATCH(INDEX('Calificación Mixta'!R:R,ROW()), INDEX('Calificación Mixta'!$H:$K,ROW(),0), 0))","v":""},{"$f":"IF(OR(INDEX('Calificación Mixta'!S:S,ROW())=\"Sin información\", INDEX('Calificación Mixta'!S:S,ROW())=\"Seleccione…\"), \"\", MATCH(INDEX('Calificación Mixta'!S:S,ROW()), INDEX('Calificación Mixta'!$H:$K,ROW(),0), 0))","v":""},{"$f":"IF(OR(INDEX('Calificación Mixta'!T:T,ROW())=\"Sin información\", INDEX('Calificación Mixta'!T:T,ROW())=\"Seleccione…\"), \"\", MATCH(INDEX('Calificación Mixta'!T:T,ROW()), INDEX('Calificación Mixta'!$H:$K,ROW(),0), 0))","v":""},{"$f":"IF(OR(INDEX('Calificación Mixta'!U:U,ROW())=\"Sin información\", INDEX('Calificación Mixta'!U:U,ROW())=\"Seleccione…\"), \"\", MATCH(INDEX('Calificación Mixta'!U:U,ROW()), INDEX('Calificación Mixta'!$H:$K,ROW(),0), 0))","v":""}]
[{"$f":"INDEX('Calificación Mixta'!B:B,ROW())","v":"Económico"},{"$f":"INDEX('Calificación Mixta'!C:C,ROW())","v":"Ahorro monetario del usuario en la factura eléctrica"},{"$f":"IF(OR(INDEX('Calificación Mixta'!L:L,ROW())=\"Sin información\", INDEX('Calificación Mixta'!L:L,ROW())=\"Seleccione…\"), \"\", MATCH(INDEX('Calificación Mixta'!L:L,ROW()), INDEX('Calificación Mixta'!$H:$K,ROW(),0), 0))","v":""},{"$f":"IF(OR(INDEX('Calificación Mixta'!M:M,ROW())=\"Sin información\", INDEX('Calificación Mixta'!M:M,ROW())=\"Seleccione…\"), \"\", MATCH(INDEX('Calificación Mixta'!M:M,ROW()), INDEX('Calificación Mixta'!$H:$K,ROW(),0), 0))","v":""},{"$f":"IF(OR(INDEX('Calificación Mixta'!N:N,ROW())=\"Sin información\", INDEX('Calificación Mixta'!N:N,ROW())=\"Seleccione…\"), \"\", MATCH(INDEX('Calificación Mixta'!N:N,ROW()), INDEX('Calificación Mixta'!$H:$K,ROW(),0), 0))","v":""},{"$f":"IF(OR(INDEX('Calificación Mixta'!O:O,ROW())=\"Sin información\", INDEX('Calificación Mixta'!O:O,ROW())=\"Seleccione…\"), \"\", MATCH(INDEX('Calificación Mixta'!O:O,ROW()), INDEX('Calificación Mixta'!$H:$K,ROW(),0), 0))","v":""},{"$f":"IF(OR(INDEX('Calificación Mixta'!P:P,ROW())=\"Sin información\", INDEX('Calificación Mixta'!P:P,ROW())=\"Seleccione…\"), \"\", MATCH(INDEX('Calificación Mixta'!P:P,ROW()), INDEX('Calificación Mixta'!$H:$K,ROW(),0), 0))","v":""},{"$f":"IF(OR(INDEX('Calificación Mixta'!Q:Q,ROW())=\"Sin información\", INDEX('Calificación Mixta'!Q:Q,ROW())=\"Seleccione…\"), \"\", MATCH(INDEX('Calificación Mixta'!Q:Q,ROW()), INDEX('Calificación Mixta'!$H:$K,ROW(),0), 0))","v":""},{"$f":"IF(OR(INDEX('Calificación Mixta'!R:R,ROW())=\"Sin información\", INDEX('Calificación Mixta'!R:R,ROW())=\"Seleccione…\"), \"\", MATCH(INDEX('Calificación Mixta'!R:R,ROW()), INDEX('Calificación Mixta'!$H:$K,ROW(),0), 0))","v":""},{"$f":"IF(OR(INDEX('Calificación Mixta'!S:S,ROW())=\"Sin información\", INDEX('Calificación Mixta'!S:S,ROW())=\"Seleccione…\"), \"\", MATCH(INDEX('Calificación Mixta'!S:S,ROW()), INDEX('Calificación Mixta'!$H:$K,ROW(),0), 0))","v":""},{"$f":"IF(OR(INDEX('Calificación Mixta'!T:T,ROW())=\"Sin información\", INDEX('Calificación Mixta'!T:T,ROW())=\"Seleccione…\"), \"\", MATCH(INDEX('Calificación Mixta'!T:T,ROW()), INDEX('Calificación Mixta'!$H:$K,ROW(),0), 0))","v":""},{"$f":"IF(OR(INDEX('Calificación Mixta'!U:U,ROW())=\"Sin información\", INDEX('Calificación Mixta'!U:U,ROW())=\"Seleccione…\"), \"\", MATCH(INDEX('Calificación Mixta'!U:U,ROW()), INDEX('Calificación Mixta'!$H:$K,ROW(),0), 0))","v":""}]
[{"$f":"INDEX('Calificación Mixta'!B:B,ROW())","v":"Económico"},{"$f":"INDEX('Calificación Mixta'!C:C,ROW())","v":"Coste de generación de energía ($/MWh)"},{"$f":"IF(OR(INDEX('Calificación Mixta'!L:L,ROW())=\"Sin información\", INDEX('Calificación Mixta'!L:L,ROW())=\"Seleccione…\"), \"\", MATCH(INDEX('Calificación Mixta'!L:L,ROW()), INDEX('Calificación Mixta'!$H:$K,ROW(),0), 0))","v":""},{"$f":"IF(OR(INDEX('Calificación Mixta'!M:M,ROW())=\"Sin información\", INDEX('Calificación Mixta'!M:M,ROW())=\"Seleccione…\"), \"\", MATCH(INDEX('Calificación Mixta'!M:M,ROW()), INDEX('Calificación Mixta'!$H:$K,ROW(),0), 0))","v":""},{"$f":"IF(OR(INDEX('Calificación Mixta'!N:N,ROW())=\"Sin información\", INDEX('Calificación Mixta'!N:N,ROW())=\"Seleccione…\"), \"\", MATCH(INDEX('Calificación Mixta'!N:N,ROW()), INDEX('Calificación Mixta'!$H:$K,ROW(),0), 0))","v":""},{"$f":"IF(OR(INDEX('Calificación Mixta'!O:O,ROW())=\"Sin información\", INDEX('Calificación Mixta'!O:O,ROW())=\"Seleccione…\"), \"\", MATCH(INDEX('Calificación Mixta'!O:O,ROW()), INDEX('Calificación Mixta'!$H:$K,ROW(),0), 0))","v":""},{"$f":"IF(OR(INDEX('Calificación Mixta'!P:P,ROW())=\"Sin información\", INDEX('Calificación Mixta'!P:P,ROW())=\"Seleccione…\"), \"\", MATCH(INDEX('Calificación Mixta'!P:P,ROW()), INDEX('Calificación Mixta'!$H:$K,ROW(),0), 0))","v":""},{"$f":"IF(OR(INDEX('Calificación Mixta'!Q:Q,ROW())=\"Sin información\", INDEX('Calificación Mixta'!Q:Q,ROW())=\"Seleccione…\"), \"\", MATCH(INDEX('Calificación Mixta'!Q:Q,ROW()), INDEX('Calificación Mixta'!$H:$K,ROW(),0), 0))","v":""},{"$f":"IF(OR(INDEX('Calificación Mixta'!R:R,ROW())=\"Sin información\", INDEX('Calificación Mixta'!R:R,ROW())=\"Seleccione…\"), \"\", MATCH(INDEX('Calificación Mixta'!R:R,ROW()), INDEX('Calificación Mixta'!$H:$K,ROW(),0), 0))","v":""},{"$f":"IF(OR(INDEX('Calificación Mixta'!S:S,ROW())=\"Sin información\", INDEX('Calificación Mixta'!S:S,ROW())=\"Seleccione…\"), \"\", MATCH(INDEX('Calificación Mixta'!S:S,ROW()), INDEX('Calificación Mixta'!$H:$K,ROW(),0), 0))","v":""},{"$f":"IF(OR(INDEX('Calificación Mixta'!T:T,ROW())=\"Sin información\", INDEX('Calificación Mixta'!T:T,ROW())=\"Seleccione…\"), \"\", MATCH(INDEX('Calificación Mixta'!T:T,ROW()), INDEX('Calificación Mixta'!$H:$K,ROW(),0), 0))","v":""},{"$f":"IF(OR(INDEX('Calificación Mixta'!U:U,ROW())=\"Sin información\", INDEX('Calificación Mixta'!U:U,ROW())=\"Seleccione…\"), \"\", MATCH(INDEX('Calificación Mixta'!U:U,ROW()), INDEX('Calificación Mixta'!$H:$K,ROW(),0), 0))","v":""}]
[{"$f":"INDEX('Calificación Mixta'!B:B,ROW())","v":"Económico"},{"$f":"INDEX('Calificación Mixta'!C:C,ROW())","v":"La comunidad realiza el pago por servicio de energía de manera cumplida"},{"$f":"IF(OR(INDEX('Calificación Mixta'!L:L,ROW())=\"Sin información\", INDEX('Calificación Mixta'!L:L,ROW())=\"Seleccione…\"), \"\", MATCH(INDEX('Calificación Mixta'!L:L,ROW()), INDEX('Calificación Mixta'!$H:$K,ROW(),0), 0))","v":""},{"$f":"IF(OR(INDEX('Calificación Mixta'!M:M,ROW())=\"Sin información\", INDEX('Calificación Mixta'!M:M,ROW())=\"Seleccione…\"), \"\", MATCH(INDEX('Calificación Mixta'!M:M,ROW()), INDEX('Calificación Mixta'!$H:$K,ROW(),0), 0))","v":""},{"$f":"IF(OR(INDEX('Calificación Mixta'!N:N,ROW())=\"Sin información\", INDEX('Calificación Mixta'!N:N,ROW())=\"Seleccione…\"), \"\", MATCH(INDEX('Calificación Mixta'!N:N,ROW()), INDEX('Calificación Mixta'!$H:$K,ROW(),0), 0))","v":""},{"$f":"IF(OR(INDEX('Calificación Mixta'!O:O,ROW())=\"Sin información\", INDEX('Calificación Mixta'!O:O,ROW())=\"Seleccione…\"), \"\", MATCH(INDEX('Calificación Mixta'!O:O,ROW()), INDEX('Calificación Mixta'!$H:$K,ROW(),0), 0))","v":""},{"$f":"IF(OR(INDEX('Calificación Mixta'!P:P,ROW())=\"Sin información\", INDEX('Calificación Mixta'!P:P,ROW())=\"Seleccione…\"), \"\", MATCH(INDEX('Calificación Mixta'!P:P,ROW()), INDEX('Calificación Mixta'!$H:$K,ROW(),0), 0))","v":""},{"$f":"IF(OR(INDEX('Calificación Mixta'!Q:Q,ROW())=\"Sin información\", INDEX('Calificación Mixta'!Q:Q,ROW())=\"Seleccione…\"), \"\", MATCH(INDEX('Calificación Mixta'!Q:Q,ROW()), INDEX('Calificación Mixta'!$H:$K,ROW(),0), 0))","v":""},{"$f":"IF(OR(INDEX('Calificación Mixta'!R:R,ROW())=\"Sin información\", INDEX('Calificación Mixta'!R:R,ROW())=\"Seleccione…\"), \"\", MATCH(INDEX('Calificación Mixta'!R:R,ROW()), INDEX('Calificación Mixta'!$H:$K,ROW(),0), 0))","v":""},{"$f":"IF(OR(INDEX('Calificación Mixta'!S:S,ROW())=\"Sin información\", INDEX('Calificación Mixta'!S:S,ROW())=\"Seleccione…\"), \"\", MATCH(INDEX('Calificación Mixta'!S:S,ROW()), INDEX('Calificación Mixta'!$H:$K,ROW(),0), 0))","v":""},{"$f":"IF(OR(INDEX('Calificación Mixta'!T:T,ROW())=\"Sin información\", INDEX('Calificación Mixta'!T:T,ROW())=\"Seleccione…\"), \"\", MATCH(INDEX('Calificación Mixta'!T:T,ROW()), INDEX('Calificación Mixta'!$H:$K,ROW(),0), 0))","v":""},{"$f":"IF(OR(INDEX('Calificación Mixta'!U:U,ROW())=\"Sin información\", INDEX('Calificación Mixta'!U:U,ROW())=\"Seleccione…\"), \"\", MATCH(INDEX('Calificación Mixta'!U:U,ROW()), INDEX('Calificación Mixta'!$H:$K,ROW(),0), 0))","v":""}]
[{"$f":"INDEX('Calificación Mixta'!B:B,ROW())","v":"Económico"},{"$f":"INDEX('Calificación Mixta'!C:C,ROW())","v":"Tiempo de retorno de la inversión"},{"$f":"IF(OR(INDEX('Calificación Mixta'!L:L,ROW())=\"Sin información\", INDEX('Calificación Mixta'!L:L,ROW())=\"Seleccione…\"), \"\", MATCH(INDEX('Calificación Mixta'!L:L,ROW()), INDEX('Calificación Mixta'!$H:$K,ROW(),0), 0))","v":""},{"$f":"IF(OR(INDEX('Calificación Mixta'!M:M,ROW())=\"Sin información\", INDEX('Calificación Mixta'!M:M,ROW())=\"Seleccione…\"), \"\", MATCH(INDEX('Calificación Mixta'!M:M,ROW()), INDEX('Calificación Mixta'!$H:$K,ROW(),0), 0))","v":""},{"$f":"IF(OR(INDEX('Calificación Mixta'!N:N,ROW())=\"Sin información\", INDEX('Calificación Mixta'!N:N,ROW())=\"Seleccione…\"), \"\", MATCH(INDEX('Calificación Mixta'!N:N,ROW()), INDEX('Calificación Mixta'!$H:$K,ROW(),0), 0))","v":""},{"$f":"IF(OR(INDEX('Calificación Mixta'!O:O,ROW())=\"Sin información\", INDEX('Calificación Mixta'!O:O,ROW())=\"Seleccione…\"), \"\", MATCH(INDEX('Calificación Mixta'!O:O,ROW()), INDEX('Calificación Mixta'!$H:$K,ROW(),0), 0))","v":""},{"$f":"IF(OR(INDEX('Calificación Mixta'!P:P,ROW())=\"Sin información\", INDEX('Calificación Mixta'!P:P,ROW())=\"Seleccione…\"), \"\", MATCH(INDEX('Calificación Mixta'!P:P,ROW()), INDEX('Calificación Mixta'!$H:$K,ROW(),0), 0))","v":""},{"$f":"IF(OR(INDEX('Calificación Mixta'!Q:Q,ROW())=\"Sin información\", INDEX('Calificación Mixta'!Q:Q,ROW())=\"Seleccione…\"), \"\", MATCH(INDEX('Calificación Mixta'!Q:Q,ROW()), INDEX('Calificación Mixta'!$H:$K,ROW(),0), 0))","v":""},{"$f":"IF(OR(INDEX('Calificación Mixta'!R:R,ROW())=\"Sin información\", INDEX('Calificación Mixta'!R:R,ROW())=\"Seleccione…\"), \"\", MATCH(INDEX('Calificación Mixta'!R:R,ROW()), INDEX('Calificación Mixta'!$H:$K,ROW(),0), 0))","v":""},{"$f":"IF(OR(INDEX('Calificación Mixta'!S:S,ROW())=\"Sin información\", INDEX('Calificación Mixta'!S:S,ROW())=\"Seleccione…\"), \"\", MATCH(INDEX('Calificación Mixta'!S:S,ROW()), INDEX('Calificación Mixta'!$H:$K,ROW(),0), 0))","v":""},{"$f":"IF(OR(INDEX('Calificación Mixta'!T:T,ROW())=\"Sin información\", INDEX('Calificación Mixta'!T:T,ROW())=\"Seleccione…\"), \"\", MATCH(INDEX('Calificación Mixta'!T:T,ROW()), INDEX('Calificación Mixta'!$H:$K,ROW(),0), 0))","v":""},{"$f":"IF(OR(INDEX('Calificación Mixta'!U:U,ROW())=\"Sin información\", INDEX('Calificación Mixta'!U:U,ROW())=\"Seleccione…\"), \"\", MATCH(INDEX('Calificación Mixta'!U:U,ROW()), INDEX('Calificación Mixta'!$H:$K,ROW(),0), 0))","v":""}]
[{"$f":"INDEX('Calificación Mixta'!B:B,ROW())","v":"Económico"},{"$f":"INDEX('Calificación Mixta'!C:C,ROW())","v":"Tasa interna de rentabilidad (TIR)"},{"$f":"IF(OR(INDEX('Calificación Mixta'!L:L,ROW())=\"Sin información\", INDEX('Calificación Mixta'!L:L,ROW())=\"Seleccione…\"), \"\", MATCH(INDEX('Calificación Mixta'!L:L,ROW()), INDEX('Calificación Mixta'!$H:$K,ROW(),0), 0))","v":""},{"$f":"IF(OR(INDEX('Calificación Mixta'!M:M,ROW())=\"Sin información\", INDEX('Calificación Mixta'!M:M,ROW())=\"Seleccione…\"), \"\", MATCH(INDEX('Calificación Mixta'!M:M,ROW()), INDEX('Calificación Mixta'!$H:$K,ROW(),0), 0))","v":""},{"$f":"IF(OR(INDEX('Calificación Mixta'!N:N,ROW())=\"Sin información\", INDEX('Calificación Mixta'!N:N,ROW())=\"Seleccione…\"), \"\", MATCH(INDEX('Calificación Mixta'!N:N,ROW()), INDEX('Calificación Mixta'!$H:$K,ROW(),0), 0))","v":""},{"$f":"IF(OR(INDEX('Calificación Mixta'!O:O,ROW())=\"Sin información\", INDEX('Calificación Mixta'!O:O,ROW())=\"Seleccione…\"), \"\", MATCH(INDEX('Calificación Mixta'!O:O,ROW()), INDEX('Calificación Mixta'!$H:$K,ROW(),0), 0))","v":""},{"$f":"IF(OR(INDEX('Calificación Mixta'!P:P,ROW())=\"Sin información\", INDEX('Calificación Mixta'!P:P,ROW())=\"Seleccione…\"), \"\", MATCH(INDEX('Calificación Mixta'!P:P,ROW()), INDEX('Calificación Mixta'!$H:$K,ROW(),0), 0))","v":""},{"$f":"IF(OR(INDEX('Calificación Mixta'!Q:Q,ROW())=\"Sin información\", INDEX('Calificación Mixta'!Q:Q,ROW())=\"Seleccione…\"), \"\", MATCH(INDEX('Calificación Mixta'!Q:Q,ROW()), INDEX('Calificación Mixta'!$H:$K,ROW(),0), 0))","v":""},{"$f":"IF(OR(INDEX('Calificación Mixta'!R:R,ROW())=\"Sin información\", INDEX('Calificación Mixta'!R:R,ROW())=\"Seleccione…\"), \"\", MATCH(INDEX('Calificación Mixta'!R:R,ROW()), INDEX('Calificación Mixta'!$H:$K,ROW(),0), 0))","v":""},{"$f":"IF(OR(INDEX('Calificación Mixta'!S:S,ROW())=\"Sin información\", INDEX('Calificación Mixta'!S:S,ROW())=\"Seleccione…\"), \"\", MATCH(INDEX('Calificación Mixta'!S:S,ROW()), INDEX('Calificación Mixta'!$H:$K,ROW(),0), 0))","v":""},{"$f":"IF(OR(INDEX('Calificación Mixta'!T:T,ROW())=\"Sin información\", INDEX('Calificación Mixta'!T:T,ROW())=\"Seleccione…\"), \"\", MATCH(INDEX('Calificación Mixta'!T:T,ROW()), INDEX('Calificación Mixta'!$H:$K,ROW(),0), 0))","v":""},{"$f":"IF(OR(INDEX('Calificación Mixta'!U:U,ROW())=\"Sin información\", INDEX('Calificación Mixta'!U:U,ROW())=\"Seleccione…\"), \"\", MATCH(INDEX('Calificación Mixta'!U:U,ROW()), INDEX('Calificación Mixta'!$H:$K,ROW(),0), 0))","v":""}]
[{"$f":"INDEX('Calificación Mixta'!B:B,ROW())","v":"Económico"},{"$f":"INDEX('Calificación Mixta'!C:C,ROW())","v":"Identificación de fuentes de financiación alternativas viables"},{"$f":"IF(OR(INDEX('Calificación Mixta'!L:L,ROW())=\"Sin información\", INDEX('Calificación Mixta'!L:L,ROW())=\"Seleccione…\"), \"\", MATCH(INDEX('Calificación Mixta'!L:L,ROW()), INDEX('Calificación Mixta'!$H:$K,ROW(),0), 0))","v":""},{"$f":"IF(OR(INDEX('Calificación Mixta'!M:M,ROW())=\"Sin información\", INDEX('Calificación Mixta'!M:M,ROW())=\"Seleccione…\"), \"\", MATCH(INDEX('Calificación Mixta'!M:M,ROW()), INDEX('Calificación Mixta'!$H:$K,ROW(),0), 0))","v":""},{"$f":"IF(OR(INDEX('Calificación Mixta'!N:N,ROW())=\"Sin información\", INDEX('Calificación Mixta'!N:N,ROW())=\"Seleccione…\"), \"\", MATCH(INDEX('Calificación Mixta'!N:N,ROW()), INDEX('Calificación Mixta'!$H:$K,ROW(),0), 0))","v":""},{"$f":"IF(OR(INDEX('Calificación Mixta'!O:O,ROW())=\"Sin información\", INDEX('Calificación Mixta'!O:O,ROW())=\"Seleccione…\"), \"\", MATCH(INDEX('Calificación Mixta'!O:O,ROW()), INDEX('Calificación Mixta'!$H:$K,ROW(),0), 0))","v":""},{"$f":"IF(OR(INDEX('Calificación Mixta'!P:P,ROW())=\"Sin información\", INDEX('Calificación Mixta'!P:P,ROW())=\"Seleccione…\"), \"\", MATCH(INDEX('Calificación Mixta'!P:P,ROW()), INDEX('Calificación Mixta'!$H:$K,ROW(),0), 0))","v":""},{"$f":"IF(OR(INDEX('Calificación Mixta'!Q:Q,ROW())=\"Sin información\", INDEX('Calificación Mixta'!Q:Q,ROW())=\"Seleccione…\"), \"\", MATCH(INDEX('Calificación Mixta'!Q:Q,ROW()), INDEX('Calificación Mixta'!$H:$K,ROW(),0), 0))","v":""},{"$f":"IF(OR(INDEX('Calificación Mixta'!R:R,ROW())=\"Sin información\", INDEX('Calificación Mixta'!R:R,ROW())=\"Seleccione…\"), \"\", MATCH(INDEX('Calificación Mixta'!R:R,ROW()), INDEX('Calificación Mixta'!$H:$K,ROW(),0), 0))","v":""},{"$f":"IF(OR(INDEX('Calificación Mixta'!S:S,ROW())=\"Sin información\", INDEX('Calificación Mixta'!S:S,ROW())=\"Seleccione…\"), \"\", MATCH(INDEX('Calificación Mixta'!S:S,ROW()), INDEX('Calificación Mixta'!$H:$K,ROW(),0), 0))","v":""},{"$f":"IF(OR(INDEX('Calificación Mixta'!T:T,ROW())=\"Sin información\", INDEX('Calificación Mixta'!T:T,ROW())=\"Seleccione…\"), \"\", MATCH(INDEX('Calificación Mixta'!T:T,ROW()), INDEX('Calificación Mixta'!$H:$K,ROW(),0), 0))","v":""},{"$f":"IF(OR(INDEX('Calificación Mixta'!U:U,ROW())=\"Sin información\", INDEX('Calificación Mixta'!U:U,ROW())=\"Seleccione…\"), \"\", MATCH(INDEX('Calificación Mixta'!U:U,ROW()), INDEX('Calificación Mixta'!$H:$K,ROW(),0), 0))","v":""}]
[{"$f":"INDEX('Calificación Mixta'!B:B,ROW())","v":"Económico"},{"$f":"INDEX('Calificación Mixta'!C:C,ROW())","v":"Capacidad de cofinanciación local"},{"$f":"IF(OR(INDEX('Calificación Mixta'!L:L,ROW())=\"Sin información\", INDEX('Calificación Mixta'!L:L,ROW())=\"Seleccione…\"), \"\", MATCH(INDEX('Calificación Mixta'!L:L,ROW()), INDEX('Calificación Mixta'!$H:$K,ROW(),0), 0))","v":""},{"$f":"IF(OR(INDEX('Calificación Mixta'!M:M,ROW())=\"Sin información\", INDEX('Calificación Mixta'!M:M,ROW())=\"Seleccione…\"), \"\", MATCH(INDEX('Calificación Mixta'!M:M,ROW()), INDEX('Calificación Mixta'!$H:$K,ROW(),0), 0))","v":""},{"$f":"IF(OR(INDEX('Calificación Mixta'!N:N,ROW())=\"Sin información\", INDEX('Calificación Mixta'!N:N,ROW())=\"Seleccione…\"), \"\", MATCH(INDEX('Calificación Mixta'!N:N,ROW()), INDEX('Calificación Mixta'!$H:$K,ROW(),0), 0))","v":""},{"$f":"IF(OR(INDEX('Calificación Mixta'!O:O,ROW())=\"Sin información\", INDEX('Calificación Mixta'!O:O,ROW())=\"Seleccione…\"), \"\", MATCH(INDEX('Calificación Mixta'!O:O,ROW()), INDEX('Calificación Mixta'!$H:$K,ROW(),0), 0))","v":""},{"$f":"IF(OR(INDEX('Calificación Mixta'!P:P,ROW())=\"Sin información\", INDEX('Calificación Mixta'!P:P,ROW())=\"Seleccione…\"), \"\", MATCH(INDEX('Calificación Mixta'!P:P,ROW()), INDEX('Calificación Mixta'!$H:$K,ROW(),0), 0))","v":""},{"$f":"IF(OR(INDEX('Calificación Mixta'!Q:Q,ROW())=\"Sin información\", INDEX('Calificación Mixta'!Q:Q,ROW())=\"Seleccione…\"), \"\", MATCH(INDEX('Calificación Mixta'!Q:Q,ROW()), INDEX('Calificación Mixta'!$H:$K,ROW(),0), 0))","v":""},{"$f":"IF(OR(INDEX('Calificación Mixta'!R:R,ROW())=\"Sin información\", INDEX('Calificación Mixta'!R:R,ROW())=\"Seleccione…\"), \"\", MATCH(INDEX('Calificación Mixta'!R:R,ROW()), INDEX('Calificación Mixta'!$H:$K,ROW(),0), 0))","v":""},{"$f":"IF(OR(INDEX('Calificación Mixta'!S:S,ROW())=\"Sin información\", INDEX('Calificación Mixta'!S:S,ROW())=\"Seleccione…\"), \"\", MATCH(INDEX('Calificación Mixta'!S:S,ROW()), INDEX('Calificación Mixta'!$H:$K,ROW(),0), 0))","v":""},{"$f":"IF(OR(INDEX('Calificación Mixta'!T:T,ROW())=\"Sin información\", INDEX('Calificación Mixta'!T:T,ROW())=\"Seleccione…\"), \"\", MATCH(INDEX('Calificación Mixta'!T:T,ROW()), INDEX('Calificación Mixta'!$H:$K,ROW(),0), 0))","v":""},{"$f":"IF(OR(INDEX('Calificación Mixta'!U:U,ROW())=\"Sin información\", INDEX('Calificación Mixta'!U:U,ROW())=\"Seleccione…\"), \"\", MATCH(INDEX('Calificación Mixta'!U:U,ROW()), INDEX('Calificación Mixta'!$H:$K,ROW(),0), 0))","v":""}]
[{"$f":"INDEX('Calificación Mixta'!B:B,ROW())","v":"Económico"},{"$f":"INDEX('Calificación Mixta'!C:C,ROW())","v":"Capacidad y voluntad de los miembros de la comunidad para financiar el proyecto"},{"$f":"IF(OR(INDEX('Calificación Mixta'!L:L,ROW())=\"Sin información\", INDEX('Calificación Mixta'!L:L,ROW())=\"Seleccione…\"), \"\", MATCH(INDEX('Calificación Mixta'!L:L,ROW()), INDEX('Calificación Mixta'!$H:$K,ROW(),0), 0))","v":""},{"$f":"IF(OR(INDEX('Calificación Mixta'!M:M,ROW())=\"Sin información\", INDEX('Calificación Mixta'!M:M,ROW())=\"Seleccione…\"), \"\", MATCH(INDEX('Calificación Mixta'!M:M,ROW()), INDEX('Calificación Mixta'!$H:$K,ROW(),0), 0))","v":""},{"$f":"IF(OR(INDEX('Calificación Mixta'!N:N,ROW())=\"Sin información\", INDEX('Calificación Mixta'!N:N,ROW())=\"Seleccione…\"), \"\", MATCH(INDEX('Calificación Mixta'!N:N,ROW()), INDEX('Calificación Mixta'!$H:$K,ROW(),0), 0))","v":""},{"$f":"IF(OR(INDEX('Calificación Mixta'!O:O,ROW())=\"Sin información\", INDEX('Calificación Mixta'!O:O,ROW())=\"Seleccione…\"), \"\", MATCH(INDEX('Calificación Mixta'!O:O,ROW()), INDEX('Calificación Mixta'!$H:$K,ROW(),0), 0))","v":""},{"$f":"IF(OR(INDEX('Calificación Mixta'!P:P,ROW())=\"Sin información\", INDEX('Calificación Mixta'!P:P,ROW())=\"Seleccione…\"), \"\", MATCH(INDEX('Calificación Mixta'!P:P,ROW()), INDEX('Calificación Mixta'!$H:$K,ROW(),0), 0))","v":""},{"$f":"IF(OR(INDEX('Calificación Mixta'!Q:Q,ROW())=\"Sin información\", INDEX('Calificación Mixta'!Q:Q,ROW())=\"Seleccione…\"), \"\", MATCH(INDEX('Calificación Mixta'!Q:Q,ROW()), INDEX('Calificación Mixta'!$H:$K,ROW(),0), 0))","v":""},{"$f":"IF(OR(INDEX('Calificación Mixta'!R:R,ROW())=\"Sin información\", INDEX('Calificación Mixta'!R:R,ROW())=\"Seleccione…\"), \"\", MATCH(INDEX('Calificación Mixta'!R:R,ROW()), INDEX('Calificación Mixta'!$H:$K,ROW(),0), 0))","v":""},{"$f":"IF(OR(INDEX('Calificación Mixta'!S:S,ROW())=\"Sin información\", INDEX('Calificación Mixta'!S:S,ROW())=\"Seleccione…\"), \"\", MATCH(INDEX('Calificación Mixta'!S:S,ROW()), INDEX('Calificación Mixta'!$H:$K,ROW(),0), 0))","v":""},{"$f":"IF(OR(INDEX('Calificación Mixta'!T:T,ROW())=\"Sin información\", INDEX('Calificación Mixta'!T:T,ROW())=\"Seleccione…\"), \"\", MATCH(INDEX('Calificación Mixta'!T:T,ROW()), INDEX('Calificación Mixta'!$H:$K,ROW(),0), 0))","v":""},{"$f":"IF(OR(INDEX('Calificación Mixta'!U:U,ROW())=\"Sin información\", INDEX('Calificación Mixta'!U:U,ROW())=\"Seleccione…\"), \"\", MATCH(INDEX('Calificación Mixta'!U:U,ROW()), INDEX('Calificación Mixta'!$H:$K,ROW(),0), 0))","v":""}]
[{"$f":"INDEX('Calificación Mixta'!B:B,ROW())","v":"Económico"},{"$f":"INDEX('Calificación Mixta'!C:C,ROW())","v":"Costos energéticos promedio por usuario"},{"$f":"IF(OR(INDEX('Calificación Mixta'!L:L,ROW())=\"Sin información\", INDEX('Calificación Mixta'!L:L,ROW())=\"Seleccione…\"), \"\", MATCH(INDEX('Calificación Mixta'!L:L,ROW()), INDEX('Calificación Mixta'!$H:$K,ROW(),0), 0))","v":""},{"$f":"IF(OR(INDEX('Calificación Mixta'!M:M,ROW())=\"Sin información\", INDEX('Calificación Mixta'!M:M,ROW())=\"Seleccione…\"), \"\", MATCH(INDEX('Calificación Mixta'!M:M,ROW()), INDEX('Calificación Mixta'!$H:$K,ROW(),0), 0))","v":""},{"$f":"IF(OR(INDEX('Calificación Mixta'!N:N,ROW())=\"Sin información\", INDEX('Calificación Mixta'!N:N,ROW())=\"Seleccione…\"), \"\", MATCH(INDEX('Calificación Mixta'!N:N,ROW()), INDEX('Calificación Mixta'!$H:$K,ROW(),0), 0))","v":""},{"$f":"IF(OR(INDEX('Calificación Mixta'!O:O,ROW())=\"Sin información\", INDEX('Calificación Mixta'!O:O,ROW())=\"Seleccione…\"), \"\", MATCH(INDEX('Calificación Mixta'!O:O,ROW()), INDEX('Calificación Mixta'!$H:$K,ROW(),0), 0))","v":""},{"$f":"IF(OR(INDEX('Calificación Mixta'!P:P,ROW())=\"Sin información\", INDEX('Calificación Mixta'!P:P,ROW())=\"Seleccione…\"), \"\", MATCH(INDEX('Calificación Mixta'!P:P,ROW()), INDEX('Calificación Mixta'!$H:$K,ROW(),0), 0))","v":""},{"$f":"IF(OR(INDEX('Calificación Mixta'!Q:Q,ROW())=\"Sin información\", INDEX('Calificación Mixta'!Q:Q,ROW())=\"Seleccione…\"), \"\", MATCH(INDEX('Calificación Mixta'!Q:Q,ROW()), INDEX('Calificación Mixta'!$H:$K,ROW(),0), 0))","v":""},{"$f":"IF(OR(INDEX('Calificación Mixta'!R:R,ROW())=\"Sin información\", INDEX('Calificación Mixta'!R:R,ROW())=\"Seleccione…\"), \"\", MATCH(INDEX('Calificación Mixta'!R:R,ROW()), INDEX('Calificación Mixta'!$H:$K,ROW(),0), 0))","v":""},{"$f":"IF(OR(INDEX('Calificación Mixta'!S:S,ROW())=\"Sin información\", INDEX('Calificación Mixta'!S:S,ROW())=\"Seleccione…\"), \"\", MATCH(INDEX('Calificación Mixta'!S:S,ROW()), INDEX('Calificación Mixta'!$H:$K,ROW(),0), 0))","v":""},{"$f":"IF(OR(INDEX('Calificación Mixta'!T:T,ROW())=\"Sin información\", INDEX('Calificación Mixta'!T:T,ROW())=\"Seleccione…\"), \"\", MATCH(INDEX('Calificación Mixta'!T:T,ROW()), INDEX('Calificación Mixta'!$H:$K,ROW(),0), 0))","v":""},{"$f":"IF(OR(INDEX('Calificación Mixta'!U:U,ROW())=\"Sin información\", INDEX('Calificación Mixta'!U:U,ROW())=\"Seleccione…\"), \"\", MATCH(INDEX('Calificación Mixta'!U:U,ROW()), INDEX('Calificación Mixta'!$H:$K,ROW(),0), 0))","v":""}]
[{"$f":"INDEX('Calificación Mixta'!B:B,ROW())","v":"Legislativo/ normativo"},{"$f":"INDEX('Calificación Mixta'!C:C,ROW())","v":"Disposición de instituciones externas para representar a la comunidad energética "},{"$f":"IF(OR(INDEX('Calificación Mixta'!L:L,ROW())=\"Sin información\", INDEX('Calificación Mixta'!L:L,ROW())=\"Seleccione…\"), \"\", MATCH(INDEX('Calificación Mixta'!L:L,ROW()), INDEX('Calificación Mixta'!$H:$K,ROW(),0), 0))","v":""},{"$f":"IF(OR(INDEX('Calificación Mixta'!M:M,ROW())=\"Sin información\", INDEX('Calificación Mixta'!M:M,ROW())=\"Seleccione…\"), \"\", MATCH(INDEX('Calificación Mixta'!M:M,ROW()), INDEX('Calificación Mixta'!$H:$K,ROW(),0), 0))","v":""},{"$f":"IF(OR(INDEX('Calificación Mixta'!N:N,ROW())=\"Sin información\", INDEX('Calificación Mixta'!N:N,ROW())=\"Seleccione…\"), \"\", MATCH(INDEX('Calificación Mixta'!N:N,ROW()), INDEX('Calificación Mixta'!$H:$K,ROW(),0), 0))","v":""},{"$f":"IF(OR(INDEX('Calificación Mixta'!O:O,ROW())=\"Sin información\", INDEX('Calificación Mixta'!O:O,ROW())=\"Seleccione…\"), \"\", MATCH(INDEX('Calificación Mixta'!O:O,ROW()), INDEX('Calificación Mixta'!$H:$K,ROW(),0), 0))","v":""},{"$f":"IF(OR(INDEX('Calificación Mixta'!P:P,ROW())=\"Sin información\", INDEX('Calificación Mixta'!P:P,ROW())=\"Seleccione…\"), \"\", MATCH(INDEX('Calificación Mixta'!P:P,ROW()), INDEX('Calificación Mixta'!$H:$K,ROW(),0), 0))","v":""},{"$f":"IF(OR(INDEX('Calificación Mixta'!Q:Q,ROW())=\"Sin información\", INDEX('Calificación Mixta'!Q:Q,ROW())=\"Seleccione…\"), \"\", MATCH(INDEX('Calificación Mixta'!Q:Q,ROW()), INDEX('Calificación Mixta'!$H:$K,ROW(),0), 0))","v":""},{"$f":"IF(OR(INDEX('Calificación Mixta'!R:R,ROW())=\"Sin información\", INDEX('Calificación Mixta'!R:R,ROW())=\"Seleccione…\"), \"\", MATCH(INDEX('Calificación Mixta'!R:R,ROW()), INDEX('Calificación Mixta'!$H:$K,ROW(),0), 0))","v":""},{"$f":"IF(OR(INDEX('Calificación Mixta'!S:S,ROW())=\"Sin información\", INDEX('Calificación Mixta'!S:S,ROW())=\"Seleccione…\"), \"\", MATCH(INDEX('Calificación Mixta'!S:S,ROW()), INDEX('Calificación Mixta'!$H:$K,ROW(),0), 0))","v":""},{"$f":"IF(OR(INDEX('Calificación Mixta'!T:T,ROW())=\"Sin información\", INDEX('Calificación Mixta'!T:T,ROW())=\"Seleccione…\"), \"\", MATCH(INDEX('Calificación Mixta'!T:T,ROW()), INDEX('Calificación Mixta'!$H:$K,ROW(),0), 0))","v":""},{"$f":"IF(OR(INDEX('Calificación Mixta'!U:U,ROW())=\"Sin información\", INDEX('Calificación Mixta'!U:U,ROW())=\"Seleccione…\"), \"\", MATCH(INDEX('Calificación Mixta'!U:U,ROW()), INDEX('Calificación Mixta'!$H:$K,ROW(),0), 0))","v":""}]
[{"$f":"INDEX('Calificación Mixta'!B:B,ROW())","v":"Legislativo/ normativo"},{"$f":"INDEX('Calificación Mixta'!C:C,ROW())","v":"¿Se cuenta con avances en lineamientos para la distribución y almacenamiento de energía? Autoconsumo"},{"$f":"IF(OR(INDEX('Calificación Mixta'!L:L,ROW())=\"Sin información\", INDEX('Calificación Mixta'!L:L,ROW())=\"Seleccione…\"), \"\", MATCH(INDEX('Calificación Mixta'!L:L,ROW()), INDEX('Calificación Mixta'!$H:$K,ROW(),0), 0))","v":""},{"$f":"IF(OR(INDEX('Calificación Mixta'!M:M,ROW())=\"Sin información\", INDEX('Calificación Mixta'!M:M,ROW())=\"Seleccione…\"), \"\", MATCH(INDEX('Calificación Mixta'!M:M,ROW()), INDEX('Calificación Mixta'!$H:$K,ROW(),0), 0))","v":""},{"$f":"IF(OR(INDEX('Calificación Mixta'!N:N,ROW())=\"Sin información\", INDEX('Calificación Mixta'!N:N,ROW())=\"Seleccione…\"), \"\", MATCH(INDEX('Calificación Mixta'!N:N,ROW()), INDEX('Calificación Mixta'!$H:$K,ROW(),0), 0))","v":""},{"$f":"IF(OR(INDEX('Calificación Mixta'!O:O,ROW())=\"Sin información\", INDEX('Calificación Mixta'!O:O,ROW())=\"Seleccione…\"), \"\", MATCH(INDEX('Calificación Mixta'!O:O,ROW()), INDEX('Calificación Mixta'!$H:$K,ROW(),0), 0))","v":""},{"$f":"IF(OR(INDEX('Calificación Mixta'!P:P,ROW())=\"Sin información\", INDEX('Calificación Mixta'!P:P,ROW())=\"Seleccione…\"), \"\", MATCH(INDEX('Calificación Mixta'!P:P,ROW()), INDEX('Calificación Mixta'!$H:$K,ROW(),0), 0))","v":""},{"$f":"IF(OR(INDEX('Calificación Mixta'!Q:Q,ROW())=\"Sin información\", INDEX('Calificación Mixta'!Q:Q,ROW())=\"Seleccione…\"), \"\", MATCH(INDEX('Calificación Mixta'!Q:Q,ROW()), INDEX('Calificación Mixta'!$H:$K,ROW(),0), 0))","v":""},{"$f":"IF(OR(INDEX('Calificación Mixta'!R:R,ROW())=\"Sin información\", INDEX('Calificación Mixta'!R:R,ROW())=\"Seleccione…\"), \"\", MATCH(INDEX('Calificación Mixta'!R:R,ROW()), INDEX('Calificación Mixta'!$H:$K,ROW(),0), 0))","v":""},{"$f":"IF(OR(INDEX('Calificación Mixta'!S:S,ROW())=\"Sin información\", INDEX('Calificación Mixta'!S:S,ROW())=\"Seleccione…\"), \"\", MATCH(INDEX('Calificación Mixta'!S:S,ROW()), INDEX('Calificación Mixta'!$H:$K,ROW(),0), 0))","v":""},{"$f":"IF(OR(INDEX('Calificación Mixta'!T:T,ROW())=\"Sin información\", INDEX('Calificación Mixta'!T:T,ROW())=\"Seleccione…\"), \"\", MATCH(INDEX('Calificación Mixta'!T:T,ROW()), INDEX('Calificación Mixta'!$H:$K,ROW(),0), 0))","v":""},{"$f":"IF(OR(INDEX('Calificación Mixta'!U:U,ROW())=\"Sin información\", INDEX('Calificación Mixta'!U:U,ROW())=\"Seleccione…\"), \"\", MATCH(INDEX('Calificación Mixta'!U:U,ROW()), INDEX('Calificación Mixta'!$H:$K,ROW(),0), 0))","v":""}]
[{"$f":"INDEX('Calificación Mixta'!B:B,ROW())","v":"Legislativo/ normativo"},{"$f":"INDEX('Calificación Mixta'!C:C,ROW())","v":"Políticas de Inclusión de Género en la Gobernanza de las Comunidades Energéticas"},{"$f":"IF(OR(INDEX('Calificación Mixta'!L:L,ROW())=\"Sin información\", INDEX('Calificación Mixta'!L:L,ROW())=\"Seleccione…\"), \"\", MATCH(INDEX('Calificación Mixta'!L:L,ROW()), INDEX('Calificación Mixta'!$H:$K,ROW(),0), 0))","v":""},{"$f":"IF(OR(INDEX('Calificación Mixta'!M:M,ROW())=\"Sin información\", INDEX('Calificación Mixta'!M:M,ROW())=\"Seleccione…\"), \"\", MATCH(INDEX('Calificación Mixta'!M:M,ROW()), INDEX('Calificación Mixta'!$H:$K,ROW(),0), 0))","v":""},{"$f":"IF(OR(INDEX('Calificación Mixta'!N:N,ROW())=\"Sin información\", INDEX('Calificación Mixta'!N:N,ROW())=\"Seleccione…\"), \"\", MATCH(INDEX('Calificación Mixta'!N:N,ROW()), INDEX('Calificación Mixta'!$H:$K,ROW(),0), 0))","v":""},{"$f":"IF(OR(INDEX('Calificación Mixta'!O:O,ROW())=\"Sin información\", INDEX('Calificación Mixta'!O:O,ROW())=\"Seleccione…\"), \"\", MATCH(INDEX('Calificación Mixta'!O:O,ROW()), INDEX('Calificación Mixta'!$H:$K,ROW(),0), 0))","v":""},{"$f":"IF(OR(INDEX('Calificación Mixta'!P:P,ROW())=\"Sin información\", INDEX('Calificación Mixta'!P:P,ROW())=\"Seleccione…\"), \"\", MATCH(INDEX('Calificación Mixta'!P:P,ROW()), INDEX('Calificación Mixta'!$H:$K,ROW(),0), 0))","v":""},{"$f":"IF(OR(INDEX('Calificación Mixta'!Q:Q,ROW())=\"Sin información\", INDEX('Calificación Mixta'!Q:Q,ROW())=\"Seleccione…\"), \"\", MATCH(INDEX('Calificación Mixta'!Q:Q,ROW()), INDEX('Calificación Mixta'!$H:$K,ROW(),0), 0))","v":""},{"$f":"IF(OR(INDEX('Calificación Mixta'!R:R,ROW())=\"Sin información\", INDEX('Calificación Mixta'!R:R,ROW())=\"Seleccione…\"), \"\", MATCH(INDEX('Calificación Mixta'!R:R,ROW()), INDEX('Calificación Mixta'!$H:$K,ROW(),0), 0))","v":""},{"$f":"IF(OR(INDEX('Calificación Mixta'!S:S,ROW())=\"Sin información\", INDEX('Calificación Mixta'!S:S,ROW())=\"Seleccione…\"), \"\", MATCH(INDEX('Calificación Mixta'!S:S,ROW()), INDEX('Calificación Mixta'!$H:$K,ROW(),0), 0))","v":""},{"$f":"IF(OR(INDEX('Calificación Mixta'!T:T,ROW())=\"Sin información\", INDEX('Calificación Mixta'!T:T,ROW())=\"Seleccione…\"), \"\", MATCH(INDEX('Calificación Mixta'!T:T,ROW()), INDEX('Calificación Mixta'!$H:$K,ROW(),0), 0))","v":""},{"$f":"IF(OR(INDEX('Calificación Mixta'!U:U,ROW())=\"Sin información\", INDEX('Calificación Mixta'!U:U,ROW())=\"Seleccione…\"), \"\", MATCH(INDEX('Calificación Mixta'!U:U,ROW()), INDEX('Calificación Mixta'!$H:$K,ROW(),0), 0))","v":""}]
[{"$f":"INDEX('Calificación Mixta'!B:B,ROW())","v":"Social"},{"$f":"INDEX('Calificación Mixta'!C:C,ROW())","v":"Participación Femenina en la Comunidad Energética"},{"$f":"IF(OR(INDEX('Calificación Mixta'!L:L,ROW())=\"Sin información\", INDEX('Calificación Mixta'!L:L,ROW())=\"Seleccione…\"), \"\", MATCH(INDEX('Calificación Mixta'!L:L,ROW()), INDEX('Calificación Mixta'!$H:$K,ROW(),0), 0))","v":""},{"$f":"IF(OR(INDEX('Calificación Mixta'!M:M,ROW())=\"Sin información\", INDEX('Calificación Mixta'!M:M,ROW())=\"Seleccione…\"), \"\", MATCH(INDEX('Calificación Mixta'!M:M,ROW()), INDEX('Calificación Mixta'!$H:$K,ROW(),0), 0))","v":""},{"$f":"IF(OR(INDEX('Calificación Mixta'!N:N,ROW())=\"Sin información\", INDEX('Calificación Mixta'!N:N,ROW())=\"Seleccione…\"), \"\", MATCH(INDEX('Calificación Mixta'!N:N,ROW()), INDEX('Calificación Mixta'!$H:$K,ROW(),0), 0))","v":""},{"$f":"IF(OR(INDEX('Calificación Mixta'!O:O,ROW())=\"Sin información\", INDEX('Calificación Mixta'!O:O,ROW())=\"Seleccione…\"), \"\", MATCH(INDEX('Calificación Mixta'!O:O,ROW()), INDEX('Calificación Mixta'!$H:$K,ROW(),0), 0))","v":""},{"$f":"IF(OR(INDEX('Calificación Mixta'!P:P,ROW())=\"Sin información\", INDEX('Calificación Mixta'!P:P,ROW())=\"Seleccione…\"), \"\", MATCH(INDEX('Calificación Mixta'!P:P,ROW()), INDEX('Calificación Mixta'!$H:$K,ROW(),0), 0))","v":""},{"$f":"IF(OR(INDEX('Calificación Mixta'!Q:Q,ROW())=\"Sin información\", INDEX('Calificación Mixta'!Q:Q,ROW())=\"Seleccione…\"), \"\", MATCH(INDEX('Calificación Mixta'!Q:Q,ROW()), INDEX('Calificación Mixta'!$H:$K,ROW(),0), 0))","v":""},{"$f":"IF(OR(INDEX('Calificación Mixta'!R:R,ROW())=\"Sin información\", INDEX('Calificación Mixta'!R:R,ROW())=\"Seleccione…\"), \"\", MATCH(INDEX('Calificación Mixta'!R:R,ROW()), INDEX('Calificación Mixta'!$H:$K,ROW(),0), 0))","v":""},{"$f":"IF(OR(INDEX('Calificación Mixta'!S:S,ROW())=\"Sin información\", INDEX('Calificación Mixta'!S:S,ROW())=\"Seleccione…\"), \"\", MATCH(INDEX('Calificación Mixta'!S:S,ROW()), INDEX('Calificación Mixta'!$H:$K,ROW(),0), 0))","v":""},{"$f":"IF(OR(INDEX('Calificación Mixta'!T:T,ROW())=\"Sin información\", INDEX('Calificación Mixta'!T:T,ROW())=\"Seleccione…\"), \"\", MATCH(INDEX('Calificación Mixta'!T:T,ROW()), INDEX('Calificación Mixta'!$H:$K,ROW(),0), 0))","v":""},{"$f":"IF(OR(INDEX('Calificación Mixta'!U:U,ROW())=\"Sin información\", INDEX('Calificación Mixta'!U:U,ROW())=\"Seleccione…\"), \"\", MATCH(INDEX('Calificación Mixta'!U:U,ROW()), INDEX('Calificación Mixta'!$H:$K,ROW(),0), 0))","v":""}]
[{"$f":"INDEX('Calificación Mixta'!B:B,ROW())","v":"Social"},{"$f":"INDEX('Calificación Mixta'!C:C,ROW())","v":"Población de especial protección constitucional del sector Paz (víctimas, personas en proceso de reincorporación)"},{"$f":"IF(OR(INDEX('Calificación Mixta'!L:L,ROW())=\"Sin información\", INDEX('Calificación Mixta'!L:L,ROW())=\"Seleccione…\"), \"\", MATCH(INDEX('Calificación Mixta'!L:L,ROW()), INDEX('Calificación Mixta'!$H:$K,ROW(),0), 0))","v":""},{"$f":"IF(OR(INDEX('Calificación Mixta'!M:M,ROW())=\"Sin información\", INDEX('Calificación Mixta'!M:M,ROW())=\"Seleccione…\"), \"\", MATCH(INDEX('Calificación Mixta'!M:M,ROW()), INDEX('Calificación Mixta'!$H:$K,ROW(),0), 0))","v":""},{"$f":"IF(OR(INDEX('Calificación Mixta'!N:N,ROW())=\"Sin información\", INDEX('Calificación Mixta'!N:N,ROW())=\"Seleccione…\"), \"\", MATCH(INDEX('Calificación Mixta'!N:N,ROW()), INDEX('Calificación Mixta'!$H:$K,ROW(),0), 0))","v":""},{"$f":"IF(OR(INDEX('Calificación Mixta'!O:O,ROW())=\"Sin información\", INDEX('Calificación Mixta'!O:O,ROW())=\"Seleccione…\"), \"\", MATCH(INDEX('Calificación Mixta'!O:O,ROW()), INDEX('Calificación Mixta'!$H:$K,ROW(),0), 0))","v":""},{"$f":"IF(OR(INDEX('Calificación Mixta'!P:P,ROW())=\"Sin información\", INDEX('Calificación Mixta'!P:P,ROW())=\"Seleccione…\"), \"\", MATCH(INDEX('Calificación Mixta'!P:P,ROW()), INDEX('Calificación Mixta'!$H:$K,ROW(),0), 0))","v":""},{"$f":"IF(OR(INDEX('Calificación Mixta'!Q:Q,ROW())=\"Sin información\", INDEX('Calificación Mixta'!Q:Q,ROW())=\"Seleccione…\"), \"\", MATCH(INDEX('Calificación Mixta'!Q:Q,ROW()), INDEX('Calificación Mixta'!$H:$K,ROW(),0), 0))","v":""},{"$f":"IF(OR(INDEX('Calificación Mixta'!R:R,ROW())=\"Sin información\", INDEX('Calificación Mixta'!R:R,ROW())=\"Seleccione…\"), \"\", MATCH(INDEX('Calificación Mixta'!R:R,ROW()), INDEX('Calificación Mixta'!$H:$K,ROW(),0), 0))","v":""},{"$f":"IF(OR(INDEX('Calificación Mixta'!S:S,ROW())=\"Sin información\", INDEX('Calificación Mixta'!S:S,ROW())=\"Seleccione…\"), \"\", MATCH(INDEX('Calificación Mixta'!S:S,ROW()), INDEX('Calificación Mixta'!$H:$K,ROW(),0), 0))","v":""},{"$f":"IF(OR(INDEX('Calificación Mixta'!T:T,ROW())=\"Sin información\", INDEX('Calificación Mixta'!T:T,ROW())=\"Seleccione…\"), \"\", MATCH(INDEX('Calificación Mixta'!T:T,ROW()), INDEX('Calificación Mixta'!$H:$K,ROW(),0), 0))","v":""},{"$f":"IF(OR(INDEX('Calificación Mixta'!U:U,ROW())=\"Sin información\", INDEX('Calificación Mixta'!U:U,ROW())=\"Seleccione…\"), \"\", MATCH(INDEX('Calificación Mixta'!U:U,ROW()), INDEX('Calificación Mixta'!$H:$K,ROW(),0), 0))","v":""}]
[{"$f":"INDEX('Calificación Mixta'!B:B,ROW())","v":"Social"},{"$f":"INDEX('Calificación Mixta'!C:C,ROW())","v":"Presencia de comunidades étnicas"},{"$f":"IF(OR(INDEX('Calificación Mixta'!L:L,ROW())=\"Sin información\", INDEX('Calificación Mixta'!L:L,ROW())=\"Seleccione…\"), \"\", MATCH(INDEX('Calificación Mixta'!L:L,ROW()), INDEX('Calificación Mixta'!$H:$K,ROW(),0), 0))","v":""},{"$f":"IF(OR(INDEX('Calificación Mixta'!M:M,ROW())=\"Sin información\", INDEX('Calificación Mixta'!M:M,ROW())=\"Seleccione…\"), \"\", MATCH(INDEX('Calificación Mixta'!M:M,ROW()), INDEX('Calificación Mixta'!$H:$K,ROW(),0), 0))","v":""},{"$f":"IF(OR(INDEX('Calificación Mixta'!N:N,ROW())=\"Sin información\", INDEX('Calificación Mixta'!N:N,ROW())=\"Seleccione…\"), \"\", MATCH(INDEX('Calificación Mixta'!N:N,ROW()), INDEX('Calificación Mixta'!$H:$K,ROW(),0), 0))","v":""},{"$f":"IF(OR(INDEX('Calificación Mixta'!O:O,ROW())=\"Sin información\", INDEX('Calificación Mixta'!O:O,ROW())=\"Seleccione…\"), \"\", MATCH(INDEX('Calificación Mixta'!O:O,ROW()), INDEX('Calificación Mixta'!$H:$K,ROW(),0), 0))","v":""},{"$f":"IF(OR(INDEX('Calificación Mixta'!P:P,ROW())=\"Sin información\", INDEX('Calificación Mixta'!P:P,ROW())=\"Seleccione…\"), \"\", MATCH(INDEX('Calificación Mixta'!P:P,ROW()), INDEX('Calificación Mixta'!$H:$K,ROW(),0), 0))","v":""},{"$f":"IF(OR(INDEX('Calificación Mixta'!Q:Q,ROW())=\"Sin información\", INDEX('Calificación Mixta'!Q:Q,ROW())=\"Seleccione…\"), \"\", MATCH(INDEX('Calificación Mixta'!Q:Q,ROW()), INDEX('Calificación Mixta'!$H:$K,ROW(),0), 0))","v":""},{"$f":"IF(OR(INDEX('Calificación Mixta'!R:R,ROW())=\"Sin información\", INDEX('Calificación Mixta'!R:R,ROW())=\"Seleccione…\"), \"\", MATCH(INDEX('Calificación Mixta'!R:R,ROW()), INDEX('Calificación Mixta'!$H:$K,ROW(),0), 0))","v":""},{"$f":"IF(OR(INDEX('Calificación Mixta'!S:S,ROW())=\"Sin información\", INDEX('Calificación Mixta'!S:S,ROW())=\"Seleccione…\"), \"\", MATCH(INDEX('Calificación Mixta'!S:S,ROW()), INDEX('Calificación Mixta'!$H:$K,ROW(),0), 0))","v":""},{"$f":"IF(OR(INDEX('Calificación Mixta'!T:T,ROW())=\"Sin información\", INDEX('Calificación Mixta'!T:T,ROW())=\"Seleccione…\"), \"\", MATCH(INDEX('Calificación Mixta'!T:T,ROW()), INDEX('Calificación Mixta'!$H:$K,ROW(),0), 0))","v":""},{"$f":"IF(OR(INDEX('Calificación Mixta'!U:U,ROW())=\"Sin información\", INDEX('Calificación Mixta'!U:U,ROW())=\"Seleccione…\"), \"\", MATCH(INDEX('Calificación Mixta'!U:U,ROW()), INDEX('Calificación Mixta'!$H:$K,ROW(),0), 0))","v":""}]
[{"$f":"INDEX('Calificación Mixta'!B:B,ROW())","v":"Social"},{"$f":"INDEX('Calificación Mixta'!C:C,ROW())","v":"Territorios colectivos de pueblos originarios o comunidades indígenas"},{"$f":"IF(OR(INDEX('Calificación Mixta'!L:L,ROW())=\"Sin información\", INDEX('Calificación Mixta'!L:L,ROW())=\"Seleccione…\"), \"\", MATCH(INDEX('Calificación Mixta'!L:L,ROW()), INDEX('Calificación Mixta'!$H:$K,ROW(),0), 0))","v":""},{"$f":"IF(OR(INDEX('Calificación Mixta'!M:M,ROW())=\"Sin información\", INDEX('Calificación Mixta'!M:M,ROW())=\"Seleccione…\"), \"\", MATCH(INDEX('Calificación Mixta'!M:M,ROW()), INDEX('Calificación Mixta'!$H:$K,ROW(),0), 0))","v":""},{"$f":"IF(OR(INDEX('Calificación Mixta'!N:N,ROW())=\"Sin información\", INDEX('Calificación Mixta'!N:N,ROW())=\"Seleccione…\"), \"\", MATCH(INDEX('Calificación Mixta'!N:N,ROW()), INDEX('Calificación Mixta'!$H:$K,ROW(),0), 0))","v":""},{"$f":"IF(OR(INDEX('Calificación Mixta'!O:O,ROW())=\"Sin información\", INDEX('Calificación Mixta'!O:O,ROW())=\"Seleccione…\"), \"\", MATCH(INDEX('Calificación Mixta'!O:O,ROW()), INDEX('Calificación Mixta'!$H:$K,ROW(),0), 0))","v":""},{"$f":"IF(OR(INDEX('Calificación Mixta'!P:P,ROW())=\"Sin información\", INDEX('Calificación Mixta'!P:P,ROW())=\"Seleccione…\"), \"\", MATCH(INDEX('Calificación Mixta'!P:P,ROW()), INDEX('Calificación Mixta'!$H:$K,ROW(),0), 0))","v":""},{"$f":"IF(OR(INDEX('Calificación Mixta'!Q:Q,ROW())=\"Sin información\", INDEX('Calificación Mixta'!Q:Q,ROW())=\"Seleccione…\"), \"\", MATCH(INDEX('Calificación Mixta'!Q:Q,ROW()), INDEX('Calificación Mixta'!$H:$K,ROW(),0), 0))","v":""},{"$f":"IF(OR(INDEX('Calificación Mixta'!R:R,ROW())=\"Sin información\", INDEX('Calificación Mixta'!R:R,ROW())=\"Seleccione…\"), \"\", MATCH(INDEX('Calificación Mixta'!R:R,ROW()), INDEX('Calificación Mixta'!$H:$K,ROW(),0), 0))","v":""},{"$f":"IF(OR(INDEX('Calificación Mixta'!S:S,ROW())=\"Sin información\", INDEX('Calificación Mixta'!S:S,ROW())=\"Seleccione…\"), \"\", MATCH(INDEX('Calificación Mixta'!S:S,ROW()), INDEX('Calificación Mixta'!$H:$K,ROW(),0), 0))","v":""},{"$f":"IF(OR(INDEX('Calificación Mixta'!T:T,ROW())=\"Sin información\", INDEX('Calificación Mixta'!T:T,ROW())=\"Seleccione…\"), \"\", MATCH(INDEX('Calificación Mixta'!T:T,ROW()), INDEX('Calificación Mixta'!$H:$K,ROW(),0), 0))","v":""},{"$f":"IF(OR(INDEX('Calificación Mixta'!U:U,ROW())=\"Sin información\", INDEX('Calificación Mixta'!U:U,ROW())=\"Seleccione…\"), \"\", MATCH(INDEX('Calificación Mixta'!U:U,ROW()), INDEX('Calificación Mixta'!$H:$K,ROW(),0), 0))","v":""}]
[{"$f":"INDEX('Calificación Mixta'!B:B,ROW())","v":"Social"},{"$f":"INDEX('Calificación Mixta'!C:C,ROW())","v":"Territorios de Antiguos espacios territoriales de capacitación y reincorporación y áreas especiales de reincorporación colectiva"},{"$f":"IF(OR(INDEX('Calificación Mixta'!L:L,ROW())=\"Sin información\", INDEX('Calificación Mixta'!L:L,ROW())=\"Seleccione…\"), \"\", MATCH(INDEX('Calificación Mixta'!L:L,ROW()), INDEX('Calificación Mixta'!$H:$K,ROW(),0), 0))","v":""},{"$f":"IF(OR(INDEX('Calificación Mixta'!M:M,ROW())=\"Sin información\", INDEX('Calificación Mixta'!M:M,ROW())=\"Seleccione…\"), \"\", MATCH(INDEX('Calificación Mixta'!M:M,ROW()), INDEX('Calificación Mixta'!$H:$K,ROW(),0), 0))","v":""},{"$f":"IF(OR(INDEX('Calificación Mixta'!N:N,ROW())=\"Sin información\", INDEX('Calificación Mixta'!N:N,ROW())=\"Seleccione…\"), \"\", MATCH(INDEX('Calificación Mixta'!N:N,ROW()), INDEX('Calificación Mixta'!$H:$K,ROW(),0), 0))","v":""},{"$f":"IF(OR(INDEX('Calificación Mixta'!O:O,ROW())=\"Sin información\", INDEX('Calificación Mixta'!O:O,ROW())=\"Seleccione…\"), \"\", MATCH(INDEX('Calificación Mixta'!O:O,ROW()), INDEX('Calificación Mixta'!$H:$K,ROW(),0), 0))","v":""},{"$f":"IF(OR(INDEX('Calificación Mixta'!P:P,ROW())=\"Sin información\", INDEX('Calificación Mixta'!P:P,ROW())=\"Seleccione…\"), \"\", MATCH(INDEX('Calificación Mixta'!P:P,ROW()), INDEX('Calificación Mixta'!$H:$K,ROW(),0), 0))","v":""},{"$f":"IF(OR(INDEX('Calificación Mixta'!Q:Q,ROW())=\"Sin información\", INDEX('Calificación Mixta'!Q:Q,ROW())=\"Seleccione…\"), \"\", MATCH(INDEX('Calificación Mixta'!Q:Q,ROW()), INDEX('Calificación Mixta'!$H:$K,ROW(),0), 0))","v":""},{"$f":"IF(OR(INDEX('Calificación Mixta'!R:R,ROW())=\"Sin información\", INDEX('Calificación Mixta'!R:R,ROW())=\"Seleccione…\"), \"\", MATCH(INDEX('Calificación Mixta'!R:R,ROW()), INDEX('Calificación Mixta'!$H:$K,ROW(),0), 0))","v":""},{"$f":"IF(OR(INDEX('Calificación Mixta'!S:S,ROW())=\"Sin información\", INDEX('Calificación Mixta'!S:S,ROW())=\"Seleccione…\"), \"\", MATCH(INDEX('Calificación Mixta'!S:S,ROW()), INDEX('Calificación Mixta'!$H:$K,ROW(),0), 0))","v":""},{"$f":"IF(OR(INDEX('Calificación Mixta'!T:T,ROW())=\"Sin información\", INDEX('Calificación Mixta'!T:T,ROW())=\"Seleccione…\"), \"\", MATCH(INDEX('Calificación Mixta'!T:T,ROW()), INDEX('Calificación Mixta'!$H:$K,ROW(),0), 0))","v":""},{"$f":"IF(OR(INDEX('Calificación Mixta'!U:U,ROW())=\"Sin información\", INDEX('Calificación Mixta'!U:U,ROW())=\"Seleccione…\"), \"\", MATCH(INDEX('Calificación Mixta'!U:U,ROW()), INDEX('Calificación Mixta'!$H:$K,ROW(),0), 0))","v":""}]
[{"$f":"INDEX('Calificación Mixta'!B:B,ROW())","v":"Social"},{"$f":"INDEX('Calificación Mixta'!C:C,ROW())","v":"Territorios de Paz"},{"$f":"IF(OR(INDEX('Calificación Mixta'!L:L,ROW())=\"Sin información\", INDEX('Calificación Mixta'!L:L,ROW())=\"Seleccione…\"), \"\", MATCH(INDEX('Calificación Mixta'!L:L,ROW()), INDEX('Calificación Mixta'!$H:$K,ROW(),0), 0))","v":""},{"$f":"IF(OR(INDEX('Calificación Mixta'!M:M,ROW())=\"Sin información\", INDEX('Calificación Mixta'!M:M,ROW())=\"Seleccione…\"), \"\", MATCH(INDEX('Calificación Mixta'!M:M,ROW()), INDEX('Calificación Mixta'!$H:$K,ROW(),0), 0))","v":""},{"$f":"IF(OR(INDEX('Calificación Mixta'!N:N,ROW())=\"Sin información\", INDEX('Calificación Mixta'!N:N,ROW())=\"Seleccione…\"), \"\", MATCH(INDEX('Calificación Mixta'!N:N,ROW()), INDEX('Calificación Mixta'!$H:$K,ROW(),0), 0))","v":""},{"$f":"IF(OR(INDEX('Calificación Mixta'!O:O,ROW())=\"Sin información\", INDEX('Calificación Mixta'!O:O,ROW())=\"Seleccione…\"), \"\", MATCH(INDEX('Calificación Mixta'!O:O,ROW()), INDEX('Calificación Mixta'!$H:$K,ROW(),0), 0))","v":""},{"$f":"IF(OR(INDEX('Calificación Mixta'!P:P,ROW())=\"Sin información\", INDEX('Calificación Mixta'!P:P,ROW())=\"Seleccione…\"), \"\", MATCH(INDEX('Calificación Mixta'!P:P,ROW()), INDEX('Calificación Mixta'!$H:$K,ROW(),0), 0))","v":""},{"$f":"IF(OR(INDEX('Calificación Mixta'!Q:Q,ROW())=\"Sin información\", INDEX('Calificación Mixta'!Q:Q,ROW())=\"Seleccione…\"), \"\", MATCH(INDEX('Calificación Mixta'!Q:Q,ROW()), INDEX('Calificación Mixta'!$H:$K,ROW(),0), 0))","v":""},{"$f":"IF(OR(INDEX('Calificación Mixta'!R:R,ROW())=\"Sin información\", INDEX('Calificación Mixta'!R:R,ROW())=\"Seleccione…\"), \"\", MATCH(INDEX('Calificación Mixta'!R:R,ROW()), INDEX('Calificación Mixta'!$H:$K,ROW(),0), 0))","v":""},{"$f":"IF(OR(INDEX('Calificación Mixta'!S:S,ROW())=\"Sin información\", INDEX('Calificación Mixta'!S:S,ROW())=\"Seleccione…\"), \"\", MATCH(INDEX('Calificación Mixta'!S:S,ROW()), INDEX('Calificación Mixta'!$H:$K,ROW(),0), 0))","v":""},{"$f":"IF(OR(INDEX('Calificación Mixta'!T:T,ROW())=\"Sin información\", INDEX('Calificación Mixta'!T:T,ROW())=\"Seleccione…\"), \"\", MATCH(INDEX('Calificación Mixta'!T:T,ROW()), INDEX('Calificación Mixta'!$H:$K,ROW(),0), 0))","v":""},{"$f":"IF(OR(INDEX('Calificación Mixta'!U:U,ROW())=\"Sin información\", INDEX('Calificación Mixta'!U:U,ROW())=\"Seleccione…\"), \"\", MATCH(INDEX('Calificación Mixta'!U:U,ROW()), INDEX('Calificación Mixta'!$H:$K,ROW(),0), 0))","v":""}]
[{"$f":"INDEX('Calificación Mixta'!B:B,ROW())","v":"Social"},{"$f":"INDEX('Calificación Mixta'!C:C,ROW())","v":"Territorios de Sistema Nacional de la Reforma Agraria y Desarrollo Rural, entre otras"},{"$f":"IF(OR(INDEX('Calificación Mixta'!L:L,ROW())=\"Sin información\", INDEX('Calificación Mixta'!L:L,ROW())=\"Seleccione…\"), \"\", MATCH(INDEX('Calificación Mixta'!L:L,ROW()), INDEX('Calificación Mixta'!$H:$K,ROW(),0), 0))","v":""},{"$f":"IF(OR(INDEX('Calificación Mixta'!M:M,ROW())=\"Sin información\", INDEX('Calificación Mixta'!M:M,ROW())=\"Seleccione…\"), \"\", MATCH(INDEX('Calificación Mixta'!M:M,ROW()), INDEX('Calificación Mixta'!$H:$K,ROW(),0), 0))","v":""},{"$f":"IF(OR(INDEX('Calificación Mixta'!N:N,ROW())=\"Sin información\", INDEX('Calificación Mixta'!N:N,ROW())=\"Seleccione…\"), \"\", MATCH(INDEX('Calificación Mixta'!N:N,ROW()), INDEX('Calificación Mixta'!$H:$K,ROW(),0), 0))","v":""},{"$f":"IF(OR(INDEX('Calificación Mixta'!O:O,ROW())=\"Sin información\", INDEX('Calificación Mixta'!O:O,ROW())=\"Seleccione…\"), \"\", MATCH(INDEX('Calificación Mixta'!O:O,ROW()), INDEX('Calificación Mixta'!$H:$K,ROW(),0), 0))","v":""},{"$f":"IF(OR(INDEX('Calificación Mixta'!P:P,ROW())=\"Sin información\", INDEX('Calificación Mixta'!P:P,ROW())=\"Seleccione…\"), \"\", MATCH(INDEX('Calificación Mixta'!P:P,ROW()), INDEX('Calificación Mixta'!$H:$K,ROW(),0), 0))","v":""},{"$f":"IF(OR(INDEX('Calificación Mixta'!Q:Q,ROW())=\"Sin información\", INDEX('Calificación Mixta'!Q:Q,ROW())=\"Seleccione…\"), \"\", MATCH(INDEX('Calificación Mixta'!Q:Q,ROW()), INDEX('Calificación Mixta'!$H:$K,ROW(),0), 0))","v":""},{"$f":"IF(OR(INDEX('Calificación Mixta'!R:R,ROW())=\"Sin información\", INDEX('Calificación Mixta'!R:R,ROW())=\"Seleccione…\"), \"\", MATCH(INDEX('Calificación Mixta'!R:R,ROW()), INDEX('Calificación Mixta'!$H:$K,ROW(),0), 0))","v":""},{"$f":"IF(OR(INDEX('Calificación Mixta'!S:S,ROW())=\"Sin información\", INDEX('Calificación Mixta'!S:S,ROW())=\"Seleccione…\"), \"\", MATCH(INDEX('Calificación Mixta'!S:S,ROW()), INDEX('Calificación Mixta'!$H:$K,ROW(),0), 0))","v":""},{"$f":"IF(OR(INDEX('Calificación Mixta'!T:T,ROW())=\"Sin información\", INDEX('Calificación Mixta'!T:T,ROW())=\"Seleccione…\"), \"\", MATCH(INDEX('Calificación Mixta'!T:T,ROW()), INDEX('Calificación Mixta'!$H:$K,ROW(),0), 0))","v":""},{"$f":"IF(OR(INDEX('Calificación Mixta'!U:U,ROW())=\"Sin información\", INDEX('Calificación Mixta'!U:U,ROW())=\"Seleccione…\"), \"\", MATCH(INDEX('Calificación Mixta'!U:U,ROW()), INDEX('Calificación Mixta'!$H:$K,ROW(),0), 0))","v":""}]
[{"$f":"INDEX('Calificación Mixta'!B:B,ROW())","v":"Social"},{"$f":"INDEX('Calificación Mixta'!C:C,ROW())","v":"Redes de cooperación intercomunitaria"},{"$f":"IF(OR(INDEX('Calificación Mixta'!L:L,ROW())=\"Sin información\", INDEX('Calificación Mixta'!L:L,ROW())=\"Seleccione…\"), \"\", MATCH(INDEX('Calificación Mixta'!L:L,ROW()), INDEX('Calificación Mixta'!$H:$K,ROW(),0), 0))","v":""},{"$f":"IF(OR(INDEX('Calificación Mixta'!M:M,ROW())=\"Sin información\", INDEX('Calificación Mixta'!M:M,ROW())=\"Seleccione…\"), \"\", MATCH(INDEX('Calificación Mixta'!M:M,ROW()), INDEX('Calificación Mixta'!$H:$K,ROW(),0), 0))","v":""},{"$f":"IF(OR(INDEX('Calificación Mixta'!N:N,ROW())=\"Sin información\", INDEX('Calificación Mixta'!N:N,ROW())=\"Seleccione…\"), \"\", MATCH(INDEX('Calificación Mixta'!N:N,ROW()), INDEX('Calificación Mixta'!$H:$K,ROW(),0), 0))","v":""},{"$f":"IF(OR(INDEX('Calificación Mixta'!O:O,ROW())=\"Sin información\", INDEX('Calificación Mixta'!O:O,ROW())=\"Seleccione…\"), \"\", MATCH(INDEX('Calificación Mixta'!O:O,ROW()), INDEX('Calificación Mixta'!$H:$K,ROW(),0), 0))","v":""},{"$f":"IF(OR(INDEX('Calificación Mixta'!P:P,ROW())=\"Sin información\", INDEX('Calificación Mixta'!P:P,ROW())=\"Seleccione…\"), \"\", MATCH(INDEX('Calificación Mixta'!P:P,ROW()), INDEX('Calificación Mixta'!$H:$K,ROW(),0), 0))","v":""},{"$f":"IF(OR(INDEX('Calificación Mixta'!Q:Q,ROW())=\"Sin información\", INDEX('Calificación Mixta'!Q:Q,ROW())=\"Seleccione…\"), \"\", MATCH(INDEX('Calificación Mixta'!Q:Q,ROW()), INDEX('Calificación Mixta'!$H:$K,ROW(),0), 0))","v":""},{"$f":"IF(OR(INDEX('Calificación Mixta'!R:R,ROW())=\"Sin información\", INDEX('Calificación Mixta'!R:R,ROW())=\"Seleccione…\"), \"\", MATCH(INDEX('Calificación Mixta'!R:R,ROW()), INDEX('Calificación Mixta'!$H:$K,ROW(),0), 0))","v":""},{"$f":"IF(OR(INDEX('Calificación Mixta'!S:S,ROW())=\"Sin información\", INDEX('Calificación Mixta'!S:S,ROW())=\"Seleccione…\"), \"\", MATCH(INDEX('Calificación Mixta'!S:S,ROW()), INDEX('Calificación Mixta'!$H:$K,ROW(),0), 0))","v":""},{"$f":"IF(OR(INDEX('Calificación Mixta'!T:T,ROW())=\"Sin información\", INDEX('Calificación Mixta'!T:T,ROW())=\"Seleccione…\"), \"\", MATCH(INDEX('Calificación Mixta'!T:T,ROW()), INDEX('Calificación Mixta'!$H:$K,ROW(),0), 0))","v":""},{"$f":"IF(OR(INDEX('Calificación Mixta'!U:U,ROW())=\"Sin información\", INDEX('Calificación Mixta'!U:U,ROW())=\"Seleccione…\"), \"\", MATCH(INDEX('Calificación Mixta'!U:U,ROW()), INDEX('Calificación Mixta'!$H:$K,ROW(),0), 0))","v":""}]
[{"$f":"INDEX('Calificación Mixta'!B:B,ROW())","v":"Social"},{"$f":"INDEX('Calificación Mixta'!C:C,ROW())","v":"Transparencia de los datos"},{"$f":"IF(OR(INDEX('Calificación Mixta'!L:L,ROW())=\"Sin información\", INDEX('Calificación Mixta'!L:L,ROW())=\"Seleccione…\"), \"\", MATCH(INDEX('Calificación Mixta'!L:L,ROW()), INDEX('Calificación Mixta'!$H:$K,ROW(),0), 0))","v":""},{"$f":"IF(OR(INDEX('Calificación Mixta'!M:M,ROW())=\"Sin información\", INDEX('Calificación Mixta'!M:M,ROW())=\"Seleccione…\"), \"\", MATCH(INDEX('Calificación Mixta'!M:M,ROW()), INDEX('Calificación Mixta'!$H:$K,ROW(),0), 0))","v":""},{"$f":"IF(OR(INDEX('Calificación Mixta'!N:N,ROW())=\"Sin información\", INDEX('Calificación Mixta'!N:N,ROW())=\"Seleccione…\"), \"\", MATCH(INDEX('Calificación Mixta'!N:N,ROW()), INDEX('Calificación Mixta'!$H:$K,ROW(),0), 0))","v":""},{"$f":"IF(OR(INDEX('Calificación Mixta'!O:O,ROW())=\"Sin información\", INDEX('Calificación Mixta'!O:O,ROW())=\"Seleccione…\"), \"\", MATCH(INDEX('Calificación Mixta'!O:O,ROW()), INDEX('Calificación Mixta'!$H:$K,ROW(),0), 0))","v":""},{"$f":"IF(OR(INDEX('Calificación Mixta'!P:P,ROW())=\"Sin información\", INDEX('Calificación Mixta'!P:P,ROW())=\"Seleccione…\"), \"\", MATCH(INDEX('Calificación Mixta'!P:P,ROW()), INDEX('Calificación Mixta'!$H:$K,ROW(),0), 0))","v":""},{"$f":"IF(OR(INDEX('Calificación Mixta'!Q:Q,ROW())=\"Sin información\", INDEX('Calificación Mixta'!Q:Q,ROW())=\"Seleccione…\"), \"\", MATCH(INDEX('Calificación Mixta'!Q:Q,ROW()), INDEX('Calificación Mixta'!$H:$K,ROW(),0), 0))","v":""},{"$f":"IF(OR(INDEX('Calificación Mixta'!R:R,ROW())=\"Sin información\", INDEX('Calificación Mixta'!R:R,ROW())=\"Seleccione…\"), \"\", MATCH(INDEX('Calificación Mixta'!R:R,ROW()), INDEX('Calificación Mixta'!$H:$K,ROW(),0), 0))","v":""},{"$f":"IF(OR(INDEX('Calificación Mixta'!S:S,ROW())=\"Sin información\", INDEX('Calificación Mixta'!S:S,ROW())=\"Seleccione…\"), \"\", MATCH(INDEX('Calificación Mixta'!S:S,ROW()), INDEX('Calificación Mixta'!$H:$K,ROW(),0), 0))","v":""},{"$f":"IF(OR(INDEX('Calificación Mixta'!T:T,ROW())=\"Sin información\", INDEX('Calificación Mixta'!T:T,ROW())=\"Seleccione…\"), \"\", MATCH(INDEX('Calificación Mixta'!T:T,ROW()), INDEX('Calificación Mixta'!$H:$K,ROW(),0), 0))","v":""},{"$f":"IF(OR(INDEX('Calificación Mixta'!U:U,ROW())=\"Sin información\", INDEX('Calificación Mixta'!U:U,ROW())=\"Seleccione…\"), \"\", MATCH(INDEX('Calificación Mixta'!U:U,ROW()), INDEX('Calificación Mixta'!$H:$K,ROW(),0), 0))","v":""}]
[{"$f":"INDEX('Calificación Mixta'!B:B,ROW())","v":"Social"},{"$f":"INDEX('Calificación Mixta'!C:C,ROW())","v":"¿Cómo es la relación entre los miembros de la comunidad y las instituciones públicas y privadas pertinentes?"},{"$f":"IF(OR(INDEX('Calificación Mixta'!L:L,ROW())=\"Sin información\", INDEX('Calificación Mixta'!L:L,ROW())=\"Seleccione…\"), \"\", MATCH(INDEX('Calificación Mixta'!L:L,ROW()), INDEX('Calificación Mixta'!$H:$K,ROW(),0), 0))","v":""},{"$f":"IF(OR(INDEX('Calificación Mixta'!M:M,ROW())=\"Sin información\", INDEX('Calificación Mixta'!M:M,ROW())=\"Seleccione…\"), \"\", MATCH(INDEX('Calificación Mixta'!M:M,ROW()), INDEX('Calificación Mixta'!$H:$K,ROW(),0), 0))","v":""},{"$f":"IF(OR(INDEX('Calificación Mixta'!N:N,ROW())=\"Sin información\", INDEX('Calificación Mixta'!N:N,ROW())=\"Seleccione…\"), \"\", MATCH(INDEX('Calificación Mixta'!N:N,ROW()), INDEX('Calificación Mixta'!$H:$K,ROW(),0), 0))","v":""},{"$f":"IF(OR(INDEX('Calificación Mixta'!O:O,ROW())=\"Sin información\", INDEX('Calificación Mixta'!O:O,ROW())=\"Seleccione…\"), \"\", MATCH(INDEX('Calificación Mixta'!O:O,ROW()), INDEX('Calificación Mixta'!$H:$K,ROW(),0), 0))","v":""},{"$f":"IF(OR(INDEX('Calificación Mixta'!P:P,ROW())=\"Sin información\", INDEX('Calificación Mixta'!P:P,ROW())=\"Seleccione…\"), \"\", MATCH(INDEX('Calificación Mixta'!P:P,ROW()), INDEX('Calificación Mixta'!$H:$K,ROW(),0), 0))","v":""},{"$f":"IF(OR(INDEX('Calificación Mixta'!Q:Q,ROW())=\"Sin información\", INDEX('Calificación Mixta'!Q:Q,ROW())=\"Seleccione…\"), \"\", MATCH(INDEX('Calificación Mixta'!Q:Q,ROW()), INDEX('Calificación Mixta'!$H:$K,ROW(),0), 0))","v":""},{"$f":"IF(OR(INDEX('Calificación Mixta'!R:R,ROW())=\"Sin información\", INDEX('Calificación Mixta'!R:R,ROW())=\"Seleccione…\"), \"\", MATCH(INDEX('Calificación Mixta'!R:R,ROW()), INDEX('Calificación Mixta'!$H:$K,ROW(),0), 0))","v":""},{"$f":"IF(OR(INDEX('Calificación Mixta'!S:S,ROW())=\"Sin información\", INDEX('Calificación Mixta'!S:S,ROW())=\"Seleccione…\"), \"\", MATCH(INDEX('Calificación Mixta'!S:S,ROW()), INDEX('Calificación Mixta'!$H:$K,ROW(),0), 0))","v":""},{"$f":"IF(OR(INDEX('Calificación Mixta'!T:T,ROW())=\"Sin información\", INDEX('Calificación Mixta'!T:T,ROW())=\"Seleccione…\"), \"\", MATCH(INDEX('Calificación Mixta'!T:T,ROW()), INDEX('Calificación Mixta'!$H:$K,ROW(),0), 0))","v":""},{"$f":"IF(OR(INDEX('Calificación Mixta'!U:U,ROW())=\"Sin información\", INDEX('Calificación Mixta'!U:U,ROW())=\"Seleccione…\"), \"\", MATCH(INDEX('Calificación Mixta'!U:U,ROW()), INDEX('Calificación Mixta'!$H:$K,ROW(),0), 0))","v":""}]
[{"$f":"INDEX('Calificación Mixta'!B:B,ROW())","v":"Social"},{"$f":"INDEX('Calificación Mixta'!C:C,ROW())","v":"¿Están dispuestos los miembros de la comunidad a invertir tiempo en actividades comunitarias de voluntariado?"},{"$f":"IF(OR(INDEX('Calificación Mixta'!L:L,ROW())=\"Sin información\", INDEX('Calificación Mixta'!L:L,ROW())=\"Seleccione…\"), \"\", MATCH(INDEX('Calificación Mixta'!L:L,ROW()), INDEX('Calificación Mixta'!$H:$K,ROW(),0), 0))","v":""},{"$f":"IF(OR(INDEX('Calificación Mixta'!M:M,ROW())=\"Sin información\", INDEX('Calificación Mixta'!M:M,ROW())=\"Seleccione…\"), \"\", MATCH(INDEX('Calificación Mixta'!M:M,ROW()), INDEX('Calificación Mixta'!$H:$K,ROW(),0), 0))","v":""},{"$f":"IF(OR(INDEX('Calificación Mixta'!N:N,ROW())=\"Sin información\", INDEX('Calificación Mixta'!N:N,ROW())=\"Seleccione…\"), \"\", MATCH(INDEX('Calificación Mixta'!N:N,ROW()), INDEX('Calificación Mixta'!$H:$K,ROW(),0), 0))","v":""},{"$f":"IF(OR(INDEX('Calificación Mixta'!O:O,ROW())=\"Sin información\", INDEX('Calificación Mixta'!O:O,ROW())=\"Seleccione…\"), \"\", MATCH(INDEX('Calificación Mixta'!O:O,ROW()), INDEX('Calificación Mixta'!$H:$K,ROW(),0), 0))","v":""},{"$f":"IF(OR(INDEX('Calificación Mixta'!P:P,ROW())=\"Sin información\", INDEX('Calificación Mixta'!P:P,ROW())=\"Seleccione…\"), \"\", MATCH(INDEX('Calificación Mixta'!P:P,ROW()), INDEX('Calificación Mixta'!$H:$K,ROW(),0), 0))","v":""},{"$f":"IF(OR(INDEX('Calificación Mixta'!Q:Q,ROW())=\"Sin información\", INDEX('Calificación Mixta'!Q:Q,ROW())=\"Seleccione…\"), \"\", MATCH(INDEX('Calificación Mixta'!Q:Q,ROW()), INDEX('Calificación Mixta'!$H:$K,ROW(),0), 0))","v":""},{"$f":"IF(OR(INDEX('Calificación Mixta'!R:R,ROW())=\"Sin información\", INDEX('Calificación Mixta'!R:R,ROW())=\"Seleccione…\"), \"\", MATCH(INDEX('Calificación Mixta'!R:R,ROW()), INDEX('Calificación Mixta'!$H:$K,ROW(),0), 0))","v":""},{"$f":"IF(OR(INDEX('Calificación Mixta'!S:S,ROW())=\"Sin información\", INDEX('Calificación Mixta'!S:S,ROW())=\"Seleccione…\"), \"\", MATCH(INDEX('Calificación Mixta'!S:S,ROW()), INDEX('Calificación Mixta'!$H:$K,ROW(),0), 0))","v":""},{"$f":"IF(OR(INDEX('Calificación Mixta'!T:T,ROW())=\"Sin información\", INDEX('Calificación Mixta'!T:T,ROW())=\"Seleccione…\"), \"\", MATCH(INDEX('Calificación Mixta'!T:T,ROW()), INDEX('Calificación Mixta'!$H:$K,ROW(),0), 0))","v":""},{"$f":"IF(OR(INDEX('Calificación Mixta'!U:U,ROW())=\"Sin información\", INDEX('Calificación Mixta'!U:U,ROW())=\"Seleccione…\"), \"\", MATCH(INDEX('Calificación Mixta'!U:U,ROW()), INDEX('Calificación Mixta'!$H:$K,ROW(),0), 0))","v":""}]
[{"$f":"INDEX('Calificación Mixta'!B:B,ROW())","v":"Social"},{"$f":"INDEX('Calificación Mixta'!C:C,ROW())","v":"¿Los techos o superficies de tierra potencialmente viables son propiedad de los miembros de la comunidad?"},{"$f":"IF(OR(INDEX('Calificación Mixta'!L:L,ROW())=\"Sin información\", INDEX('Calificación Mixta'!L:L,ROW())=\"Seleccione…\"), \"\", MATCH(INDEX('Calificación Mixta'!L:L,ROW()), INDEX('Calificación Mixta'!$H:$K,ROW(),0), 0))","v":""},{"$f":"IF(OR(INDEX('Calificación Mixta'!M:M,ROW())=\"Sin información\", INDEX('Calificación Mixta'!M:M,ROW())=\"Seleccione…\"), \"\", MATCH(INDEX('Calificación Mixta'!M:M,ROW()), INDEX('Calificación Mixta'!$H:$K,ROW(),0), 0))","v":""},{"$f":"IF(OR(INDEX('Calificación Mixta'!N:N,ROW())=\"Sin información\", INDEX('Calificación Mixta'!N:N,ROW())=\"Seleccione…\"), \"\", MATCH(INDEX('Calificación Mixta'!N:N,ROW()), INDEX('Calificación Mixta'!$H:$K,ROW(),0), 0))","v":""},{"$f":"IF(OR(INDEX('Calificación Mixta'!O:O,ROW())=\"Sin información\", INDEX('Calificación Mixta'!O:O,ROW())=\"Seleccione…\"), \"\", MATCH(INDEX('Calificación Mixta'!O:O,ROW()), INDEX('Calificación Mixta'!$H:$K,ROW(),0), 0))","v":""},{"$f":"IF(OR(INDEX('Calificación Mixta'!P:P,ROW())=\"Sin información\", INDEX('Calificación Mixta'!P:P,ROW())=\"Seleccione…\"), \"\", MATCH(INDEX('Calificación Mixta'!P:P,ROW()), INDEX('Calificación Mixta'!$H:$K,ROW(),0), 0))","v":""},{"$f":"IF(OR(INDEX('Calificación Mixta'!Q:Q,ROW())=\"Sin información\", INDEX('Calificación Mixta'!Q:Q,ROW())=\"Seleccione…\"), \"\", MATCH(INDEX('Calificación Mixta'!Q:Q,ROW()), INDEX('Calificación Mixta'!$H:$K,ROW(),0), 0))","v":""},{"$f":"IF(OR(INDEX('Calificación Mixta'!R:R,ROW())=\"Sin información\", INDEX('Calificación Mixta'!R:R,ROW())=\"Seleccione…\"), \"\", MATCH(INDEX('Calificación Mixta'!R:R,ROW()), INDEX('Calificación Mixta'!$H:$K,ROW(),0), 0))","v":""},{"$f":"IF(OR(INDEX('Calificación Mixta'!S:S,ROW())=\"Sin información\", INDEX('Calificación Mixta'!S:S,ROW())=\"Seleccione…\"), \"\", MATCH(INDEX('Calificación Mixta'!S:S,ROW()), INDEX('Calificación Mixta'!$H:$K,ROW(),0), 0))","v":""},{"$f":"IF(OR(INDEX('Calificación Mixta'!T:T,ROW())=\"Sin información\", INDEX('Calificación Mixta'!T:T,ROW())=\"Seleccione…\"), \"\", MATCH(INDEX('Calificación Mixta'!T:T,ROW()), INDEX('Calificación Mixta'!$H:$K,ROW(),0), 0))","v":""},{"$f":"IF(OR(INDEX('Calificación Mixta'!U:U,ROW())=\"Sin información\", INDEX('Calificación Mixta'!U:U,ROW())=\"Seleccione…\"), \"\", MATCH(INDEX('Calificación Mixta'!U:U,ROW()), INDEX('Calificación Mixta'!$H:$K,ROW(),0), 0))","v":""}]
[{"$f":"INDEX('Calificación Mixta'!B:B,ROW())","v":"Social"},{"$f":"INDEX('Calificación Mixta'!C:C,ROW())","v":"Aceptación del usuario"},{"$f":"IF(OR(INDEX('Calificación Mixta'!L:L,ROW())=\"Sin información\", INDEX('Calificación Mixta'!L:L,ROW())=\"Seleccione…\"), \"\", MATCH(INDEX('Calificación Mixta'!L:L,ROW()), INDEX('Calificación Mixta'!$H:$K,ROW(),0), 0))","v":""},{"$f":"IF(OR(INDEX('Calificación Mixta'!M:M,ROW())=\"Sin información\", INDEX('Calificación Mixta'!M:M,ROW())=\"Seleccione…\"), \"\", MATCH(INDEX('Calificación Mixta'!M:M,ROW()), INDEX('Calificación Mixta'!$H:$K,ROW(),0), 0))","v":""},{"$f":"IF(OR(INDEX('Calificación Mixta'!N:N,ROW())=\"Sin información\", INDEX('Calificación Mixta'!N:N,ROW())=\"Seleccione…\"), \"\", MATCH(INDEX('Calificación Mixta'!N:N,ROW()), INDEX('Calificación Mixta'!$H:$K,ROW(),0), 0))","v":""},{"$f":"IF(OR(INDEX('Calificación Mixta'!O:O,ROW())=\"Sin información\", INDEX('Calificación Mixta'!O:O,ROW())=\"Seleccione…\"), \"\", MATCH(INDEX('Calificación Mixta'!O:O,ROW()), INDEX('Calificación Mixta'!$H:$K,ROW(),0), 0))","v":""},{"$f":"IF(OR(INDEX('Calificación Mixta'!P:P,ROW())=\"Sin información\", INDEX('Calificación Mixta'!P:P,ROW())=\"Seleccione…\"), \"\", MATCH(INDEX('Calificación Mixta'!P:P,ROW()), INDEX('Calificación Mixta'!$H:$K,ROW(),0), 0))","v":""},{"$f":"IF(OR(INDEX('Calificación Mixta'!Q:Q,ROW())=\"Sin información\", INDEX('Calificación Mixta'!Q:Q,ROW())=\"Seleccione…\"), \"\", MATCH(INDEX('Calificación Mixta'!Q:Q,ROW()), INDEX('Calificación Mixta'!$H:$K,ROW(),0), 0))","v":""},{"$f":"IF(OR(INDEX('Calificación Mixta'!R:R,ROW())=\"Sin información\", INDEX('Calificación Mixta'!R:R,ROW())=\"Seleccione…\"), \"\", MATCH(INDEX('Calificación Mixta'!R:R,ROW()), INDEX('Calificación Mixta'!$H:$K,ROW(),0), 0))","v":""},{"$f":"IF(OR(INDEX('Calificación Mixta'!S:S,ROW())=\"Sin información\", INDEX('Calificación Mixta'!S:S,ROW())=\"Seleccione…\"), \"\", MATCH(INDEX('Calificación Mixta'!S:S,ROW()), INDEX('Calificación Mixta'!$H:$K,ROW(),0), 0))","v":""},{"$f":"IF(OR(INDEX('Calificación Mixta'!T:T,ROW())=\"Sin información\", INDEX('Calificación Mixta'!T:T,ROW())=\"Seleccione…\"), \"\", MATCH(INDEX('Calificación Mixta'!T:T,ROW()), INDEX('Calificación Mixta'!$H:$K,ROW(),0), 0))","v":""},{"$f":"IF(OR(INDEX('Calificación Mixta'!U:U,ROW())=\"Sin información\", INDEX('Calificación Mixta'!U:U,ROW())=\"Seleccione…\"), \"\", MATCH(INDEX('Calificación Mixta'!U:U,ROW()), INDEX('Calificación Mixta'!$H:$K,ROW(),0), 0))","v":""}]
[{"$f":"INDEX('Calificación Mixta'!B:B,ROW())","v":"Social"},{"$f":"INDEX('Calificación Mixta'!C:C,ROW())","v":"Impacto de las Iniciativas Energéticas en las Mujeres de la Comunidad"},{"$f":"IF(OR(INDEX('Calificación Mixta'!L:L,ROW())=\"Sin información\", INDEX('Calificación Mixta'!L:L,ROW())=\"Seleccione…\"), \"\", MATCH(INDEX('Calificación Mixta'!L:L,ROW()), INDEX('Calificación Mixta'!$H:$K,ROW(),0), 0))","v":""},{"$f":"IF(OR(INDEX('Calificación Mixta'!M:M,ROW())=\"Sin información\", INDEX('Calificación Mixta'!M:M,ROW())=\"Seleccione…\"), \"\", MATCH(INDEX('Calificación Mixta'!M:M,ROW()), INDEX('Calificación Mixta'!$H:$K,ROW(),0), 0))","v":""},{"$f":"IF(OR(INDEX('Calificación Mixta'!N:N,ROW())=\"Sin información\", INDEX('Calificación Mixta'!N:N,ROW())=\"Seleccione…\"), \"\", MATCH(INDEX('Calificación Mixta'!N:N,ROW()), INDEX('Calificación Mixta'!$H:$K,ROW(),0), 0))","v":""},{"$f":"IF(OR(INDEX('Calificación Mixta'!O:O,ROW())=\"Sin información\", INDEX('Calificación Mixta'!O:O,ROW())=\"Seleccione…\"), \"\", MATCH(INDEX('Calificación Mixta'!O:O,ROW()), INDEX('Calificación Mixta'!$H:$K,ROW(),0), 0))","v":""},{"$f":"IF(OR(INDEX('Calificación Mixta'!P:P,ROW())=\"Sin información\", INDEX('Calificación Mixta'!P:P,ROW())=\"Seleccione…\"), \"\", MATCH(INDEX('Calificación Mixta'!P:P,ROW()), INDEX('Calificación Mixta'!$H:$K,ROW(),0), 0))","v":""},{"$f":"IF(OR(INDEX('Calificación Mixta'!Q:Q,ROW())=\"Sin información\", INDEX('Calificación Mixta'!Q:Q,ROW())=\"Seleccione…\"), \"\", MATCH(INDEX('Calificación Mixta'!Q:Q,ROW()), INDEX('Calificación Mixta'!$H:$K,ROW(),0), 0))","v":""},{"$f":"IF(OR(INDEX('Calificación Mixta'!R:R,ROW())=\"Sin información\", INDEX('Calificación Mixta'!R:R,ROW())=\"Seleccione…\"), \"\", MATCH(INDEX('Calificación Mixta'!R:R,ROW()), INDEX('Calificación Mixta'!$H:$K,ROW(),0), 0))","v":""},{"$f":"IF(OR(INDEX('Calificación Mixta'!S:S,ROW())=\"Sin información\", INDEX('Calificación Mixta'!S:S,ROW())=\"Seleccione…\"), \"\", MATCH(INDEX('Calificación Mixta'!S:S,ROW()), INDEX('Calificación Mixta'!$H:$K,ROW(),0), 0))","v":""},{"$f":"IF(OR(INDEX('Calificación Mixta'!T:T,ROW())=\"Sin información\", INDEX('Calificación Mixta'!T:T,ROW())=\"Seleccione…\"), \"\", MATCH(INDEX('Calificación Mixta'!T:T,ROW()), INDEX('Calificación Mixta'!$H:$K,ROW(),0), 0))","v":""},{"$f":"IF(OR(INDEX('Calificación Mixta'!U:U,ROW())=\"Sin información\", INDEX('Calificación Mixta'!U:U,ROW())=\"Seleccione…\"), \"\", MATCH(INDEX('Calificación Mixta'!U:U,ROW()), INDEX('Calificación Mixta'!$H:$K,ROW(),0), 0))","v":""}]
[{"$f":"INDEX('Calificación Mixta'!B:B,ROW())","v":"Social"},{"$f":"INDEX('Calificación Mixta'!C:C,ROW())","v":"Cumplimiento de consultas previas"},{"$f":"IF(OR(INDEX('Calificación Mixta'!L:L,ROW())=\"Sin información\", INDEX('Calificación Mixta'!L:L,ROW())=\"Seleccione…\"), \"\", MATCH(INDEX('Calificación Mixta'!L:L,ROW()), INDEX('Calificación Mixta'!$H:$K,ROW(),0), 0))","v":""},{"$f":"IF(OR(INDEX('Calificación Mixta'!M:M,ROW())=\"Sin información\", INDEX('Calificación Mixta'!M:M,ROW())=\"Seleccione…\"), \"\", MATCH(INDEX('Calificación Mixta'!M:M,ROW()), INDEX('Calificación Mixta'!$H:$K,ROW(),0), 0))","v":""},{"$f":"IF(OR(INDEX('Calificación Mixta'!N:N,ROW())=\"Sin información\", INDEX('Calificación Mixta'!N:N,ROW())=\"Seleccione…\"), \"\", MATCH(INDEX('Calificación Mixta'!N:N,ROW()), INDEX('Calificación Mixta'!$H:$K,ROW(),0), 0))","v":""},{"$f":"IF(OR(INDEX('Calificación Mixta'!O:O,ROW())=\"Sin información\", INDEX('Calificación Mixta'!O:O,ROW())=\"Seleccione…\"), \"\", MATCH(INDEX('Calificación Mixta'!O:O,ROW()), INDEX('Calificación Mixta'!$H:$K,ROW(),0), 0))","v":""},{"$f":"IF(OR(INDEX('Calificación Mixta'!P:P,ROW())=\"Sin información\", INDEX('Calificación Mixta'!P:P,ROW())=\"Seleccione…\"), \"\", MATCH(INDEX('Calificación Mixta'!P:P,ROW()), INDEX('Calificación Mixta'!$H:$K,ROW(),0), 0))","v":""},{"$f":"IF(OR(INDEX('Calificación Mixta'!Q:Q,ROW())=\"Sin información\", INDEX('Calificación Mixta'!Q:Q,ROW())=\"Seleccione…\"), \"\", MATCH(INDEX('Calificación Mixta'!Q:Q,ROW()), INDEX('Calificación Mixta'!$H:$K,ROW(),0), 0))","v":""},{"$f":"IF(OR(INDEX('Calificación Mixta'!R:R,ROW())=\"Sin información\", INDEX('Calificación Mixta'!R:R,ROW())=\"Seleccione…\"), \"\", MATCH(INDEX('Calificación Mixta'!R:R,ROW()), INDEX('Calificación Mixta'!$H:$K,ROW(),0), 0))","v":""},{"$f":"IF(OR(INDEX('Calificación Mixta'!S:S,ROW())=\"Sin información\", INDEX('Calificación Mixta'!S:S,ROW())=\"Seleccione…\"), \"\", MATCH(INDEX('Calificación Mixta'!S:S,ROW()), INDEX('Calificación Mixta'!$H:$K,ROW(),0), 0))","v":""},{"$f":"IF(OR(INDEX('Calificación Mixta'!T:T,ROW())=\"Sin información\", INDEX('Calificación Mixta'!T:T,ROW())=\"Seleccione…\"), \"\", MATCH(INDEX('Calificación Mixta'!T:T,ROW()), INDEX('Calificación Mixta'!$H:$K,ROW(),0), 0))","v":""},{"$f":"IF(OR(INDEX('Calificación Mixta'!U:U,ROW())=\"Sin información\", INDEX('Calificación Mixta'!U:U,ROW())=\"Seleccione…\"), \"\", MATCH(INDEX('Calificación Mixta'!U:U,ROW()), INDEX('Calificación Mixta'!$H:$K,ROW(),0), 0))","v":""}]
[{"$f":"INDEX('Calificación Mixta'!B:B,ROW())","v":"Social"},{"$f":"INDEX('Calificación Mixta'!C:C,ROW())","v":"Capacitación en Energías Renovables con Enfoque de Género"},{"$f":"IF(OR(INDEX('Calificación Mixta'!L:L,ROW())=\"Sin información\", INDEX('Calificación Mixta'!L:L,ROW())=\"Seleccione…\"), \"\", MATCH(INDEX('Calificación Mixta'!L:L,ROW()), INDEX('Calificación Mixta'!$H:$K,ROW(),0), 0))","v":""},{"$f":"IF(OR(INDEX('Calificación Mixta'!M:M,ROW())=\"Sin información\", INDEX('Calificación Mixta'!M:M,ROW())=\"Seleccione…\"), \"\", MATCH(INDEX('Calificación Mixta'!M:M,ROW()), INDEX('Calificación Mixta'!$H:$K,ROW(),0), 0))","v":""},{"$f":"IF(OR(INDEX('Calificación Mixta'!N:N,ROW())=\"Sin información\", INDEX('Calificación Mixta'!N:N,ROW())=\"Seleccione…\"), \"\", MATCH(INDEX('Calificación Mixta'!N:N,ROW()), INDEX('Calificación Mixta'!$H:$K,ROW(),0), 0))","v":""},{"$f":"IF(OR(INDEX('Calificación Mixta'!O:O,ROW())=\"Sin información\", INDEX('Calificación Mixta'!O:O,ROW())=\"Seleccione…\"), \"\", MATCH(INDEX('Calificación Mixta'!O:O,ROW()), INDEX('Calificación Mixta'!$H:$K,ROW(),0), 0))","v":""},{"$f":"IF(OR(INDEX('Calificación Mixta'!P:P,ROW())=\"Sin información\", INDEX('Calificación Mixta'!P:P,ROW())=\"Seleccione…\"), \"\", MATCH(INDEX('Calificación Mixta'!P:P,ROW()), INDEX('Calificación Mixta'!$H:$K,ROW(),0), 0))","v":""},{"$f":"IF(OR(INDEX('Calificación Mixta'!Q:Q,ROW())=\"Sin información\", INDEX('Calificación Mixta'!Q:Q,ROW())=\"Seleccione…\"), \"\", MATCH(INDEX('Calificación Mixta'!Q:Q,ROW()), INDEX('Calificación Mixta'!$H:$K,ROW(),0), 0))","v":""},{"$f":"IF(OR(INDEX('Calificación Mixta'!R:R,ROW())=\"Sin información\", INDEX('Calificación Mixta'!R:R,ROW())=\"Seleccione…\"), \"\", MATCH(INDEX('Calificación Mixta'!R:R,ROW()), INDEX('Calificación Mixta'!$H:$K,ROW(),0), 0))","v":""},{"$f":"IF(OR(INDEX('Calificación Mixta'!S:S,ROW())=\"Sin información\", INDEX('Calificación Mixta'!S:S,ROW())=\"Seleccione…\"), \"\", MATCH(INDEX('Calificación Mixta'!S:S,ROW()), INDEX('Calificación Mixta'!$H:$K,ROW(),0), 0))","v":""},{"$f":"IF(OR(INDEX('Calificación Mixta'!T:T,ROW())=\"Sin información\", INDEX('Calificación Mixta'!T:T,ROW())=\"Seleccione…\"), \"\", MATCH(INDEX('Calificación Mixta'!T:T,ROW()), INDEX('Calificación Mixta'!$H:$K,ROW(),0), 0))","v":""},{"$f":"IF(OR(INDEX('Calificación Mixta'!U:U,ROW())=\"Sin información\", INDEX('Calificación Mixta'!U:U,ROW())=\"Seleccione…\"), \"\", MATCH(INDEX('Calificación Mixta'!U:U,ROW()), INDEX('Calificación Mixta'!$H:$K,ROW(),0), 0))","v":""}]
[{"$f":"INDEX('Calificación Mixta'!B:B,ROW())","v":"Técnico"},{"$f":"INDEX('Calificación Mixta'!C:C,ROW())","v":"¿Hay capacidad disponible en el circuito de distribución local para la capacidad de generación estimada?\n(límite del 50%)"},{"$f":"IF(OR(INDEX('Calificación Mixta'!L:L,ROW())=\"Sin información\", INDEX('Calificación Mixta'!L:L,ROW())=\"Seleccione…\"), \"\", MATCH(INDEX('Calificación Mixta'!L:L,ROW()), INDEX('Calificación Mixta'!$H:$K,ROW(),0), 0))","v":""},{"$f":"IF(OR(INDEX('Calificación Mixta'!M:M,ROW())=\"Sin información\", INDEX('Calificación Mixta'!M:M,ROW())=\"Seleccione…\"), \"\", MATCH(INDEX('Calificación Mixta'!M:M,ROW()), INDEX('Calificación Mixta'!$H:$K,ROW(),0), 0))","v":""},{"$f":"IF(OR(INDEX('Calificación Mixta'!N:N,ROW())=\"Sin información\", INDEX('Calificación Mixta'!N:N,ROW())=\"Seleccione…\"), \"\", MATCH(INDEX('Calificación Mixta'!N:N,ROW()), INDEX('Calificación Mixta'!$H:$K,ROW(),0), 0))","v":""},{"$f":"IF(OR(INDEX('Calificación Mixta'!O:O,ROW())=\"Sin información\", INDEX('Calificación Mixta'!O:O,ROW())=\"Seleccione…\"), \"\", MATCH(INDEX('Calificación Mixta'!O:O,ROW()), INDEX('Calificación Mixta'!$H:$K,ROW(),0), 0))","v":""},{"$f":"IF(OR(INDEX('Calificación Mixta'!P:P,ROW())=\"Sin información\", INDEX('Calificación Mixta'!P:P,ROW())=\"Seleccione…\"), \"\", MATCH(INDEX('Calificación Mixta'!P:P,ROW()), INDEX('Calificación Mixta'!$H:$K,ROW(),0), 0))","v":""},{"$f":"IF(OR(INDEX('Calificación Mixta'!Q:Q,ROW())=\"Sin información\", INDEX('Calificación Mixta'!Q:Q,ROW())=\"Seleccione…\"), \"\", MATCH(INDEX('Calificación Mixta'!Q:Q,ROW()), INDEX('Calificación Mixta'!$H:$K,ROW(),0), 0))","v":""},{"$f":"IF(OR(INDEX('Calificación Mixta'!R:R,ROW())=\"Sin información\", INDEX('Calificación Mixta'!R:R,ROW())=\"Seleccione…\"), \"\", MATCH(INDEX('Calificación Mixta'!R:R,ROW()), INDEX('Calificación Mixta'!$H:$K,ROW(),0), 0))","v":""},{"$f":"IF(OR(INDEX('Calificación Mixta'!S:S,ROW())=\"Sin información\", INDEX('Calificación Mixta'!S:S,ROW())=\"Seleccione…\"), \"\", MATCH(INDEX('Calificación Mixta'!S:S,ROW()), INDEX('Calificación Mixta'!$H:$K,ROW(),0), 0))","v":""},{"$f":"IF(OR(INDEX('Calificación Mixta'!T:T,ROW())=\"Sin información\", INDEX('Calificación Mixta'!T:T,ROW())=\"Seleccione…\"), \"\", MATCH(INDEX('Calificación Mixta'!T:T,ROW()), INDEX('Calificación Mixta'!$H:$K,ROW(),0), 0))","v":""},{"$f":"IF(OR(INDEX('Calificación Mixta'!U:U,ROW())=\"Sin información\", INDEX('Calificación Mixta'!U:U,ROW())=\"Seleccione…\"), \"\", MATCH(INDEX('Calificación Mixta'!U:U,ROW()), INDEX('Calificación Mixta'!$H:$K,ROW(),0), 0))","v":""}]
[{"$f":"INDEX('Calificación Mixta'!B:B,ROW())","v":"Técnico"},{"$f":"INDEX('Calificación Mixta'!C:C,ROW())","v":"¿Se trata de una comunidad ya postulada y focalizada?"},{"$f":"IF(OR(INDEX('Calificación Mixta'!L:L,ROW())=\"Sin información\", INDEX('Calificación Mixta'!L:L,ROW())=\"Seleccione…\"), \"\", MATCH(INDEX('Calificación Mixta'!L:L,ROW()), INDEX('Calificación Mixta'!$H:$K,ROW(),0), 0))","v":""},{"$f":"IF(OR(INDEX('Calificación Mixta'!M:M,ROW())=\"Sin información\", INDEX('Calificación Mixta'!M:M,ROW())=\"Seleccione…\"), \"\", MATCH(INDEX('Calificación Mixta'!M:M,ROW()), INDEX('Calificación Mixta'!$H:$K,ROW(),0), 0))","v":""},{"$f":"IF(OR(INDEX('Calificación Mixta'!N:N,ROW())=\"Sin información\", INDEX('Calificación Mixta'!N:N,ROW())=\"Seleccione…\"), \"\", MATCH(INDEX('Calificación Mixta'!N:N,ROW()), INDEX('Calificación Mixta'!$H:$K,ROW(),0), 0))","v":""},{"$f":"IF(OR(INDEX('Calificación Mixta'!O:O,ROW())=\"Sin información\", INDEX('Calificación Mixta'!O:O,ROW())=\"Seleccione…\"), \"\", MATCH(INDEX('Calificación Mixta'!O:O,ROW()), INDEX('Calificación Mixta'!$H:$K,ROW(),0), 0))","v":""},{"$f":"IF(OR(INDEX('Calificación Mixta'!P:P,ROW())=\"Sin información\", INDEX('Calificación Mixta'!P:P,ROW())=\"Seleccione…\"), \"\", MATCH(INDEX('Calificación Mixta'!P:P,ROW()), INDEX('Calificación Mixta'!$H:$K,ROW(),0), 0))","v":""},{"$f":"IF(OR(INDEX('Calificación Mixta'!Q:Q,ROW())=\"Sin información\", INDEX('Calificación Mixta'!Q:Q,ROW())=\"Seleccione…\"), \"\", MATCH(INDEX('Calificación Mixta'!Q:Q,ROW()), INDEX('Calificación Mixta'!$H:$K,ROW(),0), 0))","v":""},{"$f":"IF(OR(INDEX('Calificación Mixta'!R:R,ROW())=\"Sin información\", INDEX('Calificación Mixta'!R:R,ROW())=\"Seleccione…\"), \"\", MATCH(INDEX('Calificación Mixta'!R:R,ROW()), INDEX('Calificación Mixta'!$H:$K,ROW(),0), 0))","v":""},{"$f":"IF(OR(INDEX('Calificación Mixta'!S:S,ROW())=\"Sin información\", INDEX('Calificación Mixta'!S:S,ROW())=\"Seleccione…\"), \"\", MATCH(INDEX('Calificación Mixta'!S:S,ROW()), INDEX('Calificación Mixta'!$H:$K,ROW(),0), 0))","v":""},{"$f":"IF(OR(INDEX('Calificación Mixta'!T:T,ROW())=\"Sin información\", INDEX('Calificación Mixta'!T:T,ROW())=\"Seleccione…\"), \"\", MATCH(INDEX('Calificación Mixta'!T:T,ROW()), INDEX('Calificación Mixta'!$H:$K,ROW(),0), 0))","v":""},{"$f":"IF(OR(INDEX('Calificación Mixta'!U:U,ROW())=\"Sin información\", INDEX('Calificación Mixta'!U:U,ROW())=\"Seleccione…\"), \"\", MATCH(INDEX('Calificación Mixta'!U:U,ROW()), INDEX('Calificación Mixta'!$H:$K,ROW(),0), 0))","v":""}]
[{"$f":"INDEX('Calificación Mixta'!B:B,ROW())","v":"Técnico"},{"$f":"INDEX('Calificación Mixta'!C:C,ROW())","v":"Ahorro de energía de la red"},{"$f":"IF(OR(INDEX('Calificación Mixta'!L:L,ROW())=\"Sin información\", INDEX('Calificación Mixta'!L:L,ROW())=\"Seleccione…\"), \"\", MATCH(INDEX('Calificación Mixta'!L:L,ROW()), INDEX('Calificación Mixta'!$H:$K,ROW(),0), 0))","v":""},{"$f":"IF(OR(INDEX('Calificación Mixta'!M:M,ROW())=\"Sin información\", INDEX('Calificación Mixta'!M:M,ROW())=\"Seleccione…\"), \"\", MATCH(INDEX('Calificación Mixta'!M:M,ROW()), INDEX('Calificación Mixta'!$H:$K,ROW(),0), 0))","v":""},{"$f":"IF(OR(INDEX('Calificación Mixta'!N:N,ROW())=\"Sin información\", INDEX('Calificación Mixta'!N:N,ROW())=\"Seleccione…\"), \"\", MATCH(INDEX('Calificación Mixta'!N:N,ROW()), INDEX('Calificación Mixta'!$H:$K,ROW(),0), 0))","v":""},{"$f":"IF(OR(INDEX('Calificación Mixta'!O:O,ROW())=\"Sin información\", INDEX('Calificación Mixta'!O:O,ROW())=\"Seleccione…\"), \"\", MATCH(INDEX('Calificación Mixta'!O:O,ROW()), INDEX('Calificación Mixta'!$H:$K,ROW(),0), 0))","v":""},{"$f":"IF(OR(INDEX('Calificación Mixta'!P:P,ROW())=\"Sin información\", INDEX('Calificación Mixta'!P:P,ROW())=\"Seleccione…\"), \"\", MATCH(INDEX('Calificación Mixta'!P:P,ROW()), INDEX('Calificación Mixta'!$H:$K,ROW(),0), 0))","v":""},{"$f":"IF(OR(INDEX('Calificación Mixta'!Q:Q,ROW())=\"Sin información\", INDEX('Calificación Mixta'!Q:Q,ROW())=\"Seleccione…\"), \"\", MATCH(INDEX('Calificación Mixta'!Q:Q,ROW()), INDEX('Calificación Mixta'!$H:$K,ROW(),0), 0))","v":""},{"$f":"IF(OR(INDEX('Calificación Mixta'!R:R,ROW())=\"Sin información\", INDEX('Calificación Mixta'!R:R,ROW())=\"Seleccione…\"), \"\", MATCH(INDEX('Calificación Mixta'!R:R,ROW()), INDEX('Calificación Mixta'!$H:$K,ROW(),0), 0))","v":""},{"$f":"IF(OR(INDEX('Calificación Mixta'!S:S,ROW())=\"Sin información\", INDEX('Calificación Mixta'!S:S,ROW())=\"Seleccione…\"), \"\", MATCH(INDEX('Calificación Mixta'!S:S,ROW()), INDEX('Calificación Mixta'!$H:$K,ROW(),0), 0))","v":""},{"$f":"IF(OR(INDEX('Calificación Mixta'!T:T,ROW())=\"Sin información\", INDEX('Calificación Mixta'!T:T,ROW())=\"Seleccione…\"), \"\", MATCH(INDEX('Calificación Mixta'!T:T,ROW()), INDEX('Calificación Mixta'!$H:$K,ROW(),0), 0))","v":""},{"$f":"IF(OR(INDEX('Calificación Mixta'!U:U,ROW())=\"Sin información\", INDEX('Calificación Mixta'!U:U,ROW())=\"Seleccione…\"), \"\", MATCH(INDEX('Calificación Mixta'!U:U,ROW()), INDEX('Calificación Mixta'!$H:$K,ROW(),0), 0))","v":""}]
[{"$f":"INDEX('Calificación Mixta'!B:B,ROW())","v":"Técnico"},{"$f":"INDEX('Calificación Mixta'!C:C,ROW())","v":"Capacidad técnica local (no siempre es esencial, ya que la capacitación puede ser parte del proyecto.)"},{"$f":"IF(OR(INDEX('Calificación Mixta'!L:L,ROW())=\"Sin información\", INDEX('Calificación Mixta'!L:L,ROW())=\"Seleccione…\"), \"\", MATCH(INDEX('Calificación Mixta'!L:L,ROW()), INDEX('Calificación Mixta'!$H:$K,ROW(),0), 0))","v":""},{"$f":"IF(OR(INDEX('Calificación Mixta'!M:M,ROW())=\"Sin información\", INDEX('Calificación Mixta'!M:M,ROW())=\"Seleccione…\"), \"\", MATCH(INDEX('Calificación Mixta'!M:M,ROW()), INDEX('Calificación Mixta'!$H:$K,ROW(),0), 0))","v":""},{"$f":"IF(OR(INDEX('Calificación Mixta'!N:N,ROW())=\"Sin información\", INDEX('Calificación Mixta'!N:N,ROW())=\"Seleccione…\"), \"\", MATCH(INDEX('Calificación Mixta'!N:N,ROW()), INDEX('Calificación Mixta'!$H:$K,ROW(),0), 0))","v":""},{"$f":"IF(OR(INDEX('Calificación Mixta'!O:O,ROW())=\"Sin información\", INDEX('Calificación Mixta'!O:O,ROW())=\"Seleccione…\"), \"\", MATCH(INDEX('Calificación Mixta'!O:O,ROW()), INDEX('Calificación Mixta'!$H:$K,ROW(),0), 0))","v":""},{"$f":"IF(OR(INDEX('Calificación Mixta'!P:P,ROW())=\"Sin información\", INDEX('Calificación Mixta'!P:P,ROW())=\"Seleccione…\"), \"\", MATCH(INDEX('Calificación Mixta'!P:P,ROW()), INDEX('Calificación Mixta'!$H:$K,ROW(),0), 0))","v":""},{"$f":"IF(OR(INDEX('Calificación Mixta'!Q:Q,ROW())=\"Sin información\", INDEX('Calificación Mixta'!Q:Q,ROW())=\"Seleccione…\"), \"\", MATCH(INDEX('Calificación Mixta'!Q:Q,ROW()), INDEX('Calificación Mixta'!$H:$K,ROW(),0), 0))","v":""},{"$f":"IF(OR(INDEX('Calificación Mixta'!R:R,ROW())=\"Sin información\", INDEX('Calificación Mixta'!R:R,ROW())=\"Seleccione…\"), \"\", MATCH(INDEX('Calificación Mixta'!R:R,ROW()), INDEX('Calificación Mixta'!$H:$K,ROW(),0), 0))","v":""},{"$f":"IF(OR(INDEX('Calificación Mixta'!S:S,ROW())=\"Sin información\", INDEX('Calificación Mixta'!S:S,ROW())=\"Seleccione…\"), \"\", MATCH(INDEX('Calificación Mixta'!S:S,ROW()), INDEX('Calificación Mixta'!$H:$K,ROW(),0), 0))","v":""},{"$f":"IF(OR(INDEX('Calificación Mixta'!T:T,ROW())=\"Sin información\", INDEX('Calificación Mixta'!T:T,ROW())=\"Seleccione…\"), \"\", MATCH(INDEX('Calificación Mixta'!T:T,ROW()), INDEX('Calificación Mixta'!$H:$K,ROW(),0), 0))","v":""},{"$f":"IF(OR(INDEX('Calificación Mixta'!U:U,ROW())=\"Sin información\", INDEX('Calificación Mixta'!U:U,ROW())=\"Seleccione…\"), \"\", MATCH(INDEX('Calificación Mixta'!U:U,ROW()), INDEX('Calificación Mixta'!$H:$K,ROW(),0), 0))","v":""}]
[{"$f":"INDEX('Calificación Mixta'!B:B,ROW())","v":"Técnico"},{"$f":"INDEX('Calificación Mixta'!C:C,ROW())","v":"Grado de avance del sistema energético que se proyecta implementar"},{"$f":"IF(OR(INDEX('Calificación Mixta'!L:L,ROW())=\"Sin información\", INDEX('Calificación Mixta'!L:L,ROW())=\"Seleccione…\"), \"\", MATCH(INDEX('Calificación Mixta'!L:L,ROW()), INDEX('Calificación Mixta'!$H:$K,ROW(),0), 0))","v":""},{"$f":"IF(OR(INDEX('Calificación Mixta'!M:M,ROW())=\"Sin información\", INDEX('Calificación Mixta'!M:M,ROW())=\"Seleccione…\"), \"\", MATCH(INDEX('Calificación Mixta'!M:M,ROW()), INDEX('Calificación Mixta'!$H:$K,ROW(),0), 0))","v":""},{"$f":"IF(OR(INDEX('Calificación Mixta'!N:N,ROW())=\"Sin información\", INDEX('Calificación Mixta'!N:N,ROW())=\"Seleccione…\"), \"\", MATCH(INDEX('Calificación Mixta'!N:N,ROW()), INDEX('Calificación Mixta'!$H:$K,ROW(),0), 0))","v":""},{"$f":"IF(OR(INDEX('Calificación Mixta'!O:O,ROW())=\"Sin información\", INDEX('Calificación Mixta'!O:O,ROW())=\"Seleccione…\"), \"\", MATCH(INDEX('Calificación Mixta'!O:O,ROW()), INDEX('Calificación Mixta'!$H:$K,ROW(),0), 0))","v":""},{"$f":"IF(OR(INDEX('Calificación Mixta'!P:P,ROW())=\"Sin información\", INDEX('Calificación Mixta'!P:P,ROW())=\"Seleccione…\"), \"\", MATCH(INDEX('Calificación Mixta'!P:P,ROW()), INDEX('Calificación Mixta'!$H:$K,ROW(),0), 0))","v":""},{"$f":"IF(OR(INDEX('Calificación Mixta'!Q:Q,ROW())=\"Sin información\", INDEX('Calificación Mixta'!Q:Q,ROW())=\"Seleccione…\"), \"\", MATCH(INDEX('Calificación Mixta'!Q:Q,ROW()), INDEX('Calificación Mixta'!$H:$K,ROW(),0), 0))","v":""},{"$f":"IF(OR(INDEX('Calificación Mixta'!R:R,ROW())=\"Sin información\", INDEX('Calificación Mixta'!R:R,ROW())=\"Seleccione…\"), \"\", MATCH(INDEX('Calificación Mixta'!R:R,ROW()), INDEX('Calificación Mixta'!$H:$K,ROW(),0), 0))","v":""},{"$f":"IF(OR(INDEX('Calificación Mixta'!S:S,ROW())=\"Sin información\", INDEX('Calificación Mixta'!S:S,ROW())=\"Seleccione…\"), \"\", MATCH(INDEX('Calificación Mixta'!S:S,ROW()), INDEX('Calificación Mixta'!$H:$K,ROW(),0), 0))","v":""},{"$f":"IF(OR(INDEX('Calificación Mixta'!T:T,ROW())=\"Sin información\", INDEX('Calificación Mixta'!T:T,ROW())=\"Seleccione…\"), \"\", MATCH(INDEX('Calificación Mixta'!T:T,ROW()), INDEX('Calificación Mixta'!$H:$K,ROW(),0), 0))","v":""},{"$f":"IF(OR(INDEX('Calificación Mixta'!U:U,ROW())=\"Sin información\", INDEX('Calificación Mixta'!U:U,ROW())=\"Seleccione…\"), \"\", MATCH(INDEX('Calificación Mixta'!U:U,ROW()), INDEX('Calificación Mixta'!$H:$K,ROW(),0), 0))","v":""}]
[{"$f":"INDEX('Calificación Mixta'!B:B,ROW())","v":"Técnico"},{"$f":"INDEX('Calificación Mixta'!C:C,ROW())","v":"Pérdidas de Energía Eléctrica"},{"$f":"IF(OR(INDEX('Calificación Mixta'!L:L,ROW())=\"Sin información\", INDEX('Calificación Mixta'!L:L,ROW())=\"Seleccione…\"), \"\", MATCH(INDEX('Calificación Mixta'!L:L,ROW()), INDEX('Calificación Mixta'!$H:$K,ROW(),0), 0))","v":""},{"$f":"IF(OR(INDEX('Calificación Mixta'!M:M,ROW())=\"Sin información\", INDEX('Calificación Mixta'!M:M,ROW())=\"Seleccione…\"), \"\", MATCH(INDEX('Calificación Mixta'!M:M,ROW()), INDEX('Calificación Mixta'!$H:$K,ROW(),0), 0))","v":""},{"$f":"IF(OR(INDEX('Calificación Mixta'!N:N,ROW())=\"Sin información\", INDEX('Calificación Mixta'!N:N,ROW())=\"Seleccione…\"), \"\", MATCH(INDEX('Calificación Mixta'!N:N,ROW()), INDEX('Calificación Mixta'!$H:$K,ROW(),0), 0))","v":""},{"$f":"IF(OR(INDEX('Calificación Mixta'!O:O,ROW())=\"Sin información\", INDEX('Calificación Mixta'!O:O,ROW())=\"Seleccione…\"), \"\", MATCH(INDEX('Calificación Mixta'!O:O,ROW()), INDEX('Calificación Mixta'!$H:$K,ROW(),0), 0))","v":""},{"$f":"IF(OR(INDEX('Calificación Mixta'!P:P,ROW())=\"Sin información\", INDEX('Calificación Mixta'!P:P,ROW())=\"Seleccione…\"), \"\", MATCH(INDEX('Calificación Mixta'!P:P,ROW()), INDEX('Calificación Mixta'!$H:$K,ROW(),0), 0))","v":""},{"$f":"IF(OR(INDEX('Calificación Mixta'!Q:Q,ROW())=\"Sin información\", INDEX('Calificación Mixta'!Q:Q,ROW())=\"Seleccione…\"), \"\", MATCH(INDEX('Calificación Mixta'!Q:Q,ROW()), INDEX('Calificación Mixta'!$H:$K,ROW(),0), 0))","v":""},{"$f":"IF(OR(INDEX('Calificación Mixta'!R:R,ROW())=\"Sin información\", INDEX('Calificación Mixta'!R:R,ROW())=\"Seleccione…\"), \"\", MATCH(INDEX('Calificación Mixta'!R:R,ROW()), INDEX('Calificación Mixta'!$H:$K,ROW(),0), 0))","v":""},{"$f":"IF(OR(INDEX('Calificación Mixta'!S:S,ROW())=\"Sin información\", INDEX('Calificación Mixta'!S:S,ROW())=\"Seleccione…\"), \"\", MATCH(INDEX('Calificación Mixta'!S:S,ROW()), INDEX('Calificación Mixta'!$H:$K,ROW(),0), 0))","v":""},{"$f":"IF(OR(INDEX('Calificación Mixta'!T:T,ROW())=\"Sin información\", INDEX('Calificación Mixta'!T:T,ROW())=\"Seleccione…\"), \"\", MATCH(INDEX('Calificación Mixta'!T:T,ROW()), INDEX('Calificación Mixta'!$H:$K,ROW(),0), 0))","v":""},{"$f":"IF(OR(INDEX('Calificación Mixta'!U:U,ROW())=\"Sin información\", INDEX('Calificación Mixta'!U:U,ROW())=\"Seleccione…\"), \"\", MATCH(INDEX('Calificación Mixta'!U:U,ROW()), INDEX('Calificación Mixta'!$H:$K,ROW(),0), 0))","v":""}]
[{"$f":"INDEX('Calificación Mixta'!B:B,ROW())","v":"Técnico"},{"$f":"INDEX('Calificación Mixta'!C:C,ROW())","v":"Calidad del servicio (Frecuencia y duración de interrupciones)"},{"$f":"IF(OR(INDEX('Calificación Mixta'!L:L,ROW())=\"Sin información\", INDEX('Calificación Mixta'!L:L,ROW())=\"Seleccione…\"), \"\", MATCH(INDEX('Calificación Mixta'!L:L,ROW()), INDEX('Calificación Mixta'!$H:$K,ROW(),0), 0))","v":""},{"$f":"IF(OR(INDEX('Calificación Mixta'!M:M,ROW())=\"Sin información\", INDEX('Calificación Mixta'!M:M,ROW())=\"Seleccione…\"), \"\", MATCH(INDEX('Calificación Mixta'!M:M,ROW()), INDEX('Calificación Mixta'!$H:$K,ROW(),0), 0))","v":""},{"$f":"IF(OR(INDEX('Calificación Mixta'!N:N,ROW())=\"Sin información\", INDEX('Calificación Mixta'!N:N,ROW())=\"Seleccione…\"), \"\", MATCH(INDEX('Calificación Mixta'!N:N,ROW()), INDEX('Calificación Mixta'!$H:$K,ROW(),0), 0))","v":""},{"$f":"IF(OR(INDEX('Calificación Mixta'!O:O,ROW())=\"Sin información\", INDEX('Calificación Mixta'!O:O,ROW())=\"Seleccione…\"), \"\", MATCH(INDEX('Calificación Mixta'!O:O,ROW()), INDEX('Calificación Mixta'!$H:$K,ROW(),0), 0))","v":""},{"$f":"IF(OR(INDEX('Calificación Mixta'!P:P,ROW())=\"Sin información\", INDEX('Calificación Mixta'!P:P,ROW())=\"Seleccione…\"), \"\", MATCH(INDEX('Calificación Mixta'!P:P,ROW()), INDEX('Calificación Mixta'!$H:$K,ROW(),0), 0))","v":""},{"$f":"IF(OR(INDEX('Calificación Mixta'!Q:Q,ROW())=\"Sin información\", INDEX('Calificación Mixta'!Q:Q,ROW())=\"Seleccione…\"), \"\", MATCH(INDEX('Calificación Mixta'!Q:Q,ROW()), INDEX('Calificación Mixta'!$H:$K,ROW(),0), 0))","v":""},{"$f":"IF(OR(INDEX('Calificación Mixta'!R:R,ROW())=\"Sin información\", INDEX('Calificación Mixta'!R:R,ROW())=\"Seleccione…\"), \"\", MATCH(INDEX('Calificación Mixta'!R:R,ROW()), INDEX('Calificación Mixta'!$H:$K,ROW(),0), 0))","v":""},{"$f":"IF(OR(INDEX('Calificación Mixta'!S:S,ROW())=\"Sin información\", INDEX('Calificación Mixta'!S:S,ROW())=\"Seleccione…\"), \"\", MATCH(INDEX('Calificación Mixta'!S:S,ROW()), INDEX('Calificación Mixta'!$H:$K,ROW(),0), 0))","v":""},{"$f":"IF(OR(INDEX('Calificación Mixta'!T:T,ROW())=\"Sin información\", INDEX('Calificación Mixta'!T:T,ROW())=\"Seleccione…\"), \"\", MATCH(INDEX('Calificación Mixta'!T:T,ROW()), INDEX('Calificación Mixta'!$H:$K,ROW(),0), 0))","v":""},{"$f":"IF(OR(INDEX('Calificación Mixta'!U:U,ROW())=\"Sin información\", INDEX('Calificación Mixta'!U:U,ROW())=\"Seleccione…\"), \"\", MATCH(INDEX('Calificación Mixta'!U:U,ROW()), INDEX('Calificación Mixta'!$H:$K,ROW(),0), 0))","v":""}]
[{"$f":"INDEX('Calificación Mixta'!B:B,ROW())","v":0},{"$f":"INDEX('Calificación Mixta'!C:C,ROW())","v":0},{"$f":"IF(OR(INDEX('Calificación Mixta'!L:L,ROW())=\"Sin información\", INDEX('Calificación Mixta'!L:L,ROW())=\"Seleccione…\"), \"\", MATCH(INDEX('Calificación Mixta'!L:L,ROW()), INDEX('Calificación Mixta'!$H:$K,ROW(),0), 0))","v":{"$error":"#N/A"}},{"$f":"IF(OR(INDEX('Calificación Mixta'!M:M,ROW())=\"Sin información\", INDEX('Calificación Mixta'!M:M,ROW())=\"Seleccione…\"), \"\", MATCH(INDEX('Calificación Mixta'!M:M,ROW()), INDEX('Calificación Mixta'!$H:$K,ROW(),0), 0))","v":{"$error":"#N/A"}},{"$f":"IF(OR(INDEX('Calificación Mixta'!N:N,ROW())=\"Sin información\", INDEX('Calificación Mixta'!N:N,ROW())=\"Seleccione…\"), \"\", MATCH(INDEX('Calificación Mixta'!N:N,ROW()), INDEX('Calificación Mixta'!$H:$K,ROW(),0), 0))","v":{"$error":"#N/A"}},{"$f":"IF(OR(INDEX('Calificación Mixta'!O:O,ROW())=\"Sin información\", INDEX('Calificación Mixta'!O:O,ROW())=\"Seleccione…\"), \"\", MATCH(INDEX('Calificación Mixta'!O:O,ROW()), INDEX('Calificación Mixta'!$H:$K,ROW(),0), 0))","v":{"$error":"#N/A"}},{"$f":"IF(OR(INDEX('Calificación Mixta'!P:P,ROW())=\"Sin información\", INDEX('Calificación Mixta'!P:P,ROW())=\"Seleccione…\"), \"\", MATCH(INDEX('Calificación Mixta'!P:P,ROW()), INDEX('Calificación Mixta'!$H:$K,ROW(),0), 0))","v":{"$error":"#N/A"}},{"$f":"IF(OR(INDEX('Calificación Mixta'!Q:Q,ROW())=\"Sin información\", INDEX('Calificación Mixta'!Q:Q,ROW())=\"Seleccione…\"), \"\", MATCH(INDEX('Calificación Mixta'!Q:Q,ROW()), INDEX('Calificación Mixta'!$H:$K,ROW(),0), 0))","v":{"$error":"#N/A"}},{"$f":"IF(OR(INDEX('Calificación Mixta'!R:R,ROW())=\"Sin información\", INDEX('Calificación Mixta'!R:R,ROW())=\"Seleccione…\"), \"\", MATCH(INDEX('Calificación Mixta'!R:R,ROW()), INDEX('Calificación Mixta'!$H:$K,ROW(),0), 0))","v":{"$error":"#N/A"}},{"$f":"IF(OR(INDEX('Calificación Mixta'!S:S,ROW())=\"Sin información\", INDEX('Calificación Mixta'!S:S,ROW())=\"Seleccione…\"), \"\", MATCH(INDEX('Calificación Mixta'!S:S,ROW()), INDEX('Calificación Mixta'!$H:$K,ROW(),0), 0))","v":{"$error":"#N/A"}},{"$f":"IF(OR(INDEX('Calificación Mixta'!T:T,ROW())=\"Sin información\", INDEX('Calificación Mixta'!T:T,ROW())=\"Seleccione…\"), \"\", MATCH(INDEX('Calificación Mixta'!T:T,ROW()), INDEX('Calificación Mixta'!$H:$K,ROW(),0), 0))","v":{"$error":"#N/A"}},{"$f":"IF(OR(INDEX('Calificación Mixta'!U:U,ROW())=\"Sin información\", INDEX('Calificación Mixta'!U:U,ROW())=\"Seleccione…\"), \"\", MATCH(INDEX('Calificación Mixta'!U:U,ROW()), INDEX('Calificación Mixta'!$H:$K,ROW(),0), 0))","v":{"$error":"#N/A"}}]

{"sheet":"Resultados Mixta","index":12,"n_rows":43,"n_cols":14,"rows_kept":43,"merged":[[0,0,0,11],[1,0,1,10],[21,0,21,6],[23,0,24,0],[23,1,24,1],[23,2,24,2],[23,3,24,3],[23,4,24,4],[23,5,24,5],[23,6,24,6],[23,7,24,7],[23,8,24,8],[23,9,24,9],[23,10,24,10],[23,11,24,11],[23,12,24,12],[23,13,24,14],[25,13,25,14],[26,13,26,14],[27,13,27,14],[28,13,28,14],[29,13,29,14],[30,13,30,14],[31,13,31,14],[32,13,32,14],[33,13,33,14],[34,13,34,14],[35,13,35,14],[36,13,36,14],[37,13,37,14],[38,13,38,14],[39,13,39,14],[40,13,40,14],[41,13,41,14]]}
["Resultados de Priorización "]
["Bienvenido a la sección de resultados. A continuación, podrás consultar los valores calculados para cada categoría y el resultado final de la priorización para cada comunidad.\n1. Ajusta las ponderaciones:    Modifica los porcentajes de las categorías según tus necesidades o criterios específicos.\n2. Consulta los resultados:    La priorización actualizada se mostrará automáticamente. \n     (Recuerda seleccionar el municipio y el tipo de energía a implementar en la Caracterización de la comunidad)\n     El Potencial se toma directamente de los resultados del potencial energético, evaluados según lo descrito en la Sección 4 de la Hoja de Ruta para el Despliegue de \n       Comunidades Energéticas. Quieres ver estos resultados, haz clic en \"Consulta el potencial por municipio\"\n3. Consulta los resultados ordenados de mayor a menor,    para que identifiques las mejores opciones rápidamente.\n"]
[]
["Categoría de indicadores","Porcentaje de ponderación"]
["Ambiental ",{"v":0.2,"d":"20%"}]
["Económico",{"v":0.2,"d":"20%"}]
["Legislativo/ Normativo",{"v":0.1,"d":"10%"}]
["Social ",{"v":0.3,"d":"30%"}]
["Técnico ",{"v":0.2,"d":"20%"}]
["Total",{"$f":"SUM(B5:B9)","v":{"v":1,"d":"100%"}}]
[]
["Resultados de la calificación de la priorización para las comunidades por categoría de variables"]
[]
["Categoría/comunidad ",{"$f":"Caracterización!B8","v":"C1"},{"$f":"Caracterización!C8","v":"C2"},{"$f":"Caracterización!D8","v":"C3"},{"$f":"Caracterización!E8","v":"C4"},{"$f":"Caracterización!F8","v":"C5"},{"$f":"Caracterización!G8","v":"C6"},{"$f":"Caracterización!H8","v":"C7"},{"$f":"Caracterización!I8","v":"C8"},{"$f":"Caracterización!J8","v":"C9"},{"$f":"Caracterización!K8","v":"C10"}]
["Ambiental",{"$f":"IFERROR(AVERAGEIF('ResParcial Mixta'!$A$7:$A$60,'Resultados Mixta'!$A$15,'ResParcial Mixta'!C$7:C$60),\"\")","v":{"v":1.5,"d":"1.50"}},{"$f":"IFERROR(AVERAGEIF('ResParcial Mixta'!$A$7:$A$60,'Resultados Mixta'!$A$15,'ResParcial Mixta'!D$7:D$60),\"\")","v":{"v":3,"d":"3.00"}},{"$f":"IFERROR(AVERAGEIF('ResParcial Mixta'!$A$7:$A$60,'Resultados Mixta'!$A$15,'ResParcial Mixta'!E$7:E$60),\"\")","v":""},{"$f":"IFERROR(AVERAGEIF('ResParcial Mixta'!$A$7:$A$60,'Resultados Mixta'!$A$15,'ResParcial Mixta'!F$7:F$60),\"\")","v":""},{"$f":"IFERROR(AVERAGEIF('ResParcial Mixta'!$A$7:$A$60,'Resultados Mixta'!$A$15,'ResParcial Mixta'!G$7:G$60),\"\")","v":""},{"$f":"IFERROR(AVERAGEIF('ResParcial Mixta'!$A$7:$A$60,'Resultados Mixta'!$A$15,'ResParcial Mixta'!H$7:H$60),\"\")","v":""},{"$f":"IFERROR(AVERAGEIF('ResParcial Mixta'!$A$7:$A$60,'Resultados Mixta'!$A$15,'ResParcial Mixta'!I$7:I$60),\"\")","v":""},{"$f":"IFERROR(AVERAGEIF('ResParcial Mixta'!$A$7:$A$60,'Resultados Mixta'!$A$15,'ResParcial Mixta'!J$7:J$60),\"\")","v":""},{"$f":"IFERROR(AVERAGEIF('ResParcial Mixta'!$A$7:$A$60,'Resultados Mixta'!$A$15,'ResParcial Mixta'!K$7:K$60),\"\")","v":""},{"$f":"IFERROR(AVERAGEIF('ResParcial Mixta'!$A$7:$A$60,'Resultados Mixta'!$A$15,'ResParcial Mixta'!L$7:L$60),\"\")","v":""}]
["Económico",{"$f":"IFERROR(AVERAGEIF('ResParcial Mixta'!$A$7:$A$60,'Resultados Mixta'!$A$16,'ResParcial Mixta'!C$7:C$60),\"\")","v":""},{"$f":"IFERROR(AVERAGEIF('ResParcial Mixta'!$A$7:$A$60,'Resultados Mixta'!$A$16,'ResParcial Mixta'!D$7:D$60),\"\")","v":""},{"$f":"IFERROR(AVERAGEIF('ResParcial Mixta'!$A$7:$A$60,'Resultados Mixta'!$A$16,'ResParcial Mixta'!E$7:E$60),\"\")","v":""},{"$f":"IFERROR(AVERAGEIF('ResParcial Mixta'!$A$7:$A$60,'Resultados Mixta'!$A$16,'ResParcial Mixta'!F$7:F$60),\"\")","v":""},{"$f":"IFERROR(AVERAGEIF('ResParcial Mixta'!$A$7:$A$60,'Resultados Mixta'!$A$16,'ResParcial Mixta'!G$7:G$60),\"\")","v":""},{"$f":"IFERROR(AVERAGEIF('ResParcial Mixta'!$A$7:$A$60,'Resultados Mixta'!$A$16,'ResParcial Mixta'!H$7:H$60),\"\")","v":""},{"$f":"IFERROR(AVERAGEIF('ResParcial Mixta'!$A$7:$A$60,'Resultados Mixta'!$A$16,'ResParcial Mixta'!I$7:I$60),\"\")","v":""},{"$f":"IFERROR(AVERAGEIF('ResParcial Mixta'!$A$7:$A$60,'Resultados Mixta'!$A$16,'ResParcial Mixta'!J$7:J$60),\"\")","v":""},{"$f":"IFERROR(AVERAGEIF('ResParcial Mixta'!$A$7:$A$60,'Resultados Mixta'!$A$16,'ResParcial Mixta'!K$7:K$60),\"\")","v":""},{"$f":"IFERROR(AVERAGEIF('ResParcial Mixta'!$A$7:$A$60,'Resultados Mixta'!$A$16,'ResParcial Mixta'!L$7:L$60),\"\")","v":""}]
["Legislativo/ normativo",{"$f":"IFERROR(AVERAGEIF('ResParcial Mixta'!$A$7:$A$60,'Resultados Mixta'!$A$17,'ResParcial Mixta'!C$7:C$60),\"\")","v":""},{"$f":"IFERROR(AVERAGEIF('ResParcial Mixta'!$A$7:$A$60,'Resultados Mixta'!$A$17,'ResParcial Mixta'!D$7:D$60),\"\")","v":""},{"$f":"IFERROR(AVERAGEIF('ResParcial Mixta'!$A$7:$A$60,'Resultados Mixta'!$A$17,'ResParcial Mixta'!E$7:E$60),\"\")","v":""},{"$f":"IFERROR(AVERAGEIF('ResParcial Mixta'!$A$7:$A$60,'Resultados Mixta'!$A$17,'ResParcial Mixta'!F$7:F$60),\"\")","v":""},{"$f":"IFERROR(AVERAGEIF('ResParcial Mixta'!$A$7:$A$60,'Resultados Mixta'!$A$17,'ResParcial Mixta'!G$7:G$60),\"\")","v":""},{"$f":"IFERROR(AVERAGEIF('ResParcial Mixta'!$A$7:$A$60,'Resultados Mixta'!$A$17,'ResParcial Mixta'!H$7:H$60),\"\")","v":""},{"$f":"IFERROR(AVERAGEIF('ResParcial Mixta'!$A$7:$A$60,'Resultados Mixta'!$A$17,'ResParcial Mixta'!I$7:I$60),\"\")","v":""},{"$f":"IFERROR(AVERAGEIF('ResParcial Mixta'!$A$7:$A$60,'Resultados Mixta'!$A$17,'ResParcial Mixta'!J$7:J$60),\"\")","v":""},{"$f":"IFERROR(AVERAGEIF('ResParcial Mixta'!$A$7:$A$60,'Resultados Mixta'!$A$17,'ResParcial Mixta'!K$7:K$60),\"\")","v":""},{"$f":"IFERROR(AVERAGEIF('ResParcial Mixta'!$A$7:$A$60,'Resultados Mixta'!$A$17,'ResParcial Mixta'!L$7:L$60),\"\")","v":""}]
["Social",{"$f":"IFERROR(AVERAGEIF('ResParcial Mixta'!$A$7:$A$60,'Resultados Mixta'!$A$18,'ResParcial Mixta'!C$7:C$60),\"\")","v":""},{"$f":"IFERROR(AVERAGEIF('ResParcial Mixta'!$A$7:$A$60,'Resultados Mixta'!$A$18,'ResParcial Mixta'!D$7:D$60),\"\")","v":""},{"$f":"IFERROR(AVERAGEIF('ResParcial Mixta'!$A$7:$A$60,'Resultados Mixta'!$A$18,'ResParcial Mixta'!E$7:E$60),\"\")","v":""},{"$f":"IFERROR(AVERAGEIF('ResParcial Mixta'!$A$7:$A$60,'Resultados Mixta'!$A$18,'ResParcial Mixta'!F$7:F$60),\"\")","v":""},{"$f":"IFERROR(AVERAGEIF('ResParcial Mixta'!$A$7:$A$60,'Resultados Mixta'!$A$18,'ResParcial Mixta'!G$7:G$60),\"\")","v":""},{"$f":"IFERROR(AVERAGEIF('ResParcial Mixta'!$A$7:$A$60,'Resultados Mixta'!$A$18,'ResParcial Mixta'!H$7:H$60),\"\")","v":""},{"$f":"IFERROR(AVERAGEIF('ResParcial Mixta'!$A$7:$A$60,'Resultados Mixta'!$A$18,'ResParcial Mixta'!I$7:I$60),\"\")","v":""},{"$f":"IFERROR(AVERAGEIF('ResParcial Mixta'!$A$7:$A$60,'Resultados Mixta'!$A$18,'ResParcial Mixta'!J$7:J$60),\"\")","v":""},{"$f":"IFERROR(AVERAGEIF('ResParcial Mixta'!$A$7:$A$60,'Resultados Mixta'!$A$18,'ResParcial Mixta'!K$7:K$60),\"\")","v":""},{"$f":"IFERROR(AVERAGEIF('ResParcial Mixta'!$A$7:$A$60,'Resultados Mixta'!$A$18,'ResParcial Mixta'!L$7:L$60),\"\")","v":""}]
["Técnico",{"$f":"IFERROR(AVERAGEIF('ResParcial Mixta'!$A$7:$A$60,'Resultados Mixta'!$A$19,'ResParcial Mixta'!C$7:C$60),\"\")","v":""},{"$f":"IFERROR(AVERAGEIF('ResParcial Mixta'!$A$7:$A$60,'Resultados Mixta'!$A$19,'ResParcial Mixta'!D$7:D$60),\"\")","v":""},{"$f":"IFERROR(AVERAGEIF('ResParcial Mixta'!$A$7:$A$60,'Resultados Mixta'!$A$19,'ResParcial Mixta'!E$7:E$60),\"\")","v":""},{"$f":"IFERROR(AVERAGEIF('ResParcial Mixta'!$A$7:$A$60,'Resultados Mixta'!$A$19,'ResParcial Mixta'!F$7:F$60),\"\")","v":""},{"$f":"IFERROR(AVERAGEIF('ResParcial Mixta'!$A$7:$A$60,'Resultados Mixta'!$A$19,'ResParcial Mixta'!G$7:G$60),\"\")","v":""},{"$f":"IFERROR(AVERAGEIF('ResParcial Mixta'!$A$7:$A$60,'Resultados Mixta'!$A$19,'ResParcial Mixta'!H$7:H$60),\"\")","v":""},{"$f":"IFERROR(AVERAGEIF('ResParcial Mixta'!$A$7:$A$60,'Resultados Mixta'!$A$19,'ResParcial Mixta'!I$7:I$60),\"\")","v":""},{"$f":"IFERROR(AVERAGEIF('ResParcial Mixta'!$A$7:$A$60,'Resultados Mixta'!$A$19,'ResParcial Mixta'!J$7:J$60),\"\")","v":""},{"$f":"IFERROR(AVERAGEIF('ResParcial Mixta'!$A$7:$A$60,'Resultados Mixta'!$A$19,'ResParcial Mixta'!K$7:K$60),\"\")","v":""},{"$f":"IFERROR(AVERAGEIF('ResParcial Mixta'!$A$7:$A$60,'Resultados Mixta'!$A$19,'ResParcial Mixta'!L$7:L$60),\"\")","v":""}]
["Potencial",{"$f":"IF(Caracterización!B20=\"Seleccione…\",\"\",INDEX('Consulta de Potencial'!$D$14:$H$1134, MATCH(Caracterización!B11, 'Consulta de Potencial'!$C$14:$C$1134, 0), MATCH(Caracterización!B20, 'Consulta de Potencial'!$D$13:$H$13, 0)))","v":{"v":0.2784938053,"d":"0.28"}},{"$f":"IF(Caracterización!C20=\"Seleccione…\",\"\",INDEX('Consulta de Potencial'!$D$14:$H$1134, MATCH(Caracterización!C11, 'Consulta de Potencial'!$C$14:$C$1134, 0), MATCH(Caracterización!C20, 'Consulta de Potencial'!$D$13:$H$13, 0)))","v":{"v":0.2207527931,"d":"0.22"}},{"$f":"IF(Caracterización!D20=\"Seleccione…\",\"\",INDEX('Consulta de Potencial'!$D$14:$H$1134, MATCH(Caracterización!D11, 'Consulta de Potencial'!$C$14:$C$1134, 0), MATCH(Caracterización!D20, 'Consulta de Potencial'!$D$13:$H$13, 0)))","v":{"v":0.2603108106,"d":"0.26"}},{"$f":"IF(Caracterización!E20=\"Seleccione…\",\"\",INDEX('Consulta de Potencial'!$D$14:$H$1134, MATCH(Caracterización!E11, 'Consulta de Potencial'!$C$14:$C$1134, 0), MATCH(Caracterización!E20, 'Consulta de Potencial'!$D$13:$H$13, 0)))","v":{"v":0.292302467,"d":"0.29"}},{"$f":"IF(Caracterización!F20=\"Seleccione…\",\"\",INDEX('Consulta de Potencial'!$D$14:$H$1134, MATCH(Caracterización!F11, 'Consulta de Potencial'!$C$14:$C$1134, 0), MATCH(Caracterización!F20, 'Consulta de Potencial'!$D$13:$H$13, 0)))","v":{"v":0.2726994114,"d":"0.27"}},{"$f":"IF(Caracterización!G20=\"Seleccione…\",\"\",INDEX('Consulta de Potencial'!$D$14:$H$1134, MATCH(Caracterización!G11, 'Consulta de Potencial'!$C$14:$C$1134, 0), MATCH(Caracterización!G20, 'Consulta de Potencial'!$D$13:$H$13, 0)))","v":{"v":0.4280307356,"d":"0.43"}},{"$f":"IF(Caracterización!H20=\"Seleccione…\",\"\",INDEX('Consulta de Potencial'!$D$14:$H$1134, MATCH(Caracterización!H11, 'Consulta de Potencial'!$C$14:$C$1134, 0), MATCH(Caracterización!H20, 'Consulta de Potencial'!$D$13:$H$13, 0)))","v":{"v":0.3475150136,"d":"0.35"}},{"$f":"IF(Caracterización!I20=\"Seleccione…\",\"\",INDEX('Consulta de Potencial'!$D$14:$H$1134, MATCH(Caracterización!I11, 'Consulta de Potencial'!$C$14:$C$1134, 0), MATCH(Caracterización!I20, 'Consulta de Potencial'!$D$13:$H$13, 0)))","v":{"v":0.2207527931,"d":"0.22"}},{"$f":"IF(Caracterización!J20=\"Seleccione…\",\"\",INDEX('Consulta de Potencial'!$D$14:$H$1134, MATCH(Caracterización!J11, 'Consulta de Potencial'!$C$14:$C$1134, 0), MATCH(Caracterización!J20, 'Consulta de Potencial'!$D$13:$H$13, 0)))","v":{"v":0.2084452707,"d":"0.21"}},{"$f":"IF(Caracterización!K20=\"Seleccione…\",\"\",INDEX('Consulta de Potencial'!$D$14:$H$1134, MATCH(Caracterización!K11, 'Consulta de Potencial'!$C$14:$C$1134, 0), MATCH(Caracterización!K20, 'Consulta de Potencial'!$D$13:$H$13, 0)))","v":{"v":0.6580858588,"d":"0.66"}}]
["Puntaje de Priorización",{"$f":"IF(SUMPRODUCT((B15:B19<>0)*(B15:B19<>\"\"))=0,0,IF(OR(Caracterización!B11=\"Seleccione…\",Caracterización!B20=\"Seleccione…\"),\"Debe seleccionar el municipio y el tipo de energía a implementar\",(SUMPRODUCT('Calificación Mixta'!$E$7:$E$9,'ResParcial Mixta'!C7:C9)*'Resultados Mixta'!$B$5+SUMPRODUCT('Calificación Mixta'!$E$10:$E$18,'ResParcial Mixta'!C10:C18)*'Resultados Mixta'!$B$6+SUMPRODUCT('Calificación Mixta'!$E$19:$E$21,'ResParcial Mixta'!C19:C21)*'Resultados Mixta'!$B$7+SUMPRODUCT('Calificación Mixta'!$E$22:$E$37,'ResParcial Mixta'!C22:C37)*'Resultados Mixta'!$B$8+SUMPRODUCT('Calificación Mixta'!$E$38:$E$44,'ResParcial Mixta'!C38:C44)*'Resultados Mixta'!$B$9)+B20))","v":{"v":0.4784937853,"d":"0.48"}},{"$f":"IF(SUMPRODUCT((C15:C19<>0)*(C15:C19<>\"\"))=0,0,IF(OR(Caracterización!C11=\"Seleccione…\",Caracterización!C20=\"Seleccione…\"),\"Debe seleccionar el municipio y el tipo de energía a implementar\",IF('Calificación Mixta'!$B$4=TRUE,SUMPRODUCT('Calificación Mixta'!$E$7:$E$44,'ResParcial Mixta'!D7:D44)+C20,SUMPRODUCT(C15:C19,$B$5:$B$9)+C20)))","v":{"v":0.8207527931,"d":"0.82"}},{"$f":"IF(SUMPRODUCT((D15:D19<>0)*(D15:D19<>\"\"))=0,0,IF(OR(Caracterización!D11=\"Seleccione…\",Caracterización!D20=\"Seleccione…\"),\"Debe seleccionar el municipio y el tipo de energía a implementar\",IF('Calificación Mixta'!$B$4=TRUE,SUMPRODUCT('Calificación Mixta'!$E$7:$E$44,'ResParcial Mixta'!E7:E44)+D20,SUMPRODUCT(D15:D19,$B$5:$B$9)+D20)))","v":{"v":0,"d":"0.00"}},{"$f":"IF(SUMPRODUCT((E15:E19<>0)*(E15:E19<>\"\"))=0,0,IF(OR(Caracterización!E11=\"Seleccione…\",Caracterización!E20=\"Seleccione…\"),\"Debe seleccionar el municipio y el tipo de energía a implementar\",IF('Calificación Mixta'!$B$4=TRUE,SUMPRODUCT('Calificación Mixta'!$E$7:$E$44,'ResParcial Mixta'!F7:F44)+E20,SUMPRODUCT(E15:E19,$B$5:$B$9)+E20)))","v":{"v":0,"d":"0.00"}},{"$f":"IF(SUMPRODUCT((F15:F19<>0)*(F15:F19<>\"\"))=0,0,IF(OR(Caracterización!F11=\"Seleccione…\",Caracterización!F20=\"Seleccione…\"),\"Debe seleccionar el municipio y el tipo de energía a implementar\",IF('Calificación Mixta'!$B$4=TRUE,SUMPRODUCT('Calificación Mixta'!$E$7:$E$44,'ResParcial Mixta'!G7:G44)+F20,SUMPRODUCT(F15:F19,$B$5:$B$9)+F20)))","v":{"v":0,"d":"0.00"}},{"$f":"IF(SUMPRODUCT((G15:G19<>0)*(G15:G19<>\"\"))=0,0,IF(OR(Caracterización!G11=\"Seleccione…\",Caracterización!G20=\"Seleccione…\"),\"Debe seleccionar el municipio y el tipo de energía a implementar\",IF('Calificación Mixta'!$B$4=TRUE,SUMPRODUCT('Calificación Mixta'!$E$7:$E$44,'ResParcial Mixta'!H7:H44)+G20,SUMPRODUCT(G15:G19,$B$5:$B$9)+G20)))","v":{"v":0,"d":"0.00"}},{"$f":"IF(SUMPRODUCT((H15:H19<>0)*(H15:H19<>\"\"))=0,0,IF(OR(Caracterización!H11=\"Seleccione…\",Caracterización!H20=\"Seleccione…\"),\"Debe seleccionar el municipio y el tipo de energía a implementar\",IF('Calificación Mixta'!$B$4=TRUE,SUMPRODUCT('Calificación Mixta'!$E$7:$E$44,'ResParcial Mixta'!I7:I44)+H20,SUMPRODUCT(H15:H19,$B$5:$B$9)+H20)))","v":{"v":0,"d":"0.00"}},{"$f":"IF(SUMPRODUCT((I15:I19<>0)*(I15:I19<>\"\"))=0,0,IF(OR(Caracterización!I11=\"Seleccione…\",Caracterización!I20=\"Seleccione…\"),\"Debe seleccionar el municipio y el tipo de energía a implementar\",IF('Calificación Mixta'!$B$4=TRUE,SUMPRODUCT('Calificación Mixta'!$E$7:$E$44,'ResParcial Mixta'!J7:J44)+I20,SUMPRODUCT(I15:I19,$B$5:$B$9)+I20)))","v":{"v":0,"d":"0.00"}},{"$f":"IF(SUMPRODUCT((J15:J19<>0)*(J15:J19<>\"\"))=0,0,IF(OR(Caracterización!J11=\"Seleccione…\",Caracterización!J20=\"Seleccione…\"),\"Debe seleccionar el municipio y el tipo de energía a implementar\",IF('Calificación Mixta'!$B$4=TRUE,SUMPRODUCT('Calificación Mixta'!$E$7:$E$44,'ResParcial Mixta'!K7:K44)+J20,SUMPRODUCT(J15:J19,$B$5:$B$9)+J20)))","v":{"v":0,"d":"0.00"}},{"$f":"IF(SUMPRODUCT((K15:K19<>0)*(K15:K19<>\"\"))=0,0,IF(OR(Caracterización!K11=\"Seleccione…\",Caracterización!K20=\"Seleccione…\"),\"Debe seleccionar el municipio y el tipo de energía a implementar\",IF('Calificación Mixta'!$B$4=TRUE,SUMPRODUCT('Calificación Mixta'!$E$7:$E$44,'ResParcial Mixta'!L7:L44)+K20,SUMPRODUCT(K15:K19,$B$5:$B$9)+K20)))","v":{"v":0,"d":"0.00"}}]
["Resultados ordenados de mayor a menor\nAquí puedes ver las calificaciones organizadas de forma automática para que identifiques las mejores opciones rápidamente."]
[]
["Comunidad","Calificación Final Priorización","Departamento ","Municipio","Estado actual de la comunidad energética","Tipo de energía a implementar en la comunidad","Capacidad estimada de generación de energía del proyecto (kWh)","No. Miembros en la comunidad","Descripción del área (Ha)","Zona no interconectada ZNI","Costo total del proyecto (COP)","% de los costos de capital que se requiere sean cubiertos","% Fortalezas","Alerta área protegida "]
[]
[{"$f":"_xlfn._xlws.SORT(_xlfn._xlws.FILTER(_xlfn.HSTACK(TRANSPOSE(B14:K14),TRANSPOSE(B21:K21)),(TRANSPOSE(B21:K21)<>0)*(TRANSPOSE(B21:K21)<>\"Debe seleccionar el municipio y el tipo de energía a implementar\")),2,-1)","v":"C2"},{"v":0.8207527931,"d":"0.82"},{"$f":"IF(AND(A26<>0, _xlfn.XLOOKUP(A26,Caracterización!$B$8:$K$8,Caracterización!$B$10:$K$10,\"\")=\"Seleccione ...\"), \"Debe indicarlo en la caracterización de la comunidad\", IF(A26<>0, _xlfn.XLOOKUP(A26,Caracterización!$B$8:$K$8,Caracterización!$B$10:$K$10,\"\"), \"\"))","v":"Bogotá, D.C"},{"$f":"IF(AND(A26<>0, _xlfn.XLOOKUP(A26,Caracterización!$B$8:$K$8,Caracterización!$B$11:$K$11,\"\")=\"Seleccione ...\"), \"Debe indicarlo en la caracterización de la comunidad\", IF(A26<>0, _xlfn.XLOOKUP(A26,Caracterización!$B$8:$K$8,Caracterización!$B$11:$K$11,\"\"), \"\"))","v":"Bogotá, D.C."},{"$f":"IF(AND(A26<>0, _xlfn.XLOOKUP(A26,Caracterización!$B$8:$K$8,Caracterización!$B$19:$K$19,\"\")=\"Seleccione ...\"), \"Debe indicarlo en la caracterización de la comunidad\", IF(A26<>0, _xlfn.XLOOKUP(A26,Caracterización!$B$8:$K$8,Caracterización!$B$19:$K$19,\"\"), \"\"))","v":"En operación"},{"$f":"IF(AND(A26<>0, _xlfn.XLOOKUP(A26,Caracterización!$B$8:$K$8,Caracterización!$B$20:$K$20,\"\")=\"Seleccione ...\"), \"Debe indicarlo en la caracterización de la comunidad\", IF(A26<>0, _xlfn.XLOOKUP(A26,Caracterización!$B$8:$K$8,Caracterización!$B$20:$K$20,\"\"), \"\"))","v":"Biomasa vegetal"},{"$f":"IF(AND(A26<>0, _xlfn.XLOOKUP(A26,Caracterización!$B$8:$K$8,Caracterización!$B$22:$K$22,\"\")=\"Seleccione ...\"), \"Debe indicarlo en la caracterización de la comunidad\", IF(A26<>0, _xlfn.XLOOKUP(A26,Caracterización!$B$8:$K$8,Caracterización!$B$22:$K$22,\"\"), \"\"))","v":0},{"$f":"IF(AND(A26<>0, _xlfn.XLOOKUP(A26,Caracterización!$B$8:$K$8,Caracterización!$B$23:$K$23,\"\")=\"Seleccione ...\"), \"Debe indicarlo en la caracterización de la comunidad\", IF(A26<>0, _xlfn.XLOOKUP(A26,Caracterización!$B$8:$K$8,Caracterización!$B$23:$K$23,\"\"), \"\"))","v":0},{"$f":"IF(AND(A26<>0, _xlfn.XLOOKUP(A26,Caracterización!$B$8:$K$8,Caracterización!$B$28:$K$28,\"\")=\"Seleccione ...\"), \"Debe indicarlo en la caracterización de la comunidad\", IF(A26<>0, _xlfn.XLOOKUP(A26,Caracterización!$B$8:$K$8,Caracterización!$B$28:$K$28,\"\"), \"\"))","v":0},{"$f":"IF(AND(A26<>0, _xlfn.XLOOKUP(A26,Caracterización!$B$8:$K$8,Caracterización!$B$37:$K$37,\"\")=\"Seleccione ...\"), \"Debe indicarlo en la caracterización de la comunidad\", IF(A26<>0, _xlfn.XLOOKUP(A26,Caracterización!$B$8:$K$8,Caracterización!$B$37:$K$37,\"\"), \"\"))","v":0},{"$f":"IF(AND(A26<>0, _xlfn.XLOOKUP(A26,Caracterización!$B$8:$K$8,Caracterización!$B$40:$K$40,\"\")=\"Seleccione ...\"), \"Debe indicarlo en la caracterización de la comunidad\", IF(A26<>0, _xlfn.XLOOKUP(A26,Caracterización!$B$8:$K$8,Caracterización!$B$40:$K$40,\"\"), \"\"))","v":0},{"$f":"IF(AND(A26<>0, _xlfn.XLOOKUP(A26,Caracterización!$B$8:$K$8,Caracterización!$B$42:$K$42,\"\")=\"Seleccione ...\"), \"Debe indicarlo en la caracterización de la comunidad\", IF(A26<>0, _xlfn.XLOOKUP(A26,Caracterización!$B$8:$K$8,Caracterización!$B$42:$K$42,\"\"), \"\"))","v":0},{"$f":"IF(AND(A26<>0, _xlfn.XLOOKUP(A26,Caracterización!$B$8:$K$8,Caracterización!$B$72:$K$72,\"\")=\"Seleccione ...\"), \"Debe indicarlo en la caracterización de la comunidad\", IF(A26<>0, _xlfn.XLOOKUP(A26,Caracterización!$B$8:$K$8,Caracterización!$B$72:$K$72,\"\"), \"\"))","v":{"v":0.72,"d":"72%"}},{"$f":"IF(AND(A26<>0, _xlfn.XLOOKUP(A26,Caracterización!$B$8:$K$8,Caracterización!$B$36:$K$36,\"\")=\"Seleccione ...\"), \"Debe indicarlo en la caracterización de la comunidad\", IF(A26<>0, _xlfn.XLOOKUP(A26,Caracterización!$B$8:$K$8,Caracterización!$B$36:$K$36,\"\"), \"\"))","v":"No está en área protegida "}]
["C1",{"v":0.4784937853,"d":"0.48"},{"$f":"IF(AND(A27<>0, _xlfn.XLOOKUP(A27,Caracterización!$B$8:$K$8,Caracterización!$B$10:$K$10,\"\")=\"Seleccione ...\"), \"Debe indicarlo en la caracterización de la comunidad\", IF(A27<>0, _xlfn.XLOOKUP(A27,Caracterización!$B$8:$K$8,Caracterización!$B$10:$K$10,\"\"), \"\"))","v":"Tolima"},{"$f":"IF(AND(A27<>0, _xlfn.XLOOKUP(A27,Caracterización!$B$8:$K$8,Caracterización!$B$11:$K$11,\"\")=\"Seleccione ...\"), \"Debe indicarlo en la caracterización de la comunidad\", IF(A27<>0, _xlfn.XLOOKUP(A27,Caracterización!$B$8:$K$8,Caracterización!$B$11:$K$11,\"\"), \"\"))","v":"Casabianca"},{"$f":"IF(AND(A27<>0, _xlfn.XLOOKUP(A27,Caracterización!$B$8:$K$8,Caracterización!$B$19:$K$19,\"\")=\"Seleccione ...\"), \"Debe indicarlo en la caracterización de la comunidad\", IF(A27<>0, _xlfn.XLOOKUP(A27,Caracterización!$B$8:$K$8,Caracterización!$B$19:$K$19,\"\"), \"\"))","v":"Inicial"},{"$f":"IF(AND(A27<>0, _xlfn.XLOOKUP(A27,Caracterización!$B$8:$K$8,Caracterización!$B$20:$K$20,\"\")=\"Seleccione ...\"), \"Debe indicarlo en la caracterización de la comunidad\", IF(A27<>0, _xlfn.XLOOKUP(A27,Caracterización!$B$8:$K$8,Caracterización!$B$20:$K$20,\"\"), \"\"))","v":"Biomasa vegetal"},{"$f":"IF(AND(A27<>0, _xlfn.XLOOKUP(A27,Caracterización!$B$8:$K$8,Caracterización!$B$22:$K$22,\"\")=\"Seleccione ...\"), \"Debe indicarlo en la caracterización de la comunidad\", IF(A27<>0, _xlfn.XLOOKUP(A27,Caracterización!$B$8:$K$8,Caracterización!$B$22:$K$22,\"\"), \"\"))","v":0},{"$f":"IF(AND(A27<>0, _xlfn.XLOOKUP(A27,Caracterización!$B$8:$K$8,Caracterización!$B$23:$K$23,\"\")=\"Seleccione ...\"), \"Debe indicarlo en la caracterización de la comunidad\", IF(A27<>0, _xlfn.XLOOKUP(A27,Caracterización!$B$8:$K$8,Caracterización!$B$23:$K$23,\"\"), \"\"))","v":0},{"$f":"IF(AND(A27<>0, _xlfn.XLOOKUP(A27,Caracterización!$B$8:$K$8,Caracterización!$B$28:$K$28,\"\")=\"Seleccione ...\"), \"Debe indicarlo en la caracterización de la comunidad\", IF(A27<>0, _xlfn.XLOOKUP(A27,Caracterización!$B$8:$K$8,Caracterización!$B$28:$K$28,\"\"), \"\"))","v":0},{"$f":"IF(AND(A27<>0, _xlfn.XLOOKUP(A27,Caracterización!$B$8:$K$8,Caracterización!$B$37:$K$37,\"\")=\"Seleccione ...\"), \"Debe indicarlo en la caracterización de la comunidad\", IF(A27<>0, _xlfn.XLOOKUP(A27,Caracterización!$B$8:$K$8,Caracterización!$B$37:$K$37,\"\"), \"\"))","v":0},{"$f":"IF(AND(A27<>0, _xlfn.XLOOKUP(A27,Caracterización!$B$8:$K$8,Caracterización!$B$40:$K$40,\"\")=\"Seleccione ...\"), \"Debe indicarlo en la caracterización de la comunidad\", IF(A27<>0, _xlfn.XLOOKUP(A27,Caracterización!$B$8:$K$8,Caracterización!$B$40:$K$40,\"\"), \"\"))","v":50},{"$f":"IF(AND(A27<>0, _xlfn.XLOOKUP(A27,Caracterización!$B$8:$K$8,Caracterización!$B$42:$K$42,\"\")=\"Seleccione ...\"), \"Debe indicarlo en la caracterización de la comunidad\", IF(A27<>0, _xlfn.XLOOKUP(A27,Caracterización!$B$8:$K$8,Caracterización!$B$42:$K$42,\"\"), \"\"))","v":1},{"$f":"IF(AND(A27<>0, _xlfn.XLOOKUP(A27,Caracterización!$B$8:$K$8,Caracterización!$B$72:$K$72,\"\")=\"Seleccione ...\"), \"Debe indicarlo en la caracterización de la comunidad\", IF(A27<>0, _xlfn.XLOOKUP(A27,Caracterización!$B$8:$K$8,Caracterización!$B$72:$K$72,\"\"), \"\"))","v":{"v":0.68,"d":"68%"}},{"$f":"IF(AND(A27<>0, _xlfn.XLOOKUP(A27,Caracterización!$B$8:$K$8,Caracterización!$B$36:$K$36,\"\")=\"Seleccione ...\"), \"Debe indicarlo en la caracterización de la comunidad\", IF(A27<>0, _xlfn.XLOOKUP(A27,Caracterización!$B$8:$K$8,Caracterización!$B$36:$K$36,\"\"), \"\"))","v":"Sí está en área protegida"}]
[null,null,{"$f":"IF(AND(A28<>0, _xlfn.XLOOKUP(A28,Caracterización!$B$8:$K$8,Caracterización!$B$10:$K$10,\"\")=\"Seleccione ...\"), \"Debe indicarlo en la caracterización de la comunidad\", IF(A28<>0, _xlfn.XLOOKUP(A28,Caracterización!$B$8:$K$8,Caracterización!$B$10:$K$10,\"\"), \"\"))","v":""},{"$f":"IF(AND(A28<>0, _xlfn.XLOOKUP(A28,Caracterización!$B$8:$K$8,Caracterización!$B$11:$K$11,\"\")=\"Seleccione ...\"), \"Debe indicarlo en la caracterización de la comunidad\", IF(A28<>0, _xlfn.XLOOKUP(A28,Caracterización!$B$8:$K$8,Caracterización!$B$11:$K$11,\"\"), \"\"))","v":""},{"$f":"IF(AND(A28<>0, _xlfn.XLOOKUP(A28,Caracterización!$B$8:$K$8,Caracterización!$B$19:$K$19,\"\")=\"Seleccione ...\"), \"Debe indicarlo en la caracterización de la comunidad\", IF(A28<>0, _xlfn.XLOOKUP(A28,Caracterización!$B$8:$K$8,Caracterización!$B$19:$K$19,\"\"), \"\"))","v":""},{"$f":"IF(AND(A28<>0, _xlfn.XLOOKUP(A28,Caracterización!$B$8:$K$8,Caracterización!$B$20:$K$20,\"\")=\"Seleccione ...\"), \"Debe indicarlo en la caracterización de la comunidad\", IF(A28<>0, _xlfn.XLOOKUP(A28,Caracterización!$B$8:$K$8,Caracterización!$B$20:$K$20,\"\"), \"\"))","v":""},{"$f":"IF(AND(A28<>0, _xlfn.XLOOKUP(A28,Caracterización!$B$8:$K$8,Caracterización!$B$22:$K$22,\"\")=\"Seleccione ...\"), \"Debe indicarlo en la caracterización de la comunidad\", IF(A28<>0, _xlfn.XLOOKUP(A28,Caracterización!$B$8:$K$8,Caracterización!$B$22:$K$22,\"\"), \"\"))","v":""},{"$f":"IF(AND(A28<>0, _xlfn.XLOOKUP(A28,Caracterización!$B$8:$K$8,Caracterización!$B$23:$K$23,\"\")=\"Seleccione ...\"), \"Debe indicarlo en la caracterización de la comunidad\", IF(A28<>0, _xlfn.XLOOKUP(A28,Caracterización!$B$8:$K$8,Caracterización!$B$23:$K$23,\"\"), \"\"))","v":""},{"$f":"IF(AND(A28<>0, _xlfn.XLOOKUP(A28,Caracterización!$B$8:$K$8,Caracterización!$B$28:$K$28,\"\")=\"Seleccione ...\"), \"Debe indicarlo en la caracterización de la comunidad\", IF(A28<>0, _xlfn.XLOOKUP(A28,Caracterización!$B$8:$K$8,Caracterización!$B$28:$K$28,\"\"), \"\"))","v":""},{"$f":"IF(AND(A28<>0, _xlfn.XLOOKUP(A28,Caracterización!$B$8:$K$8,Caracterización!$B$37:$K$37,\"\")=\"Seleccione ...\"), \"Debe indicarlo en la caracterización de la comunidad\", IF(A28<>0, _xlfn.XLOOKUP(A28,Caracterización!$B$8:$K$8,Caracterización!$B$37:$K$37,\"\"), \"\"))","v":""},{"$f":"IF(AND(A28<>0, _xlfn.XLOOKUP(A28,Caracterización!$B$8:$K$8,Caracterización!$B$40:$K$40,\"\")=\"Seleccione ...\"), \"Debe indicarlo en la caracterización de la comunidad\", IF(A28<>0, _xlfn.XLOOKUP(A28,Caracterización!$B$8:$K$8,Caracterización!$B$40:$K$40,\"\"), \"\"))","v":""},{"$f":"IF(AND(A28<>0, _xlfn.XLOOKUP(A28,Caracterización!$B$8:$K$8,Caracterización!$B$42:$K$42,\"\")=\"Seleccione ...\"), \"Debe indicarlo en la caracterización de la comunidad\", IF(A28<>0, _xlfn.XLOOKUP(A28,Caracterización!$B$8:$K$8,Caracterización!$B$42:$K$42,\"\"), \"\"))","v":""},{"$f":"IF(AND(A28<>0, _xlfn.XLOOKUP(A28,Caracterización!$B$8:$K$8,Caracterización!$B$72:$K$72,\"\")=\"Seleccione ...\"), \"Debe indicarlo en la caracterización de la comunidad\", IF(A28<>0, _xlfn.XLOOKUP(A28,Caracterización!$B$8:$K$8,Caracterización!$B$72:$K$72,\"\"), \"\"))","v":""},{"$f":"IF(AND(A28<>0, _xlfn.XLOOKUP(A28,Caracterización!$B$8:$K$8,Caracterización!$B$36:$K$36,\"\")=\"Seleccione ...\"), \"Debe indicarlo en la caracterización de la comunidad\", IF(A28<>0, _xlfn.XLOOKUP(A28,Caracterización!$B$8:$K$8,Caracterización!$B$36:$K$36,\"\"), \"\"))","v":""}]
[null,null,{"$f":"IF(AND(A29<>0, _xlfn.XLOOKUP(A29,Caracterización!$B$8:$K$8,Caracterización!$B$10:$K$10,\"\")=\"Seleccione ...\"), \"Debe indicarlo en la caracterización de la comunidad\", IF(A29<>0, _xlfn.XLOOKUP(A29,Caracterización!$B$8:$K$8,Caracterización!$B$10:$K$10,\"\"), \"\"))","v":""},{"$f":"IF(AND(A29<>0, _xlfn.XLOOKUP(A29,Caracterización!$B$8:$K$8,Caracterización!$B$11:$K$11,\"\")=\"Seleccione ...\"), \"Debe indicarlo en la caracterización de la comunidad\", IF(A29<>0, _xlfn.XLOOKUP(A29,Caracterización!$B$8:$K$8,Caracterización!$B$11:$K$11,\"\"), \"\"))","v":""},{"$f":"IF(AND(A29<>0, _xlfn.XLOOKUP(A29,Caracterización!$B$8:$K$8,Caracterización!$B$19:$K$19,\"\")=\"Seleccione ...\"), \"Debe indicarlo en la caracterización de la comunidad\", IF(A29<>0, _xlfn.XLOOKUP(A29,Caracterización!$B$8:$K$8,Caracterización!$B$19:$K$19,\"\"), \"\"))","v":""},{"$f":"IF(AND(A29<>0, _xlfn.XLOOKUP(A29,Caracterización!$B$8:$K$8,Caracterización!$B$20:$K$20,\"\")=\"Seleccione ...\"), \"Debe indicarlo en la caracterización de la comunidad\", IF(A29<>0, _xlfn.XLOOKUP(A29,Caracterización!$B$8:$K$8,Caracterización!$B$20:$K$20,\"\"), \"\"))","v":""},{"$f":"IF(AND(A29<>0, _xlfn.XLOOKUP(A29,Caracterización!$B$8:$K$8,Caracterización!$B$22:$K$22,\"\")=\"Seleccione ...\"), \"Debe indicarlo en la caracterización de la comunidad\", IF(A29<>0, _xlfn.XLOOKUP(A29,Caracterización!$B$8:$K$8,Caracterización!$B$22:$K$22,\"\"), \"\"))","v":""},{"$f":"IF(AND(A29<>0, _xlfn.XLOOKUP(A29,Caracterización!$B$8:$K$8,Caracterización!$B$23:$K$23,\"\")=\"Seleccione ...\"), \"Debe indicarlo en la caracterización de la comunidad\", IF(A29<>0, _xlfn.XLOOKUP(A29,Caracterización!$B$8:$K$8,Caracterización!$B$23:$K$23,\"\"), \"\"))","v":""},{"$f":"IF(AND(A29<>0, _xlfn.XLOOKUP(A29,Caracterización!$B$8:$K$8,Caracterización!$B$28:$K$28,\"\")=\"Seleccione ...\"), \"Debe indicarlo en la caracterización de la comunidad\", IF(A29<>0, _xlfn.XLOOKUP(A29,Caracterización!$B$8:$K$8,Caracterización!$B$28:$K$28,\"\"), \"\"))","v":""},{"$f":"IF(AND(A29<>0, _xlfn.XLOOKUP(A29,Caracterización!$B$8:$K$8,Caracterización!$B$37:$K$37,\"\")=\"Seleccione ...\"), \"Debe indicarlo en la caracterización de la comunidad\", IF(A29<>0, _xlfn.XLOOKUP(A29,Caracterización!$B$8:$K$8,Caracterización!$B$37:$K$37,\"\"), \"\"))","v":""},{"$f":"IF(AND(A29<>0, _xlfn.XLOOKUP(A29,Caracterización!$B$8:$K$8,Caracterización!$B$40:$K$40,\"\")=\"Seleccione ...\"), \"Debe indicarlo en la caracterización de la comunidad\", IF(A29<>0, _xlfn.XLOOKUP(A29,Caracterización!$B$8:$K$8,Caracterización!$B$40:$K$40,\"\"), \"\"))","v":""},{"$f":"IF(AND(A29<>0, _xlfn.XLOOKUP(A29,Caracterización!$B$8:$K$8,Caracterización!$B$42:$K$42,\"\")=\"Seleccione ...\"), \"Debe indicarlo en la caracterización de la comunidad\", IF(A29<>0, _xlfn.XLOOKUP(A29,Caracterización!$B$8:$K$8,Caracterización!$B$42:$K$42,\"\"), \"\"))","v":""},{"$f":"IF(AND(A29<>0, _xlfn.XLOOKUP(A29,Caracterización!$B$8:$K$8,Caracterización!$B$72:$K$72,\"\")=\"Seleccione ...\"), \"Debe indicarlo en la caracterización de la comunidad\", IF(A29<>0, _xlfn.XLOOKUP(A29,Caracterización!$B$8:$K$8,Caracterización!$B$72:$K$72,\"\"), \"\"))","v":""},{"$f":"IF(AND(A29<>0, _xlfn.XLOOKUP(A29,Caracterización!$B$8:$K$8,Caracterización!$B$36:$K$36,\"\")=\"Seleccione ...\"), \"Debe indicarlo en la caracterización de la comunidad\", IF(A29<>0, _xlfn.XLOOKUP(A29,Caracterización!$B$8:$K$8,Caracterización!$B$36:$K$36,\"\"), \"\"))","v":""}]
[null,null,{"$f":"IF(AND(A30<>0, _xlfn.XLOOKUP(A30,Caracterización!$B$8:$K$8,Caracterización!$B$10:$K$10,\"\")=\"Seleccione ...\"), \"Debe indicarlo en la caracterización de la comunidad\", IF(A30<>0, _xlfn.XLOOKUP(A30,Caracterización!$B$8:$K$8,Caracterización!$B$10:$K$10,\"\"), \"\"))","v":""},{"$f":"IF(AND(A30<>0, _xlfn.XLOOKUP(A30,Caracterización!$B$8:$K$8,Caracterización!$B$11:$K$11,\"\")=\"Seleccione ...\"), \"Debe indicarlo en la caracterización de la comunidad\", IF(A30<>0, _xlfn.XLOOKUP(A30,Caracterización!$B$8:$K$8,Caracterización!$B$11:$K$11,\"\"), \"\"))","v":""},{"$f":"IF(AND(A30<>0, _xlfn.XLOOKUP(A30,Caracterización!$B$8:$K$8,Caracterización!$B$19:$K$19,\"\")=\"Seleccione ...\"), \"Debe indicarlo en la caracterización de la comunidad\", IF(A30<>0, _xlfn.XLOOKUP(A30,Caracterización!$B$8:$K$8,Caracterización!$B$19:$K$19,\"\"), \"\"))","v":""},{"$f":"IF(AND(A30<>0, _xlfn.XLOOKUP(A30,Caracterización!$B$8:$K$8,Caracterización!$B$20:$K$20,\"\")=\"Seleccione ...\"), \"Debe indicarlo en la caracterización de la comunidad\", IF(A30<>0, _xlfn.XLOOKUP(A30,Caracterización!$B$8:$K$8,Caracterización!$B$20:$K$20,\"\"), \"\"))","v":""},{"$f":"IF(AND(A30<>0, _xlfn.XLOOKUP(A30,Caracterización!$B$8:$K$8,Caracterización!$B$22:$K$22,\"\")=\"Seleccione ...\"), \"Debe indicarlo en la caracterización de la comunidad\", IF(A30<>0, _xlfn.XLOOKUP(A30,Caracterización!$B$8:$K$8,Caracterización!$B$22:$K$22,\"\"), \"\"))","v":""},{"$f":"IF(AND(A30<>0, _xlfn.XLOOKUP(A30,Caracterización!$B$8:$K$8,Caracterización!$B$23:$K$23,\"\")=\"Seleccione ...\"), \"Debe indicarlo en la caracterización de la comunidad\", IF(A30<>0, _xlfn.XLOOKUP(A30,Caracterización!$B$8:$K$8,Caracterización!$B$23:$K$23,\"\"), \"\"))","v":""},{"$f":"IF(AND(A30<>0, _xlfn.XLOOKUP(A30,Caracterización!$B$8:$K$8,Caracterización!$B$28:$K$28,\"\")=\"Seleccione ...\"), \"Debe indicarlo en la caracterización de la comunidad\", IF(A30<>0, _xlfn.XLOOKUP(A30,Caracterización!$B$8:$K$8,Caracterización!$B$28:$K$28,\"\"), \"\"))","v":""},{"$f":"IF(AND(A30<>0, _xlfn.XLOOKUP(A30,Caracterización!$B$8:$K$8,Caracterización!$B$37:$K$37,\"\")=\"Seleccione ...\"), \"Debe indicarlo en la caracterización de la comunidad\", IF(A30<>0, _xlfn.XLOOKUP(A30,Caracterización!$B$8:$K$8,Caracterización!$B$37:$K$37,\"\"), \"\"))","v":""},{"$f":"IF(AND(A30<>0, _xlfn.XLOOKUP(A30,Caracterización!$B$8:$K$8,Caracterización!$B$40:$K$40,\"\")=\"Seleccione ...\"), \"Debe indicarlo en la caracterización de la comunidad\", IF(A30<>0, _xlfn.XLOOKUP(A30,Caracterización!$B$8:$K$8,Caracterización!$B$40:$K$40,\"\"), \"\"))","v":""},{"$f":"IF(AND(A30<>0, _xlfn.XLOOKUP(A30,Caracterización!$B$8:$K$8,Caracterización!$B$42:$K$42,\"\")=\"Seleccione ...\"), \"Debe indicarlo en la caracterización de la comunidad\", IF(A30<>0, _xlfn.XLOOKUP(A30,Caracterización!$B$8:$K$8,Caracterización!$B$42:$K$42,\"\"), \"\"))","v":""},{"$f":"IF(AND(A30<>0, _xlfn.XLOOKUP(A30,Caracterización!$B$8:$K$8,Caracterización!$B$72:$K$72,\"\")=\"Seleccione ...\"), \"Debe indicarlo en la caracterización de la comunidad\", IF(A30<>0, _xlfn.XLOOKUP(A30,Caracterización!$B$8:$K$8,Caracterización!$B$72:$K$72,\"\"), \"\"))","v":""},{"$f":"IF(AND(A30<>0, _xlfn.XLOOKUP(A30,Caracterización!$B$8:$K$8,Caracterización!$B$36:$K$36,\"\")=\"Seleccione ...\"), \"Debe indicarlo en la caracterización de la comunidad\", IF(A30<>0, _xlfn.XLOOKUP(A30,Caracterización!$B$8:$K$8,Caracterización!$B$36:$K$36,\"\"), \"\"))","v":""}]
[null,null,{"$f":"IF(AND(A31<>0, _xlfn.XLOOKUP(A31,Caracterización!$B$8:$K$8,Caracterización!$B$10:$K$10,\"\")=\"Seleccione ...\"), \"Debe indicarlo en la caracterización de la comunidad\", IF(A31<>0, _xlfn.XLOOKUP(A31,Caracterización!$B$8:$K$8,Caracterización!$B$10:$K$10,\"\"), \"\"))","v":""},{"$f":"IF(AND(A31<>0, _xlfn.XLOOKUP(A31,Caracterización!$B$8:$K$8,Caracterización!$B$11:$K$11,\"\")=\"Seleccione ...\"), \"Debe indicarlo en la caracterización de la comunidad\", IF(A31<>0, _xlfn.XLOOKUP(A31,Caracterización!$B$8:$K$8,Caracterización!$B$11:$K$11,\"\"), \"\"))","v":""},{"$f":"IF(AND(A31<>0, _xlfn.XLOOKUP(A31,Caracterización!$B$8:$K$8,Caracterización!$B$19:$K$19,\"\")=\"Seleccione ...\"), \"Debe indicarlo en la caracterización de la comunidad\", IF(A31<>0, _xlfn.XLOOKUP(A31,Caracterización!$B$8:$K$8,Caracterización!$B$19:$K$19,\"\"), \"\"))","v":""},{"$f":"IF(AND(A31<>0, _xlfn.XLOOKUP(A31,Caracterización!$B$8:$K$8,Caracterización!$B$20:$K$20,\"\")=\"Seleccione ...\"), \"Debe indicarlo en la caracterización de la comunidad\", IF(A31<>0, _xlfn.XLOOKUP(A31,Caracterización!$B$8:$K$8,Caracterización!$B$20:$K$20,\"\"), \"\"))","v":""},{"$f":"IF(AND(A31<>0, _xlfn.XLOOKUP(A31,Caracterización!$B$8:$K$8,Caracterización!$B$22:$K$22,\"\")=\"Seleccione ...\"), \"Debe indicarlo en la caracterización de la comunidad\", IF(A31<>0, _xlfn.XLOOKUP(A31,Caracterización!$B$8:$K$8,Caracterización!$B$22:$K$22,\"\"), \"\"))","v":""},{"$f":"IF(AND(A31<>0, _xlfn.XLOOKUP(A31,Caracterización!$B$8:$K$8,Caracterización!$B$23:$K$23,\"\")=\"Seleccione ...\"), \"Debe indicarlo en la caracterización de la comunidad\", IF(A31<>0, _xlfn.XLOOKUP(A31,Caracterización!$B$8:$K$8,Caracterización!$B$23:$K$23,\"\"), \"\"))","v":""},{"$f":"IF(AND(A31<>0, _xlfn.XLOOKUP(A31,Caracterización!$B$8:$K$8,Caracterización!$B$28:$K$28,\"\")=\"Seleccione ...\"), \"Debe indicarlo en la caracterización de la comunidad\", IF(A31<>0, _xlfn.XLOOKUP(A31,Caracterización!$B$8:$K$8,Caracterización!$B$28:$K$28,\"\"), \"\"))","v":""},{"$f":"IF(AND(A31<>0, _xlfn.XLOOKUP(A31,Caracterización!$B$8:$K$8,Caracterización!$B$37:$K$37,\"\")=\"Seleccione ...\"), \"Debe indicarlo en la caracterización de la comunidad\", IF(A31<>0, _xlfn.XLOOKUP(A31,Caracterización!$B$8:$K$8,Caracterización!$B$37:$K$37,\"\"), \"\"))","v":""},{"$f":"IF(AND(A31<>0, _xlfn.XLOOKUP(A31,Caracterización!$B$8:$K$8,Caracterización!$B$40:$K$40,\"\")=\"Seleccione ...\"), \"Debe indicarlo en la caracterización de la comunidad\", IF(A31<>0, _xlfn.XLOOKUP(A31,Caracterización!$B$8:$K$8,Caracterización!$B$40:$K$40,\"\"), \"\"))","v":""},{"$f":"IF(AND(A31<>0, _xlfn.XLOOKUP(A31,Caracterización!$B$8:$K$8,Caracterización!$B$42:$K$42,\"\")=\"Seleccione ...\"), \"Debe indicarlo en la caracterización de la comunidad\", IF(A31<>0, _xlfn.XLOOKUP(A31,Caracterización!$B$8:$K$8,Caracterización!$B$42:$K$42,\"\"), \"\"))","v":""},{"$f":"IF(AND(A31<>0, _xlfn.XLOOKUP(A31,Caracterización!$B$8:$K$8,Caracterización!$B$72:$K$72,\"\")=\"Seleccione ...\"), \"Debe indicarlo en la caracterización de la comunidad\", IF(A31<>0, _xlfn.XLOOKUP(A31,Caracterización!$B$8:$K$8,Caracterización!$B$72:$K$72,\"\"), \"\"))","v":""},{"$f":"IF(AND(A31<>0, _xlfn.XLOOKUP(A31,Caracterización!$B$8:$K$8,Caracterización!$B$36:$K$36,\"\")=\"Seleccione ...\"), \"Debe indicarlo en la caracterización de la comunidad\", IF(A31<>0, _xlfn.XLOOKUP(A31,Caracterización!$B$8:$K$8,Caracterización!$B$36:$K$36,\"\"), \"\"))","v":""}]
[null,null,{"$f":"IF(AND(A32<>0, _xlfn.XLOOKUP(A32,Caracterización!$B$8:$K$8,Caracterización!$B$10:$K$10,\"\")=\"Seleccione ...\"), \"Debe indicarlo en la caracterización de la comunidad\", IF(A32<>0, _xlfn.XLOOKUP(A32,Caracterización!$B$8:$K$8,Caracterización!$B$10:$K$10,\"\"), \"\"))","v":""},{"$f":"IF(AND(A32<>0, _xlfn.XLOOKUP(A32,Caracterización!$B$8:$K$8,Caracterización!$B$11:$K$11,\"\")=\"Seleccione ...\"), \"Debe indicarlo en la caracterización de la comunidad\", IF(A32<>0, _xlfn.XLOOKUP(A32,Caracterización!$B$8:$K$8,Caracterización!$B$11:$K$11,\"\"), \"\"))","v":""},{"$f":"IF(AND(A32<>0, _xlfn.XLOOKUP(A32,Caracterización!$B$8:$K$8,Caracterización!$B$19:$K$19,\"\")=\"Seleccione ...\"), \"Debe indicarlo en la caracterización de la comunidad\", IF(A32<>0, _xlfn.XLOOKUP(A32,Caracterización!$B$8:$K$8,Caracterización!$B$19:$K$19,\"\"), \"\"))","v":""},{"$f":"IF(AND(A32<>0, _xlfn.XLOOKUP(A32,Caracterización!$B$8:$K$8,Caracterización!$B$20:$K$20,\"\")=\"Seleccione ...\"), \"Debe indicarlo en la caracterización de la comunidad\", IF(A32<>0, _xlfn.XLOOKUP(A32,Caracterización!$B$8:$K$8,Caracterización!$B$20:$K$20,\"\"), \"\"))","v":""},{"$f":"IF(AND(A32<>0, _xlfn.XLOOKUP(A32,Caracterización!$B$8:$K$8,Caracterización!$B$22:$K$22,\"\")=\"Seleccione ...\"), \"Debe indicarlo en la caracterización de la comunidad\", IF(A32<>0, _xlfn.XLOOKUP(A32,Caracterización!$B$8:$K$8,Caracterización!$B$22:$K$22,\"\"), \"\"))","v":""},{"$f":"IF(AND(A32<>0, _xlfn.XLOOKUP(A32,Caracterización!$B$8:$K$8,Caracterización!$B$23:$K$23,\"\")=\"Seleccione ...\"), \"Debe indicarlo en la caracterización de la comunidad\", IF(A32<>0, _xlfn.XLOOKUP(A32,Caracterización!$B$8:$K$8,Caracterización!$B$23:$K$23,\"\"), \"\"))","v":""},{"$f":"IF(AND(A32<>0, _xlfn.XLOOKUP(A32,Caracterización!$B$8:$K$8,Caracterización!$B$28:$K$28,\"\")=\"Seleccione ...\"), \"Debe indicarlo en la caracterización de la comunidad\", IF(A32<>0, _xlfn.XLOOKUP(A32,Caracterización!$B$8:$K$8,Caracterización!$B$28:$K$28,\"\"), \"\"))","v":""},{"$f":"IF(AND(A32<>0, _xlfn.XLOOKUP(A32,Caracterización!$B$8:$K$8,Caracterización!$B$37:$K$37,\"\")=\"Seleccione ...\"), \"Debe indicarlo en la caracterización de la comunidad\", IF(A32<>0, _xlfn.XLOOKUP(A32,Caracterización!$B$8:$K$8,Caracterización!$B$37:$K$37,\"\"), \"\"))","v":""},{"$f":"IF(AND(A32<>0, _xlfn.XLOOKUP(A32,Caracterización!$B$8:$K$8,Caracterización!$B$40:$K$40,\"\")=\"Seleccione ...\"), \"Debe indicarlo en la caracterización de la comunidad\", IF(A32<>0, _xlfn.XLOOKUP(A32,Caracterización!$B$8:$K$8,Caracterización!$B$40:$K$40,\"\"), \"\"))","v":""},{"$f":"IF(AND(A32<>0, _xlfn.XLOOKUP(A32,Caracterización!$B$8:$K$8,Caracterización!$B$42:$K$42,\"\")=\"Seleccione ...\"), \"Debe indicarlo en la caracterización de la comunidad\", IF(A32<>0, _xlfn.XLOOKUP(A32,Caracterización!$B$8:$K$8,Caracterización!$B$42:$K$42,\"\"), \"\"))","v":""},{"$f":"IF(AND(A32<>0, _xlfn.XLOOKUP(A32,Caracterización!$B$8:$K$8,Caracterización!$B$72:$K$72,\"\")=\"Seleccione ...\"), \"Debe indicarlo en la caracterización de la comunidad\", IF(A32<>0, _xlfn.XLOOKUP(A32,Caracterización!$B$8:$K$8,Caracterización!$B$72:$K$72,\"\"), \"\"))","v":""},{"$f":"IF(AND(A32<>0, _xlfn.XLOOKUP(A32,Caracterización!$B$8:$K$8,Caracterización!$B$36:$K$36,\"\")=\"Seleccione ...\"), \"Debe indicarlo en la caracterización de la comunidad\", IF(A32<>0, _xlfn.XLOOKUP(A32,Caracterización!$B$8:$K$8,Caracterización!$B$36:$K$36,\"\"), \"\"))","v":""}]
[null,null,{"$f":"IF(AND(A33<>0, _xlfn.XLOOKUP(A33,Caracterización!$B$8:$K$8,Caracterización!$B$10:$K$10,\"\")=\"Seleccione ...\"), \"Debe indicarlo en la caracterización de la comunidad\", IF(A33<>0, _xlfn.XLOOKUP(A33,Caracterización!$B$8:$K$8,Caracterización!$B$10:$K$10,\"\"), \"\"))","v":""},{"$f":"IF(AND(A33<>0, _xlfn.XLOOKUP(A33,Caracterización!$B$8:$K$8,Caracterización!$B$11:$K$11,\"\")=\"Seleccione ...\"), \"Debe indicarlo en la caracterización de la comunidad\", IF(A33<>0, _xlfn.XLOOKUP(A33,Caracterización!$B$8:$K$8,Caracterización!$B$11:$K$11,\"\"), \"\"))","v":""},{"$f":"IF(AND(A33<>0, _xlfn.XLOOKUP(A33,Caracterización!$B$8:$K$8,Caracterización!$B$19:$K$19,\"\")=\"Seleccione ...\"), \"Debe indicarlo en la caracterización de la comunidad\", IF(A33<>0, _xlfn.XLOOKUP(A33,Caracterización!$B$8:$K$8,Caracterización!$B$19:$K$19,\"\"), \"\"))","v":""},{"$f":"IF(AND(A33<>0, _xlfn.XLOOKUP(A33,Caracterización!$B$8:$K$8,Caracterización!$B$20:$K$20,\"\")=\"Seleccione ...\"), \"Debe indicarlo en la caracterización de la comunidad\", IF(A33<>0, _xlfn.XLOOKUP(A33,Caracterización!$B$8:$K$8,Caracterización!$B$20:$K$20,\"\"), \"\"))","v":""},{"$f":"IF(AND(A33<>0, _xlfn.XLOOKUP(A33,Caracterización!$B$8:$K$8,Caracterización!$B$22:$K$22,\"\")=\"Seleccione ...\"), \"Debe indicarlo en la caracterización de la comunidad\", IF(A33<>0, _xlfn.XLOOKUP(A33,Caracterización!$B$8:$K$8,Caracterización!$B$22:$K$22,\"\"), \"\"))","v":""},{"$f":"IF(AND(A33<>0, _xlfn.XLOOKUP(A33,Caracterización!$B$8:$K$8,Caracterización!$B$23:$K$23,\"\")=\"Seleccione ...\"), \"Debe indicarlo en la caracterización de la comunidad\", IF(A33<>0, _xlfn.XLOOKUP(A33,Caracterización!$B$8:$K$8,Caracterización!$B$23:$K$23,\"\"), \"\"))","v":""},{"$f":"IF(AND(A33<>0, _xlfn.XLOOKUP(A33,Caracterización!$B$8:$K$8,Caracterización!$B$28:$K$28,\"\")=\"Seleccione ...\"), \"Debe indicarlo en la caracterización de la comunidad\", IF(A33<>0, _xlfn.XLOOKUP(A33,Caracterización!$B$8:$K$8,Caracterización!$B$28:$K$28,\"\"), \"\"))","v":""},{"$f":"IF(AND(A33<>0, _xlfn.XLOOKUP(A33,Caracterización!$B$8:$K$8,Caracterización!$B$37:$K$37,\"\")=\"Seleccione ...\"), \"Debe indicarlo en la caracterización de la comunidad\", IF(A33<>0, _xlfn.XLOOKUP(A33,Caracterización!$B$8:$K$8,Caracterización!$B$37:$K$37,\"\"), \"\"))","v":""},{"$f":"IF(AND(A33<>0, _xlfn.XLOOKUP(A33,Caracterización!$B$8:$K$8,Caracterización!$B$40:$K$40,\"\")=\"Seleccione ...\"), \"Debe indicarlo en la caracterización de la comunidad\", IF(A33<>0, _xlfn.XLOOKUP(A33,Caracterización!$B$8:$K$8,Caracterización!$B$40:$K$40,\"\"), \"\"))","v":""},{"$f":"IF(AND(A33<>0, _xlfn.XLOOKUP(A33,Caracterización!$B$8:$K$8,Caracterización!$B$42:$K$42,\"\")=\"Seleccione ...\"), \"Debe indicarlo en la caracterización de la comunidad\", IF(A33<>0, _xlfn.XLOOKUP(A33,Caracterización!$B$8:$K$8,Caracterización!$B$42:$K$42,\"\"), \"\"))","v":""},{"$f":"IF(AND(A33<>0, _xlfn.XLOOKUP(A33,Caracterización!$B$8:$K$8,Caracterización!$B$72:$K$72,\"\")=\"Seleccione ...\"), \"Debe indicarlo en la caracterización de la comunidad\", IF(A33<>0, _xlfn.XLOOKUP(A33,Caracterización!$B$8:$K$8,Caracterización!$B$72:$K$72,\"\"), \"\"))","v":""},{"$f":"IF(AND(A33<>0, _xlfn.XLOOKUP(A33,Caracterización!$B$8:$K$8,Caracterización!$B$36:$K$36,\"\")=\"Seleccione ...\"), \"Debe indicarlo en la caracterización de la comunidad\", IF(A33<>0, _xlfn.XLOOKUP(A33,Caracterización!$B$8:$K$8,Caracterización!$B$36:$K$36,\"\"), \"\"))","v":""}]
[null,null,{"$f":"IF(AND(A34<>0, _xlfn.XLOOKUP(A34,Caracterización!$B$8:$K$8,Caracterización!$B$10:$K$10,\"\")=\"Seleccione ...\"), \"Debe indicarlo en la caracterización de la comunidad\", IF(A34<>0, _xlfn.XLOOKUP(A34,Caracterización!$B$8:$K$8,Caracterización!$B$10:$K$10,\"\"), \"\"))","v":""},{"$f":"IF(AND(A34<>0, _xlfn.XLOOKUP(A34,Caracterización!$B$8:$K$8,Caracterización!$B$11:$K$11,\"\")=\"Seleccione ...\"), \"Debe indicarlo en la caracterización de la comunidad\", IF(A34<>0, _xlfn.XLOOKUP(A34,Caracterización!$B$8:$K$8,Caracterización!$B$11:$K$11,\"\"), \"\"))","v":""},{"$f":"IF(AND(A34<>0, _xlfn.XLOOKUP(A34,Caracterización!$B$8:$K$8,Caracterización!$B$19:$K$19,\"\")=\"Seleccione ...\"), \"Debe indicarlo en la caracterización de la comunidad\", IF(A34<>0, _xlfn.XLOOKUP(A34,Caracterización!$B$8:$K$8,Caracterización!$B$19:$K$19,\"\"), \"\"))","v":""},{"$f":"IF(AND(A34<>0, _xlfn.XLOOKUP(A34,Caracterización!$B$8:$K$8,Caracterización!$B$20:$K$20,\"\")=\"Seleccione ...\"), \"Debe indicarlo en la caracterización de la comunidad\", IF(A34<>0, _xlfn.XLOOKUP(A34,Caracterización!$B$8:$K$8,Caracterización!$B$20:$K$20,\"\"), \"\"))","v":""},{"$f":"IF(AND(A34<>0, _xlfn.XLOOKUP(A34,Caracterización!$B$8:$K$8,Caracterización!$B$22:$K$22,\"\")=\"Seleccione ...\"), \"Debe indicarlo en la caracterización de la comunidad\", IF(A34<>0, _xlfn.XLOOKUP(A34,Caracterización!$B$8:$K$8,Caracterización!$B$22:$K$22,\"\"), \"\"))","v":""},{"$f":"IF(AND(A34<>0, _xlfn.XLOOKUP(A34,Caracterización!$B$8:$K$8,Caracterización!$B$23:$K$23,\"\")=\"Seleccione ...\"), \"Debe indicarlo en la caracterización de la comunidad\", IF(A34<>0, _xlfn.XLOOKUP(A34,Caracterización!$B$8:$K$8,Caracterización!$B$23:$K$23,\"\"), \"\"))","v":""},{"$f":"IF(AND(A34<>0, _xlfn.XLOOKUP(A34,Caracterización!$B$8:$K$8,Caracterización!$B$28:$K$28,\"\")=\"Seleccione ...\"), \"Debe indicarlo en la caracterización de la comunidad\", IF(A34<>0, _xlfn.XLOOKUP(A34,Caracterización!$B$8:$K$8,Caracterización!$B$28:$K$28,\"\"), \"\"))","v":""},{"$f":"IF(AND(A34<>0, _xlfn.XLOOKUP(A34,Caracterización!$B$8:$K$8,Caracterización!$B$37:$K$37,\"\")=\"Seleccione ...\"), \"Debe indicarlo en la caracterización de la comunidad\", IF(A34<>0, _xlfn.XLOOKUP(A34,Caracterización!$B$8:$K$8,Caracterización!$B$37:$K$37,\"\"), \"\"))","v":""},{"$f":"IF(AND(A34<>0, _xlfn.XLOOKUP(A34,Caracterización!$B$8:$K$8,Caracterización!$B$40:$K$40,\"\")=\"Seleccione ...\"), \"Debe indicarlo en la caracterización de la comunidad\", IF(A34<>0, _xlfn.XLOOKUP(A34,Caracterización!$B$8:$K$8,Caracterización!$B$40:$K$40,\"\"), \"\"))","v":""},{"$f":"IF(AND(A34<>0, _xlfn.XLOOKUP(A34,Caracterización!$B$8:$K$8,Caracterización!$B$42:$K$42,\"\")=\"Seleccione ...\"), \"Debe indicarlo en la caracterización de la comunidad\", IF(A34<>0, _xlfn.XLOOKUP(A34,Caracterización!$B$8:$K$8,Caracterización!$B$42:$K$42,\"\"), \"\"))","v":""},{"$f":"IF(AND(A34<>0, _xlfn.XLOOKUP(A34,Caracterización!$B$8:$K$8,Caracterización!$B$72:$K$72,\"\")=\"Seleccione ...\"), \"Debe indicarlo en la caracterización de la comunidad\", IF(A34<>0, _xlfn.XLOOKUP(A34,Caracterización!$B$8:$K$8,Caracterización!$B$72:$K$72,\"\"), \"\"))","v":""},{"$f":"IF(AND(A34<>0, _xlfn.XLOOKUP(A34,Caracterización!$B$8:$K$8,Caracterización!$B$36:$K$36,\"\")=\"Seleccione ...\"), \"Debe indicarlo en la caracterización de la comunidad\", IF(A34<>0, _xlfn.XLOOKUP(A34,Caracterización!$B$8:$K$8,Caracterización!$B$36:$K$36,\"\"), \"\"))","v":""}]
[null,null,{"$f":"IF(AND(A35<>0, _xlfn.XLOOKUP(A35,Caracterización!$B$8:$K$8,Caracterización!$B$10:$K$10,\"\")=\"Seleccione ...\"), \"Debe indicarlo en la caracterización de la comunidad\", IF(A35<>0, _xlfn.XLOOKUP(A35,Caracterización!$B$8:$K$8,Caracterización!$B$10:$K$10,\"\"), \"\"))","v":""},{"$f":"IF(AND(A35<>0, _xlfn.XLOOKUP(A35,Caracterización!$B$8:$K$8,Caracterización!$B$11:$K$11,\"\")=\"Seleccione ...\"), \"Debe indicarlo en la caracterización de la comunidad\", IF(A35<>0, _xlfn.XLOOKUP(A35,Caracterización!$B$8:$K$8,Caracterización!$B$11:$K$11,\"\"), \"\"))","v":""},{"$f":"IF(AND(A35<>0, _xlfn.XLOOKUP(A35,Caracterización!$B$8:$K$8,Caracterización!$B$19:$K$19,\"\")=\"Seleccione ...\"), \"Debe indicarlo en la caracterización de la comunidad\", IF(A35<>0, _xlfn.XLOOKUP(A35,Caracterización!$B$8:$K$8,Caracterización!$B$19:$K$19,\"\"), \"\"))","v":""},{"$f":"IF(AND(A35<>0, _xlfn.XLOOKUP(A35,Caracterización!$B$8:$K$8,Caracterización!$B$20:$K$20,\"\")=\"Seleccione ...\"), \"Debe indicarlo en la caracterización de la comunidad\", IF(A35<>0, _xlfn.XLOOKUP(A35,Caracterización!$B$8:$K$8,Caracterización!$B$20:$K$20,\"\"), \"\"))","v":""},{"$f":"IF(AND(A35<>0, _xlfn.XLOOKUP(A35,Caracterización!$B$8:$K$8,Caracterización!$B$22:$K$22,\"\")=\"Seleccione ...\"), \"Debe indicarlo en la caracterización de la comunidad\", IF(A35<>0, _xlfn.XLOOKUP(A35,Caracterización!$B$8:$K$8,Caracterización!$B$22:$K$22,\"\"), \"\"))","v":""},{"$f":"IF(AND(A35<>0, _xlfn.XLOOKUP(A35,Caracterización!$B$8:$K$8,Caracterización!$B$23:$K$23,\"\")=\"Seleccione ...\"), \"Debe indicarlo en la caracterización de la comunidad\", IF(A35<>0, _xlfn.XLOOKUP(A35,Caracterización!$B$8:$K$8,Caracterización!$B$23:$K$23,\"\"), \"\"))","v":""},{"$f":"IF(AND(A35<>0, _xlfn.XLOOKUP(A35,Caracterización!$B$8:$K$8,Caracterización!$B$28:$K$28,\"\")=\"Seleccione ...\"), \"Debe indicarlo en la caracterización de la comunidad\", IF(A35<>0, _xlfn.XLOOKUP(A35,Caracterización!$B$8:$K$8,Caracterización!$B$28:$K$28,\"\"), \"\"))","v":""},{"$f":"IF(AND(A35<>0, _xlfn.XLOOKUP(A35,Caracterización!$B$8:$K$8,Caracterización!$B$37:$K$37,\"\")=\"Seleccione ...\"), \"Debe indicarlo en la caracterización de la comunidad\", IF(A35<>0, _xlfn.XLOOKUP(A35,Caracterización!$B$8:$K$8,Caracterización!$B$37:$K$37,\"\"), \"\"))","v":""},{"$f":"IF(AND(A35<>0, _xlfn.XLOOKUP(A35,Caracterización!$B$8:$K$8,Caracterización!$B$40:$K$40,\"\")=\"Seleccione ...\"), \"Debe indicarlo en la caracterización de la comunidad\", IF(A35<>0, _xlfn.XLOOKUP(A35,Caracterización!$B$8:$K$8,Caracterización!$B$40:$K$40,\"\"), \"\"))","v":""},{"$f":"IF(AND(A35<>0, _xlfn.XLOOKUP(A35,Caracterización!$B$8:$K$8,Caracterización!$B$42:$K$42,\"\")=\"Seleccione ...\"), \"Debe indicarlo en la caracterización de la comunidad\", IF(A35<>0, _xlfn.XLOOKUP(A35,Caracterización!$B$8:$K$8,Caracterización!$B$42:$K$42,\"\"), \"\"))","v":""},{"$f":"IF(AND(A35<>0, _xlfn.XLOOKUP(A35,Caracterización!$B$8:$K$8,Caracterización!$B$72:$K$72,\"\")=\"Seleccione ...\"), \"Debe indicarlo en la caracterización de la comunidad\", IF(A35<>0, _xlfn.XLOOKUP(A35,Caracterización!$B$8:$K$8,Caracterización!$B$72:$K$72,\"\"), \"\"))","v":""},{"$f":"IF(AND(A35<>0, _xlfn.XLOOKUP(A35,Caracterización!$B$8:$K$8,Caracterización!$B$36:$K$36,\"\")=\"Seleccione ...\"), \"Debe indicarlo en la caracterización de la comunidad\", IF(A35<>0, _xlfn.XLOOKUP(A35,Caracterización!$B$8:$K$8,Caracterización!$B$36:$K$36,\"\"), \"\"))","v":""}]
[null,null,{"$f":"IF(AND(A36<>0, _xlfn.XLOOKUP(A36,Caracterización!$B$8:$K$8,Caracterización!$B$10:$K$10,\"\")=\"Seleccione ...\"), \"Debe indicarlo en la caracterización de la comunidad\", IF(A36<>0, _xlfn.XLOOKUP(A36,Caracterización!$B$8:$K$8,Caracterización!$B$10:$K$10,\"\"), \"\"))","v":""},{"$f":"IF(AND(A36<>0, _xlfn.XLOOKUP(A36,Caracterización!$B$8:$K$8,Caracterización!$B$11:$K$11,\"\")=\"Seleccione ...\"), \"Debe indicarlo en la caracterización de la comunidad\", IF(A36<>0, _xlfn.XLOOKUP(A36,Caracterización!$B$8:$K$8,Caracterización!$B$11:$K$11,\"\"), \"\"))","v":""},{"$f":"IF(AND(A36<>0, _xlfn.XLOOKUP(A36,Caracterización!$B$8:$K$8,Caracterización!$B$19:$K$19,\"\")=\"Seleccione ...\"), \"Debe indicarlo en la caracterización de la comunidad\", IF(A36<>0, _xlfn.XLOOKUP(A36,Caracterización!$B$8:$K$8,Caracterización!$B$19:$K$19,\"\"), \"\"))","v":""},{"$f":"IF(AND(A36<>0, _xlfn.XLOOKUP(A36,Caracterización!$B$8:$K$8,Caracterización!$B$20:$K$20,\"\")=\"Seleccione ...\"), \"Debe indicarlo en la caracterización de la comunidad\", IF(A36<>0, _xlfn.XLOOKUP(A36,Caracterización!$B$8:$K$8,Caracterización!$B$20:$K$20,\"\"), \"\"))","v":""},{"$f":"IF(AND(A36<>0, _xlfn.XLOOKUP(A36,Caracterización!$B$8:$K$8,Caracterización!$B$22:$K$22,\"\")=\"Seleccione ...\"), \"Debe indicarlo en la caracterización de la comunidad\", IF(A36<>0, _xlfn.XLOOKUP(A36,Caracterización!$B$8:$K$8,Caracterización!$B$22:$K$22,\"\"), \"\"))","v":""},{"$f":"IF(AND(A36<>0, _xlfn.XLOOKUP(A36,Caracterización!$B$8:$K$8,Caracterización!$B$23:$K$23,\"\")=\"Seleccione ...\"), \"Debe indicarlo en la caracterización de la comunidad\", IF(A36<>0, _xlfn.XLOOKUP(A36,Caracterización!$B$8:$K$8,Caracterización!$B$23:$K$23,\"\"), \"\"))","v":""},{"$f":"IF(AND(A36<>0, _xlfn.XLOOKUP(A36,Caracterización!$B$8:$K$8,Caracterización!$B$28:$K$28,\"\")=\"Seleccione ...\"), \"Debe indicarlo en la caracterización de la comunidad\", IF(A36<>0, _xlfn.XLOOKUP(A36,Caracterización!$B$8:$K$8,Caracterización!$B$28:$K$28,\"\"), \"\"))","v":""},{"$f":"IF(AND(A36<>0, _xlfn.XLOOKUP(A36,Caracterización!$B$8:$K$8,Caracterización!$B$37:$K$37,\"\")=\"Seleccione ...\"), \"Debe indicarlo en la caracterización de la comunidad\", IF(A36<>0, _xlfn.XLOOKUP(A36,Caracterización!$B$8:$K$8,Caracterización!$B$37:$K$37,\"\"), \"\"))","v":""},{"$f":"IF(AND(A36<>0, _xlfn.XLOOKUP(A36,Caracterización!$B$8:$K$8,Caracterización!$B$40:$K$40,\"\")=\"Seleccione ...\"), \"Debe indicarlo en la caracterización de la comunidad\", IF(A36<>0, _xlfn.XLOOKUP(A36,Caracterización!$B$8:$K$8,Caracterización!$B$40:$K$40,\"\"), \"\"))","v":""},{"$f":"IF(AND(A36<>0, _xlfn.XLOOKUP(A36,Caracterización!$B$8:$K$8,Caracterización!$B$42:$K$42,\"\")=\"Seleccione ...\"), \"Debe indicarlo en la caracterización de la comunidad\", IF(A36<>0, _xlfn.XLOOKUP(A36,Caracterización!$B$8:$K$8,Caracterización!$B$42:$K$42,\"\"), \"\"))","v":""},{"$f":"IF(AND(A36<>0, _xlfn.XLOOKUP(A36,Caracterización!$B$8:$K$8,Caracterización!$B$72:$K$72,\"\")=\"Seleccione ...\"), \"Debe indicarlo en la caracterización de la comunidad\", IF(A36<>0, _xlfn.XLOOKUP(A36,Caracterización!$B$8:$K$8,Caracterización!$B$72:$K$72,\"\"), \"\"))","v":""},{"$f":"IF(AND(A36<>0, _xlfn.XLOOKUP(A36,Caracterización!$B$8:$K$8,Caracterización!$B$36:$K$36,\"\")=\"Seleccione ...\"), \"Debe indicarlo en la caracterización de la comunidad\", IF(A36<>0, _xlfn.XLOOKUP(A36,Caracterización!$B$8:$K$8,Caracterización!$B$36:$K$36,\"\"), \"\"))","v":""}]
[null,null,{"$f":"IF(AND(A37<>0, _xlfn.XLOOKUP(A37,Caracterización!$B$8:$K$8,Caracterización!$B$10:$K$10,\"\")=\"Seleccione ...\"), \"Debe indicarlo en la caracterización de la comunidad\", IF(A37<>0, _xlfn.XLOOKUP(A37,Caracterización!$B$8:$K$8,Caracterización!$B$10:$K$10,\"\"), \"\"))","v":""},{"$f":"IF(AND(A37<>0, _xlfn.XLOOKUP(A37,Caracterización!$B$8:$K$8,Caracterización!$B$11:$K$11,\"\")=\"Seleccione ...\"), \"Debe indicarlo en la caracterización de la comunidad\", IF(A37<>0, _xlfn.XLOOKUP(A37,Caracterización!$B$8:$K$8,Caracterización!$B$11:$K$11,\"\"), \"\"))","v":""},{"$f":"IF(AND(A37<>0, _xlfn.XLOOKUP(A37,Caracterización!$B$8:$K$8,Caracterización!$B$19:$K$19,\"\")=\"Seleccione ...\"), \"Debe indicarlo en la caracterización de la comunidad\", IF(A37<>0, _xlfn.XLOOKUP(A37,Caracterización!$B$8:$K$8,Caracterización!$B$19:$K$19,\"\"), \"\"))","v":""},{"$f":"IF(AND(A37<>0, _xlfn.XLOOKUP(A37,Caracterización!$B$8:$K$8,Caracterización!$B$20:$K$20,\"\")=\"Seleccione ...\"), \"Debe indicarlo en la caracterización de la comunidad\", IF(A37<>0, _xlfn.XLOOKUP(A37,Caracterización!$B$8:$K$8,Caracterización!$B$20:$K$20,\"\"), \"\"))","v":""},{"$f":"IF(AND(A37<>0, _xlfn.XLOOKUP(A37,Caracterización!$B$8:$K$8,Caracterización!$B$22:$K$22,\"\")=\"Seleccione ...\"), \"Debe indicarlo en la caracterización de la comunidad\", IF(A37<>0, _xlfn.XLOOKUP(A37,Caracterización!$B$8:$K$8,Caracterización!$B$22:$K$22,\"\"), \"\"))","v":""},{"$f":"IF(AND(A37<>0, _xlfn.XLOOKUP(A37,Caracterización!$B$8:$K$8,Caracterización!$B$23:$K$23,\"\")=\"Seleccione ...\"), \"Debe indicarlo en la caracterización de la comunidad\", IF(A37<>0, _xlfn.XLOOKUP(A37,Caracterización!$B$8:$K$8,Caracterización!$B$23:$K$23,\"\"), \"\"))","v":""},{"$f":"IF(AND(A37<>0, _xlfn.XLOOKUP(A37,Caracterización!$B$8:$K$8,Caracterización!$B$28:$K$28,\"\")=\"Seleccione ...\"), \"Debe indicarlo en la caracterización de la comunidad\", IF(A37<>0, _xlfn.XLOOKUP(A37,Caracterización!$B$8:$K$8,Caracterización!$B$28:$K$28,\"\"), \"\"))","v":""},{"$f":"IF(AND(A37<>0, _xlfn.XLOOKUP(A37,Caracterización!$B$8:$K$8,Caracterización!$B$37:$K$37,\"\")=\"Seleccione ...\"), \"Debe indicarlo en la caracterización de la comunidad\", IF(A37<>0, _xlfn.XLOOKUP(A37,Caracterización!$B$8:$K$8,Caracterización!$B$37:$K$37,\"\"), \"\"))","v":""},{"$f":"IF(AND(A37<>0, _xlfn.XLOOKUP(A37,Caracterización!$B$8:$K$8,Caracterización!$B$40:$K$40,\"\")=\"Seleccione ...\"), \"Debe indicarlo en la caracterización de la comunidad\", IF(A37<>0, _xlfn.XLOOKUP(A37,Caracterización!$B$8:$K$8,Caracterización!$B$40:$K$40,\"\"), \"\"))","v":""},{"$f":"IF(AND(A37<>0, _xlfn.XLOOKUP(A37,Caracterización!$B$8:$K$8,Caracterización!$B$42:$K$42,\"\")=\"Seleccione ...\"), \"Debe indicarlo en la caracterización de la comunidad\", IF(A37<>0, _xlfn.XLOOKUP(A37,Caracterización!$B$8:$K$8,Caracterización!$B$42:$K$42,\"\"), \"\"))","v":""},{"$f":"IF(AND(A37<>0, _xlfn.XLOOKUP(A37,Caracterización!$B$8:$K$8,Caracterización!$B$72:$K$72,\"\")=\"Seleccione ...\"), \"Debe indicarlo en la caracterización de la comunidad\", IF(A37<>0, _xlfn.XLOOKUP(A37,Caracterización!$B$8:$K$8,Caracterización!$B$72:$K$72,\"\"), \"\"))","v":""},{"$f":"IF(AND(A37<>0, _xlfn.XLOOKUP(A37,Caracterización!$B$8:$K$8,Caracterización!$B$36:$K$36,\"\")=\"Seleccione ...\"), \"Debe indicarlo en la caracterización de la comunidad\", IF(A37<>0, _xlfn.XLOOKUP(A37,Caracterización!$B$8:$K$8,Caracterización!$B$36:$K$36,\"\"), \"\"))","v":""}]
[null,null,{"$f":"IF(AND(A38<>0, _xlfn.XLOOKUP(A38,Caracterización!$B$8:$K$8,Caracterización!$B$10:$K$10,\"\")=\"Seleccione ...\"), \"Debe indicarlo en la caracterización de la comunidad\", IF(A38<>0, _xlfn.XLOOKUP(A38,Caracterización!$B$8:$K$8,Caracterización!$B$10:$K$10,\"\"), \"\"))","v":""},{"$f":"IF(AND(A38<>0, _xlfn.XLOOKUP(A38,Caracterización!$B$8:$K$8,Caracterización!$B$11:$K$11,\"\")=\"Seleccione ...\"), \"Debe indicarlo en la caracterización de la comunidad\", IF(A38<>0, _xlfn.XLOOKUP(A38,Caracterización!$B$8:$K$8,Caracterización!$B$11:$K$11,\"\"), \"\"))","v":""},{"$f":"IF(AND(A38<>0, _xlfn.XLOOKUP(A38,Caracterización!$B$8:$K$8,Caracterización!$B$19:$K$19,\"\")=\"Seleccione ...\"), \"Debe indicarlo en la caracterización de la comunidad\", IF(A38<>0, _xlfn.XLOOKUP(A38,Caracterización!$B$8:$K$8,Caracterización!$B$19:$K$19,\"\"), \"\"))","v":""},{"$f":"IF(AND(A38<>0, _xlfn.XLOOKUP(A38,Caracterización!$B$8:$K$8,Caracterización!$B$20:$K$20,\"\")=\"Seleccione ...\"), \"Debe indicarlo en la caracterización de la comunidad\", IF(A38<>0, _xlfn.XLOOKUP(A38,Caracterización!$B$8:$K$8,Caracterización!$B$20:$K$20,\"\"), \"\"))","v":""},{"$f":"IF(AND(A38<>0, _xlfn.XLOOKUP(A38,Caracterización!$B$8:$K$8,Caracterización!$B$22:$K$22,\"\")=\"Seleccione ...\"), \"Debe indicarlo en la caracterización de la comunidad\", IF(A38<>0, _xlfn.XLOOKUP(A38,Caracterización!$B$8:$K$8,Caracterización!$B$22:$K$22,\"\"), \"\"))","v":""},{"$f":"IF(AND(A38<>0, _xlfn.XLOOKUP(A38,Caracterización!$B$8:$K$8,Caracterización!$B$23:$K$23,\"\")=\"Seleccione ...\"), \"Debe indicarlo en la caracterización de la comunidad\", IF(A38<>0, _xlfn.XLOOKUP(A38,Caracterización!$B$8:$K$8,Caracterización!$B$23:$K$23,\"\"), \"\"))","v":""},{"$f":"IF(AND(A38<>0, _xlfn.XLOOKUP(A38,Caracterización!$B$8:$K$8,Caracterización!$B$28:$K$28,\"\")=\"Seleccione ...\"), \"Debe indicarlo en la caracterización de la comunidad\", IF(A38<>0, _xlfn.XLOOKUP(A38,Caracterización!$B$8:$K$8,Caracterización!$B$28:$K$28,\"\"), \"\"))","v":""},{"$f":"IF(AND(A38<>0, _xlfn.XLOOKUP(A38,Caracterización!$B$8:$K$8,Caracterización!$B$37:$K$37,\"\")=\"Seleccione ...\"), \"Debe indicarlo en la caracterización de la comunidad\", IF(A38<>0, _xlfn.XLOOKUP(A38,Caracterización!$B$8:$K$8,Caracterización!$B$37:$K$37,\"\"), \"\"))","v":""},{"$f":"IF(AND(A38<>0, _xlfn.XLOOKUP(A38,Caracterización!$B$8:$K$8,Caracterización!$B$40:$K$40,\"\")=\"Seleccione ...\"), \"Debe indicarlo en la caracterización de la comunidad\", IF(A38<>0, _xlfn.XLOOKUP(A38,Caracterización!$B$8:$K$8,Caracterización!$B$40:$K$40,\"\"), \"\"))","v":""},{"$f":"IF(AND(A38<>0, _xlfn.XLOOKUP(A38,Caracterización!$B$8:$K$8,Caracterización!$B$42:$K$42,\"\")=\"Seleccione ...\"), \"Debe indicarlo en la caracterización de la comunidad\", IF(A38<>0, _xlfn.XLOOKUP(A38,Caracterización!$B$8:$K$8,Caracterización!$B$42:$K$42,\"\"), \"\"))","v":""},{"$f":"IF(AND(A38<>0, _xlfn.XLOOKUP(A38,Caracterización!$B$8:$K$8,Caracterización!$B$72:$K$72,\"\")=\"Seleccione ...\"), \"Debe indicarlo en la caracterización de la comunidad\", IF(A38<>0, _xlfn.XLOOKUP(A38,Caracterización!$B$8:$K$8,Caracterización!$B$72:$K$72,\"\"), \"\"))","v":""},{"$f":"IF(AND(A38<>0, _xlfn.XLOOKUP(A38,Caracterización!$B$8:$K$8,Caracterización!$B$36:$K$36,\"\")=\"Seleccione ...\"), \"Debe indicarlo en la caracterización de la comunidad\", IF(A38<>0, _xlfn.XLOOKUP(A38,Caracterización!$B$8:$K$8,Caracterización!$B$36:$K$36,\"\"), \"\"))","v":""}]
[null,null,{"$f":"IF(AND(A39<>0, _xlfn.XLOOKUP(A39,Caracterización!$B$8:$K$8,Caracterización!$B$10:$K$10,\"\")=\"Seleccione ...\"), \"Debe indicarlo en la caracterización de la comunidad\", IF(A39<>0, _xlfn.XLOOKUP(A39,Caracterización!$B$8:$K$8,Caracterización!$B$10:$K$10,\"\"), \"\"))","v":""},{"$f":"IF(AND(A39<>0, _xlfn.XLOOKUP(A39,Caracterización!$B$8:$K$8,Caracterización!$B$11:$K$11,\"\")=\"Seleccione ...\"), \"Debe indicarlo en la caracterización de la comunidad\", IF(A39<>0, _xlfn.XLOOKUP(A39,Caracterización!$B$8:$K$8,Caracterización!$B$11:$K$11,\"\"), \"\"))","v":""},{"$f":"IF(AND(A39<>0, _xlfn.XLOOKUP(A39,Caracterización!$B$8:$K$8,Caracterización!$B$19:$K$19,\"\")=\"Seleccione ...\"), \"Debe indicarlo en la caracterización de la comunidad\", IF(A39<>0, _xlfn.XLOOKUP(A39,Caracterización!$B$8:$K$8,Caracterización!$B$19:$K$19,\"\"), \"\"))","v":""},{"$f":"IF(AND(A39<>0, _xlfn.XLOOKUP(A39,Caracterización!$B$8:$K$8,Caracterización!$B$20:$K$20,\"\")=\"Seleccione ...\"), \"Debe indicarlo en la caracterización de la comunidad\", IF(A39<>0, _xlfn.XLOOKUP(A39,Caracterización!$B$8:$K$8,Caracterización!$B$20:$K$20,\"\"), \"\"))","v":""},{"$f":"IF(AND(A39<>0, _xlfn.XLOOKUP(A39,Caracterización!$B$8:$K$8,Caracterización!$B$22:$K$22,\"\")=\"Seleccione ...\"), \"Debe indicarlo en la caracterización de la comunidad\", IF(A39<>0, _xlfn.XLOOKUP(A39,Caracterización!$B$8:$K$8,Caracterización!$B$22:$K$22,\"\"), \"\"))","v":""},{"$f":"IF(AND(A39<>0, _xlfn.XLOOKUP(A39,Caracterización!$B$8:$K$8,Caracterización!$B$23:$K$23,\"\")=\"Seleccione ...\"), \"Debe indicarlo en la caracterización de la comunidad\", IF(A39<>0, _xlfn.XLOOKUP(A39,Caracterización!$B$8:$K$8,Caracterización!$B$23:$K$23,\"\"), \"\"))","v":""},{"$f":"IF(AND(A39<>0, _xlfn.XLOOKUP(A39,Caracterización!$B$8:$K$8,Caracterización!$B$28:$K$28,\"\")=\"Seleccione ...\"), \"Debe indicarlo en la caracterización de la comunidad\", IF(A39<>0, _xlfn.XLOOKUP(A39,Caracterización!$B$8:$K$8,Caracterización!$B$28:$K$28,\"\"), \"\"))","v":""},{"$f":"IF(AND(A39<>0, _xlfn.XLOOKUP(A39,Caracterización!$B$8:$K$8,Caracterización!$B$37:$K$37,\"\")=\"Seleccione ...\"), \"Debe indicarlo en la caracterización de la comunidad\", IF(A39<>0, _xlfn.XLOOKUP(A39,Caracterización!$B$8:$K$8,Caracterización!$B$37:$K$37,\"\"), \"\"))","v":""},{"$f":"IF(AND(A39<>0, _xlfn.XLOOKUP(A39,Caracterización!$B$8:$K$8,Caracterización!$B$40:$K$40,\"\")=\"Seleccione ...\"), \"Debe indicarlo en la caracterización de la comunidad\", IF(A39<>0, _xlfn.XLOOKUP(A39,Caracterización!$B$8:$K$8,Caracterización!$B$40:$K$40,\"\"), \"\"))","v":""},{"$f":"IF(AND(A39<>0, _xlfn.XLOOKUP(A39,Caracterización!$B$8:$K$8,Caracterización!$B$42:$K$42,\"\")=\"Seleccione ...\"), \"Debe indicarlo en la caracterización de la comunidad\", IF(A39<>0, _xlfn.XLOOKUP(A39,Caracterización!$B$8:$K$8,Caracterización!$B$42:$K$42,\"\"), \"\"))","v":""},{"$f":"IF(AND(A39<>0, _xlfn.XLOOKUP(A39,Caracterización!$B$8:$K$8,Caracterización!$B$72:$K$72,\"\")=\"Seleccione ...\"), \"Debe indicarlo en la caracterización de la comunidad\", IF(A39<>0, _xlfn.XLOOKUP(A39,Caracterización!$B$8:$K$8,Caracterización!$B$72:$K$72,\"\"), \"\"))","v":""},{"$f":"IF(AND(A39<>0, _xlfn.XLOOKUP(A39,Caracterización!$B$8:$K$8,Caracterización!$B$36:$K$36,\"\")=\"Seleccione ...\"), \"Debe indicarlo en la caracterización de la comunidad\", IF(A39<>0, _xlfn.XLOOKUP(A39,Caracterización!$B$8:$K$8,Caracterización!$B$36:$K$36,\"\"), \"\"))","v":""}]
[null,null,{"$f":"IF(AND(A40<>0, _xlfn.XLOOKUP(A40,Caracterización!$B$8:$K$8,Caracterización!$B$10:$K$10,\"\")=\"Seleccione ...\"), \"Debe indicarlo en la caracterización de la comunidad\", IF(A40<>0, _xlfn.XLOOKUP(A40,Caracterización!$B$8:$K$8,Caracterización!$B$10:$K$10,\"\"), \"\"))","v":""},{"$f":"IF(AND(A40<>0, _xlfn.XLOOKUP(A40,Caracterización!$B$8:$K$8,Caracterización!$B$11:$K$11,\"\")=\"Seleccione ...\"), \"Debe indicarlo en la caracterización de la comunidad\", IF(A40<>0, _xlfn.XLOOKUP(A40,Caracterización!$B$8:$K$8,Caracterización!$B$11:$K$11,\"\"), \"\"))","v":""},{"$f":"IF(AND(A40<>0, _xlfn.XLOOKUP(A40,Caracterización!$B$8:$K$8,Caracterización!$B$19:$K$19,\"\")=\"Seleccione ...\"), \"Debe indicarlo en la caracterización de la comunidad\", IF(A40<>0, _xlfn.XLOOKUP(A40,Caracterización!$B$8:$K$8,Caracterización!$B$19:$K$19,\"\"), \"\"))","v":""},{"$f":"IF(AND(A40<>0, _xlfn.XLOOKUP(A40,Caracterización!$B$8:$K$8,Caracterización!$B$20:$K$20,\"\")=\"Seleccione ...\"), \"Debe indicarlo en la caracterización de la comunidad\", IF(A40<>0, _xlfn.XLOOKUP(A40,Caracterización!$B$8:$K$8,Caracterización!$B$20:$K$20,\"\"), \"\"))","v":""},{"$f":"IF(AND(A40<>0, _xlfn.XLOOKUP(A40,Caracterización!$B$8:$K$8,Caracterización!$B$22:$K$22,\"\")=\"Seleccione ...\"), \"Debe indicarlo en la caracterización de la comunidad\", IF(A40<>0, _xlfn.XLOOKUP(A40,Caracterización!$B$8:$K$8,Caracterización!$B$22:$K$22,\"\"), \"\"))","v":""},{"$f":"IF(AND(A40<>0, _xlfn.XLOOKUP(A40,Caracterización!$B$8:$K$8,Caracterización!$B$23:$K$23,\"\")=\"Seleccione ...\"), \"Debe indicarlo en la caracterización de la comunidad\", IF(A40<>0, _xlfn.XLOOKUP(A40,Caracterización!$B$8:$K$8,Caracterización!$B$23:$K$23,\"\"), \"\"))","v":""},{"$f":"IF(AND(A40<>0, _xlfn.XLOOKUP(A40,Caracterización!$B$8:$K$8,Caracterización!$B$28:$K$28,\"\")=\"Seleccione ...\"), \"Debe indicarlo en la caracterización de la comunidad\", IF(A40<>0, _xlfn.XLOOKUP(A40,Caracterización!$B$8:$K$8,Caracterización!$B$28:$K$28,\"\"), \"\"))","v":""},{"$f":"IF(AND(A40<>0, _xlfn.XLOOKUP(A40,Caracterización!$B$8:$K$8,Caracterización!$B$37:$K$37,\"\")=\"Seleccione ...\"), \"Debe indicarlo en la caracterización de la comunidad\", IF(A40<>0, _xlfn.XLOOKUP(A40,Caracterización!$B$8:$K$8,Caracterización!$B$37:$K$37,\"\"), \"\"))","v":""},{"$f":"IF(AND(A40<>0, _xlfn.XLOOKUP(A40,Caracterización!$B$8:$K$8,Caracterización!$B$40:$K$40,\"\")=\"Seleccione ...\"), \"Debe indicarlo en la caracterización de la comunidad\", IF(A40<>0, _xlfn.XLOOKUP(A40,Caracterización!$B$8:$K$8,Caracterización!$B$40:$K$40,\"\"), \"\"))","v":""},{"$f":"IF(AND(A40<>0, _xlfn.XLOOKUP(A40,Caracterización!$B$8:$K$8,Caracterización!$B$42:$K$42,\"\")=\"Seleccione ...\"), \"Debe indicarlo en la caracterización de la comunidad\", IF(A40<>0, _xlfn.XLOOKUP(A40,Caracterización!$B$8:$K$8,Caracterización!$B$42:$K$42,\"\"), \"\"))","v":""},{"$f":"IF(AND(A40<>0, _xlfn.XLOOKUP(A40,Caracterización!$B$8:$K$8,Caracterización!$B$72:$K$72,\"\")=\"Seleccione ...\"), \"Debe indicarlo en la caracterización de la comunidad\", IF(A40<>0, _xlfn.XLOOKUP(A40,Caracterización!$B$8:$K$8,Caracterización!$B$72:$K$72,\"\"), \"\"))","v":""},{"$f":"IF(AND(A40<>0, _xlfn.XLOOKUP(A40,Caracterización!$B$8:$K$8,Caracterización!$B$36:$K$36,\"\")=\"Seleccione ...\"), \"Debe indicarlo en la caracterización de la comunidad\", IF(A40<>0, _xlfn.XLOOKUP(A40,Caracterización!$B$8:$K$8,Caracterización!$B$36:$K$36,\"\"), \"\"))","v":""}]
[null,null,{"$f":"IF(AND(A41<>0, _xlfn.XLOOKUP(A41,Caracterización!$B$8:$K$8,Caracterización!$B$10:$K$10,\"\")=\"Seleccione ...\"), \"Debe indicarlo en la caracterización de la comunidad\", IF(A41<>0, _xlfn.XLOOKUP(A41,Caracterización!$B$8:$K$8,Caracterización!$B$10:$K$10,\"\"), \"\"))","v":""},{"$f":"IF(AND(A41<>0, _xlfn.XLOOKUP(A41,Caracterización!$B$8:$K$8,Caracterización!$B$11:$K$11,\"\")=\"Seleccione ...\"), \"Debe indicarlo en la caracterización de la comunidad\", IF(A41<>0, _xlfn.XLOOKUP(A41,Caracterización!$B$8:$K$8,Caracterización!$B$11:$K$11,\"\"), \"\"))","v":""},{"$f":"IF(AND(A41<>0, _xlfn.XLOOKUP(A41,Caracterización!$B$8:$K$8,Caracterización!$B$19:$K$19,\"\")=\"Seleccione ...\"), \"Debe indicarlo en la caracterización de la comunidad\", IF(A41<>0, _xlfn.XLOOKUP(A41,Caracterización!$B$8:$K$8,Caracterización!$B$19:$K$19,\"\"), \"\"))","v":""},{"$f":"IF(AND(A41<>0, _xlfn.XLOOKUP(A41,Caracterización!$B$8:$K$8,Caracterización!$B$20:$K$20,\"\")=\"Seleccione ...\"), \"Debe indicarlo en la caracterización de la comunidad\", IF(A41<>0, _xlfn.XLOOKUP(A41,Caracterización!$B$8:$K$8,Caracterización!$B$20:$K$20,\"\"), \"\"))","v":""},{"$f":"IF(AND(A41<>0, _xlfn.XLOOKUP(A41,Caracterización!$B$8:$K$8,Caracterización!$B$22:$K$22,\"\")=\"Seleccione ...\"), \"Debe indicarlo en la caracterización de la comunidad\", IF(A41<>0, _xlfn.XLOOKUP(A41,Caracterización!$B$8:$K$8,Caracterización!$B$22:$K$22,\"\"), \"\"))","v":""},{"$f":"IF(AND(A41<>0, _xlfn.XLOOKUP(A41,Caracterización!$B$8:$K$8,Caracterización!$B$23:$K$23,\"\")=\"Seleccione ...\"), \"Debe indicarlo en la caracterización de la comunidad\", IF(A41<>0, _xlfn.XLOOKUP(A41,Caracterización!$B$8:$K$8,Caracterización!$B$23:$K$23,\"\"), \"\"))","v":""},{"$f":"IF(AND(A41<>0, _xlfn.XLOOKUP(A41,Caracterización!$B$8:$K$8,Caracterización!$B$28:$K$28,\"\")=\"Seleccione ...\"), \"Debe indicarlo en la caracterización de la comunidad\", IF(A41<>0, _xlfn.XLOOKUP(A41,Caracterización!$B$8:$K$8,Caracterización!$B$28:$K$28,\"\"), \"\"))","v":""},{"$f":"IF(AND(A41<>0, _xlfn.XLOOKUP(A41,Caracterización!$B$8:$K$8,Caracterización!$B$37:$K$37,\"\")=\"Seleccione ...\"), \"Debe indicarlo en la caracterización de la comunidad\", IF(A41<>0, _xlfn.XLOOKUP(A41,Caracterización!$B$8:$K$8,Caracterización!$B$37:$K$37,\"\"), \"\"))","v":""},{"$f":"IF(AND(A41<>0, _xlfn.XLOOKUP(A41,Caracterización!$B$8:$K$8,Caracterización!$B$40:$K$40,\"\")=\"Seleccione ...\"), \"Debe indicarlo en la caracterización de la comunidad\", IF(A41<>0, _xlfn.XLOOKUP(A41,Caracterización!$B$8:$K$8,Caracterización!$B$40:$K$40,\"\"), \"\"))","v":""},{"$f":"IF(AND(A41<>0, _xlfn.XLOOKUP(A41,Caracterización!$B$8:$K$8,Caracterización!$B$42:$K$42,\"\")=\"Seleccione ...\"), \"Debe indicarlo en la caracterización de la comunidad\", IF(A41<>0, _xlfn.XLOOKUP(A41,Caracterización!$B$8:$K$8,Caracterización!$B$42:$K$42,\"\"), \"\"))","v":""},{"$f":"IF(AND(A41<>0, _xlfn.XLOOKUP(A41,Caracterización!$B$8:$K$8,Caracterización!$B$72:$K$72,\"\")=\"Seleccione ...\"), \"Debe indicarlo en la caracterización de la comunidad\", IF(A41<>0, _xlfn.XLOOKUP(A41,Caracterización!$B$8:$K$8,Caracterización!$B$72:$K$72,\"\"), \"\"))","v":""},{"$f":"IF(AND(A41<>0, _xlfn.XLOOKUP(A41,Caracterización!$B$8:$K$8,Caracterización!$B$36:$K$36,\"\")=\"Seleccione ...\"), \"Debe indicarlo en la caracterización de la comunidad\", IF(A41<>0, _xlfn.XLOOKUP(A41,Caracterización!$B$8:$K$8,Caracterización!$B$36:$K$36,\"\"), \"\"))","v":""}]
[null,null,{"$f":"IF(AND(A42<>0, _xlfn.XLOOKUP(A42,Caracterización!$B$8:$K$8,Caracterización!$B$10:$K$10,\"\")=\"Seleccione ...\"), \"Debe indicarlo en la caracterización de la comunidad\", IF(A42<>0, _xlfn.XLOOKUP(A42,Caracterización!$B$8:$K$8,Caracterización!$B$10:$K$10,\"\"), \"\"))","v":""},{"$f":"IF(AND(A42<>0, _xlfn.XLOOKUP(A42,Caracterización!$B$8:$K$8,Caracterización!$B$11:$K$11,\"\")=\"Seleccione ...\"), \"Debe indicarlo en la caracterización de la comunidad\", IF(A42<>0, _xlfn.XLOOKUP(A42,Caracterización!$B$8:$K$8,Caracterización!$B$11:$K$11,\"\"), \"\"))","v":""},{"$f":"IF(AND(A42<>0, _xlfn.XLOOKUP(A42,Caracterización!$B$8:$K$8,Caracterización!$B$19:$K$19,\"\")=\"Seleccione ...\"), \"Debe indicarlo en la caracterización de la comunidad\", IF(A42<>0, _xlfn.XLOOKUP(A42,Caracterización!$B$8:$K$8,Caracterización!$B$19:$K$19,\"\"), \"\"))","v":""},{"$f":"IF(AND(A42<>0, _xlfn.XLOOKUP(A42,Caracterización!$B$8:$K$8,Caracterización!$B$20:$K$20,\"\")=\"Seleccione ...\"), \"Debe indicarlo en la caracterización de la comunidad\", IF(A42<>0, _xlfn.XLOOKUP(A42,Caracterización!$B$8:$K$8,Caracterización!$B$20:$K$20,\"\"), \"\"))","v":""},{"$f":"IF(AND(A42<>0, _xlfn.XLOOKUP(A42,Caracterización!$B$8:$K$8,Caracterización!$B$22:$K$22,\"\")=\"Seleccione ...\"), \"Debe indicarlo en la caracterización de la comunidad\", IF(A42<>0, _xlfn.XLOOKUP(A42,Caracterización!$B$8:$K$8,Caracterización!$B$22:$K$22,\"\"), \"\"))","v":""},{"$f":"IF(AND(A42<>0, _xlfn.XLOOKUP(A42,Caracterización!$B$8:$K$8,Caracterización!$B$23:$K$23,\"\")=\"Seleccione ...\"), \"Debe indicarlo en la caracterización de la comunidad\", IF(A42<>0, _xlfn.XLOOKUP(A42,Caracterización!$B$8:$K$8,Caracterización!$B$23:$K$23,\"\"), \"\"))","v":""},{"$f":"IF(AND(A42<>0, _xlfn.XLOOKUP(A42,Caracterización!$B$8:$K$8,Caracterización!$B$28:$K$28,\"\")=\"Seleccione ...\"), \"Debe indicarlo en la caracterización de la comunidad\", IF(A42<>0, _xlfn.XLOOKUP(A42,Caracterización!$B$8:$K$8,Caracterización!$B$28:$K$28,\"\"), \"\"))","v":""},{"$f":"IF(AND(A42<>0, _xlfn.XLOOKUP(A42,Caracterización!$B$8:$K$8,Caracterización!$B$37:$K$37,\"\")=\"Seleccione ...\"), \"Debe indicarlo en la caracterización de la comunidad\", IF(A42<>0, _xlfn.XLOOKUP(A42,Caracterización!$B$8:$K$8,Caracterización!$B$37:$K$37,\"\"), \"\"))","v":""},{"$f":"IF(AND(A42<>0, _xlfn.XLOOKUP(A42,Caracterización!$B$8:$K$8,Caracterización!$B$40:$K$40,\"\")=\"Seleccione ...\"), \"Debe indicarlo en la caracterización de la comunidad\", IF(A42<>0, _xlfn.XLOOKUP(A42,Caracterización!$B$8:$K$8,Caracterización!$B$40:$K$40,\"\"), \"\"))","v":""},{"$f":"IF(AND(A42<>0, _xlfn.XLOOKUP(A42,Caracterización!$B$8:$K$8,Caracterización!$B$42:$K$42,\"\")=\"Seleccione ...\"), \"Debe indicarlo en la caracterización de la comunidad\", IF(A42<>0, _xlfn.XLOOKUP(A42,Caracterización!$B$8:$K$8,Caracterización!$B$42:$K$42,\"\"), \"\"))","v":""},{"$f":"IF(AND(A42<>0, _xlfn.XLOOKUP(A42,Caracterización!$B$8:$K$8,Caracterización!$B$72:$K$72,\"\")=\"Seleccione ...\"), \"Debe indicarlo en la caracterización de la comunidad\", IF(A42<>0, _xlfn.XLOOKUP(A42,Caracterización!$B$8:$K$8,Caracterización!$B$72:$K$72,\"\"), \"\"))","v":""},{"$f":"IF(AND(A42<>0, _xlfn.XLOOKUP(A42,Caracterización!$B$8:$K$8,Caracterización!$B$36:$K$36,\"\")=\"Seleccione ...\"), \"Debe indicarlo en la caracterización de la comunidad\", IF(A42<>0, _xlfn.XLOOKUP(A42,Caracterización!$B$8:$K$8,Caracterización!$B$36:$K$36,\"\"), \"\"))","v":""}]
[null,null,{"$f":"IF(AND(A43<>0, _xlfn.XLOOKUP(A43,Caracterización!$B$8:$K$8,Caracterización!$B$10:$K$10,\"\")=\"Seleccione ...\"), \"Debe indicarlo en la caracterización de la comunidad\", IF(A43<>0, _xlfn.XLOOKUP(A43,Caracterización!$B$8:$K$8,Caracterización!$B$10:$K$10,\"\"), \"\"))","v":""},{"$f":"IF(AND(A43<>0, _xlfn.XLOOKUP(A43,Caracterización!$B$8:$K$8,Caracterización!$B$11:$K$11,\"\")=\"Seleccione ...\"), \"Debe indicarlo en la caracterización de la comunidad\", IF(A43<>0, _xlfn.XLOOKUP(A43,Caracterización!$B$8:$K$8,Caracterización!$B$11:$K$11,\"\"), \"\"))","v":""},{"$f":"IF(AND(A43<>0, _xlfn.XLOOKUP(A43,Caracterización!$B$8:$K$8,Caracterización!$B$19:$K$19,\"\")=\"Seleccione ...\"), \"Debe indicarlo en la caracterización de la comunidad\", IF(A43<>0, _xlfn.XLOOKUP(A43,Caracterización!$B$8:$K$8,Caracterización!$B$19:$K$19,\"\"), \"\"))","v":""},{"$f":"IF(AND(A43<>0, _xlfn.XLOOKUP(A43,Caracterización!$B$8:$K$8,Caracterización!$B$20:$K$20,\"\")=\"Seleccione ...\"), \"Debe indicarlo en la caracterización de la comunidad\", IF(A43<>0, _xlfn.XLOOKUP(A43,Caracterización!$B$8:$K$8,Caracterización!$B$20:$K$20,\"\"), \"\"))","v":""},{"$f":"IF(AND(A43<>0, _xlfn.XLOOKUP(A43,Caracterización!$B$8:$K$8,Caracterización!$B$22:$K$22,\"\")=\"Seleccione ...\"), \"Debe indicarlo en la caracterización de la comunidad\", IF(A43<>0, _xlfn.XLOOKUP(A43,Caracterización!$B$8:$K$8,Caracterización!$B$22:$K$22,\"\"), \"\"))","v":""},{"$f":"IF(AND(A43<>0, _xlfn.XLOOKUP(A43,Caracterización!$B$8:$K$8,Caracterización!$B$23:$K$23,\"\")=\"Seleccione ...\"), \"Debe indicarlo en la caracterización de la comunidad\", IF(A43<>0, _xlfn.XLOOKUP(A43,Caracterización!$B$8:$K$8,Caracterización!$B$23:$K$23,\"\"), \"\"))","v":""},{"$f":"IF(AND(A43<>0, _xlfn.XLOOKUP(A43,Caracterización!$B$8:$K$8,Caracterización!$B$28:$K$28,\"\")=\"Seleccione ...\"), \"Debe indicarlo en la caracterización de la comunidad\", IF(A43<>0, _xlfn.XLOOKUP(A43,Caracterización!$B$8:$K$8,Caracterización!$B$28:$K$28,\"\"), \"\"))","v":""},{"$f":"IF(AND(A43<>0, _xlfn.XLOOKUP(A43,Caracterización!$B$8:$K$8,Caracterización!$B$37:$K$37,\"\")=\"Seleccione ...\"), \"Debe indicarlo en la caracterización de la comunidad\", IF(A43<>0, _xlfn.XLOOKUP(A43,Caracterización!$B$8:$K$8,Caracterización!$B$37:$K$37,\"\"), \"\"))","v":""},{"$f":"IF(AND(A43<>0, _xlfn.XLOOKUP(A43,Caracterización!$B$8:$K$8,Caracterización!$B$40:$K$40,\"\")=\"Seleccione ...\"), \"Debe indicarlo en la caracterización de la comunidad\", IF(A43<>0, _xlfn.XLOOKUP(A43,Caracterización!$B$8:$K$8,Caracterización!$B$40:$K$40,\"\"), \"\"))","v":""},{"$f":"IF(AND(A43<>0, _xlfn.XLOOKUP(A43,Caracterización!$B$8:$K$8,Caracterización!$B$42:$K$42,\"\")=\"Seleccione ...\"), \"Debe indicarlo en la caracterización de la comunidad\", IF(A43<>0, _xlfn.XLOOKUP(A43,Caracterización!$B$8:$K$8,Caracterización!$B$42:$K$42,\"\"), \"\"))","v":""},{"$f":"IF(AND(A43<>0, _xlfn.XLOOKUP(A43,Caracterización!$B$8:$K$8,Caracterización!$B$72:$K$72,\"\")=\"Seleccione ...\"), \"Debe indicarlo en la caracterización de la comunidad\", IF(A43<>0, _xlfn.XLOOKUP(A43,Caracterización!$B$8:$K$8,Caracterización!$B$72:$K$72,\"\"), \"\"))","v":""}]

{"sheet":"Calificación Comunidad","index":13,"n_rows":33,"n_cols":21,"rows_kept":33,"merged":[[0,1,0,12],[1,1,1,13],[2,1,2,3],[3,1,3,3],[4,1,4,4],[6,0,7,0],[8,0,14,0],[15,0,17,0],[18,0,26,0],[27,0,32,0]]}
[null,"¡Califica las Comunidades!\""]
[null,"💡 ¿Qué hacer?\nSelecciona un nivel de calificación a cada comunidad según las diferentes variables.\nSi necesitas más detalles de los indicadores, haz clic en el botón CONSULTA INFORMACIÓN SOBRE LOS INDICADORES.\n\n🚨 Nota Importante:\nSi seleccionas \"Sin información\" para una comunidad, asegúrate de mantener igual las calificaciones de las demás comunidades. \nEsto permite que la herramienta calcule de manera equitativa."]
[null,"¿Deseas darle tu propia ponderación a cada indicador?"]
[null,"Por defecto cada indicador tiene el mismo valor (%) por categoría… puedes cambiarlo, \npero la valoración total por categoría debe ser 100%\n\nSi deseas calificar por categoria sin cambiar las valoraciones individuales ve directamente a RESULTADOS"]
[null,"✅ ¡Último paso!\nCuando hayas terminado de calificar, haz clic en el botón RESULTADOS para continuar."]
["Categoría","Categoría","Indicador / Criterios","Definición","Porcentaje de valoración del indicador",null,null,"Nivel Rojo","Nivel Naranja","Nivel Amarillo","Nivel Verde",{"$f":"Caracterización!B8","v":"C1"},{"$f":"Caracterización!C8","v":"C2"},{"$f":"Caracterización!D8","v":"C3"},{"$f":"Caracterización!E8","v":"C4"},{"$f":"Caracterización!F8","v":"C5"},{"$f":"Caracterización!G8","v":"C6"},{"$f":"Caracterización!H8","v":"C7"},{"$f":"Caracterización!I8","v":"C8"},{"$f":"Caracterización!J8","v":"C9"},{"$f":"Caracterización!K8","v":"C10"}]
[{"$f":"SUM(E7:E8)","v":{"v":1,"d":"100.0%"}},{"$f":"'Consulta de Rangos'!A9","v":"Ambiental"},{"$f":"'Consulta de Rangos'!B9","v":"Reducción anual de gases de efecto invernadero"},{"$f":"'Consulta de Rangos'!C9","v":"Reducción estimada de gases de efecto invernadero (CO2e) que se espera reducir cada año debido al cambio en la fuene de energía."},{"v":0.5,"d":"50.0%"},"Seleccione…","Sin información",{"$f":"'Consulta de Rangos'!G9","v":"< 10% reducción"},{"$f":"'Consulta de Rangos'!H9","v":"10%-20% reducción"},{"$f":"'Consulta de Rangos'!I9","v":"20%-30% reducción"},{"$f":"'Consulta de Rangos'!J9","v":"> 30% reducción"},"< 10% reducción","Seleccione…","Seleccione…","Seleccione…","Seleccione…","Seleccione…","Seleccione…","Seleccione…","Seleccione…","Seleccione…"]
[null,{"$f":"'Consulta de Rangos'!A10","v":"Ambiental"},{"$f":"'Consulta de Rangos'!B10","v":"Territorios de alta dependencia de carbón térmico"},{"$f":"'Consulta de Rangos'!C10","v":"Variable incluida para focalizar aquellas comunidades ubicadas en entes territoriales cuya estructura económica muestre altos grados de dependencia de la explotación de carbón térmico, bien sea para la exportación de este mineral o para su uso interno en el país, conforme lo informado por la Unidad de Planeación Minero-Energética (UPME) en el portal del Sistema de Información Minero Colombiano (SIMCO)."},{"v":0.5,"d":"50.0%"},"Seleccione…","Sin información",{"$f":"'Consulta de Rangos'!G10","v":"< 10% dependencia"},{"$f":"'Consulta de Rangos'!H10","v":"10%-20% dependencia"},{"$f":"'Consulta de Rangos'!I10","v":"20%-30% dependencia"},{"$f":"'Consulta de Rangos'!J10","v":"> 30% dependencia"},"10%-20% dependencia","20%-30% dependencia","Seleccione…","Seleccione…","Seleccione…","Seleccione…","Seleccione…","Seleccione…","Seleccione…","Seleccione…"]
[{"$f":"SUM(E9:E15)","v":{"v":0.9998000000000001,"d":"100.0%"}},{"$f":"'Consulta de Rangos'!A11","v":"Económico"},{"$f":"'Consulta de Rangos'!B11","v":"Ahorro monetario del usuario en la factura eléctrica"},{"$f":"'Consulta de Rangos'!C11","v":"Ahorros monetarios que experimenta el usuario final al formar parte de la Comunidad Energética (CEC) y consumir energía renovable."},{"v":0.1428,"d":"14.3%"},"Seleccione…","Sin información",{"$f":"'Consulta de Rangos'!G11","v":"< 10% ahorro"},{"$f":"'Consulta de Rangos'!H11","v":"10%-20% ahorro"},{"$f":"'Consulta de Rangos'!I11","v":"20%-30% ahorro"},{"$f":"'Consulta de Rangos'!J11","v":"> 30% ahorro"},"Seleccione…","Seleccione…","Seleccione…","Seleccione…","Seleccione…","Seleccione…","Seleccione…","Seleccione…","Seleccione…","Seleccione…"]
[null,{"$f":"'Consulta de Rangos'!A12","v":"Económico"},{"$f":"'Consulta de Rangos'!B12","v":"Coste de generación de energía ($/MWh)"},{"$f":"'Consulta de Rangos'!C12","v":"Mide el costo promedio de producir energía eléctrica desde el Sistema Interconectado Nacional (SIN). Este costo incluye los gastos de inversión inicial, operación, mantenimiento y combustibles asociados a la generación de un megavatio-hora (MWh)."},{"v":0.1428,"d":"14.3%"},"Seleccione…","Sin información",{"$f":"'Consulta de Rangos'!G12","v":"< 230 USD/MWh"},{"$f":"'Consulta de Rangos'!H12","v":"230-250 USD/MWh"},{"$f":"'Consulta de Rangos'!I12","v":" 250-280 USD/MWh"},{"$f":"'Consulta de Rangos'!J12","v":"> 280 USD/MWh"},"Seleccione…","Seleccione…","Seleccione…","Seleccione…","Seleccione…","Seleccione…","Seleccione…","Seleccione…","Seleccione…","Seleccione…"]
[null,{"$f":"'Consulta de Rangos'!A13","v":"Económico"},{"$f":"'Consulta de Rangos'!B13","v":"La comunidad realiza el pago por servicio de energía de manera cumplida"},{"$f":"'Consulta de Rangos'!C13","v":"Porcentaje de usuarios de la comunidad energética que realizan el pago del servicio energético de manera regular y dentro de los plazos establecidos."},{"v":0.1428,"d":"14.3%"},"Seleccione…","Sin información",{"$f":"'Consulta de Rangos'!G13","v":"> 60% "},{"$f":"'Consulta de Rangos'!H13","v":"40%-60% "},{"$f":"'Consulta de Rangos'!I13","v":"20%-40% "},{"$f":"'Consulta de Rangos'!J13","v":"< 20% "},"Seleccione…","Seleccione…","Seleccione…","Seleccione…","Seleccione…","Seleccione…","Seleccione…","Seleccione…","Seleccione…","Seleccione…"]
[null,{"$f":"'Consulta de Rangos'!A16","v":"Económico"},{"$f":"'Consulta de Rangos'!B16","v":"Identificación de fuentes de financiación alternativas viables"},{"$f":"'Consulta de Rangos'!C16","v":"Mide la existencia y diversidad de fuentes de financiación alternativas (subsidios, donaciones, préstamos) para el proyecto."},{"v":0.1428,"d":"14.3%"},"Seleccione…","Sin información",{"$f":"'Consulta de Rangos'!G16","v":"No se han identificado fuentes alternativas viables."},{"$f":"'Consulta de Rangos'!H16","v":"Identificación limitada con alta dependencia de una fuente."},{"$f":"'Consulta de Rangos'!I16","v":"Identificación moderada con al menos dos fuentes viables."},{"$f":"'Consulta de Rangos'!J16","v":"Identificación robusta con múltiples fuentes viables y diversificadas."},"Seleccione…","Seleccione…","Seleccione…","Seleccione…","Seleccione…","Seleccione…","Seleccione…","Seleccione…","Seleccione…","Seleccione…"]
[null,{"$f":"'Consulta de Rangos'!A17","v":"Económico"},{"$f":"'Consulta de Rangos'!B17","v":"Capacidad de cofinanciación local"},{"$f":"'Consulta de Rangos'!C17","v":"Evalúa el porcentaje de recursos que la comunidad puede aportar para financiar el proyecto."},{"v":0.1428,"d":"14.3%"},"Seleccione…","Sin información",{"$f":"'Consulta de Rangos'!G17","v":"< 10% "},{"$f":"'Consulta de Rangos'!H17","v":"10%-30% "},{"$f":"'Consulta de Rangos'!I17","v":"30%-50% "},{"$f":"'Consulta de Rangos'!J17","v":"> 50% "},"Seleccione…","Seleccione…","Seleccione…","Seleccione…","Seleccione…","Seleccione…","Seleccione…","Seleccione…","Seleccione…","Seleccione…"]
[null,{"$f":"'Consulta de Rangos'!A18","v":"Económico"},{"$f":"'Consulta de Rangos'!B18","v":"Capacidad y voluntad de los miembros de la comunidad para financiar el proyecto"},{"$f":"'Consulta de Rangos'!C18","v":"Grado en que los miembros de la comunidad pueden y desean contribuir financieramente al proyecto."},{"v":0.1428,"d":"14.3%"},"Seleccione…","Sin información",{"$f":"'Consulta de Rangos'!G18","v":"< 15% "},{"$f":"'Consulta de Rangos'!H18","v":"15%-30% "},{"$f":"'Consulta de Rangos'!I18","v":"30%-50% "},{"$f":"'Consulta de Rangos'!J18","v":"> 50% "},"Seleccione…","Seleccione…","Seleccione…","Seleccione…","Seleccione…","Seleccione…","Seleccione…","Seleccione…","Seleccione…","Seleccione…"]
[null,{"$f":"'Consulta de Rangos'!A19","v":"Económico"},{"$f":"'Consulta de Rangos'!B19","v":"Costos energéticos promedio por usuario"},{"$f":"'Consulta de Rangos'!C19","v":"Promedio de gastos en energía por hogar en la comunidad evaluada."},{"v":0.143,"d":"14.3%"},"Seleccione…","Sin información",{"$f":"'Consulta de Rangos'!G19","v":"< 40.000 COP"},{"$f":"'Consulta de Rangos'!H19","v":"40.000-80.000 COP"},{"$f":"'Consulta de Rangos'!I19","v":"80.000-120.000"},{"$f":"'Consulta de Rangos'!J19","v":"> 120.000 COP"},"Seleccione…","Seleccione…","Seleccione…","Seleccione…","Seleccione…","Seleccione…","Seleccione…","Seleccione…","Seleccione…","Seleccione…"]
[{"$f":"SUM(E16:E18)","v":{"v":1,"d":"100.0%"}},{"$f":"'Consulta de Rangos'!A20","v":"Legislativo/ normativo"},{"$f":"'Consulta de Rangos'!B20","v":"Disposición de instituciones externas para representar a la comunidad energética "},{"$f":"'Consulta de Rangos'!C20","v":"Evalúa cualitativamente la disposición de instituciones externas para representar formalmente a una comunidad energética en aspectos legales, técnicos, financieros o de gobernanza."},{"v":0.3333,"d":"33.3%"},"Seleccione…","Sin información",{"$f":"'Consulta de Rangos'!G20","v":"Baja disposición"},{"$f":"'Consulta de Rangos'!H20","v":"Media disposición"},{"$f":"'Consulta de Rangos'!I20","v":"Alta disposición"},{"$f":"'Consulta de Rangos'!J20","v":"Muy alta disposición"},"Seleccione…","Seleccione…","Seleccione…","Seleccione…","Seleccione…","Seleccione…","Seleccione…","Seleccione…","Seleccione…","Seleccione…"]
[null,{"$f":"'Consulta de Rangos'!A21","v":"Legislativo/ normativo"},{"$f":"'Consulta de Rangos'!B21","v":"¿Se cuenta con avances en lineamientos para la distribución y almacenamiento de energía? Autoconsumo"},{"$f":"'Consulta de Rangos'!C21","v":"Existencia de lineamiento  que faciliten el autoconsumo y el almacenamiento energético en la comunidad."},{"v":0.3333,"d":"33.3%"},"Seleccione…","Sin información",{"$f":"'Consulta de Rangos'!G21","v":"Sin avances regulatorios"},{"$f":"'Consulta de Rangos'!H21","v":"Avances iniciales"},{"$f":"'Consulta de Rangos'!I21","v":"Avances moderados"},{"$f":"'Consulta de Rangos'!J21","v":"Lineamientos establecidos"},"Seleccione…","Seleccione…","Seleccione…","Seleccione…","Seleccione…","Seleccione…","Seleccione…","Seleccione…","Seleccione…","Seleccione…"]
[null,{"$f":"'Consulta de Rangos'!A23","v":"Legislativo/ normativo"},{"$f":"'Consulta de Rangos'!B23","v":"Facilidad de trámites y permisos"},{"$f":"'Consulta de Rangos'!C23","v":"Evalúa el nivel de complejidad, costo y tiempo necesario para obtener permisos legales y normativos para el proyecto."},{"v":0.3334,"d":"33.3%"},"Seleccione…","Sin información",{"$f":"'Consulta de Rangos'!G23","v":"Procesos complejos, costosos y prolongados \n(> 12 meses)"},{"$f":"'Consulta de Rangos'!H23","v":"Procesos moderadamente complejos \n(6-12 meses)"},{"$f":"'Consulta de Rangos'!I23","v":"Procesos simplificados \n(3-6 meses)"},{"$f":"'Consulta de Rangos'!J23","v":"Procesos rápidos y accesibles \n(< 3 meses)"},"Seleccione…","Seleccione…","Seleccione…","Seleccione…","Seleccione…","Seleccione…","Seleccione…","Seleccione…","Seleccione…","Seleccione…"]
[{"$f":"SUM(E19:E27)","v":{"v":0.9999900000000002,"d":"100.0%"}},{"$f":"'Consulta de Rangos'!A24","v":"Social"},{"$f":"'Consulta de Rangos'!B24","v":"Participación Femenina en la Comunidad Energética"},{"$f":"'Consulta de Rangos'!C24","v":"Nivel de involucramiento de las mujeres en las actividades y decisiones de la comunidad energética."},{"v":0.11111,"d":"11.1%"},"Seleccione…","Sin información",{"$f":"'Consulta de Rangos'!G24","v":"< 20% "},{"$f":"'Consulta de Rangos'!H24","v":"20%-35% "},{"$f":"'Consulta de Rangos'!I24","v":"35%-50% "},{"$f":"'Consulta de Rangos'!J24","v":"> 50% "},"Seleccione…","Seleccione…","Seleccione…","Seleccione…","Seleccione…","Seleccione…","Seleccione…","Seleccione…","Seleccione…","Seleccione…"]
[null,{"$f":"'Consulta de Rangos'!A31","v":"Social"},{"$f":"'Consulta de Rangos'!B31","v":"Redes de cooperación intercomunitaria"},{"$f":"'Consulta de Rangos'!C31","v":"Grado de colaboración entre la comunidad y otras localidades o instituciones."},{"v":0.11111,"d":"11.1%"},"Seleccione…","Sin información",{"$f":"'Consulta de Rangos'!G31","v":"No existen redes de cooperación."},{"$f":"'Consulta de Rangos'!H31","v":"Cooperación limitada y ocasional."},{"$f":"'Consulta de Rangos'!I31","v":"Cooperación moderada con al menos dos comunidades o instituciones."},{"$f":"'Consulta de Rangos'!J31","v":"Cooperación activa y sólida con múltiples comunidades o instituciones."},"Seleccione…","Seleccione…","Seleccione…","Seleccione…","Seleccione…","Seleccione…","Seleccione…","Seleccione…","Seleccione…","Seleccione…"]
[null,{"$f":"'Consulta de Rangos'!A32","v":"Social"},{"$f":"'Consulta de Rangos'!B32","v":"Transparencia de los datos"},{"$f":"'Consulta de Rangos'!C32","v":"Grado de acceso y claridad de la información del proyecto proporcionada a la comunidad."},{"v":0.11111,"d":"11.1%"},"Seleccione…","Sin información",{"$f":"'Consulta de Rangos'!G32","v":"No existe acceso a datos"},{"$f":"'Consulta de Rangos'!H32","v":"Información limitada y poco clara."},{"$f":"'Consulta de Rangos'!I32","v":"Información moderadamente accesible y clara."},{"$f":"'Consulta de Rangos'!J32","v":"Información completamente accesible, clara y actualizada."},"Seleccione…","Seleccione…","Seleccione…","Seleccione…","Seleccione…","Seleccione…","Seleccione…","Seleccione…","Seleccione…","Seleccione…"]
[null,{"$f":"'Consulta de Rangos'!A33","v":"Social"},{"$f":"'Consulta de Rangos'!B33","v":"¿Cómo es la relación entre los miembros de la comunidad y las instituciones públicas y privadas pertinentes?"},{"$f":"'Consulta de Rangos'!C33","v":"Evaluar la calidad de las interacciones entre la comunidad y las instituciones que podrían apoyar el proyecto."},{"v":0.11111,"d":"11.1%"},"Seleccione…","Sin información",{"$f":"'Consulta de Rangos'!G33","v":"< 30% "},{"$f":"'Consulta de Rangos'!H33","v":"30%-50% "},{"$f":"'Consulta de Rangos'!I33","v":"50%-70% "},{"$f":"'Consulta de Rangos'!J33","v":"> 70% "},"Seleccione…","Seleccione…","Seleccione…","Seleccione…","Seleccione…","Seleccione…","Seleccione…","Seleccione…","Seleccione…","Seleccione…"]
[null,{"$f":"'Consulta de Rangos'!A34","v":"Social"},{"$f":"'Consulta de Rangos'!B34","v":"¿Están dispuestos los miembros de la comunidad a invertir tiempo en actividades comunitarias de voluntariado?"},{"$f":"'Consulta de Rangos'!C34","v":"Grado de disposición de los miembros de la comunidad para contribuir con tiempo y esfuerzo al proyecto."},{"v":0.11111,"d":"11.1%"},"Seleccione…","Sin información",{"$f":"'Consulta de Rangos'!G34","v":"< 15% "},{"$f":"'Consulta de Rangos'!H34","v":"15%-30% "},{"$f":"'Consulta de Rangos'!I34","v":"30%-50% "},{"$f":"'Consulta de Rangos'!J34","v":"> 50% "},"Seleccione…","Seleccione…","Seleccione…","Seleccione…","Seleccione…","Seleccione…","Seleccione…","Seleccione…","Seleccione…","Seleccione…"]
[null,{"$f":"'Consulta de Rangos'!A35","v":"Social"},{"$f":"'Consulta de Rangos'!B35","v":"¿Los techos o superficies de tierra potencialmente viables son propiedad de los miembros de la comunidad?"},{"$f":"'Consulta de Rangos'!C35","v":"Evaluación de la titularidad de las áreas donde se implementará el proyecto."},{"v":0.11111,"d":"11.1%"},"Seleccione…","Sin información",{"$f":"'Consulta de Rangos'!G35","v":"Ninguna superficie viable es de propiedad comunitaria."},{"$f":"'Consulta de Rangos'!H35","v":"Menos del 50% de las superficies viables son de propiedad comunitaria."},{"$f":"'Consulta de Rangos'!I35","v":"Entre 50%-80% de las superficies viables son de propiedad comunitaria."},{"$f":"'Consulta de Rangos'!J35","v":"> 80% de las superficies viables son de propiedad comunitaria."},"Seleccione…","Seleccione…","Seleccione…","Seleccione…","Seleccione…","Seleccione…","Seleccione…","Seleccione…","Seleccione…","Seleccione…"]
[null,{"$f":"'Consulta de Rangos'!A36","v":"Social"},{"$f":"'Consulta de Rangos'!B36","v":"Aceptación del usuario"},{"$f":"'Consulta de Rangos'!C36","v":"Grado de aprobación de los usuarios hacia el proyecto energético propuesto."},{"v":0.11111,"d":"11.1%"},"Seleccione…","Sin información",{"$f":"'Consulta de Rangos'!G36","v":"< 50% aceptación"},{"$f":"'Consulta de Rangos'!H36","v":"50%-60% aceptación"},{"$f":"'Consulta de Rangos'!I36","v":"60-70% aceptación"},{"$f":"'Consulta de Rangos'!J36","v":"> 70% aceptación"},"Seleccione…","Seleccione…","Seleccione…","Seleccione…","Seleccione…","Seleccione…","Seleccione…","Seleccione…","Seleccione…","Seleccione…"]
[null,{"$f":"'Consulta de Rangos'!A37","v":"Social"},{"$f":"'Consulta de Rangos'!B37","v":"Impacto de las Iniciativas Energéticas en las Mujeres de la Comunidad"},{"$f":"'Consulta de Rangos'!C37","v":"Evaluación de los beneficios específicos que las mujeres obtendrán del proyecto energético."},{"v":0.11111,"d":"11.1%"},"Seleccione…","Sin información",{"$f":"'Consulta de Rangos'!G37","v":"< 30% "},{"$f":"'Consulta de Rangos'!H37","v":"30%-40% "},{"$f":"'Consulta de Rangos'!I37","v":"40%-60% "},{"$f":"'Consulta de Rangos'!J37","v":"> 60% "},"Seleccione…","Seleccione…","Seleccione…","Seleccione…","Seleccione…","Seleccione…","Seleccione…","Seleccione…","Seleccione…","Seleccione…"]
[null,{"$f":"'Consulta de Rangos'!A38","v":"Social"},{"$f":"'Consulta de Rangos'!B38","v":"Cumplimiento de consultas previas"},{"$f":"'Consulta de Rangos'!C38","v":"Verificar si se han realizado las consultas previas requeridas por la normativa legal en la comunidad."},{"v":0.11111,"d":"11.1%"},"Seleccione…","Sin información",{"$f":"'Consulta de Rangos'!G38","v":"No se han realizado consultas previas"},{"$f":"'Consulta de Rangos'!H38","v":"Consultas previas en proceso"},{"$f":"'Consulta de Rangos'!I38","v":"Consultas previas completamente realizadas, no documentadas"},{"$f":"'Consulta de Rangos'!J38","v":"Consultas previas completamente realizadas y documentadas"},"Seleccione…","Seleccione…","Seleccione…","Seleccione…","Seleccione…","Seleccione…","Seleccione…","Seleccione…","Seleccione…","Seleccione…"]
[{"$f":"SUM(E28:E33)","v":{"v":0.9996999999999999,"d":"100.0%"}},{"$f":"'Consulta de Rangos'!A41","v":"Técnico"},{"$f":"'Consulta de Rangos'!B41","v":"¿Se trata de una comunidad ya postulada y focalizada?"},{"$f":"'Consulta de Rangos'!C41","v":"Indica si la comunidad ha sido identificada previamente en programas o estrategias relacionadas con comunidades energéticas."},{"v":0.1666,"d":"16.7%"},"Seleccione…","Sin información",{"$f":"'Consulta de Rangos'!G41","v":"Ni postulada ni focalizada"},{"$f":"'Consulta de Rangos'!H41","v":"En proceso de postulación"},{"$f":"'Consulta de Rangos'!I41","v":"Postulada y parcialmente focalizada "},{"$f":"'Consulta de Rangos'!J41","v":"Postulada y focalizada"},"Seleccione…","Seleccione…","Seleccione…","Seleccione…","Seleccione…","Seleccione…","Seleccione…","Seleccione…","Seleccione…","Seleccione…"]
[null,{"$f":"'Consulta de Rangos'!A42","v":"Técnico"},{"$f":"'Consulta de Rangos'!B42","v":"Ahorro de energía de la red"},{"$f":"'Consulta de Rangos'!C42","v":"Reducción estimada en el consumo de energía de la red eléctrica del SIN como resultado del proyecto."},{"v":0.1666,"d":"16.7%"},"Seleccione…","Sin información",{"$f":"'Consulta de Rangos'!G42","v":"< 20% "},{"$f":"'Consulta de Rangos'!H42","v":"20%-35% "},{"$f":"'Consulta de Rangos'!I42","v":"35%-50% "},{"$f":"'Consulta de Rangos'!J42","v":"> 50% "},"Seleccione…","Seleccione…","Seleccione…","Seleccione…","Seleccione…","Seleccione…","Seleccione…","Seleccione…","Seleccione…","Seleccione…"]
[null,{"$f":"'Consulta de Rangos'!A43","v":"Técnico"},{"$f":"'Consulta de Rangos'!B43","v":"Capacidad técnica local (no siempre es esencial, ya que la capacitación puede ser parte del proyecto.)"},{"$f":"'Consulta de Rangos'!C43","v":"Habilidad de los miembros de la comunidad para operar y mantener los sistemas energéticos. "},{"v":0.1666,"d":"16.7%"},"Seleccione…","Sin información",{"$f":"'Consulta de Rangos'!G43","v":"< 10% "},{"$f":"'Consulta de Rangos'!H43","v":"10%-20% "},{"$f":"'Consulta de Rangos'!I43","v":"20%-30% "},{"$f":"'Consulta de Rangos'!J43","v":"> 30% "},"Seleccione…","Seleccione…","Seleccione…","Seleccione…","Seleccione…","Seleccione…","Seleccione…","Seleccione…","Seleccione…","Seleccione…"]
[null,{"$f":"'Consulta de Rangos'!A44","v":"Técnico"},{"$f":"'Consulta de Rangos'!B44","v":"Grado de avance del sistema energético que se proyecta implementar"},{"$f":"'Consulta de Rangos'!C44","v":"Nivel de preparación técnica, operativa y administrativa del sistema energético que se busca desarrollar."},{"v":0.1666,"d":"16.7%"},"Seleccione…","Sin información",{"$f":"'Consulta de Rangos'!G44","v":"Sin planificación"},{"$f":"'Consulta de Rangos'!H44","v":"Planificación inicial"},{"$f":"'Consulta de Rangos'!I44","v":"Planificación intermedia"},{"$f":"'Consulta de Rangos'!J44","v":"Sistema listo para implementación"},"Seleccione…","Seleccione…","Seleccione…","Seleccione…","Seleccione…","Seleccione…","Seleccione…","Seleccione…","Seleccione…","Seleccione…"]
[null,{"$f":"'Consulta de Rangos'!A45","v":"Técnico"},{"$f":"'Consulta de Rangos'!B45","v":"Pérdidas de Energía Eléctrica"},{"$f":"'Consulta de Rangos'!C45","v":"Evaluar las pérdidas eléctricas en áreas específicas es esencial para identificar zonas con problemáticas de conexiones irregulares. En estos casos, las soluciones orientadas a Comunidades Energéticas pueden actuar como habilitadoras para la normalización de redes eléctricas, contribuyendo a la mejora de la infraestructura, la formalización del acceso al servicio y disminución de riesgos de recaer en comportamientos ilegales o pasar a condiciones de morosidad en los pagos."},{"v":0.1666,"d":"16.7%"},"Seleccione…","Sin información",{"$f":"'Consulta de Rangos'!G45","v":"< 10% "},{"$f":"'Consulta de Rangos'!H45","v":"10%-15% "},{"$f":"'Consulta de Rangos'!I45","v":"15%-20% "},{"$f":"'Consulta de Rangos'!J45","v":"> 20% "},"Seleccione…","Seleccione…","Seleccione…","Seleccione…","Seleccione…","Seleccione…","Seleccione…","Seleccione…","Seleccione…","Seleccione…"]
[null,{"$f":"'Consulta de Rangos'!A46","v":"Técnico"},{"$f":"'Consulta de Rangos'!B46","v":"Calidad del servicio (Frecuencia y duración de interrupciones)"},{"$f":"'Consulta de Rangos'!C46","v":"Incorporar variables de calidad del servicio permitirá reflejar la continuidad percibida del servicio eléctrico en áreas específicas. Esto puede aportar información valiosa para priorizar aquellas zonas con deficiencias en la calidad del servicio, donde las Comunidades Energéticas podrían generar impactos positivos."},{"v":0.1667,"d":"16.7%"},"Seleccione…","Sin información",{"$f":"'Consulta de Rangos'!G46","v":"Alta calidad: Menos de 3 interrupciones al mes con duración promedio inferior a 1 hora."},{"$f":"'Consulta de Rangos'!H46","v":"Moderada calidad - alta: Entre 3 y 6 interrupciones al mes con duración promedio entre 1 y 2 horas."},{"$f":"'Consulta de Rangos'!I46","v":"Moderada calidad - baja: Entre 7 y 10 interrupciones al mes con duración promedio entre 2 y 4 horas."},{"$f":"'Consulta de Rangos'!J46","v":"Baja calidad: Más de 10 interrupciones al mes con duración promedio superior a 4 horas."},"Seleccione…","Seleccione…","Seleccione…","Seleccione…","Seleccione…","Seleccione…","Seleccione…","Seleccione…","Seleccione…","Seleccione…"]

{"sheet":"ResParcial Comunidad","index":14,"n_rows":45,"n_cols":12,"rows_kept":45,"hidden":true,"merged":[[0,0,0,11],[1,0,1,6]]}
["Resultados Normalizados por Indicadores"]
["Esta hoja muestra los resultados de las calificaciones asignadas por el usuario a las comunidades en los diferentes indicadores evaluados.\n\n🔍 ¿Qué encontrarás aquí?\nCalificaciones Normalizadas: Las calificaciones originales han sido ajustadas para garantizar comparabilidad entre los indicadores.\nDatos por Comunidad: Cada comunidad aparece evaluada según los criterios establecidos.\nPreparación para Priorización: Estos resultados son el insumo para la hoja de priorización final."]
[]
[]
[]
["Categoría","Indicador / Criterios",{"$f":"Caracterización!B8","v":"C1"},{"$f":"Caracterización!C8","v":"C2"},{"$f":"Caracterización!D8","v":"C3"},{"$f":"Caracterización!E8","v":"C4"},{"$f":"Caracterización!F8","v":"C5"},{"$f":"Caracterización!G8","v":"C6"},{"$f":"Caracterización!H8","v":"C7"},{"$f":"Caracterización!I8","v":"C8"},{"$f":"Caracterización!J8","v":"C9"},{"$f":"Caracterización!K8","v":"C10"}]
[{"$f":"INDEX('Calificación Comunidad'!B:B,ROW())","v":"Ambiental"},{"$f":"INDEX('Calificación Comunidad'!C:C,ROW())","v":"Reducción anual de gases de efecto invernadero"},{"$f":"IF(OR(INDEX('Calificación Comunidad'!L:L,ROW())=\"Sin información\", INDEX('Calificación Comunidad'!L:L,ROW())=\"Seleccione…\"), \"\", MATCH(INDEX('Calificación Comunidad'!L:L,ROW()), INDEX('Calificación Comunidad'!$H:$K,ROW(),0), 0))","v":1},{"$f":"IF(OR(INDEX('Calificación Comunidad'!M:M,ROW())=\"Sin información\", INDEX('Calificación Comunidad'!M:M,ROW())=\"Seleccione…\"), \"\", MATCH(INDEX('Calificación Comunidad'!M:M,ROW()), INDEX('Calificación Comunidad'!$H:$K,ROW(),0), 0))","v":""},{"$f":"IF(OR(INDEX('Calificación Comunidad'!N:N,ROW())=\"Sin información\", INDEX('Calificación Comunidad'!N:N,ROW())=\"Seleccione…\"), \"\", MATCH(INDEX('Calificación Comunidad'!N:N,ROW()), INDEX('Calificación Comunidad'!$H:$K,ROW(),0), 0))","v":""},{"$f":"IF(OR(INDEX('Calificación Comunidad'!O:O,ROW())=\"Sin información\", INDEX('Calificación Comunidad'!O:O,ROW())=\"Seleccione…\"), \"\", MATCH(INDEX('Calificación Comunidad'!O:O,ROW()), INDEX('Calificación Comunidad'!$H:$K,ROW(),0), 0))","v":""},{"$f":"IF(OR(INDEX('Calificación Comunidad'!P:P,ROW())=\"Sin información\", INDEX('Calificación Comunidad'!P:P,ROW())=\"Seleccione…\"), \"\", MATCH(INDEX('Calificación Comunidad'!P:P,ROW()), INDEX('Calificación Comunidad'!$H:$K,ROW(),0), 0))","v":""},{"$f":"IF(OR(INDEX('Calificación Comunidad'!Q:Q,ROW())=\"Sin información\", INDEX('Calificación Comunidad'!Q:Q,ROW())=\"Seleccione…\"), \"\", MATCH(INDEX('Calificación Comunidad'!Q:Q,ROW()), INDEX('Calificación Comunidad'!$H:$K,ROW(),0), 0))","v":""},{"$f":"IF(OR(INDEX('Calificación Comunidad'!R:R,ROW())=\"Sin información\", INDEX('Calificación Comunidad'!R:R,ROW())=\"Seleccione…\"), \"\", MATCH(INDEX('Calificación Comunidad'!R:R,ROW()), INDEX('Calificación Comunidad'!$H:$K,ROW(),0), 0))","v":""},{"$f":"IF(OR(INDEX('Calificación Comunidad'!S:S,ROW())=\"Sin información\", INDEX('Calificación Comunidad'!S:S,ROW())=\"Seleccione…\"), \"\", MATCH(INDEX('Calificación Comunidad'!S:S,ROW()), INDEX('Calificación Comunidad'!$H:$K,ROW(),0), 0))","v":""},{"$f":"IF(OR(INDEX('Calificación Comunidad'!T:T,ROW())=\"Sin información\", INDEX('Calificación Comunidad'!T:T,ROW())=\"Seleccione…\"), \"\", MATCH(INDEX('Calificación Comunidad'!T:T,ROW()), INDEX('Calificación Comunidad'!$H:$K,ROW(),0), 0))","v":""},{"$f":"IF(OR(INDEX('Calificación Comunidad'!U:U,ROW())=\"Sin información\", INDEX('Calificación Comunidad'!U:U,ROW())=\"Seleccione…\"), \"\", MATCH(INDEX('Calificación Comunidad'!U:U,ROW()), INDEX('Calificación Comunidad'!$H:$K,ROW(),0), 0))","v":""}]
[{"$f":"INDEX('Calificación Comunidad'!B:B,ROW())","v":"Ambiental"},{"$f":"INDEX('Calificación Comunidad'!C:C,ROW())","v":"Territorios de alta dependencia de carbón térmico"},{"$f":"IF(OR(INDEX('Calificación Comunidad'!L:L,ROW())=\"Sin información\", INDEX('Calificación Comunidad'!L:L,ROW())=\"Seleccione…\"), \"\", MATCH(INDEX('Calificación Comunidad'!L:L,ROW()), INDEX('Calificación Comunidad'!$H:$K,ROW(),0), 0))","v":2},{"$f":"IF(OR(INDEX('Calificación Comunidad'!M:M,ROW())=\"Sin información\", INDEX('Calificación Comunidad'!M:M,ROW())=\"Seleccione…\"), \"\", MATCH(INDEX('Calificación Comunidad'!M:M,ROW()), INDEX('Calificación Comunidad'!$H:$K,ROW(),0), 0))","v":3},{"$f":"IF(OR(INDEX('Calificación Comunidad'!N:N,ROW())=\"Sin información\", INDEX('Calificación Comunidad'!N:N,ROW())=\"Seleccione…\"), \"\", MATCH(INDEX('Calificación Comunidad'!N:N,ROW()), INDEX('Calificación Comunidad'!$H:$K,ROW(),0), 0))","v":""},{"$f":"IF(OR(INDEX('Calificación Comunidad'!O:O,ROW())=\"Sin información\", INDEX('Calificación Comunidad'!O:O,ROW())=\"Seleccione…\"), \"\", MATCH(INDEX('Calificación Comunidad'!O:O,ROW()), INDEX('Calificación Comunidad'!$H:$K,ROW(),0), 0))","v":""},{"$f":"IF(OR(INDEX('Calificación Comunidad'!P:P,ROW())=\"Sin información\", INDEX('Calificación Comunidad'!P:P,ROW())=\"Seleccione…\"), \"\", MATCH(INDEX('Calificación Comunidad'!P:P,ROW()), INDEX('Calificación Comunidad'!$H:$K,ROW(),0), 0))","v":""},{"$f":"IF(OR(INDEX('Calificación Comunidad'!Q:Q,ROW())=\"Sin información\", INDEX('Calificación Comunidad'!Q:Q,ROW())=\"Seleccione…\"), \"\", MATCH(INDEX('Calificación Comunidad'!Q:Q,ROW()), INDEX('Calificación Comunidad'!$H:$K,ROW(),0), 0))","v":""},{"$f":"IF(OR(INDEX('Calificación Comunidad'!R:R,ROW())=\"Sin información\", INDEX('Calificación Comunidad'!R:R,ROW())=\"Seleccione…\"), \"\", MATCH(INDEX('Calificación Comunidad'!R:R,ROW()), INDEX('Calificación Comunidad'!$H:$K,ROW(),0), 0))","v":""},{"$f":"IF(OR(INDEX('Calificación Comunidad'!S:S,ROW())=\"Sin información\", INDEX('Calificación Comunidad'!S:S,ROW())=\"Seleccione…\"), \"\", MATCH(INDEX('Calificación Comunidad'!S:S,ROW()), INDEX('Calificación Comunidad'!$H:$K,ROW(),0), 0))","v":""},{"$f":"IF(OR(INDEX('Calificación Comunidad'!T:T,ROW())=\"Sin información\", INDEX('Calificación Comunidad'!T:T,ROW())=\"Seleccione…\"), \"\", MATCH(INDEX('Calificación Comunidad'!T:T,ROW()), INDEX('Calificación Comunidad'!$H:$K,ROW(),0), 0))","v":""},{"$f":"IF(OR(INDEX('Calificación Comunidad'!U:U,ROW())=\"Sin información\", INDEX('Calificación Comunidad'!U:U,ROW())=\"Seleccione…\"), \"\", MATCH(INDEX('Calificación Comunidad'!U:U,ROW()), INDEX('Calificación Comunidad'!$H:$K,ROW(),0), 0))","v":""}]
[{"$f":"INDEX('Calificación Comunidad'!B:B,ROW())","v":"Económico"},{"$f":"INDEX('Calificación Comunidad'!C:C,ROW())","v":"Ahorro monetario del usuario en la factura eléctrica"},{"$f":"IF(OR(INDEX('Calificación Comunidad'!L:L,ROW())=\"Sin información\", INDEX('Calificación Comunidad'!L:L,ROW())=\"Seleccione…\"), \"\", MATCH(INDEX('Calificación Comunidad'!L:L,ROW()), INDEX('Calificación Comunidad'!$H:$K,ROW(),0), 0))","v":""},{"$f":"IF(OR(INDEX('Calificación Comunidad'!M:M,ROW())=\"Sin información\", INDEX('Calificación Comunidad'!M:M,ROW())=\"Seleccione…\"), \"\", MATCH(INDEX('Calificación Comunidad'!M:M,ROW()), INDEX('Calificación Comunidad'!$H:$K,ROW(),0), 0))","v":""},{"$f":"IF(OR(INDEX('Calificación Comunidad'!N:N,ROW())=\"Sin información\", INDEX('Calificación Comunidad'!N:N,ROW())=\"Seleccione…\"), \"\", MATCH(INDEX('Calificación Comunidad'!N:N,ROW()), INDEX('Calificación Comunidad'!$H:$K,ROW(),0), 0))","v":""},{"$f":"IF(OR(INDEX('Calificación Comunidad'!O:O,ROW())=\"Sin información\", INDEX('Calificación Comunidad'!O:O,ROW())=\"Seleccione…\"), \"\", MATCH(INDEX('Calificación Comunidad'!O:O,ROW()), INDEX('Calificación Comunidad'!$H:$K,ROW(),0), 0))","v":""},{"$f":"IF(OR(INDEX('Calificación Comunidad'!P:P,ROW())=\"Sin información\", INDEX('Calificación Comunidad'!P:P,ROW())=\"Seleccione…\"), \"\", MATCH(INDEX('Calificación Comunidad'!P:P,ROW()), INDEX('Calificación Comunidad'!$H:$K,ROW(),0), 0))","v":""},{"$f":"IF(OR(INDEX('Calificación Comunidad'!Q:Q,ROW())=\"Sin información\", INDEX('Calificación Comunidad'!Q:Q,ROW())=\"Seleccione…\"), \"\", MATCH(INDEX('Calificación Comunidad'!Q:Q,ROW()), INDEX('Calificación Comunidad'!$H:$K,ROW(),0), 0))","v":""},{"$f":"IF(OR(INDEX('Calificación Comunidad'!R:R,ROW())=\"Sin información\", INDEX('Calificación Comunidad'!R:R,ROW())=\"Seleccione…\"), \"\", MATCH(INDEX('Calificación Comunidad'!R:R,ROW()), INDEX('Calificación Comunidad'!$H:$K,ROW(),0), 0))","v":""},{"$f":"IF(OR(INDEX('Calificación Comunidad'!S:S,ROW())=\"Sin información\", INDEX('Calificación Comunidad'!S:S,ROW())=\"Seleccione…\"), \"\", MATCH(INDEX('Calificación Comunidad'!S:S,ROW()), INDEX('Calificación Comunidad'!$H:$K,ROW(),0), 0))","v":""},{"$f":"IF(OR(INDEX('Calificación Comunidad'!T:T,ROW())=\"Sin información\", INDEX('Calificación Comunidad'!T:T,ROW())=\"Seleccione…\"), \"\", MATCH(INDEX('Calificación Comunidad'!T:T,ROW()), INDEX('Calificación Comunidad'!$H:$K,ROW(),0), 0))","v":""},{"$f":"IF(OR(INDEX('Calificación Comunidad'!U:U,ROW())=\"Sin información\", INDEX('Calificación Comunidad'!U:U,ROW())=\"Seleccione…\"), \"\", MATCH(INDEX('Calificación Comunidad'!U:U,ROW()), INDEX('Calificación Comunidad'!$H:$K,ROW(),0), 0))","v":""}]
[{"$f":"INDEX('Calificación Comunidad'!B:B,ROW())","v":"Económico"},{"$f":"INDEX('Calificación Comunidad'!C:C,ROW())","v":"Coste de generación de energía ($/MWh)"},{"$f":"IF(OR(INDEX('Calificación Comunidad'!L:L,ROW())=\"Sin información\", INDEX('Calificación Comunidad'!L:L,ROW())=\"Seleccione…\"), \"\", MATCH(INDEX('Calificación Comunidad'!L:L,ROW()), INDEX('Calificación Comunidad'!$H:$K,ROW(),0), 0))","v":""},{"$f":"IF(OR(INDEX('Calificación Comunidad'!M:M,ROW())=\"Sin información\", INDEX('Calificación Comunidad'!M:M,ROW())=\"Seleccione…\"), \"\", MATCH(INDEX('Calificación Comunidad'!M:M,ROW()), INDEX('Calificación Comunidad'!$H:$K,ROW(),0), 0))","v":""},{"$f":"IF(OR(INDEX('Calificación Comunidad'!N:N,ROW())=\"Sin información\", INDEX('Calificación Comunidad'!N:N,ROW())=\"Seleccione…\"), \"\", MATCH(INDEX('Calificación Comunidad'!N:N,ROW()), INDEX('Calificación Comunidad'!$H:$K,ROW(),0), 0))","v":""},{"$f":"IF(OR(INDEX('Calificación Comunidad'!O:O,ROW())=\"Sin información\", INDEX('Calificación Comunidad'!O:O,ROW())=\"Seleccione…\"), \"\", MATCH(INDEX('Calificación Comunidad'!O:O,ROW()), INDEX('Calificación Comunidad'!$H:$K,ROW(),0), 0))","v":""},{"$f":"IF(OR(INDEX('Calificación Comunidad'!P:P,ROW())=\"Sin información\", INDEX('Calificación Comunidad'!P:P,ROW())=\"Seleccione…\"), \"\", MATCH(INDEX('Calificación Comunidad'!P:P,ROW()), INDEX('Calificación Comunidad'!$H:$K,ROW(),0), 0))","v":""},{"$f":"IF(OR(INDEX('Calificación Comunidad'!Q:Q,ROW())=\"Sin información\", INDEX('Calificación Comunidad'!Q:Q,ROW())=\"Seleccione…\"), \"\", MATCH(INDEX('Calificación Comunidad'!Q:Q,ROW()), INDEX('Calificación Comunidad'!$H:$K,ROW(),0), 0))","v":""},{"$f":"IF(OR(INDEX('Calificación Comunidad'!R:R,ROW())=\"Sin información\", INDEX('Calificación Comunidad'!R:R,ROW())=\"Seleccione…\"), \"\", MATCH(INDEX('Calificación Comunidad'!R:R,ROW()), INDEX('Calificación Comunidad'!$H:$K,ROW(),0), 0))","v":""},{"$f":"IF(OR(INDEX('Calificación Comunidad'!S:S,ROW())=\"Sin información\", INDEX('Calificación Comunidad'!S:S,ROW())=\"Seleccione…\"), \"\", MATCH(INDEX('Calificación Comunidad'!S:S,ROW()), INDEX('Calificación Comunidad'!$H:$K,ROW(),0), 0))","v":""},{"$f":"IF(OR(INDEX('Calificación Comunidad'!T:T,ROW())=\"Sin información\", INDEX('Calificación Comunidad'!T:T,ROW())=\"Seleccione…\"), \"\", MATCH(INDEX('Calificación Comunidad'!T:T,ROW()), INDEX('Calificación Comunidad'!$H:$K,ROW(),0), 0))","v":""},{"$f":"IF(OR(INDEX('Calificación Comunidad'!U:U,ROW())=\"Sin información\", INDEX('Calificación Comunidad'!U:U,ROW())=\"Seleccione…\"), \"\", MATCH(INDEX('Calificación Comunidad'!U:U,ROW()), INDEX('Calificación Comunidad'!$H:$K,ROW(),0), 0))","v":""}]
[{"$f":"INDEX('Calificación Comunidad'!B:B,ROW())","v":"Económico"},{"$f":"INDEX('Calificación Comunidad'!C:C,ROW())","v":"La comunidad realiza el pago por servicio de energía de manera cumplida"},{"$f":"IF(OR(INDEX('Calificación Comunidad'!L:L,ROW())=\"Sin información\", INDEX('Calificación Comunidad'!L:L,ROW())=\"Seleccione…\"), \"\", MATCH(INDEX('Calificación Comunidad'!L:L,ROW()), INDEX('Calificación Comunidad'!$H:$K,ROW(),0), 0))","v":""},{"$f":"IF(OR(INDEX('Calificación Comunidad'!M:M,ROW())=\"Sin información\", INDEX('Calificación Comunidad'!M:M,ROW())=\"Seleccione…\"), \"\", MATCH(INDEX('Calificación Comunidad'!M:M,ROW()), INDEX('Calificación Comunidad'!$H:$K,ROW(),0), 0))","v":""},{"$f":"IF(OR(INDEX('Calificación Comunidad'!N:N,ROW())=\"Sin información\", INDEX('Calificación Comunidad'!N:N,ROW())=\"Seleccione…\"), \"\", MATCH(INDEX('Calificación Comunidad'!N:N,ROW()), INDEX('Calificación Comunidad'!$H:$K,ROW(),0), 0))","v":""},{"$f":"IF(OR(INDEX('Calificación Comunidad'!O:O,ROW())=\"Sin información\", INDEX('Calificación Comunidad'!O:O,ROW())=\"Seleccione…\"), \"\", MATCH(INDEX('Calificación Comunidad'!O:O,ROW()), INDEX('Calificación Comunidad'!$H:$K,ROW(),0), 0))","v":""},{"$f":"IF(OR(INDEX('Calificación Comunidad'!P:P,ROW())=\"Sin información\", INDEX('Calificación Comunidad'!P:P,ROW())=\"Seleccione…\"), \"\", MATCH(INDEX('Calificación Comunidad'!P:P,ROW()), INDEX('Calificación Comunidad'!$H:$K,ROW(),0), 0))","v":""},{"$f":"IF(OR(INDEX('Calificación Comunidad'!Q:Q,ROW())=\"Sin información\", INDEX('Calificación Comunidad'!Q:Q,ROW())=\"Seleccione…\"), \"\", MATCH(INDEX('Calificación Comunidad'!Q:Q,ROW()), INDEX('Calificación Comunidad'!$H:$K,ROW(),0), 0))","v":""},{"$f":"IF(OR(INDEX('Calificación Comunidad'!R:R,ROW())=\"Sin información\", INDEX('Calificación Comunidad'!R:R,ROW())=\"Seleccione…\"), \"\", MATCH(INDEX('Calificación Comunidad'!R:R,ROW()), INDEX('Calificación Comunidad'!$H:$K,ROW(),0), 0))","v":""},{"$f":"IF(OR(INDEX('Calificación Comunidad'!S:S,ROW())=\"Sin información\", INDEX('Calificación Comunidad'!S:S,ROW())=\"Seleccione…\"), \"\", MATCH(INDEX('Calificación Comunidad'!S:S,ROW()), INDEX('Calificación Comunidad'!$H:$K,ROW(),0), 0))","v":""},{"$f":"IF(OR(INDEX('Calificación Comunidad'!T:T,ROW())=\"Sin información\", INDEX('Calificación Comunidad'!T:T,ROW())=\"Seleccione…\"), \"\", MATCH(INDEX('Calificación Comunidad'!T:T,ROW()), INDEX('Calificación Comunidad'!$H:$K,ROW(),0), 0))","v":""},{"$f":"IF(OR(INDEX('Calificación Comunidad'!U:U,ROW())=\"Sin información\", INDEX('Calificación Comunidad'!U:U,ROW())=\"Seleccione…\"), \"\", MATCH(INDEX('Calificación Comunidad'!U:U,ROW()), INDEX('Calificación Comunidad'!$H:$K,ROW(),0), 0))","v":""}]
[{"$f":"INDEX('Calificación Comunidad'!B:B,ROW())","v":"Económico"},{"$f":"INDEX('Calificación Comunidad'!C:C,ROW())","v":"Identificación de fuentes de financiación alternativas viables"},{"$f":"IF(OR(INDEX('Calificación Comunidad'!L:L,ROW())=\"Sin información\", INDEX('Calificación Comunidad'!L:L,ROW())=\"Seleccione…\"), \"\", MATCH(INDEX('Calificación Comunidad'!L:L,ROW()), INDEX('Calificación Comunidad'!$H:$K,ROW(),0), 0))","v":""},{"$f":"IF(OR(INDEX('Calificación Comunidad'!M:M,ROW())=\"Sin información\", INDEX('Calificación Comunidad'!M:M,ROW())=\"Seleccione…\"), \"\", MATCH(INDEX('Calificación Comunidad'!M:M,ROW()), INDEX('Calificación Comunidad'!$H:$K,ROW(),0), 0))","v":""},{"$f":"IF(OR(INDEX('Calificación Comunidad'!N:N,ROW())=\"Sin información\", INDEX('Calificación Comunidad'!N:N,ROW())=\"Seleccione…\"), \"\", MATCH(INDEX('Calificación Comunidad'!N:N,ROW()), INDEX('Calificación Comunidad'!$H:$K,ROW(),0), 0))","v":""},{"$f":"IF(OR(INDEX('Calificación Comunidad'!O:O,ROW())=\"Sin información\", INDEX('Calificación Comunidad'!O:O,ROW())=\"Seleccione…\"), \"\", MATCH(INDEX('Calificación Comunidad'!O:O,ROW()), INDEX('Calificación Comunidad'!$H:$K,ROW(),0), 0))","v":""},{"$f":"IF(OR(INDEX('Calificación Comunidad'!P:P,ROW())=\"Sin información\", INDEX('Calificación Comunidad'!P:P,ROW())=\"Seleccione…\"), \"\", MATCH(INDEX('Calificación Comunidad'!P:P,ROW()), INDEX('Calificación Comunidad'!$H:$K,ROW(),0), 0))","v":""},{"$f":"IF(OR(INDEX('Calificación Comunidad'!Q:Q,ROW())=\"Sin información\", INDEX('Calificación Comunidad'!Q:Q,ROW())=\"Seleccione…\"), \"\", MATCH(INDEX('Calificación Comunidad'!Q:Q,ROW()), INDEX('Calificación Comunidad'!$H:$K,ROW(),0), 0))","v":""},{"$f":"IF(OR(INDEX('Calificación Comunidad'!R:R,ROW())=\"Sin información\", INDEX('Calificación Comunidad'!R:R,ROW())=\"Seleccione…\"), \"\", MATCH(INDEX('Calificación Comunidad'!R:R,ROW()), INDEX('Calificación Comunidad'!$H:$K,ROW(),0), 0))","v":""},{"$f":"IF(OR(INDEX('Calificación Comunidad'!S:S,ROW())=\"Sin información\", INDEX('Calificación Comunidad'!S:S,ROW())=\"Seleccione…\"), \"\", MATCH(INDEX('Calificación Comunidad'!S:S,ROW()), INDEX('Calificación Comunidad'!$H:$K,ROW(),0), 0))","v":""},{"$f":"IF(OR(INDEX('Calificación Comunidad'!T:T,ROW())=\"Sin información\", INDEX('Calificación Comunidad'!T:T,ROW())=\"Seleccione…\"), \"\", MATCH(INDEX('Calificación Comunidad'!T:T,ROW()), INDEX('Calificación Comunidad'!$H:$K,ROW(),0), 0))","v":""},{"$f":"IF(OR(INDEX('Calificación Comunidad'!U:U,ROW())=\"Sin información\", INDEX('Calificación Comunidad'!U:U,ROW())=\"Seleccione…\"), \"\", MATCH(INDEX('Calificación Comunidad'!U:U,ROW()), INDEX('Calificación Comunidad'!$H:$K,ROW(),0), 0))","v":""}]
[{"$f":"INDEX('Calificación Comunidad'!B:B,ROW())","v":"Económico"},{"$f":"INDEX('Calificación Comunidad'!C:C,ROW())","v":"Capacidad de cofinanciación local"},{"$f":"IF(OR(INDEX('Calificación Comunidad'!L:L,ROW())=\"Sin información\", INDEX('Calificación Comunidad'!L:L,ROW())=\"Seleccione…\"), \"\", MATCH(INDEX('Calificación Comunidad'!L:L,ROW()), INDEX('Calificación Comunidad'!$H:$K,ROW(),0), 0))","v":""},{"$f":"IF(OR(INDEX('Calificación Comunidad'!M:M,ROW())=\"Sin información\", INDEX('Calificación Comunidad'!M:M,ROW())=\"Seleccione…\"), \"\", MATCH(INDEX('Calificación Comunidad'!M:M,ROW()), INDEX('Calificación Comunidad'!$H:$K,ROW(),0), 0))","v":""},{"$f":"IF(OR(INDEX('Calificación Comunidad'!N:N,ROW())=\"Sin información\", INDEX('Calificación Comunidad'!N:N,ROW())=\"Seleccione…\"), \"\", MATCH(INDEX('Calificación Comunidad'!N:N,ROW()), INDEX('Calificación Comunidad'!$H:$K,ROW(),0), 0))","v":""},{"$f":"IF(OR(INDEX('Calificación Comunidad'!O:O,ROW())=\"Sin información\", INDEX('Calificación Comunidad'!O:O,ROW())=\"Seleccione…\"), \"\", MATCH(INDEX('Calificación Comunidad'!O:O,ROW()), INDEX('Calificación Comunidad'!$H:$K,ROW(),0), 0))","v":""},{"$f":"IF(OR(INDEX('Calificación Comunidad'!P:P,ROW())=\"Sin información\", INDEX('Calificación Comunidad'!P:P,ROW())=\"Seleccione…\"), \"\", MATCH(INDEX('Calificación Comunidad'!P:P,ROW()), INDEX('Calificación Comunidad'!$H:$K,ROW(),0), 0))","v":""},{"$f":"IF(OR(INDEX('Calificación Comunidad'!Q:Q,ROW())=\"Sin información\", INDEX('Calificación Comunidad'!Q:Q,ROW())=\"Seleccione…\"), \"\", MATCH(INDEX('Calificación Comunidad'!Q:Q,ROW()), INDEX('Calificación Comunidad'!$H:$K,ROW(),0), 0))","v":""},{"$f":"IF(OR(INDEX('Calificación Comunidad'!R:R,ROW())=\"Sin información\", INDEX('Calificación Comunidad'!R:R,ROW())=\"Seleccione…\"), \"\", MATCH(INDEX('Calificación Comunidad'!R:R,ROW()), INDEX('Calificación Comunidad'!$H:$K,ROW(),0), 0))","v":""},{"$f":"IF(OR(INDEX('Calificación Comunidad'!S:S,ROW())=\"Sin información\", INDEX('Calificación Comunidad'!S:S,ROW())=\"Seleccione…\"), \"\", MATCH(INDEX('Calificación Comunidad'!S:S,ROW()), INDEX('Calificación Comunidad'!$H:$K,ROW(),0), 0))","v":""},{"$f":"IF(OR(INDEX('Calificación Comunidad'!T:T,ROW())=\"Sin información\", INDEX('Calificación Comunidad'!T:T,ROW())=\"Seleccione…\"), \"\", MATCH(INDEX('Calificación Comunidad'!T:T,ROW()), INDEX('Calificación Comunidad'!$H:$K,ROW(),0), 0))","v":""},{"$f":"IF(OR(INDEX('Calificación Comunidad'!U:U,ROW())=\"Sin información\", INDEX('Calificación Comunidad'!U:U,ROW())=\"Seleccione…\"), \"\", MATCH(INDEX('Calificación Comunidad'!U:U,ROW()), INDEX('Calificación Comunidad'!$H:$K,ROW(),0), 0))","v":""}]
[{"$f":"INDEX('Calificación Comunidad'!B:B,ROW())","v":"Económico"},{"$f":"INDEX('Calificación Comunidad'!C:C,ROW())","v":"Capacidad y voluntad de los miembros de la comunidad para financiar el proyecto"},{"$f":"IF(OR(INDEX('Calificación Comunidad'!L:L,ROW())=\"Sin información\", INDEX('Calificación Comunidad'!L:L,ROW())=\"Seleccione…\"), \"\", MATCH(INDEX('Calificación Comunidad'!L:L,ROW()), INDEX('Calificación Comunidad'!$H:$K,ROW(),0), 0))","v":""},{"$f":"IF(OR(INDEX('Calificación Comunidad'!M:M,ROW())=\"Sin información\", INDEX('Calificación Comunidad'!M:M,ROW())=\"Seleccione…\"), \"\", MATCH(INDEX('Calificación Comunidad'!M:M,ROW()), INDEX('Calificación Comunidad'!$H:$K,ROW(),0), 0))","v":""},{"$f":"IF(OR(INDEX('Calificación Comunidad'!N:N,ROW())=\"Sin información\", INDEX('Calificación Comunidad'!N:N,ROW())=\"Seleccione…\"), \"\", MATCH(INDEX('Calificación Comunidad'!N:N,ROW()), INDEX('Calificación Comunidad'!$H:$K,ROW(),0), 0))","v":""},{"$f":"IF(OR(INDEX('Calificación Comunidad'!O:O,ROW())=\"Sin información\", INDEX('Calificación Comunidad'!O:O,ROW())=\"Seleccione…\"), \"\", MATCH(INDEX('Calificación Comunidad'!O:O,ROW()), INDEX('Calificación Comunidad'!$H:$K,ROW(),0), 0))","v":""},{"$f":"IF(OR(INDEX('Calificación Comunidad'!P:P,ROW())=\"Sin información\", INDEX('Calificación Comunidad'!P:P,ROW())=\"Seleccione…\"), \"\", MATCH(INDEX('Calificación Comunidad'!P:P,ROW()), INDEX('Calificación Comunidad'!$H:$K,ROW(),0), 0))","v":""},{"$f":"IF(OR(INDEX('Calificación Comunidad'!Q:Q,ROW())=\"Sin información\", INDEX('Calificación Comunidad'!Q:Q,ROW())=\"Seleccione…\"), \"\", MATCH(INDEX('Calificación Comunidad'!Q:Q,ROW()), INDEX('Calificación Comunidad'!$H:$K,ROW(),0), 0))","v":""},{"$f":"IF(OR(INDEX('Calificación Comunidad'!R:R,ROW())=\"Sin información\", INDEX('Calificación Comunidad'!R:R,ROW())=\"Seleccione…\"), \"\", MATCH(INDEX('Calificación Comunidad'!R:R,ROW()), INDEX('Calificación Comunidad'!$H:$K,ROW(),0), 0))","v":""},{"$f":"IF(OR(INDEX('Calificación Comunidad'!S:S,ROW())=\"Sin información\", INDEX('Calificación Comunidad'!S:S,ROW())=\"Seleccione…\"), \"\", MATCH(INDEX('Calificación Comunidad'!S:S,ROW()), INDEX('Calificación Comunidad'!$H:$K,ROW(),0), 0))","v":""},{"$f":"IF(OR(INDEX('Calificación Comunidad'!T:T,ROW())=\"Sin información\", INDEX('Calificación Comunidad'!T:T,ROW())=\"Seleccione…\"), \"\", MATCH(INDEX('Calificación Comunidad'!T:T,ROW()), INDEX('Calificación Comunidad'!$H:$K,ROW(),0), 0))","v":""},{"$f":"IF(OR(INDEX('Calificación Comunidad'!U:U,ROW())=\"Sin información\", INDEX('Calificación Comunidad'!U:U,ROW())=\"Seleccione…\"), \"\", MATCH(INDEX('Calificación Comunidad'!U:U,ROW()), INDEX('Calificación Comunidad'!$H:$K,ROW(),0), 0))","v":""}]
[{"$f":"INDEX('Calificación Comunidad'!B:B,ROW())","v":"Económico"},{"$f":"INDEX('Calificación Comunidad'!C:C,ROW())","v":"Costos energéticos promedio por usuario"},{"$f":"IF(OR(INDEX('Calificación Comunidad'!L:L,ROW())=\"Sin información\", INDEX('Calificación Comunidad'!L:L,ROW())=\"Seleccione…\"), \"\", MATCH(INDEX('Calificación Comunidad'!L:L,ROW()), INDEX('Calificación Comunidad'!$H:$K,ROW(),0), 0))","v":""},{"$f":"IF(OR(INDEX('Calificación Comunidad'!M:M,ROW())=\"Sin información\", INDEX('Calificación Comunidad'!M:M,ROW())=\"Seleccione…\"), \"\", MATCH(INDEX('Calificación Comunidad'!M:M,ROW()), INDEX('Calificación Comunidad'!$H:$K,ROW(),0), 0))","v":""},{"$f":"IF(OR(INDEX('Calificación Comunidad'!N:N,ROW())=\"Sin información\", INDEX('Calificación Comunidad'!N:N,ROW())=\"Seleccione…\"), \"\", MATCH(INDEX('Calificación Comunidad'!N:N,ROW()), INDEX('Calificación Comunidad'!$H:$K,ROW(),0), 0))","v":""},{"$f":"IF(OR(INDEX('Calificación Comunidad'!O:O,ROW())=\"Sin información\", INDEX('Calificación Comunidad'!O:O,ROW())=\"Seleccione…\"), \"\", MATCH(INDEX('Calificación Comunidad'!O:O,ROW()), INDEX('Calificación Comunidad'!$H:$K,ROW(),0), 0))","v":""},{"$f":"IF(OR(INDEX('Calificación Comunidad'!P:P,ROW())=\"Sin información\", INDEX('Calificación Comunidad'!P:P,ROW())=\"Seleccione…\"), \"\", MATCH(INDEX('Calificación Comunidad'!P:P,ROW()), INDEX('Calificación Comunidad'!$H:$K,ROW(),0), 0))","v":""},{"$f":"IF(OR(INDEX('Calificación Comunidad'!Q:Q,ROW())=\"Sin información\", INDEX('Calificación Comunidad'!Q:Q,ROW())=\"Seleccione…\"), \"\", MATCH(INDEX('Calificación Comunidad'!Q:Q,ROW()), INDEX('Calificación Comunidad'!$H:$K,ROW(),0), 0))","v":""},{"$f":"IF(OR(INDEX('Calificación Comunidad'!R:R,ROW())=\"Sin información\", INDEX('Calificación Comunidad'!R:R,ROW())=\"Seleccione…\"), \"\", MATCH(INDEX('Calificación Comunidad'!R:R,ROW()), INDEX('Calificación Comunidad'!$H:$K,ROW(),0), 0))","v":""},{"$f":"IF(OR(INDEX('Calificación Comunidad'!S:S,ROW())=\"Sin información\", INDEX('Calificación Comunidad'!S:S,ROW())=\"Seleccione…\"), \"\", MATCH(INDEX('Calificación Comunidad'!S:S,ROW()), INDEX('Calificación Comunidad'!$H:$K,ROW(),0), 0))","v":""},{"$f":"IF(OR(INDEX('Calificación Comunidad'!T:T,ROW())=\"Sin información\", INDEX('Calificación Comunidad'!T:T,ROW())=\"Seleccione…\"), \"\", MATCH(INDEX('Calificación Comunidad'!T:T,ROW()), INDEX('Calificación Comunidad'!$H:$K,ROW(),0), 0))","v":""},{"$f":"IF(OR(INDEX('Calificación Comunidad'!U:U,ROW())=\"Sin información\", INDEX('Calificación Comunidad'!U:U,ROW())=\"Seleccione…\"), \"\", MATCH(INDEX('Calificación Comunidad'!U:U,ROW()), INDEX('Calificación Comunidad'!$H:$K,ROW(),0), 0))","v":""}]
[{"$f":"INDEX('Calificación Comunidad'!B:B,ROW())","v":"Legislativo/ normativo"},{"$f":"INDEX('Calificación Comunidad'!C:C,ROW())","v":"Disposición de instituciones externas para representar a la comunidad energética "},{"$f":"IF(OR(INDEX('Calificación Comunidad'!L:L,ROW())=\"Sin información\", INDEX('Calificación Comunidad'!L:L,ROW())=\"Seleccione…\"), \"\", MATCH(INDEX('Calificación Comunidad'!L:L,ROW()), INDEX('Calificación Comunidad'!$H:$K,ROW(),0), 0))","v":""},{"$f":"IF(OR(INDEX('Calificación Comunidad'!M:M,ROW())=\"Sin información\", INDEX('Calificación Comunidad'!M:M,ROW())=\"Seleccione…\"), \"\", MATCH(INDEX('Calificación Comunidad'!M:M,ROW()), INDEX('Calificación Comunidad'!$H:$K,ROW(),0), 0))","v":""},{"$f":"IF(OR(INDEX('Calificación Comunidad'!N:N,ROW())=\"Sin información\", INDEX('Calificación Comunidad'!N:N,ROW())=\"Seleccione…\"), \"\", MATCH(INDEX('Calificación Comunidad'!N:N,ROW()), INDEX('Calificación Comunidad'!$H:$K,ROW(),0), 0))","v":""},{"$f":"IF(OR(INDEX('Calificación Comunidad'!O:O,ROW())=\"Sin información\", INDEX('Calificación Comunidad'!O:O,ROW())=\"Seleccione…\"), \"\", MATCH(INDEX('Calificación Comunidad'!O:O,ROW()), INDEX('Calificación Comunidad'!$H:$K,ROW(),0), 0))","v":""},{"$f":"IF(OR(INDEX('Calificación Comunidad'!P:P,ROW())=\"Sin información\", INDEX('Calificación Comunidad'!P:P,ROW())=\"Seleccione…\"), \"\", MATCH(INDEX('Calificación Comunidad'!P:P,ROW()), INDEX('Calificación Comunidad'!$H:$K,ROW(),0), 0))","v":""},{"$f":"IF(OR(INDEX('Calificación Comunidad'!Q:Q,ROW())=\"Sin información\", INDEX('Calificación Comunidad'!Q:Q,ROW())=\"Seleccione…\"), \"\", MATCH(INDEX('Calificación Comunidad'!Q:Q,ROW()), INDEX('Calificación Comunidad'!$H:$K,ROW(),0), 0))","v":""},{"$f":"IF(OR(INDEX('Calificación Comunidad'!R:R,ROW())=\"Sin información\", INDEX('Calificación Comunidad'!R:R,ROW())=\"Seleccione…\"), \"\", MATCH(INDEX('Calificación Comunidad'!R:R,ROW()), INDEX('Calificación Comunidad'!$H:$K,ROW(),0), 0))","v":""},{"$f":"IF(OR(INDEX('Calificación Comunidad'!S:S,ROW())=\"Sin información\", INDEX('Calificación Comunidad'!S:S,ROW())=\"Seleccione…\"), \"\", MATCH(INDEX('Calificación Comunidad'!S:S,ROW()), INDEX('Calificación Comunidad'!$H:$K,ROW(),0), 0))","v":""},{"$f":"IF(OR(INDEX('Calificación Comunidad'!T:T,ROW())=\"Sin información\", INDEX('Calificación Comunidad'!T:T,ROW())=\"Seleccione…\"), \"\", MATCH(INDEX('Calificación Comunidad'!T:T,ROW()), INDEX('Calificación Comunidad'!$H:$K,ROW(),0), 0))","v":""},{"$f":"IF(OR(INDEX('Calificación Comunidad'!U:U,ROW())=\"Sin información\", INDEX('Calificación Comunidad'!U:U,ROW())=\"Seleccione…\"), \"\", MATCH(INDEX('Calificación Comunidad'!U:U,ROW()), INDEX('Calificación Comunidad'!$H:$K,ROW(),0), 0))","v":""}]
[{"$f":"INDEX('Calificación Comunidad'!B:B,ROW())","v":"Legislativo/ normativo"},{"$f":"INDEX('Calificación Comunidad'!C:C,ROW())","v":"¿Se cuenta con avances en lineamientos para la distribución y almacenamiento de energía? Autoconsumo"},{"$f":"IF(OR(INDEX('Calificación Comunidad'!L:L,ROW())=\"Sin información\", INDEX('Calificación Comunidad'!L:L,ROW())=\"Seleccione…\"), \"\", MATCH(INDEX('Calificación Comunidad'!L:L,ROW()), INDEX('Calificación Comunidad'!$H:$K,ROW(),0), 0))","v":""},{"$f":"IF(OR(INDEX('Calificación Comunidad'!M:M,ROW())=\"Sin información\", INDEX('Calificación Comunidad'!M:M,ROW())=\"Seleccione…\"), \"\", MATCH(INDEX('Calificación Comunidad'!M:M,ROW()), INDEX('Calificación Comunidad'!$H:$K,ROW(),0), 0))","v":""},{"$f":"IF(OR(INDEX('Calificación Comunidad'!N:N,ROW())=\"Sin información\", INDEX('Calificación Comunidad'!N:N,ROW())=\"Seleccione…\"), \"\", MATCH(INDEX('Calificación Comunidad'!N:N,ROW()), INDEX('Calificación Comunidad'!$H:$K,ROW(),0), 0))","v":""},{"$f":"IF(OR(INDEX('Calificación Comunidad'!O:O,ROW())=\"Sin información\", INDEX('Calificación Comunidad'!O:O,ROW())=\"Seleccione…\"), \"\", MATCH(INDEX('Calificación Comunidad'!O:O,ROW()), INDEX('Calificación Comunidad'!$H:$K,ROW(),0), 0))","v":""},{"$f":"IF(OR(INDEX('Calificación Comunidad'!P:P,ROW())=\"Sin información\", INDEX('Calificación Comunidad'!P:P,ROW())=\"Seleccione…\"), \"\", MATCH(INDEX('Calificación Comunidad'!P:P,ROW()), INDEX('Calificación Comunidad'!$H:$K,ROW(),0), 0))","v":""},{"$f":"IF(OR(INDEX('Calificación Comunidad'!Q:Q,ROW())=\"Sin información\", INDEX('Calificación Comunidad'!Q:Q,ROW())=\"Seleccione…\"), \"\", MATCH(INDEX('Calificación Comunidad'!Q:Q,ROW()), INDEX('Calificación Comunidad'!$H:$K,ROW(),0), 0))","v":""},{"$f":"IF(OR(INDEX('Calificación Comunidad'!R:R,ROW())=\"Sin información\", INDEX('Calificación Comunidad'!R:R,ROW())=\"Seleccione…\"), \"\", MATCH(INDEX('Calificación Comunidad'!R:R,ROW()), INDEX('Calificación Comunidad'!$H:$K,ROW(),0), 0))","v":""},{"$f":"IF(OR(INDEX('Calificación Comunidad'!S:S,ROW())=\"Sin información\", INDEX('Calificación Comunidad'!S:S,ROW())=\"Seleccione…\"), \"\", MATCH(INDEX('Calificación Comunidad'!S:S,ROW()), INDEX('Calificación Comunidad'!$H:$K,ROW(),0), 0))","v":""},{"$f":"IF(OR(INDEX('Calificación Comunidad'!T:T,ROW())=\"Sin información\", INDEX('Calificación Comunidad'!T:T,ROW())=\"Seleccione…\"), \"\", MATCH(INDEX('Calificación Comunidad'!T:T,ROW()), INDEX('Calificación Comunidad'!$H:$K,ROW(),0), 0))","v":""},{"$f":"IF(OR(INDEX('Calificación Comunidad'!U:U,ROW())=\"Sin información\", INDEX('Calificación Comunidad'!U:U,ROW())=\"Seleccione…\"), \"\", MATCH(INDEX('Calificación Comunidad'!U:U,ROW()), INDEX('Calificación Comunidad'!$H:$K,ROW(),0), 0))","v":""}]
[{"$f":"INDEX('Calificación Comunidad'!B:B,ROW())","v":"Legislativo/ normativo"},{"$f":"INDEX('Calificación Comunidad'!C:C,ROW())","v":"Facilidad de trámites y permisos"},{"$f":"IF(OR(INDEX('Calificación Comunidad'!L:L,ROW())=\"Sin información\", INDEX('Calificación Comunidad'!L:L,ROW())=\"Seleccione…\"), \"\", MATCH(INDEX('Calificación Comunidad'!L:L,ROW()), INDEX('Calificación Comunidad'!$H:$K,ROW(),0), 0))","v":""},{"$f":"IF(OR(INDEX('Calificación Comunidad'!M:M,ROW())=\"Sin información\", INDEX('Calificación Comunidad'!M:M,ROW())=\"Seleccione…\"), \"\", MATCH(INDEX('Calificación Comunidad'!M:M,ROW()), INDEX('Calificación Comunidad'!$H:$K,ROW(),0), 0))","v":""},{"$f":"IF(OR(INDEX('Calificación Comunidad'!N:N,ROW())=\"Sin información\", INDEX('Calificación Comunidad'!N:N,ROW())=\"Seleccione…\"), \"\", MATCH(INDEX('Calificación Comunidad'!N:N,ROW()), INDEX('Calificación Comunidad'!$H:$K,ROW(),0), 0))","v":""},{"$f":"IF(OR(INDEX('Calificación Comunidad'!O:O,ROW())=\"Sin información\", INDEX('Calificación Comunidad'!O:O,ROW())=\"Seleccione…\"), \"\", MATCH(INDEX('Calificación Comunidad'!O:O,ROW()), INDEX('Calificación Comunidad'!$H:$K,ROW(),0), 0))","v":""},{"$f":"IF(OR(INDEX('Calificación Comunidad'!P:P,ROW())=\"Sin información\", INDEX('Calificación Comunidad'!P:P,ROW())=\"Seleccione…\"), \"\", MATCH(INDEX('Calificación Comunidad'!P:P,ROW()), INDEX('Calificación Comunidad'!$H:$K,ROW(),0), 0))","v":""},{"$f":"IF(OR(INDEX('Calificación Comunidad'!Q:Q,ROW())=\"Sin información\", INDEX('Calificación Comunidad'!Q:Q,ROW())=\"Seleccione…\"), \"\", MATCH(INDEX('Calificación Comunidad'!Q:Q,ROW()), INDEX('Calificación Comunidad'!$H:$K,ROW(),0), 0))","v":""},{"$f":"IF(OR(INDEX('Calificación Comunidad'!R:R,ROW())=\"Sin información\", INDEX('Calificación Comunidad'!R:R,ROW())=\"Seleccione…\"), \"\", MATCH(INDEX('Calificación Comunidad'!R:R,ROW()), INDEX('Calificación Comunidad'!$H:$K,ROW(),0), 0))","v":""},{"$f":"IF(OR(INDEX('Calificación Comunidad'!S:S,ROW())=\"Sin información\", INDEX('Calificación Comunidad'!S:S,ROW())=\"Seleccione…\"), \"\", MATCH(INDEX('Calificación Comunidad'!S:S,ROW()), INDEX('Calificación Comunidad'!$H:$K,ROW(),0), 0))","v":""},{"$f":"IF(OR(INDEX('Calificación Comunidad'!T:T,ROW())=\"Sin información\", INDEX('Calificación Comunidad'!T:T,ROW())=\"Seleccione…\"), \"\", MATCH(INDEX('Calificación Comunidad'!T:T,ROW()), INDEX('Calificación Comunidad'!$H:$K,ROW(),0), 0))","v":""},{"$f":"IF(OR(INDEX('Calificación Comunidad'!U:U,ROW())=\"Sin información\", INDEX('Calificación Comunidad'!U:U,ROW())=\"Seleccione…\"), \"\", MATCH(INDEX('Calificación Comunidad'!U:U,ROW()), INDEX('Calificación Comunidad'!$H:$K,ROW(),0), 0))","v":""}]
[{"$f":"INDEX('Calificación Comunidad'!B:B,ROW())","v":"Social"},{"$f":"INDEX('Calificación Comunidad'!C:C,ROW())","v":"Participación Femenina en la Comunidad Energética"},{"$f":"IF(OR(INDEX('Calificación Comunidad'!L:L,ROW())=\"Sin información\", INDEX('Calificación Comunidad'!L:L,ROW())=\"Seleccione…\"), \"\", MATCH(INDEX('Calificación Comunidad'!L:L,ROW()), INDEX('Calificación Comunidad'!$H:$K,ROW(),0), 0))","v":""},{"$f":"IF(OR(INDEX('Calificación Comunidad'!M:M,ROW())=\"Sin información\", INDEX('Calificación Comunidad'!M:M,ROW())=\"Seleccione…\"), \"\", MATCH(INDEX('Calificación Comunidad'!M:M,ROW()), INDEX('Calificación Comunidad'!$H:$K,ROW(),0), 0))","v":""},{"$f":"IF(OR(INDEX('Calificación Comunidad'!N:N,ROW())=\"Sin información\", INDEX('Calificación Comunidad'!N:N,ROW())=\"Seleccione…\"), \"\", MATCH(INDEX('Calificación Comunidad'!N:N,ROW()), INDEX('Calificación Comunidad'!$H:$K,ROW(),0), 0))","v":""},{"$f":"IF(OR(INDEX('Calificación Comunidad'!O:O,ROW())=\"Sin información\", INDEX('Calificación Comunidad'!O:O,ROW())=\"Seleccione…\"), \"\", MATCH(INDEX('Calificación Comunidad'!O:O,ROW()), INDEX('Calificación Comunidad'!$H:$K,ROW(),0), 0))","v":""},{"$f":"IF(OR(INDEX('Calificación Comunidad'!P:P,ROW())=\"Sin información\", INDEX('Calificación Comunidad'!P:P,ROW())=\"Seleccione…\"), \"\", MATCH(INDEX('Calificación Comunidad'!P:P,ROW()), INDEX('Calificación Comunidad'!$H:$K,ROW(),0), 0))","v":""},{"$f":"IF(OR(INDEX('Calificación Comunidad'!Q:Q,ROW())=\"Sin información\", INDEX('Calificación Comunidad'!Q:Q,ROW())=\"Seleccione…\"), \"\", MATCH(INDEX('Calificación Comunidad'!Q:Q,ROW()), INDEX('Calificación Comunidad'!$H:$K,ROW(),0), 0))","v":""},{"$f":"IF(OR(INDEX('Calificación Comunidad'!R:R,ROW())=\"Sin información\", INDEX('Calificación Comunidad'!R:R,ROW())=\"Seleccione…\"), \"\", MATCH(INDEX('Calificación Comunidad'!R:R,ROW()), INDEX('Calificación Comunidad'!$H:$K,ROW(),0), 0))","v":""},{"$f":"IF(OR(INDEX('Calificación Comunidad'!S:S,ROW())=\"Sin información\", INDEX('Calificación Comunidad'!S:S,ROW())=\"Seleccione…\"), \"\", MATCH(INDEX('Calificación Comunidad'!S:S,ROW()), INDEX('Calificación Comunidad'!$H:$K,ROW(),0), 0))","v":""},{"$f":"IF(OR(INDEX('Calificación Comunidad'!T:T,ROW())=\"Sin información\", INDEX('Calificación Comunidad'!T:T,ROW())=\"Seleccione…\"), \"\", MATCH(INDEX('Calificación Comunidad'!T:T,ROW()), INDEX('Calificación Comunidad'!$H:$K,ROW(),0), 0))","v":""},{"$f":"IF(OR(INDEX('Calificación Comunidad'!U:U,ROW())=\"Sin información\", INDEX('Calificación Comunidad'!U:U,ROW())=\"Seleccione…\"), \"\", MATCH(INDEX('Calificación Comunidad'!U:U,ROW()), INDEX('Calificación Comunidad'!$H:$K,ROW(),0), 0))","v":""}]
[{"$f":"INDEX('Calificación Comunidad'!B:B,ROW())","v":"Social"},{"$f":"INDEX('Calificación Comunidad'!C:C,ROW())","v":"Redes de cooperación intercomunitaria"},{"$f":"IF(OR(INDEX('Calificación Comunidad'!L:L,ROW())=\"Sin información\", INDEX('Calificación Comunidad'!L:L,ROW())=\"Seleccione…\"), \"\", MATCH(INDEX('Calificación Comunidad'!L:L,ROW()), INDEX('Calificación Comunidad'!$H:$K,ROW(),0), 0))","v":""},{"$f":"IF(OR(INDEX('Calificación Comunidad'!M:M,ROW())=\"Sin información\", INDEX('Calificación Comunidad'!M:M,ROW())=\"Seleccione…\"), \"\", MATCH(INDEX('Calificación Comunidad'!M:M,ROW()), INDEX('Calificación Comunidad'!$H:$K,ROW(),0), 0))","v":""},{"$f":"IF(OR(INDEX('Calificación Comunidad'!N:N,ROW())=\"Sin información\", INDEX('Calificación Comunidad'!N:N,ROW())=\"Seleccione…\"), \"\", MATCH(INDEX('Calificación Comunidad'!N:N,ROW()), INDEX('Calificación Comunidad'!$H:$K,ROW(),0), 0))","v":""},{"$f":"IF(OR(INDEX('Calificación Comunidad'!O:O,ROW())=\"Sin información\", INDEX('Calificación Comunidad'!O:O,ROW())=\"Seleccione…\"), \"\", MATCH(INDEX('Calificación Comunidad'!O:O,ROW()), INDEX('Calificación Comunidad'!$H:$K,ROW(),0), 0))","v":""},{"$f":"IF(OR(INDEX('Calificación Comunidad'!P:P,ROW())=\"Sin información\", INDEX('Calificación Comunidad'!P:P,ROW())=\"Seleccione…\"), \"\", MATCH(INDEX('Calificación Comunidad'!P:P,ROW()), INDEX('Calificación Comunidad'!$H:$K,ROW(),0), 0))","v":""},{"$f":"IF(OR(INDEX('Calificación Comunidad'!Q:Q,ROW())=\"Sin información\", INDEX('Calificación Comunidad'!Q:Q,ROW())=\"Seleccione…\"), \"\", MATCH(INDEX('Calificación Comunidad'!Q:Q,ROW()), INDEX('Calificación Comunidad'!$H:$K,ROW(),0), 0))","v":""},{"$f":"IF(OR(INDEX('Calificación Comunidad'!R:R,ROW())=\"Sin información\", INDEX('Calificación Comunidad'!R:R,ROW())=\"Seleccione…\"), \"\", MATCH(INDEX('Calificación Comunidad'!R:R,ROW()), INDEX('Calificación Comunidad'!$H:$K,ROW(),0), 0))","v":""},{"$f":"IF(OR(INDEX('Calificación Comunidad'!S:S,ROW())=\"Sin información\", INDEX('Calificación Comunidad'!S:S,ROW())=\"Seleccione…\"), \"\", MATCH(INDEX('Calificación Comunidad'!S:S,ROW()), INDEX('Calificación Comunidad'!$H:$K,ROW(),0), 0))","v":""},{"$f":"IF(OR(INDEX('Calificación Comunidad'!T:T,ROW())=\"Sin información\", INDEX('Calificación Comunidad'!T:T,ROW())=\"Seleccione…\"), \"\", MATCH(INDEX('Calificación Comunidad'!T:T,ROW()), INDEX('Calificación Comunidad'!$H:$K,ROW(),0), 0))","v":""},{"$f":"IF(OR(INDEX('Calificación Comunidad'!U:U,ROW())=\"Sin información\", INDEX('Calificación Comunidad'!U:U,ROW())=\"Seleccione…\"), \"\", MATCH(INDEX('Calificación Comunidad'!U:U,ROW()), INDEX('Calificación Comunidad'!$H:$K,ROW(),0), 0))","v":""}]
[{"$f":"INDEX('Calificación Comunidad'!B:B,ROW())","v":"Social"},{"$f":"INDEX('Calificación Comunidad'!C:C,ROW())","v":"Transparencia de los datos"},{"$f":"IF(OR(INDEX('Calificación Comunidad'!L:L,ROW())=\"Sin información\", INDEX('Calificación Comunidad'!L:L,ROW())=\"Seleccione…\"), \"\", MATCH(INDEX('Calificación Comunidad'!L:L,ROW()), INDEX('Calificación Comunidad'!$H:$K,ROW(),0), 0))","v":""},{"$f":"IF(OR(INDEX('Calificación Comunidad'!M:M,ROW())=\"Sin información\", INDEX('Calificación Comunidad'!M:M,ROW())=\"Seleccione…\"), \"\", MATCH(INDEX('Calificación Comunidad'!M:M,ROW()), INDEX('Calificación Comunidad'!$H:$K,ROW(),0), 0))","v":""},{"$f":"IF(OR(INDEX('Calificación Comunidad'!N:N,ROW())=\"Sin información\", INDEX('Calificación Comunidad'!N:N,ROW())=\"Seleccione…\"), \"\", MATCH(INDEX('Calificación Comunidad'!N:N,ROW()), INDEX('Calificación Comunidad'!$H:$K,ROW(),0), 0))","v":""},{"$f":"IF(OR(INDEX('Calificación Comunidad'!O:O,ROW())=\"Sin información\", INDEX('Calificación Comunidad'!O:O,ROW())=\"Seleccione…\"), \"\", MATCH(INDEX('Calificación Comunidad'!O:O,ROW()), INDEX('Calificación Comunidad'!$H:$K,ROW(),0), 0))","v":""},{"$f":"IF(OR(INDEX('Calificación Comunidad'!P:P,ROW())=\"Sin información\", INDEX('Calificación Comunidad'!P:P,ROW())=\"Seleccione…\"), \"\", MATCH(INDEX('Calificación Comunidad'!P:P,ROW()), INDEX('Calificación Comunidad'!$H:$K,ROW(),0), 0))","v":""},{"$f":"IF(OR(INDEX('Calificación Comunidad'!Q:Q,ROW())=\"Sin información\", INDEX('Calificación Comunidad'!Q:Q,ROW())=\"Seleccione…\"), \"\", MATCH(INDEX('Calificación Comunidad'!Q:Q,ROW()), INDEX('Calificación Comunidad'!$H:$K,ROW(),0), 0))","v":""},{"$f":"IF(OR(INDEX('Calificación Comunidad'!R:R,ROW())=\"Sin información\", INDEX('Calificación Comunidad'!R:R,ROW())=\"Seleccione…\"), \"\", MATCH(INDEX('Calificación Comunidad'!R:R,ROW()), INDEX('Calificación Comunidad'!$H:$K,ROW(),0), 0))","v":""},{"$f":"IF(OR(INDEX('Calificación Comunidad'!S:S,ROW())=\"Sin información\", INDEX('Calificación Comunidad'!S:S,ROW())=\"Seleccione…\"), \"\", MATCH(INDEX('Calificación Comunidad'!S:S,ROW()), INDEX('Calificación Comunidad'!$H:$K,ROW(),0), 0))","v":""},{"$f":"IF(OR(INDEX('Calificación Comunidad'!T:T,ROW())=\"Sin información\", INDEX('Calificación Comunidad'!T:T,ROW())=\"Seleccione…\"), \"\", MATCH(INDEX('Calificación Comunidad'!T:T,ROW()), INDEX('Calificación Comunidad'!$H:$K,ROW(),0), 0))","v":""},{"$f":"IF(OR(INDEX('Calificación Comunidad'!U:U,ROW())=\"Sin información\", INDEX('Calificación Comunidad'!U:U,ROW())=\"Seleccione…\"), \"\", MATCH(INDEX('Calificación Comunidad'!U:U,ROW()), INDEX('Calificación Comunidad'!$H:$K,ROW(),0), 0))","v":""}]
[{"$f":"INDEX('Calificación Comunidad'!B:B,ROW())","v":"Social"},{"$f":"INDEX('Calificación Comunidad'!C:C,ROW())","v":"¿Cómo es la relación entre los miembros de la comunidad y las instituciones públicas y privadas pertinentes?"},{"$f":"IF(OR(INDEX('Calificación Comunidad'!L:L,ROW())=\"Sin información\", INDEX('Calificación Comunidad'!L:L,ROW())=\"Seleccione…\"), \"\", MATCH(INDEX('Calificación Comunidad'!L:L,ROW()), INDEX('Calificación Comunidad'!$H:$K,ROW(),0), 0))","v":""},{"$f":"IF(OR(INDEX('Calificación Comunidad'!M:M,ROW())=\"Sin información\", INDEX('Calificación Comunidad'!M:M,ROW())=\"Seleccione…\"), \"\", MATCH(INDEX('Calificación Comunidad'!M:M,ROW()), INDEX('Calificación Comunidad'!$H:$K,ROW(),0), 0))","v":""},{"$f":"IF(OR(INDEX('Calificación Comunidad'!N:N,ROW())=\"Sin información\", INDEX('Calificación Comunidad'!N:N,ROW())=\"Seleccione…\"), \"\", MATCH(INDEX('Calificación Comunidad'!N:N,ROW()), INDEX('Calificación Comunidad'!$H:$K,ROW(),0), 0))","v":""},{"$f":"IF(OR(INDEX('Calificación Comunidad'!O:O,ROW())=\"Sin información\", INDEX('Calificación Comunidad'!O:O,ROW())=\"Seleccione…\"), \"\", MATCH(INDEX('Calificación Comunidad'!O:O,ROW()), INDEX('Calificación Comunidad'!$H:$K,ROW(),0), 0))","v":""},{"$f":"IF(OR(INDEX('Calificación Comunidad'!P:P,ROW())=\"Sin información\", INDEX('Calificación Comunidad'!P:P,ROW())=\"Seleccione…\"), \"\", MATCH(INDEX('Calificación Comunidad'!P:P,ROW()), INDEX('Calificación Comunidad'!$H:$K,ROW(),0), 0))","v":""},{"$f":"IF(OR(INDEX('Calificación Comunidad'!Q:Q,ROW())=\"Sin información\", INDEX('Calificación Comunidad'!Q:Q,ROW())=\"Seleccione…\"), \"\", MATCH(INDEX('Calificación Comunidad'!Q:Q,ROW()), INDEX('Calificación Comunidad'!$H:$K,ROW(),0), 0))","v":""},{"$f":"IF(OR(INDEX('Calificación Comunidad'!R:R,ROW())=\"Sin información\", INDEX('Calificación Comunidad'!R:R,ROW())=\"Seleccione…\"), \"\", MATCH(INDEX('Calificación Comunidad'!R:R,ROW()), INDEX('Calificación Comunidad'!$H:$K,ROW(),0), 0))","v":""},{"$f":"IF(OR(INDEX('Calificación Comunidad'!S:S,ROW())=\"Sin información\", INDEX('Calificación Comunidad'!S:S,ROW())=\"Seleccione…\"), \"\", MATCH(INDEX('Calificación Comunidad'!S:S,ROW()), INDEX('Calificación Comunidad'!$H:$K,ROW(),0), 0))","v":""},{"$f":"IF(OR(INDEX('Calificación Comunidad'!T:T,ROW())=\"Sin información\", INDEX('Calificación Comunidad'!T:T,ROW())=\"Seleccione…\"), \"\", MATCH(INDEX('Calificación Comunidad'!T:T,ROW()), INDEX('Calificación Comunidad'!$H:$K,ROW(),0), 0))","v":""},{"$f":"IF(OR(INDEX('Calificación Comunidad'!U:U,ROW())=\"Sin información\", INDEX('Calificación Comunidad'!U:U,ROW())=\"Seleccione…\"), \"\", MATCH(INDEX('Calificación Comunidad'!U:U,ROW()), INDEX('Calificación Comunidad'!$H:$K,ROW(),0), 0))","v":""}]
[{"$f":"INDEX('Calificación Comunidad'!B:B,ROW())","v":"Social"},{"$f":"INDEX('Calificación Comunidad'!C:C,ROW())","v":"¿Están dispuestos los miembros de la comunidad a invertir tiempo en actividades comunitarias de voluntariado?"},{"$f":"IF(OR(INDEX('Calificación Comunidad'!L:L,ROW())=\"Sin información\", INDEX('Calificación Comunidad'!L:L,ROW())=\"Seleccione…\"), \"\", MATCH(INDEX('Calificación Comunidad'!L:L,ROW()), INDEX('Calificación Comunidad'!$H:$K,ROW(),0), 0))","v":""},{"$f":"IF(OR(INDEX('Calificación Comunidad'!M:M,ROW())=\"Sin información\", INDEX('Calificación Comunidad'!M:M,ROW())=\"Seleccione…\"), \"\", MATCH(INDEX('Calificación Comunidad'!M:M,ROW()), INDEX('Calificación Comunidad'!$H:$K,ROW(),0), 0))","v":""},{"$f":"IF(OR(INDEX('Calificación Comunidad'!N:N,ROW())=\"Sin información\", INDEX('Calificación Comunidad'!N:N,ROW())=\"Seleccione…\"), \"\", MATCH(INDEX('Calificación Comunidad'!N:N,ROW()), INDEX('Calificación Comunidad'!$H:$K,ROW(),0), 0))","v":""},{"$f":"IF(OR(INDEX('Calificación Comunidad'!O:O,ROW())=\"Sin información\", INDEX('Calificación Comunidad'!O:O,ROW())=\"Seleccione…\"), \"\", MATCH(INDEX('Calificación Comunidad'!O:O,ROW()), INDEX('Calificación Comunidad'!$H:$K,ROW(),0), 0))","v":""},{"$f":"IF(OR(INDEX('Calificación Comunidad'!P:P,ROW())=\"Sin información\", INDEX('Calificación Comunidad'!P:P,ROW())=\"Seleccione…\"), \"\", MATCH(INDEX('Calificación Comunidad'!P:P,ROW()), INDEX('Calificación Comunidad'!$H:$K,ROW(),0), 0))","v":""},{"$f":"IF(OR(INDEX('Calificación Comunidad'!Q:Q,ROW())=\"Sin información\", INDEX('Calificación Comunidad'!Q:Q,ROW())=\"Seleccione…\"), \"\", MATCH(INDEX('Calificación Comunidad'!Q:Q,ROW()), INDEX('Calificación Comunidad'!$H:$K,ROW(),0), 0))","v":""},{"$f":"IF(OR(INDEX('Calificación Comunidad'!R:R,ROW())=\"Sin información\", INDEX('Calificación Comunidad'!R:R,ROW())=\"Seleccione…\"), \"\", MATCH(INDEX('Calificación Comunidad'!R:R,ROW()), INDEX('Calificación Comunidad'!$H:$K,ROW(),0), 0))","v":""},{"$f":"IF(OR(INDEX('Calificación Comunidad'!S:S,ROW())=\"Sin información\", INDEX('Calificación Comunidad'!S:S,ROW())=\"Seleccione…\"), \"\", MATCH(INDEX('Calificación Comunidad'!S:S,ROW()), INDEX('Calificación Comunidad'!$H:$K,ROW(),0), 0))","v":""},{"$f":"IF(OR(INDEX('Calificación Comunidad'!T:T,ROW())=\"Sin información\", INDEX('Calificación Comunidad'!T:T,ROW())=\"Seleccione…\"), \"\", MATCH(INDEX('Calificación Comunidad'!T:T,ROW()), INDEX('Calificación Comunidad'!$H:$K,ROW(),0), 0))","v":""},{"$f":"IF(OR(INDEX('Calificación Comunidad'!U:U,ROW())=\"Sin información\", INDEX('Calificación Comunidad'!U:U,ROW())=\"Seleccione…\"), \"\", MATCH(INDEX('Calificación Comunidad'!U:U,ROW()), INDEX('Calificación Comunidad'!$H:$K,ROW(),0), 0))","v":""}]
[{"$f":"INDEX('Calificación Comunidad'!B:B,ROW())","v":"Social"},{"$f":"INDEX('Calificación Comunidad'!C:C,ROW())","v":"¿Los techos o superficies de tierra potencialmente viables son propiedad de los miembros de la comunidad?"},{"$f":"IF(OR(INDEX('Calificación Comunidad'!L:L,ROW())=\"Sin información\", INDEX('Calificación Comunidad'!L:L,ROW())=\"Seleccione…\"), \"\", MATCH(INDEX('Calificación Comunidad'!L:L,ROW()), INDEX('Calificación Comunidad'!$H:$K,ROW(),0), 0))","v":""},{"$f":"IF(OR(INDEX('Calificación Comunidad'!M:M,ROW())=\"Sin información\", INDEX('Calificación Comunidad'!M:M,ROW())=\"Seleccione…\"), \"\", MATCH(INDEX('Calificación Comunidad'!M:M,ROW()), INDEX('Calificación Comunidad'!$H:$K,ROW(),0), 0))","v":""},{"$f":"IF(OR(INDEX('Calificación Comunidad'!N:N,ROW())=\"Sin información\", INDEX('Calificación Comunidad'!N:N,ROW())=\"Seleccione…\"), \"\", MATCH(INDEX('Calificación Comunidad'!N:N,ROW()), INDEX('Calificación Comunidad'!$H:$K,ROW(),0), 0))","v":""},{"$f":"IF(OR(INDEX('Calificación Comunidad'!O:O,ROW())=\"Sin información\", INDEX('Calificación Comunidad'!O:O,ROW())=\"Seleccione…\"), \"\", MATCH(INDEX('Calificación Comunidad'!O:O,ROW()), INDEX('Calificación Comunidad'!$H:$K,ROW(),0), 0))","v":""},{"$f":"IF(OR(INDEX('Calificación Comunidad'!P:P,ROW())=\"Sin información\", INDEX('Calificación Comunidad'!P:P,ROW())=\"Seleccione…\"), \"\", MATCH(INDEX('Calificación Comunidad'!P:P,ROW()), INDEX('Calificación Comunidad'!$H:$K,ROW(),0), 0))","v":""},{"$f":"IF(OR(INDEX('Calificación Comunidad'!Q:Q,ROW())=\"Sin información\", INDEX('Calificación Comunidad'!Q:Q,ROW())=\"Seleccione…\"), \"\", MATCH(INDEX('Calificación Comunidad'!Q:Q,ROW()), INDEX('Calificación Comunidad'!$H:$K,ROW(),0), 0))","v":""},{"$f":"IF(OR(INDEX('Calificación Comunidad'!R:R,ROW())=\"Sin información\", INDEX('Calificación Comunidad'!R:R,ROW())=\"Seleccione…\"), \"\", MATCH(INDEX('Calificación Comunidad'!R:R,ROW()), INDEX('Calificación Comunidad'!$H:$K,ROW(),0), 0))","v":""},{"$f":"IF(OR(INDEX('Calificación Comunidad'!S:S,ROW())=\"Sin información\", INDEX('Calificación Comunidad'!S:S,ROW())=\"Seleccione…\"), \"\", MATCH(INDEX('Calificación Comunidad'!S:S,ROW()), INDEX('Calificación Comunidad'!$H:$K,ROW(),0), 0))","v":""},{"$f":"IF(OR(INDEX('Calificación Comunidad'!T:T,ROW())=\"Sin información\", INDEX('Calificación Comunidad'!T:T,ROW())=\"Seleccione…\"), \"\", MATCH(INDEX('Calificación Comunidad'!T:T,ROW()), INDEX('Calificación Comunidad'!$H:$K,ROW(),0), 0))","v":""},{"$f":"IF(OR(INDEX('Calificación Comunidad'!U:U,ROW())=\"Sin información\", INDEX('Calificación Comunidad'!U:U,ROW())=\"Seleccione…\"), \"\", MATCH(INDEX('Calificación Comunidad'!U:U,ROW()), INDEX('Calificación Comunidad'!$H:$K,ROW(),0), 0))","v":""}]
[{"$f":"INDEX('Calificación Comunidad'!B:B,ROW())","v":"Social"},{"$f":"INDEX('Calificación Comunidad'!C:C,ROW())","v":"Aceptación del usuario"},{"$f":"IF(OR(INDEX('Calificación Comunidad'!L:L,ROW())=\"Sin información\", INDEX('Calificación Comunidad'!L:L,ROW())=\"Seleccione…\"), \"\", MATCH(INDEX('Calificación Comunidad'!L:L,ROW()), INDEX('Calificación Comunidad'!$H:$K,ROW(),0), 0))","v":""},{"$f":"IF(OR(INDEX('Calificación Comunidad'!M:M,ROW())=\"Sin información\", INDEX('Calificación Comunidad'!M:M,ROW())=\"Seleccione…\"), \"\", MATCH(INDEX('Calificación Comunidad'!M:M,ROW()), INDEX('Calificación Comunidad'!$H:$K,ROW(),0), 0))","v":""},{"$f":"IF(OR(INDEX('Calificación Comunidad'!N:N,ROW())=\"Sin información\", INDEX('Calificación Comunidad'!N:N,ROW())=\"Seleccione…\"), \"\", MATCH(INDEX('Calificación Comunidad'!N:N,ROW()), INDEX('Calificación Comunidad'!$H:$K,ROW(),0), 0))","v":""},{"$f":"IF(OR(INDEX('Calificación Comunidad'!O:O,ROW())=\"Sin información\", INDEX('Calificación Comunidad'!O:O,ROW())=\"Seleccione…\"), \"\", MATCH(INDEX('Calificación Comunidad'!O:O,ROW()), INDEX('Calificación Comunidad'!$H:$K,ROW(),0), 0))","v":""},{"$f":"IF(OR(INDEX('Calificación Comunidad'!P:P,ROW())=\"Sin información\", INDEX('Calificación Comunidad'!P:P,ROW())=\"Seleccione…\"), \"\", MATCH(INDEX('Calificación Comunidad'!P:P,ROW()), INDEX('Calificación Comunidad'!$H:$K,ROW(),0), 0))","v":""},{"$f":"IF(OR(INDEX('Calificación Comunidad'!Q:Q,ROW())=\"Sin información\", INDEX('Calificación Comunidad'!Q:Q,ROW())=\"Seleccione…\"), \"\", MATCH(INDEX('Calificación Comunidad'!Q:Q,ROW()), INDEX('Calificación Comunidad'!$H:$K,ROW(),0), 0))","v":""},{"$f":"IF(OR(INDEX('Calificación Comunidad'!R:R,ROW())=\"Sin información\", INDEX('Calificación Comunidad'!R:R,ROW())=\"Seleccione…\"), \"\", MATCH(INDEX('Calificación Comunidad'!R:R,ROW()), INDEX('Calificación Comunidad'!$H:$K,ROW(),0), 0))","v":""},{"$f":"IF(OR(INDEX('Calificación Comunidad'!S:S,ROW())=\"Sin información\", INDEX('Calificación Comunidad'!S:S,ROW())=\"Seleccione…\"), \"\", MATCH(INDEX('Calificación Comunidad'!S:S,ROW()), INDEX('Calificación Comunidad'!$H:$K,ROW(),0), 0))","v":""},{"$f":"IF(OR(INDEX('Calificación Comunidad'!T:T,ROW())=\"Sin información\", INDEX('Calificación Comunidad'!T:T,ROW())=\"Seleccione…\"), \"\", MATCH(INDEX('Calificación Comunidad'!T:T,ROW()), INDEX('Calificación Comunidad'!$H:$K,ROW(),0), 0))","v":""},{"$f":"IF(OR(INDEX('Calificación Comunidad'!U:U,ROW())=\"Sin información\", INDEX('Calificación Comunidad'!U:U,ROW())=\"Seleccione…\"), \"\", MATCH(INDEX('Calificación Comunidad'!U:U,ROW()), INDEX('Calificación Comunidad'!$H:$K,ROW(),0), 0))","v":""}]
[{"$f":"INDEX('Calificación Comunidad'!B:B,ROW())","v":"Social"},{"$f":"INDEX('Calificación Comunidad'!C:C,ROW())","v":"Impacto de las Iniciativas Energéticas en las Mujeres de la Comunidad"},{"$f":"IF(OR(INDEX('Calificación Comunidad'!L:L,ROW())=\"Sin información\", INDEX('Calificación Comunidad'!L:L,ROW())=\"Seleccione…\"), \"\", MATCH(INDEX('Calificación Comunidad'!L:L,ROW()), INDEX('Calificación Comunidad'!$H:$K,ROW(),0), 0))","v":""},{"$f":"IF(OR(INDEX('Calificación Comunidad'!M:M,ROW())=\"Sin información\", INDEX('Calificación Comunidad'!M:M,ROW())=\"Seleccione…\"), \"\", MATCH(INDEX('Calificación Comunidad'!M:M,ROW()), INDEX('Calificación Comunidad'!$H:$K,ROW(),0), 0))","v":""},{"$f":"IF(OR(INDEX('Calificación Comunidad'!N:N,ROW())=\"Sin información\", INDEX('Calificación Comunidad'!N:N,ROW())=\"Seleccione…\"), \"\", MATCH(INDEX('Calificación Comunidad'!N:N,ROW()), INDEX('Calificación Comunidad'!$H:$K,ROW(),0), 0))","v":""},{"$f":"IF(OR(INDEX('Calificación Comunidad'!O:O,ROW())=\"Sin información\", INDEX('Calificación Comunidad'!O:O,ROW())=\"Seleccione…\"), \"\", MATCH(INDEX('Calificación Comunidad'!O:O,ROW()), INDEX('Calificación Comunidad'!$H:$K,ROW(),0), 0))","v":""},{"$f":"IF(OR(INDEX('Calificación Comunidad'!P:P,ROW())=\"Sin información\", INDEX('Calificación Comunidad'!P:P,ROW())=\"Seleccione…\"), \"\", MATCH(INDEX('Calificación Comunidad'!P:P,ROW()), INDEX('Calificación Comunidad'!$H:$K,ROW(),0), 0))","v":""},{"$f":"IF(OR(INDEX('Calificación Comunidad'!Q:Q,ROW())=\"Sin información\", INDEX('Calificación Comunidad'!Q:Q,ROW())=\"Seleccione…\"), \"\", MATCH(INDEX('Calificación Comunidad'!Q:Q,ROW()), INDEX('Calificación Comunidad'!$H:$K,ROW(),0), 0))","v":""},{"$f":"IF(OR(INDEX('Calificación Comunidad'!R:R,ROW())=\"Sin información\", INDEX('Calificación Comunidad'!R:R,ROW())=\"Seleccione…\"), \"\", MATCH(INDEX('Calificación Comunidad'!R:R,ROW()), INDEX('Calificación Comunidad'!$H:$K,ROW(),0), 0))","v":""},{"$f":"IF(OR(INDEX('Calificación Comunidad'!S:S,ROW())=\"Sin información\", INDEX('Calificación Comunidad'!S:S,ROW())=\"Seleccione…\"), \"\", MATCH(INDEX('Calificación Comunidad'!S:S,ROW()), INDEX('Calificación Comunidad'!$H:$K,ROW(),0), 0))","v":""},{"$f":"IF(OR(INDEX('Calificación Comunidad'!T:T,ROW())=\"Sin información\", INDEX('Calificación Comunidad'!T:T,ROW())=\"Seleccione…\"), \"\", MATCH(INDEX('Calificación Comunidad'!T:T,ROW()), INDEX('Calificación Comunidad'!$H:$K,ROW(),0), 0))","v":""},{"$f":"IF(OR(INDEX('Calificación Comunidad'!U:U,ROW())=\"Sin información\", INDEX('Calificación Comunidad'!U:U,ROW())=\"Seleccione…\"), \"\", MATCH(INDEX('Calificación Comunidad'!U:U,ROW()), INDEX('Calificación Comunidad'!$H:$K,ROW(),0), 0))","v":""}]
[{"$f":"INDEX('Calificación Comunidad'!B:B,ROW())","v":"Social"},{"$f":"INDEX('Calificación Comunidad'!C:C,ROW())","v":"Cumplimiento de consultas previas"},{"$f":"IF(OR(INDEX('Calificación Comunidad'!L:L,ROW())=\"Sin información\", INDEX('Calificación Comunidad'!L:L,ROW())=\"Seleccione…\"), \"\", MATCH(INDEX('Calificación Comunidad'!L:L,ROW()), INDEX('Calificación Comunidad'!$H:$K,ROW(),0), 0))","v":""},{"$f":"IF(OR(INDEX('Calificación Comunidad'!M:M,ROW())=\"Sin información\", INDEX('Calificación Comunidad'!M:M,ROW())=\"Seleccione…\"), \"\", MATCH(INDEX('Calificación Comunidad'!M:M,ROW()), INDEX('Calificación Comunidad'!$H:$K,ROW(),0), 0))","v":""},{"$f":"IF(OR(INDEX('Calificación Comunidad'!N:N,ROW())=\"Sin información\", INDEX('Calificación Comunidad'!N:N,ROW())=\"Seleccione…\"), \"\", MATCH(INDEX('Calificación Comunidad'!N:N,ROW()), INDEX('Calificación Comunidad'!$H:$K,ROW(),0), 0))","v":""},{"$f":"IF(OR(INDEX('Calificación Comunidad'!O:O,ROW())=\"Sin información\", INDEX('Calificación Comunidad'!O:O,ROW())=\"Seleccione…\"), \"\", MATCH(INDEX('Calificación Comunidad'!O:O,ROW()), INDEX('Calificación Comunidad'!$H:$K,ROW(),0), 0))","v":""},{"$f":"IF(OR(INDEX('Calificación Comunidad'!P:P,ROW())=\"Sin información\", INDEX('Calificación Comunidad'!P:P,ROW())=\"Seleccione…\"), \"\", MATCH(INDEX('Calificación Comunidad'!P:P,ROW()), INDEX('Calificación Comunidad'!$H:$K,ROW(),0), 0))","v":""},{"$f":"IF(OR(INDEX('Calificación Comunidad'!Q:Q,ROW())=\"Sin información\", INDEX('Calificación Comunidad'!Q:Q,ROW())=\"Seleccione…\"), \"\", MATCH(INDEX('Calificación Comunidad'!Q:Q,ROW()), INDEX('Calificación Comunidad'!$H:$K,ROW(),0), 0))","v":""},{"$f":"IF(OR(INDEX('Calificación Comunidad'!R:R,ROW())=\"Sin información\", INDEX('Calificación Comunidad'!R:R,ROW())=\"Seleccione…\"), \"\", MATCH(INDEX('Calificación Comunidad'!R:R,ROW()), INDEX('Calificación Comunidad'!$H:$K,ROW(),0), 0))","v":""},{"$f":"IF(OR(INDEX('Calificación Comunidad'!S:S,ROW())=\"Sin información\", INDEX('Calificación Comunidad'!S:S,ROW())=\"Seleccione…\"), \"\", MATCH(INDEX('Calificación Comunidad'!S:S,ROW()), INDEX('Calificación Comunidad'!$H:$K,ROW(),0), 0))","v":""},{"$f":"IF(OR(INDEX('Calificación Comunidad'!T:T,ROW())=\"Sin información\", INDEX('Calificación Comunidad'!T:T,ROW())=\"Seleccione…\"), \"\", MATCH(INDEX('Calificación Comunidad'!T:T,ROW()), INDEX('Calificación Comunidad'!$H:$K,ROW(),0), 0))","v":""},{"$f":"IF(OR(INDEX('Calificación Comunidad'!U:U,ROW())=\"Sin información\", INDEX('Calificación Comunidad'!U:U,ROW())=\"Seleccione…\"), \"\", MATCH(INDEX('Calificación Comunidad'!U:U,ROW()), INDEX('Calificación Comunidad'!$H:$K,ROW(),0), 0))","v":""}]
[{"$f":"INDEX('Calificación Comunidad'!B:B,ROW())","v":"Técnico"},{"$f":"INDEX('Calificación Comunidad'!C:C,ROW())","v":"¿Se trata de una comunidad ya postulada y focalizada?"},{"$f":"IF(OR(INDEX('Calificación Comunidad'!L:L,ROW())=\"Sin información\", INDEX('Calificación Comunidad'!L:L,ROW())=\"Seleccione…\"), \"\", MATCH(INDEX('Calificación Comunidad'!L:L,ROW()), INDEX('Calificación Comunidad'!$H:$K,ROW(),0), 0))","v":""},{"$f":"IF(OR(INDEX('Calificación Comunidad'!M:M,ROW())=\"Sin información\", INDEX('Calificación Comunidad'!M:M,ROW())=\"Seleccione…\"), \"\", MATCH(INDEX('Calificación Comunidad'!M:M,ROW()), INDEX('Calificación Comunidad'!$H:$K,ROW(),0), 0))","v":""},{"$f":"IF(OR(INDEX('Calificación Comunidad'!N:N,ROW())=\"Sin información\", INDEX('Calificación Comunidad'!N:N,ROW())=\"Seleccione…\"), \"\", MATCH(INDEX('Calificación Comunidad'!N:N,ROW()), INDEX('Calificación Comunidad'!$H:$K,ROW(),0), 0))","v":""},{"$f":"IF(OR(INDEX('Calificación Comunidad'!O:O,ROW())=\"Sin información\", INDEX('Calificación Comunidad'!O:O,ROW())=\"Seleccione…\"), \"\", MATCH(INDEX('Calificación Comunidad'!O:O,ROW()), INDEX('Calificación Comunidad'!$H:$K,ROW(),0), 0))","v":""},{"$f":"IF(OR(INDEX('Calificación Comunidad'!P:P,ROW())=\"Sin información\", INDEX('Calificación Comunidad'!P:P,ROW())=\"Seleccione…\"), \"\", MATCH(INDEX('Calificación Comunidad'!P:P,ROW()), INDEX('Calificación Comunidad'!$H:$K,ROW(),0), 0))","v":""},{"$f":"IF(OR(INDEX('Calificación Comunidad'!Q:Q,ROW())=\"Sin información\", INDEX('Calificación Comunidad'!Q:Q,ROW())=\"Seleccione…\"), \"\", MATCH(INDEX('Calificación Comunidad'!Q:Q,ROW()), INDEX('Calificación Comunidad'!$H:$K,ROW(),0), 0))","v":""},{"$f":"IF(OR(INDEX('Calificación Comunidad'!R:R,ROW())=\"Sin información\", INDEX('Calificación Comunidad'!R:R,ROW())=\"Seleccione…\"), \"\", MATCH(INDEX('Calificación Comunidad'!R:R,ROW()), INDEX('Calificación Comunidad'!$H:$K,ROW(),0), 0))","v":""},{"$f":"IF(OR(INDEX('Calificación Comunidad'!S:S,ROW())=\"Sin información\", INDEX('Calificación Comunidad'!S:S,ROW())=\"Seleccione…\"), \"\", MATCH(INDEX('Calificación Comunidad'!S:S,ROW()), INDEX('Calificación Comunidad'!$H:$K,ROW(),0), 0))","v":""},{"$f":"IF(OR(INDEX('Calificación Comunidad'!T:T,ROW())=\"Sin información\", INDEX('Calificación Comunidad'!T:T,ROW())=\"Seleccione…\"), \"\", MATCH(INDEX('Calificación Comunidad'!T:T,ROW()), INDEX('Calificación Comunidad'!$H:$K,ROW(),0), 0))","v":""},{"$f":"IF(OR(INDEX('Calificación Comunidad'!U:U,ROW())=\"Sin información\", INDEX('Calificación Comunidad'!U:U,ROW())=\"Seleccione…\"), \"\", MATCH(INDEX('Calificación Comunidad'!U:U,ROW()), INDEX('Calificación Comunidad'!$H:$K,ROW(),0), 0))","v":""}]
[{"$f":"INDEX('Calificación Comunidad'!B:B,ROW())","v":"Técnico"},{"$f":"INDEX('Calificación Comunidad'!C:C,ROW())","v":"Ahorro de energía de la red"},{"$f":"IF(OR(INDEX('Calificación Comunidad'!L:L,ROW())=\"Sin información\", INDEX('Calificación Comunidad'!L:L,ROW())=\"Seleccione…\"), \"\", MATCH(INDEX('Calificación Comunidad'!L:L,ROW()), INDEX('Calificación Comunidad'!$H:$K,ROW(),0), 0))","v":""},{"$f":"IF(OR(INDEX('Calificación Comunidad'!M:M,ROW())=\"Sin información\", INDEX('Calificación Comunidad'!M:M,ROW())=\"Seleccione…\"), \"\", MATCH(INDEX('Calificación Comunidad'!M:M,ROW()), INDEX('Calificación Comunidad'!$H:$K,ROW(),0), 0))","v":""},{"$f":"IF(OR(INDEX('Calificación Comunidad'!N:N,ROW())=\"Sin información\", INDEX('Calificación Comunidad'!N:N,ROW())=\"Seleccione…\"), \"\", MATCH(INDEX('Calificación Comunidad'!N:N,ROW()), INDEX('Calificación Comunidad'!$H:$K,ROW(),0), 0))","v":""},{"$f":"IF(OR(INDEX('Calificación Comunidad'!O:O,ROW())=\"Sin información\", INDEX('Calificación Comunidad'!O:O,ROW())=\"Seleccione…\"), \"\", MATCH(INDEX('Calificación Comunidad'!O:O,ROW()), INDEX('Calificación Comunidad'!$H:$K,ROW(),0), 0))","v":""},{"$f":"IF(OR(INDEX('Calificación Comunidad'!P:P,ROW())=\"Sin información\", INDEX('Calificación Comunidad'!P:P,ROW())=\"Seleccione…\"), \"\", MATCH(INDEX('Calificación Comunidad'!P:P,ROW()), INDEX('Calificación Comunidad'!$H:$K,ROW(),0), 0))","v":""},{"$f":"IF(OR(INDEX('Calificación Comunidad'!Q:Q,ROW())=\"Sin información\", INDEX('Calificación Comunidad'!Q:Q,ROW())=\"Seleccione…\"), \"\", MATCH(INDEX('Calificación Comunidad'!Q:Q,ROW()), INDEX('Calificación Comunidad'!$H:$K,ROW(),0), 0))","v":""},{"$f":"IF(OR(INDEX('Calificación Comunidad'!R:R,ROW())=\"Sin información\", INDEX('Calificación Comunidad'!R:R,ROW())=\"Seleccione…\"), \"\", MATCH(INDEX('Calificación Comunidad'!R:R,ROW()), INDEX('Calificación Comunidad'!$H:$K,ROW(),0), 0))","v":""},{"$f":"IF(OR(INDEX('Calificación Comunidad'!S:S,ROW())=\"Sin información\", INDEX('Calificación Comunidad'!S:S,ROW())=\"Seleccione…\"), \"\", MATCH(INDEX('Calificación Comunidad'!S:S,ROW()), INDEX('Calificación Comunidad'!$H:$K,ROW(),0), 0))","v":""},{"$f":"IF(OR(INDEX('Calificación Comunidad'!T:T,ROW())=\"Sin información\", INDEX('Calificación Comunidad'!T:T,ROW())=\"Seleccione…\"), \"\", MATCH(INDEX('Calificación Comunidad'!T:T,ROW()), INDEX('Calificación Comunidad'!$H:$K,ROW(),0), 0))","v":""},{"$f":"IF(OR(INDEX('Calificación Comunidad'!U:U,ROW())=\"Sin información\", INDEX('Calificación Comunidad'!U:U,ROW())=\"Seleccione…\"), \"\", MATCH(INDEX('Calificación Comunidad'!U:U,ROW()), INDEX('Calificación Comunidad'!$H:$K,ROW(),0), 0))","v":""}]
[{"$f":"INDEX('Calificación Comunidad'!B:B,ROW())","v":"Técnico"},{"$f":"INDEX('Calificación Comunidad'!C:C,ROW())","v":"Capacidad técnica local (no siempre es esencial, ya que la capacitación puede ser parte del proyecto.)"},{"$f":"IF(OR(INDEX('Calificación Comunidad'!L:L,ROW())=\"Sin información\", INDEX('Calificación Comunidad'!L:L,ROW())=\"Seleccione…\"), \"\", MATCH(INDEX('Calificación Comunidad'!L:L,ROW()), INDEX('Calificación Comunidad'!$H:$K,ROW(),0), 0))","v":""},{"$f":"IF(OR(INDEX('Calificación Comunidad'!M:M,ROW())=\"Sin información\", INDEX('Calificación Comunidad'!M:M,ROW())=\"Seleccione…\"), \"\", MATCH(INDEX('Calificación Comunidad'!M:M,ROW()), INDEX('Calificación Comunidad'!$H:$K,ROW(),0), 0))","v":""},{"$f":"IF(OR(INDEX('Calificación Comunidad'!N:N,ROW())=\"Sin información\", INDEX('Calificación Comunidad'!N:N,ROW())=\"Seleccione…\"), \"\", MATCH(INDEX('Calificación Comunidad'!N:N,ROW()), INDEX('Calificación Comunidad'!$H:$K,ROW(),0), 0))","v":""},{"$f":"IF(OR(INDEX('Calificación Comunidad'!O:O,ROW())=\"Sin información\", INDEX('Calificación Comunidad'!O:O,ROW())=\"Seleccione…\"), \"\", MATCH(INDEX('Calificación Comunidad'!O:O,ROW()), INDEX('Calificación Comunidad'!$H:$K,ROW(),0), 0))","v":""},{"$f":"IF(OR(INDEX('Calificación Comunidad'!P:P,ROW())=\"Sin información\", INDEX('Calificación Comunidad'!P:P,ROW())=\"Seleccione…\"), \"\", MATCH(INDEX('Calificación Comunidad'!P:P,ROW()), INDEX('Calificación Comunidad'!$H:$K,ROW(),0), 0))","v":""},{"$f":"IF(OR(INDEX('Calificación Comunidad'!Q:Q,ROW())=\"Sin información\", INDEX('Calificación Comunidad'!Q:Q,ROW())=\"Seleccione…\"), \"\", MATCH(INDEX('Calificación Comunidad'!Q:Q,ROW()), INDEX('Calificación Comunidad'!$H:$K,ROW(),0), 0))","v":""},{"$f":"IF(OR(INDEX('Calificación Comunidad'!R:R,ROW())=\"Sin información\", INDEX('Calificación Comunidad'!R:R,ROW())=\"Seleccione…\"), \"\", MATCH(INDEX('Calificación Comunidad'!R:R,ROW()), INDEX('Calificación Comunidad'!$H:$K,ROW(),0), 0))","v":""},{"$f":"IF(OR(INDEX('Calificación Comunidad'!S:S,ROW())=\"Sin información\", INDEX('Calificación Comunidad'!S:S,ROW())=\"Seleccione…\"), \"\", MATCH(INDEX('Calificación Comunidad'!S:S,ROW()), INDEX('Calificación Comunidad'!$H:$K,ROW(),0), 0))","v":""},{"$f":"IF(OR(INDEX('Calificación Comunidad'!T:T,ROW())=\"Sin información\", INDEX('Calificación Comunidad'!T:T,ROW())=\"Seleccione…\"), \"\", MATCH(INDEX('Calificación Comunidad'!T:T,ROW()), INDEX('Calificación Comunidad'!$H:$K,ROW(),0), 0))","v":""},{"$f":"IF(OR(INDEX('Calificación Comunidad'!U:U,ROW())=\"Sin información\", INDEX('Calificación Comunidad'!U:U,ROW())=\"Seleccione…\"), \"\", MATCH(INDEX('Calificación Comunidad'!U:U,ROW()), INDEX('Calificación Comunidad'!$H:$K,ROW(),0), 0))","v":""}]
[{"$f":"INDEX('Calificación Comunidad'!B:B,ROW())","v":"Técnico"},{"$f":"INDEX('Calificación Comunidad'!C:C,ROW())","v":"Grado de avance del sistema energético que se proyecta implementar"},{"$f":"IF(OR(INDEX('Calificación Comunidad'!L:L,ROW())=\"Sin información\", INDEX('Calificación Comunidad'!L:L,ROW())=\"Seleccione…\"), \"\", MATCH(INDEX('Calificación Comunidad'!L:L,ROW()), INDEX('Calificación Comunidad'!$H:$K,ROW(),0), 0))","v":""},{"$f":"IF(OR(INDEX('Calificación Comunidad'!M:M,ROW())=\"Sin información\", INDEX('Calificación Comunidad'!M:M,ROW())=\"Seleccione…\"), \"\", MATCH(INDEX('Calificación Comunidad'!M:M,ROW()), INDEX('Calificación Comunidad'!$H:$K,ROW(),0), 0))","v":""},{"$f":"IF(OR(INDEX('Calificación Comunidad'!N:N,ROW())=\"Sin información\", INDEX('Calificación Comunidad'!N:N,ROW())=\"Seleccione…\"), \"\", MATCH(INDEX('Calificación Comunidad'!N:N,ROW()), INDEX('Calificación Comunidad'!$H:$K,ROW(),0), 0))","v":""},{"$f":"IF(OR(INDEX('Calificación Comunidad'!O:O,ROW())=\"Sin información\", INDEX('Calificación Comunidad'!O:O,ROW())=\"Seleccione…\"), \"\", MATCH(INDEX('Calificación Comunidad'!O:O,ROW()), INDEX('Calificación Comunidad'!$H:$K,ROW(),0), 0))","v":""},{"$f":"IF(OR(INDEX('Calificación Comunidad'!P:P,ROW())=\"Sin información\", INDEX('Calificación Comunidad'!P:P,ROW())=\"Seleccione…\"), \"\", MATCH(INDEX('Calificación Comunidad'!P:P,ROW()), INDEX('Calificación Comunidad'!$H:$K,ROW(),0), 0))","v":""},{"$f":"IF(OR(INDEX('Calificación Comunidad'!Q:Q,ROW())=\"Sin información\", INDEX('Calificación Comunidad'!Q:Q,ROW())=\"Seleccione…\"), \"\", MATCH(INDEX('Calificación Comunidad'!Q:Q,ROW()), INDEX('Calificación Comunidad'!$H:$K,ROW(),0), 0))","v":""},{"$f":"IF(OR(INDEX('Calificación Comunidad'!R:R,ROW())=\"Sin información\", INDEX('Calificación Comunidad'!R:R,ROW())=\"Seleccione…\"), \"\", MATCH(INDEX('Calificación Comunidad'!R:R,ROW()), INDEX('Calificación Comunidad'!$H:$K,ROW(),0), 0))","v":""},{"$f":"IF(OR(INDEX('Calificación Comunidad'!S:S,ROW())=\"Sin información\", INDEX('Calificación Comunidad'!S:S,ROW())=\"Seleccione…\"), \"\", MATCH(INDEX('Calificación Comunidad'!S:S,ROW()), INDEX('Calificación Comunidad'!$H:$K,ROW(),0), 0))","v":""},{"$f":"IF(OR(INDEX('Calificación Comunidad'!T:T,ROW())=\"Sin información\", INDEX('Calificación Comunidad'!T:T,ROW())=\"Seleccione…\"), \"\", MATCH(INDEX('Calificación Comunidad'!T:T,ROW()), INDEX('Calificación Comunidad'!$H:$K,ROW(),0), 0))","v":""},{"$f":"IF(OR(INDEX('Calificación Comunidad'!U:U,ROW())=\"Sin información\", INDEX('Calificación Comunidad'!U:U,ROW())=\"Seleccione…\"), \"\", MATCH(INDEX('Calificación Comunidad'!U:U,ROW()), INDEX('Calificación Comunidad'!$H:$K,ROW(),0), 0))","v":""}]
[{"$f":"INDEX('Calificación Comunidad'!B:B,ROW())","v":"Técnico"},{"$f":"INDEX('Calificación Comunidad'!C:C,ROW())","v":"Pérdidas de Energía Eléctrica"},{"$f":"IF(OR(INDEX('Calificación Comunidad'!L:L,ROW())=\"Sin información\", INDEX('Calificación Comunidad'!L:L,ROW())=\"Seleccione…\"), \"\", MATCH(INDEX('Calificación Comunidad'!L:L,ROW()), INDEX('Calificación Comunidad'!$H:$K,ROW(),0), 0))","v":""},{"$f":"IF(OR(INDEX('Calificación Comunidad'!M:M,ROW())=\"Sin información\", INDEX('Calificación Comunidad'!M:M,ROW())=\"Seleccione…\"), \"\", MATCH(INDEX('Calificación Comunidad'!M:M,ROW()), INDEX('Calificación Comunidad'!$H:$K,ROW(),0), 0))","v":""},{"$f":"IF(OR(INDEX('Calificación Comunidad'!N:N,ROW())=\"Sin información\", INDEX('Calificación Comunidad'!N:N,ROW())=\"Seleccione…\"), \"\", MATCH(INDEX('Calificación Comunidad'!N:N,ROW()), INDEX('Calificación Comunidad'!$H:$K,ROW(),0), 0))","v":""},{"$f":"IF(OR(INDEX('Calificación Comunidad'!O:O,ROW())=\"Sin información\", INDEX('Calificación Comunidad'!O:O,ROW())=\"Seleccione…\"), \"\", MATCH(INDEX('Calificación Comunidad'!O:O,ROW()), INDEX('Calificación Comunidad'!$H:$K,ROW(),0), 0))","v":""},{"$f":"IF(OR(INDEX('Calificación Comunidad'!P:P,ROW())=\"Sin información\", INDEX('Calificación Comunidad'!P:P,ROW())=\"Seleccione…\"), \"\", MATCH(INDEX('Calificación Comunidad'!P:P,ROW()), INDEX('Calificación Comunidad'!$H:$K,ROW(),0), 0))","v":""},{"$f":"IF(OR(INDEX('Calificación Comunidad'!Q:Q,ROW())=\"Sin información\", INDEX('Calificación Comunidad'!Q:Q,ROW())=\"Seleccione…\"), \"\", MATCH(INDEX('Calificación Comunidad'!Q:Q,ROW()), INDEX('Calificación Comunidad'!$H:$K,ROW(),0), 0))","v":""},{"$f":"IF(OR(INDEX('Calificación Comunidad'!R:R,ROW())=\"Sin información\", INDEX('Calificación Comunidad'!R:R,ROW())=\"Seleccione…\"), \"\", MATCH(INDEX('Calificación Comunidad'!R:R,ROW()), INDEX('Calificación Comunidad'!$H:$K,ROW(),0), 0))","v":""},{"$f":"IF(OR(INDEX('Calificación Comunidad'!S:S,ROW())=\"Sin información\", INDEX('Calificación Comunidad'!S:S,ROW())=\"Seleccione…\"), \"\", MATCH(INDEX('Calificación Comunidad'!S:S,ROW()), INDEX('Calificación Comunidad'!$H:$K,ROW(),0), 0))","v":""},{"$f":"IF(OR(INDEX('Calificación Comunidad'!T:T,ROW())=\"Sin información\", INDEX('Calificación Comunidad'!T:T,ROW())=\"Seleccione…\"), \"\", MATCH(INDEX('Calificación Comunidad'!T:T,ROW()), INDEX('Calificación Comunidad'!$H:$K,ROW(),0), 0))","v":""},{"$f":"IF(OR(INDEX('Calificación Comunidad'!U:U,ROW())=\"Sin información\", INDEX('Calificación Comunidad'!U:U,ROW())=\"Seleccione…\"), \"\", MATCH(INDEX('Calificación Comunidad'!U:U,ROW()), INDEX('Calificación Comunidad'!$H:$K,ROW(),0), 0))","v":""}]
[{"$f":"INDEX('Calificación Comunidad'!B:B,ROW())","v":"Técnico"},{"$f":"INDEX('Calificación Comunidad'!C:C,ROW())","v":"Calidad del servicio (Frecuencia y duración de interrupciones)"},{"$f":"IF(OR(INDEX('Calificación Comunidad'!L:L,ROW())=\"Sin información\", INDEX('Calificación Comunidad'!L:L,ROW())=\"Seleccione…\"), \"\", MATCH(INDEX('Calificación Comunidad'!L:L,ROW()), INDEX('Calificación Comunidad'!$H:$K,ROW(),0), 0))","v":""},{"$f":"IF(OR(INDEX('Calificación Comunidad'!M:M,ROW())=\"Sin información\", INDEX('Calificación Comunidad'!M:M,ROW())=\"Seleccione…\"), \"\", MATCH(INDEX('Calificación Comunidad'!M:M,ROW()), INDEX('Calificación Comunidad'!$H:$K,ROW(),0), 0))","v":""},{"$f":"IF(OR(INDEX('Calificación Comunidad'!N:N,ROW())=\"Sin información\", INDEX('Calificación Comunidad'!N:N,ROW())=\"Seleccione…\"), \"\", MATCH(INDEX('Calificación Comunidad'!N:N,ROW()), INDEX('Calificación Comunidad'!$H:$K,ROW(),0), 0))","v":""},{"$f":"IF(OR(INDEX('Calificación Comunidad'!O:O,ROW())=\"Sin información\", INDEX('Calificación Comunidad'!O:O,ROW())=\"Seleccione…\"), \"\", MATCH(INDEX('Calificación Comunidad'!O:O,ROW()), INDEX('Calificación Comunidad'!$H:$K,ROW(),0), 0))","v":""},{"$f":"IF(OR(INDEX('Calificación Comunidad'!P:P,ROW())=\"Sin información\", INDEX('Calificación Comunidad'!P:P,ROW())=\"Seleccione…\"), \"\", MATCH(INDEX('Calificación Comunidad'!P:P,ROW()), INDEX('Calificación Comunidad'!$H:$K,ROW(),0), 0))","v":""},{"$f":"IF(OR(INDEX('Calificación Comunidad'!Q:Q,ROW())=\"Sin información\", INDEX('Calificación Comunidad'!Q:Q,ROW())=\"Seleccione…\"), \"\", MATCH(INDEX('Calificación Comunidad'!Q:Q,ROW()), INDEX('Calificación Comunidad'!$H:$K,ROW(),0), 0))","v":""},{"$f":"IF(OR(INDEX('Calificación Comunidad'!R:R,ROW())=\"Sin información\", INDEX('Calificación Comunidad'!R:R,ROW())=\"Seleccione…\"), \"\", MATCH(INDEX('Calificación Comunidad'!R:R,ROW()), INDEX('Calificación Comunidad'!$H:$K,ROW(),0), 0))","v":""},{"$f":"IF(OR(INDEX('Calificación Comunidad'!S:S,ROW())=\"Sin información\", INDEX('Calificación Comunidad'!S:S,ROW())=\"Seleccione…\"), \"\", MATCH(INDEX('Calificación Comunidad'!S:S,ROW()), INDEX('Calificación Comunidad'!$H:$K,ROW(),0), 0))","v":""},{"$f":"IF(OR(INDEX('Calificación Comunidad'!T:T,ROW())=\"Sin información\", INDEX('Calificación Comunidad'!T:T,ROW())=\"Seleccione…\"), \"\", MATCH(INDEX('Calificación Comunidad'!T:T,ROW()), INDEX('Calificación Comunidad'!$H:$K,ROW(),0), 0))","v":""},{"$f":"IF(OR(INDEX('Calificación Comunidad'!U:U,ROW())=\"Sin información\", INDEX('Calificación Comunidad'!U:U,ROW())=\"Seleccione…\"), \"\", MATCH(INDEX('Calificación Comunidad'!U:U,ROW()), INDEX('Calificación Comunidad'!$H:$K,ROW(),0), 0))","v":""}]
[{"$f":"INDEX('Calificación Comunidad'!B:B,ROW())","v":0},{"$f":"INDEX('Calificación Comunidad'!C:C,ROW())","v":0},{"$f":"IF(OR(INDEX('Calificación Comunidad'!L:L,ROW())=\"Sin información\", INDEX('Calificación Comunidad'!L:L,ROW())=\"Seleccione…\"), \"\", MATCH(INDEX('Calificación Comunidad'!L:L,ROW()), INDEX('Calificación Comunidad'!$H:$K,ROW(),0), 0))","v":{"$error":"#N/A"}},{"$f":"IF(OR(INDEX('Calificación Comunidad'!M:M,ROW())=\"Sin información\", INDEX('Calificación Comunidad'!M:M,ROW())=\"Seleccione…\"), \"\", MATCH(INDEX('Calificación Comunidad'!M:M,ROW()), INDEX('Calificación Comunidad'!$H:$K,ROW(),0), 0))","v":{"$error":"#N/A"}},{"$f":"IF(OR(INDEX('Calificación Comunidad'!N:N,ROW())=\"Sin información\", INDEX('Calificación Comunidad'!N:N,ROW())=\"Seleccione…\"), \"\", MATCH(INDEX('Calificación Comunidad'!N:N,ROW()), INDEX('Calificación Comunidad'!$H:$K,ROW(),0), 0))","v":{"$error":"#N/A"}},{"$f":"IF(OR(INDEX('Calificación Comunidad'!O:O,ROW())=\"Sin información\", INDEX('Calificación Comunidad'!O:O,ROW())=\"Seleccione…\"), \"\", MATCH(INDEX('Calificación Comunidad'!O:O,ROW()), INDEX('Calificación Comunidad'!$H:$K,ROW(),0), 0))","v":{"$error":"#N/A"}},{"$f":"IF(OR(INDEX('Calificación Comunidad'!P:P,ROW())=\"Sin información\", INDEX('Calificación Comunidad'!P:P,ROW())=\"Seleccione…\"), \"\", MATCH(INDEX('Calificación Comunidad'!P:P,ROW()), INDEX('Calificación Comunidad'!$H:$K,ROW(),0), 0))","v":{"$error":"#N/A"}},{"$f":"IF(OR(INDEX('Calificación Comunidad'!Q:Q,ROW())=\"Sin información\", INDEX('Calificación Comunidad'!Q:Q,ROW())=\"Seleccione…\"), \"\", MATCH(INDEX('Calificación Comunidad'!Q:Q,ROW()), INDEX('Calificación Comunidad'!$H:$K,ROW(),0), 0))","v":{"$error":"#N/A"}},{"$f":"IF(OR(INDEX('Calificación Comunidad'!R:R,ROW())=\"Sin información\", INDEX('Calificación Comunidad'!R:R,ROW())=\"Seleccione…\"), \"\", MATCH(INDEX('Calificación Comunidad'!R:R,ROW()), INDEX('Calificación Comunidad'!$H:$K,ROW(),0), 0))","v":{"$error":"#N/A"}},{"$f":"IF(OR(INDEX('Calificación Comunidad'!S:S,ROW())=\"Sin información\", INDEX('Calificación Comunidad'!S:S,ROW())=\"Seleccione…\"), \"\", MATCH(INDEX('Calificación Comunidad'!S:S,ROW()), INDEX('Calificación Comunidad'!$H:$K,ROW(),0), 0))","v":{"$error":"#N/A"}},{"$f":"IF(OR(INDEX('Calificación Comunidad'!T:T,ROW())=\"Sin información\", INDEX('Calificación Comunidad'!T:T,ROW())=\"Seleccione…\"), \"\", MATCH(INDEX('Calificación Comunidad'!T:T,ROW()), INDEX('Calificación Comunidad'!$H:$K,ROW(),0), 0))","v":{"$error":"#N/A"}},{"$f":"IF(OR(INDEX('Calificación Comunidad'!U:U,ROW())=\"Sin información\", INDEX('Calificación Comunidad'!U:U,ROW())=\"Seleccione…\"), \"\", MATCH(INDEX('Calificación Comunidad'!U:U,ROW()), INDEX('Calificación Comunidad'!$H:$K,ROW(),0), 0))","v":{"$error":"#N/A"}}]
[{"$f":"INDEX('Calificación Comunidad'!B:B,ROW())","v":0},{"$f":"INDEX('Calificación Comunidad'!C:C,ROW())","v":0},{"$f":"IF(OR(INDEX('Calificación Comunidad'!L:L,ROW())=\"Sin información\", INDEX('Calificación Comunidad'!L:L,ROW())=\"Seleccione…\"), \"\", MATCH(INDEX('Calificación Comunidad'!L:L,ROW()), INDEX('Calificación Comunidad'!$H:$K,ROW(),0), 0))","v":{"$error":"#N/A"}},{"$f":"IF(OR(INDEX('Calificación Comunidad'!M:M,ROW())=\"Sin información\", INDEX('Calificación Comunidad'!M:M,ROW())=\"Seleccione…\"), \"\", MATCH(INDEX('Calificación Comunidad'!M:M,ROW()), INDEX('Calificación Comunidad'!$H:$K,ROW(),0), 0))","v":{"$error":"#N/A"}},{"$f":"IF(OR(INDEX('Calificación Comunidad'!N:N,ROW())=\"Sin información\", INDEX('Calificación Comunidad'!N:N,ROW())=\"Seleccione…\"), \"\", MATCH(INDEX('Calificación Comunidad'!N:N,ROW()), INDEX('Calificación Comunidad'!$H:$K,ROW(),0), 0))","v":{"$error":"#N/A"}},{"$f":"IF(OR(INDEX('Calificación Comunidad'!O:O,ROW())=\"Sin información\", INDEX('Calificación Comunidad'!O:O,ROW())=\"Seleccione…\"), \"\", MATCH(INDEX('Calificación Comunidad'!O:O,ROW()), INDEX('Calificación Comunidad'!$H:$K,ROW(),0), 0))","v":{"$error":"#N/A"}},{"$f":"IF(OR(INDEX('Calificación Comunidad'!P:P,ROW())=\"Sin información\", INDEX('Calificación Comunidad'!P:P,ROW())=\"Seleccione…\"), \"\", MATCH(INDEX('Calificación Comunidad'!P:P,ROW()), INDEX('Calificación Comunidad'!$H:$K,ROW(),0), 0))","v":{"$error":"#N/A"}},{"$f":"IF(OR(INDEX('Calificación Comunidad'!Q:Q,ROW())=\"Sin información\", INDEX('Calificación Comunidad'!Q:Q,ROW())=\"Seleccione…\"), \"\", MATCH(INDEX('Calificación Comunidad'!Q:Q,ROW()), INDEX('Calificación Comunidad'!$H:$K,ROW(),0), 0))","v":{"$error":"#N/A"}},{"$f":"IF(OR(INDEX('Calificación Comunidad'!R:R,ROW())=\"Sin información\", INDEX('Calificación Comunidad'!R:R,ROW())=\"Seleccione…\"), \"\", MATCH(INDEX('Calificación Comunidad'!R:R,ROW()), INDEX('Calificación Comunidad'!$H:$K,ROW(),0), 0))","v":{"$error":"#N/A"}},{"$f":"IF(OR(INDEX('Calificación Comunidad'!S:S,ROW())=\"Sin información\", INDEX('Calificación Comunidad'!S:S,ROW())=\"Seleccione…\"), \"\", MATCH(INDEX('Calificación Comunidad'!S:S,ROW()), INDEX('Calificación Comunidad'!$H:$K,ROW(),0), 0))","v":{"$error":"#N/A"}},{"$f":"IF(OR(INDEX('Calificación Comunidad'!T:T,ROW())=\"Sin información\", INDEX('Calificación Comunidad'!T:T,ROW())=\"Seleccione…\"), \"\", MATCH(INDEX('Calificación Comunidad'!T:T,ROW()), INDEX('Calificación Comunidad'!$H:$K,ROW(),0), 0))","v":{"$error":"#N/A"}},{"$f":"IF(OR(INDEX('Calificación Comunidad'!U:U,ROW())=\"Sin información\", INDEX('Calificación Comunidad'!U:U,ROW())=\"Seleccione…\"), \"\", MATCH(INDEX('Calificación Comunidad'!U:U,ROW()), INDEX('Calificación Comunidad'!$H:$K,ROW(),0), 0))","v":{"$error":"#N/A"}}]
[{"$f":"INDEX('Calificación Comunidad'!B:B,ROW())","v":0},{"$f":"INDEX('Calificación Comunidad'!C:C,ROW())","v":0},{"$f":"IF(OR(INDEX('Calificación Comunidad'!L:L,ROW())=\"Sin información\", INDEX('Calificación Comunidad'!L:L,ROW())=\"Seleccione…\"), \"\", MATCH(INDEX('Calificación Comunidad'!L:L,ROW()), INDEX('Calificación Comunidad'!$H:$K,ROW(),0), 0))","v":{"$error":"#N/A"}},{"$f":"IF(OR(INDEX('Calificación Comunidad'!M:M,ROW())=\"Sin información\", INDEX('Calificación Comunidad'!M:M,ROW())=\"Seleccione…\"), \"\", MATCH(INDEX('Calificación Comunidad'!M:M,ROW()), INDEX('Calificación Comunidad'!$H:$K,ROW(),0), 0))","v":{"$error":"#N/A"}},{"$f":"IF(OR(INDEX('Calificación Comunidad'!N:N,ROW())=\"Sin información\", INDEX('Calificación Comunidad'!N:N,ROW())=\"Seleccione…\"), \"\", MATCH(INDEX('Calificación Comunidad'!N:N,ROW()), INDEX('Calificación Comunidad'!$H:$K,ROW(),0), 0))","v":{"$error":"#N/A"}},{"$f":"IF(OR(INDEX('Calificación Comunidad'!O:O,ROW())=\"Sin información\", INDEX('Calificación Comunidad'!O:O,ROW())=\"Seleccione…\"), \"\", MATCH(INDEX('Calificación Comunidad'!O:O,ROW()), INDEX('Calificación Comunidad'!$H:$K,ROW(),0), 0))","v":{"$error":"#N/A"}},{"$f":"IF(OR(INDEX('Calificación Comunidad'!P:P,ROW())=\"Sin información\", INDEX('Calificación Comunidad'!P:P,ROW())=\"Seleccione…\"), \"\", MATCH(INDEX('Calificación Comunidad'!P:P,ROW()), INDEX('Calificación Comunidad'!$H:$K,ROW(),0), 0))","v":{"$error":"#N/A"}},{"$f":"IF(OR(INDEX('Calificación Comunidad'!Q:Q,ROW())=\"Sin información\", INDEX('Calificación Comunidad'!Q:Q,ROW())=\"Seleccione…\"), \"\", MATCH(INDEX('Calificación Comunidad'!Q:Q,ROW()), INDEX('Calificación Comunidad'!$H:$K,ROW(),0), 0))","v":{"$error":"#N/A"}},{"$f":"IF(OR(INDEX('Calificación Comunidad'!R:R,ROW())=\"Sin información\", INDEX('Calificación Comunidad'!R:R,ROW())=\"Seleccione…\"), \"\", MATCH(INDEX('Calificación Comunidad'!R:R,ROW()), INDEX('Calificación Comunidad'!$H:$K,ROW(),0), 0))","v":{"$error":"#N/A"}},{"$f":"IF(OR(INDEX('Calificación Comunidad'!S:S,ROW())=\"Sin información\", INDEX('Calificación Comunidad'!S:S,ROW())=\"Seleccione…\"), \"\", MATCH(INDEX('Calificación Comunidad'!S:S,ROW()), INDEX('Calificación Comunidad'!$H:$K,ROW(),0), 0))","v":{"$error":"#N/A"}},{"$f":"IF(OR(INDEX('Calificación Comunidad'!T:T,ROW())=\"Sin información\", INDEX('Calificación Comunidad'!T:T,ROW())=\"Seleccione…\"), \"\", MATCH(INDEX('Calificación Comunidad'!T:T,ROW()), INDEX('Calificación Comunidad'!$H:$K,ROW(),0), 0))","v":{"$error":"#N/A"}},{"$f":"IF(OR(INDEX('Calificación Comunidad'!U:U,ROW())=\"Sin información\", INDEX('Calificación Comunidad'!U:U,ROW())=\"Seleccione…\"), \"\", MATCH(INDEX('Calificación Comunidad'!U:U,ROW()), INDEX('Calificación Comunidad'!$H:$K,ROW(),0), 0))","v":{"$error":"#N/A"}}]
[{"$f":"INDEX('Calificación Comunidad'!B:B,ROW())","v":0},{"$f":"INDEX('Calificación Comunidad'!C:C,ROW())","v":0},{"$f":"IF(OR(INDEX('Calificación Comunidad'!L:L,ROW())=\"Sin información\", INDEX('Calificación Comunidad'!L:L,ROW())=\"Seleccione…\"), \"\", MATCH(INDEX('Calificación Comunidad'!L:L,ROW()), INDEX('Calificación Comunidad'!$H:$K,ROW(),0), 0))","v":{"$error":"#N/A"}},{"$f":"IF(OR(INDEX('Calificación Comunidad'!M:M,ROW())=\"Sin información\", INDEX('Calificación Comunidad'!M:M,ROW())=\"Seleccione…\"), \"\", MATCH(INDEX('Calificación Comunidad'!M:M,ROW()), INDEX('Calificación Comunidad'!$H:$K,ROW(),0), 0))","v":{"$error":"#N/A"}},{"$f":"IF(OR(INDEX('Calificación Comunidad'!N:N,ROW())=\"Sin información\", INDEX('Calificación Comunidad'!N:N,ROW())=\"Seleccione…\"), \"\", MATCH(INDEX('Calificación Comunidad'!N:N,ROW()), INDEX('Calificación Comunidad'!$H:$K,ROW(),0), 0))","v":{"$error":"#N/A"}},{"$f":"IF(OR(INDEX('Calificación Comunidad'!O:O,ROW())=\"Sin información\", INDEX('Calificación Comunidad'!O:O,ROW())=\"Seleccione…\"), \"\", MATCH(INDEX('Calificación Comunidad'!O:O,ROW()), INDEX('Calificación Comunidad'!$H:$K,ROW(),0), 0))","v":{"$error":"#N/A"}},{"$f":"IF(OR(INDEX('Calificación Comunidad'!P:P,ROW())=\"Sin información\", INDEX('Calificación Comunidad'!P:P,ROW())=\"Seleccione…\"), \"\", MATCH(INDEX('Calificación Comunidad'!P:P,ROW()), INDEX('Calificación Comunidad'!$H:$K,ROW(),0), 0))","v":{"$error":"#N/A"}},{"$f":"IF(OR(INDEX('Calificación Comunidad'!Q:Q,ROW())=\"Sin información\", INDEX('Calificación Comunidad'!Q:Q,ROW())=\"Seleccione…\"), \"\", MATCH(INDEX('Calificación Comunidad'!Q:Q,ROW()), INDEX('Calificación Comunidad'!$H:$K,ROW(),0), 0))","v":{"$error":"#N/A"}},{"$f":"IF(OR(INDEX('Calificación Comunidad'!R:R,ROW())=\"Sin información\", INDEX('Calificación Comunidad'!R:R,ROW())=\"Seleccione…\"), \"\", MATCH(INDEX('Calificación Comunidad'!R:R,ROW()), INDEX('Calificación Comunidad'!$H:$K,ROW(),0), 0))","v":{"$error":"#N/A"}},{"$f":"IF(OR(INDEX('Calificación Comunidad'!S:S,ROW())=\"Sin información\", INDEX('Calificación Comunidad'!S:S,ROW())=\"Seleccione…\"), \"\", MATCH(INDEX('Calificación Comunidad'!S:S,ROW()), INDEX('Calificación Comunidad'!$H:$K,ROW(),0), 0))","v":{"$error":"#N/A"}},{"$f":"IF(OR(INDEX('Calificación Comunidad'!T:T,ROW())=\"Sin información\", INDEX('Calificación Comunidad'!T:T,ROW())=\"Seleccione…\"), \"\", MATCH(INDEX('Calificación Comunidad'!T:T,ROW()), INDEX('Calificación Comunidad'!$H:$K,ROW(),0), 0))","v":{"$error":"#N/A"}},{"$f":"IF(OR(INDEX('Calificación Comunidad'!U:U,ROW())=\"Sin información\", INDEX('Calificación Comunidad'!U:U,ROW())=\"Seleccione…\"), \"\", MATCH(INDEX('Calificación Comunidad'!U:U,ROW()), INDEX('Calificación Comunidad'!$H:$K,ROW(),0), 0))","v":{"$error":"#N/A"}}]
[{"$f":"INDEX('Calificación Comunidad'!B:B,ROW())","v":0},{"$f":"INDEX('Calificación Comunidad'!C:C,ROW())","v":0},{"$f":"IF(OR(INDEX('Calificación Comunidad'!L:L,ROW())=\"Sin información\", INDEX('Calificación Comunidad'!L:L,ROW())=\"Seleccione…\"), \"\", MATCH(INDEX('Calificación Comunidad'!L:L,ROW()), INDEX('Calificación Comunidad'!$H:$K,ROW(),0), 0))","v":{"$error":"#N/A"}},{"$f":"IF(OR(INDEX('Calificación Comunidad'!M:M,ROW())=\"Sin información\", INDEX('Calificación Comunidad'!M:M,ROW())=\"Seleccione…\"), \"\", MATCH(INDEX('Calificación Comunidad'!M:M,ROW()), INDEX('Calificación Comunidad'!$H:$K,ROW(),0), 0))","v":{"$error":"#N/A"}},{"$f":"IF(OR(INDEX('Calificación Comunidad'!N:N,ROW())=\"Sin información\", INDEX('Calificación Comunidad'!N:N,ROW())=\"Seleccione…\"), \"\", MATCH(INDEX('Calificación Comunidad'!N:N,ROW()), INDEX('Calificación Comunidad'!$H:$K,ROW(),0), 0))","v":{"$error":"#N/A"}},{"$f":"IF(OR(INDEX('Calificación Comunidad'!O:O,ROW())=\"Sin información\", INDEX('Calificación Comunidad'!O:O,ROW())=\"Seleccione…\"), \"\", MATCH(INDEX('Calificación Comunidad'!O:O,ROW()), INDEX('Calificación Comunidad'!$H:$K,ROW(),0), 0))","v":{"$error":"#N/A"}},{"$f":"IF(OR(INDEX('Calificación Comunidad'!P:P,ROW())=\"Sin información\", INDEX('Calificación Comunidad'!P:P,ROW())=\"Seleccione…\"), \"\", MATCH(INDEX('Calificación Comunidad'!P:P,ROW()), INDEX('Calificación Comunidad'!$H:$K,ROW(),0), 0))","v":{"$error":"#N/A"}},{"$f":"IF(OR(INDEX('Calificación Comunidad'!Q:Q,ROW())=\"Sin información\", INDEX('Calificación Comunidad'!Q:Q,ROW())=\"Seleccione…\"), \"\", MATCH(INDEX('Calificación Comunidad'!Q:Q,ROW()), INDEX('Calificación Comunidad'!$H:$K,ROW(),0), 0))","v":{"$error":"#N/A"}},{"$f":"IF(OR(INDEX('Calificación Comunidad'!R:R,ROW())=\"Sin información\", INDEX('Calificación Comunidad'!R:R,ROW())=\"Seleccione…\"), \"\", MATCH(INDEX('Calificación Comunidad'!R:R,ROW()), INDEX('Calificación Comunidad'!$H:$K,ROW(),0), 0))","v":{"$error":"#N/A"}},{"$f":"IF(OR(INDEX('Calificación Comunidad'!S:S,ROW())=\"Sin información\", INDEX('Calificación Comunidad'!S:S,ROW())=\"Seleccione…\"), \"\", MATCH(INDEX('Calificación Comunidad'!S:S,ROW()), INDEX('Calificación Comunidad'!$H:$K,ROW(),0), 0))","v":{"$error":"#N/A"}},{"$f":"IF(OR(INDEX('Calificación Comunidad'!T:T,ROW())=\"Sin información\", INDEX('Calificación Comunidad'!T:T,ROW())=\"Seleccione…\"), \"\", MATCH(INDEX('Calificación Comunidad'!T:T,ROW()), INDEX('Calificación Comunidad'!$H:$K,ROW(),0), 0))","v":{"$error":"#N/A"}},{"$f":"IF(OR(INDEX('Calificación Comunidad'!U:U,ROW())=\"Sin información\", INDEX('Calificación Comunidad'!U:U,ROW())=\"Seleccione…\"), \"\", MATCH(INDEX('Calificación Comunidad'!U:U,ROW()), INDEX('Calificación Comunidad'!$H:$K,ROW(),0), 0))","v":{"$error":"#N/A"}}]
[{"$f":"INDEX('Calificación Comunidad'!B:B,ROW())","v":0},{"$f":"INDEX('Calificación Comunidad'!C:C,ROW())","v":0},{"$f":"IF(OR(INDEX('Calificación Comunidad'!L:L,ROW())=\"Sin información\", INDEX('Calificación Comunidad'!L:L,ROW())=\"Seleccione…\"), \"\", MATCH(INDEX('Calificación Comunidad'!L:L,ROW()), INDEX('Calificación Comunidad'!$H:$K,ROW(),0), 0))","v":{"$error":"#N/A"}},{"$f":"IF(OR(INDEX('Calificación Comunidad'!M:M,ROW())=\"Sin información\", INDEX('Calificación Comunidad'!M:M,ROW())=\"Seleccione…\"), \"\", MATCH(INDEX('Calificación Comunidad'!M:M,ROW()), INDEX('Calificación Comunidad'!$H:$K,ROW(),0), 0))","v":{"$error":"#N/A"}},{"$f":"IF(OR(INDEX('Calificación Comunidad'!N:N,ROW())=\"Sin información\", INDEX('Calificación Comunidad'!N:N,ROW())=\"Seleccione…\"), \"\", MATCH(INDEX('Calificación Comunidad'!N:N,ROW()), INDEX('Calificación Comunidad'!$H:$K,ROW(),0), 0))","v":{"$error":"#N/A"}},{"$f":"IF(OR(INDEX('Calificación Comunidad'!O:O,ROW())=\"Sin información\", INDEX('Calificación Comunidad'!O:O,ROW())=\"Seleccione…\"), \"\", MATCH(INDEX('Calificación Comunidad'!O:O,ROW()), INDEX('Calificación Comunidad'!$H:$K,ROW(),0), 0))","v":{"$error":"#N/A"}},{"$f":"IF(OR(INDEX('Calificación Comunidad'!P:P,ROW())=\"Sin información\", INDEX('Calificación Comunidad'!P:P,ROW())=\"Seleccione…\"), \"\", MATCH(INDEX('Calificación Comunidad'!P:P,ROW()), INDEX('Calificación Comunidad'!$H:$K,ROW(),0), 0))","v":{"$error":"#N/A"}},{"$f":"IF(OR(INDEX('Calificación Comunidad'!Q:Q,ROW())=\"Sin información\", INDEX('Calificación Comunidad'!Q:Q,ROW())=\"Seleccione…\"), \"\", MATCH(INDEX('Calificación Comunidad'!Q:Q,ROW()), INDEX('Calificación Comunidad'!$H:$K,ROW(),0), 0))","v":{"$error":"#N/A"}},{"$f":"IF(OR(INDEX('Calificación Comunidad'!R:R,ROW())=\"Sin información\", INDEX('Calificación Comunidad'!R:R,ROW())=\"Seleccione…\"), \"\", MATCH(INDEX('Calificación Comunidad'!R:R,ROW()), INDEX('Calificación Comunidad'!$H:$K,ROW(),0), 0))","v":{"$error":"#N/A"}},{"$f":"IF(OR(INDEX('Calificación Comunidad'!S:S,ROW())=\"Sin información\", INDEX('Calificación Comunidad'!S:S,ROW())=\"Seleccione…\"), \"\", MATCH(INDEX('Calificación Comunidad'!S:S,ROW()), INDEX('Calificación Comunidad'!$H:$K,ROW(),0), 0))","v":{"$error":"#N/A"}},{"$f":"IF(OR(INDEX('Calificación Comunidad'!T:T,ROW())=\"Sin información\", INDEX('Calificación Comunidad'!T:T,ROW())=\"Seleccione…\"), \"\", MATCH(INDEX('Calificación Comunidad'!T:T,ROW()), INDEX('Calificación Comunidad'!$H:$K,ROW(),0), 0))","v":{"$error":"#N/A"}},{"$f":"IF(OR(INDEX('Calificación Comunidad'!U:U,ROW())=\"Sin información\", INDEX('Calificación Comunidad'!U:U,ROW())=\"Seleccione…\"), \"\", MATCH(INDEX('Calificación Comunidad'!U:U,ROW()), INDEX('Calificación Comunidad'!$H:$K,ROW(),0), 0))","v":{"$error":"#N/A"}}]
[{"$f":"INDEX('Calificación Comunidad'!B:B,ROW())","v":0},{"$f":"INDEX('Calificación Comunidad'!C:C,ROW())","v":0},{"$f":"IF(OR(INDEX('Calificación Comunidad'!L:L,ROW())=\"Sin información\", INDEX('Calificación Comunidad'!L:L,ROW())=\"Seleccione…\"), \"\", MATCH(INDEX('Calificación Comunidad'!L:L,ROW()), INDEX('Calificación Comunidad'!$H:$K,ROW(),0), 0))","v":{"$error":"#N/A"}},{"$f":"IF(OR(INDEX('Calificación Comunidad'!M:M,ROW())=\"Sin información\", INDEX('Calificación Comunidad'!M:M,ROW())=\"Seleccione…\"), \"\", MATCH(INDEX('Calificación Comunidad'!M:M,ROW()), INDEX('Calificación Comunidad'!$H:$K,ROW(),0), 0))","v":{"$error":"#N/A"}},{"$f":"IF(OR(INDEX('Calificación Comunidad'!N:N,ROW())=\"Sin información\", INDEX('Calificación Comunidad'!N:N,ROW())=\"Seleccione…\"), \"\", MATCH(INDEX('Calificación Comunidad'!N:N,ROW()), INDEX('Calificación Comunidad'!$H:$K,ROW(),0), 0))","v":{"$error":"#N/A"}},{"$f":"IF(OR(INDEX('Calificación Comunidad'!O:O,ROW())=\"Sin información\", INDEX('Calificación Comunidad'!O:O,ROW())=\"Seleccione…\"), \"\", MATCH(INDEX('Calificación Comunidad'!O:O,ROW()), INDEX('Calificación Comunidad'!$H:$K,ROW(),0), 0))","v":{"$error":"#N/A"}},{"$f":"IF(OR(INDEX('Calificación Comunidad'!P:P,ROW())=\"Sin información\", INDEX('Calificación Comunidad'!P:P,ROW())=\"Seleccione…\"), \"\", MATCH(INDEX('Calificación Comunidad'!P:P,ROW()), INDEX('Calificación Comunidad'!$H:$K,ROW(),0), 0))","v":{"$error":"#N/A"}},{"$f":"IF(OR(INDEX('Calificación Comunidad'!Q:Q,ROW())=\"Sin información\", INDEX('Calificación Comunidad'!Q:Q,ROW())=\"Seleccione…\"), \"\", MATCH(INDEX('Calificación Comunidad'!Q:Q,ROW()), INDEX('Calificación Comunidad'!$H:$K,ROW(),0), 0))","v":{"$error":"#N/A"}},{"$f":"IF(OR(INDEX('Calificación Comunidad'!R:R,ROW())=\"Sin información\", INDEX('Calificación Comunidad'!R:R,ROW())=\"Seleccione…\"), \"\", MATCH(INDEX('Calificación Comunidad'!R:R,ROW()), INDEX('Calificación Comunidad'!$H:$K,ROW(),0), 0))","v":{"$error":"#N/A"}},{"$f":"IF(OR(INDEX('Calificación Comunidad'!S:S,ROW())=\"Sin información\", INDEX('Calificación Comunidad'!S:S,ROW())=\"Seleccione…\"), \"\", MATCH(INDEX('Calificación Comunidad'!S:S,ROW()), INDEX('Calificación Comunidad'!$H:$K,ROW(),0), 0))","v":{"$error":"#N/A"}},{"$f":"IF(OR(INDEX('Calificación Comunidad'!T:T,ROW())=\"Sin información\", INDEX('Calificación Comunidad'!T:T,ROW())=\"Seleccione…\"), \"\", MATCH(INDEX('Calificación Comunidad'!T:T,ROW()), INDEX('Calificación Comunidad'!$H:$K,ROW(),0), 0))","v":{"$error":"#N/A"}},{"$f":"IF(OR(INDEX('Calificación Comunidad'!U:U,ROW())=\"Sin información\", INDEX('Calificación Comunidad'!U:U,ROW())=\"Seleccione…\"), \"\", MATCH(INDEX('Calificación Comunidad'!U:U,ROW()), INDEX('Calificación Comunidad'!$H:$K,ROW(),0), 0))","v":{"$error":"#N/A"}}]
[{"$f":"INDEX('Calificación Comunidad'!B:B,ROW())","v":0},{"$f":"INDEX('Calificación Comunidad'!C:C,ROW())","v":0},{"$f":"IF(OR(INDEX('Calificación Comunidad'!L:L,ROW())=\"Sin información\", INDEX('Calificación Comunidad'!L:L,ROW())=\"Seleccione…\"), \"\", MATCH(INDEX('Calificación Comunidad'!L:L,ROW()), INDEX('Calificación Comunidad'!$H:$K,ROW(),0), 0))","v":{"$error":"#N/A"}},{"$f":"IF(OR(INDEX('Calificación Comunidad'!M:M,ROW())=\"Sin información\", INDEX('Calificación Comunidad'!M:M,ROW())=\"Seleccione…\"), \"\", MATCH(INDEX('Calificación Comunidad'!M:M,ROW()), INDEX('Calificación Comunidad'!$H:$K,ROW(),0), 0))","v":{"$error":"#N/A"}},{"$f":"IF(OR(INDEX('Calificación Comunidad'!N:N,ROW())=\"Sin información\", INDEX('Calificación Comunidad'!N:N,ROW())=\"Seleccione…\"), \"\", MATCH(INDEX('Calificación Comunidad'!N:N,ROW()), INDEX('Calificación Comunidad'!$H:$K,ROW(),0), 0))","v":{"$error":"#N/A"}},{"$f":"IF(OR(INDEX('Calificación Comunidad'!O:O,ROW())=\"Sin información\", INDEX('Calificación Comunidad'!O:O,ROW())=\"Seleccione…\"), \"\", MATCH(INDEX('Calificación Comunidad'!O:O,ROW()), INDEX('Calificación Comunidad'!$H:$K,ROW(),0), 0))","v":{"$error":"#N/A"}},{"$f":"IF(OR(INDEX('Calificación Comunidad'!P:P,ROW())=\"Sin información\", INDEX('Calificación Comunidad'!P:P,ROW())=\"Seleccione…\"), \"\", MATCH(INDEX('Calificación Comunidad'!P:P,ROW()), INDEX('Calificación Comunidad'!$H:$K,ROW(),0), 0))","v":{"$error":"#N/A"}},{"$f":"IF(OR(INDEX('Calificación Comunidad'!Q:Q,ROW())=\"Sin información\", INDEX('Calificación Comunidad'!Q:Q,ROW())=\"Seleccione…\"), \"\", MATCH(INDEX('Calificación Comunidad'!Q:Q,ROW()), INDEX('Calificación Comunidad'!$H:$K,ROW(),0), 0))","v":{"$error":"#N/A"}},{"$f":"IF(OR(INDEX('Calificación Comunidad'!R:R,ROW())=\"Sin información\", INDEX('Calificación Comunidad'!R:R,ROW())=\"Seleccione…\"), \"\", MATCH(INDEX('Calificación Comunidad'!R:R,ROW()), INDEX('Calificación Comunidad'!$H:$K,ROW(),0), 0))","v":{"$error":"#N/A"}},{"$f":"IF(OR(INDEX('Calificación Comunidad'!S:S,ROW())=\"Sin información\", INDEX('Calificación Comunidad'!S:S,ROW())=\"Seleccione…\"), \"\", MATCH(INDEX('Calificación Comunidad'!S:S,ROW()), INDEX('Calificación Comunidad'!$H:$K,ROW(),0), 0))","v":{"$error":"#N/A"}},{"$f":"IF(OR(INDEX('Calificación Comunidad'!T:T,ROW())=\"Sin información\", INDEX('Calificación Comunidad'!T:T,ROW())=\"Seleccione…\"), \"\", MATCH(INDEX('Calificación Comunidad'!T:T,ROW()), INDEX('Calificación Comunidad'!$H:$K,ROW(),0), 0))","v":{"$error":"#N/A"}},{"$f":"IF(OR(INDEX('Calificación Comunidad'!U:U,ROW())=\"Sin información\", INDEX('Calificación Comunidad'!U:U,ROW())=\"Seleccione…\"), \"\", MATCH(INDEX('Calificación Comunidad'!U:U,ROW()), INDEX('Calificación Comunidad'!$H:$K,ROW(),0), 0))","v":{"$error":"#N/A"}}]
[{"$f":"INDEX('Calificación Comunidad'!B:B,ROW())","v":0},{"$f":"INDEX('Calificación Comunidad'!C:C,ROW())","v":0},{"$f":"IF(OR(INDEX('Calificación Comunidad'!L:L,ROW())=\"Sin información\", INDEX('Calificación Comunidad'!L:L,ROW())=\"Seleccione…\"), \"\", MATCH(INDEX('Calificación Comunidad'!L:L,ROW()), INDEX('Calificación Comunidad'!$H:$K,ROW(),0), 0))","v":{"$error":"#N/A"}},{"$f":"IF(OR(INDEX('Calificación Comunidad'!M:M,ROW())=\"Sin información\", INDEX('Calificación Comunidad'!M:M,ROW())=\"Seleccione…\"), \"\", MATCH(INDEX('Calificación Comunidad'!M:M,ROW()), INDEX('Calificación Comunidad'!$H:$K,ROW(),0), 0))","v":{"$error":"#N/A"}},{"$f":"IF(OR(INDEX('Calificación Comunidad'!N:N,ROW())=\"Sin información\", INDEX('Calificación Comunidad'!N:N,ROW())=\"Seleccione…\"), \"\", MATCH(INDEX('Calificación Comunidad'!N:N,ROW()), INDEX('Calificación Comunidad'!$H:$K,ROW(),0), 0))","v":{"$error":"#N/A"}},{"$f":"IF(OR(INDEX('Calificación Comunidad'!O:O,ROW())=\"Sin información\", INDEX('Calificación Comunidad'!O:O,ROW())=\"Seleccione…\"), \"\", MATCH(INDEX('Calificación Comunidad'!O:O,ROW()), INDEX('Calificación Comunidad'!$H:$K,ROW(),0), 0))","v":{"$error":"#N/A"}},{"$f":"IF(OR(INDEX('Calificación Comunidad'!P:P,ROW())=\"Sin información\", INDEX('Calificación Comunidad'!P:P,ROW())=\"Seleccione…\"), \"\", MATCH(INDEX('Calificación Comunidad'!P:P,ROW()), INDEX('Calificación Comunidad'!$H:$K,ROW(),0), 0))","v":{"$error":"#N/A"}},{"$f":"IF(OR(INDEX('Calificación Comunidad'!Q:Q,ROW())=\"Sin información\", INDEX('Calificación Comunidad'!Q:Q,ROW())=\"Seleccione…\"), \"\", MATCH(INDEX('Calificación Comunidad'!Q:Q,ROW()), INDEX('Calificación Comunidad'!$H:$K,ROW(),0), 0))","v":{"$error":"#N/A"}},{"$f":"IF(OR(INDEX('Calificación Comunidad'!R:R,ROW())=\"Sin información\", INDEX('Calificación Comunidad'!R:R,ROW())=\"Seleccione…\"), \"\", MATCH(INDEX('Calificación Comunidad'!R:R,ROW()), INDEX('Calificación Comunidad'!$H:$K,ROW(),0), 0))","v":{"$error":"#N/A"}},{"$f":"IF(OR(INDEX('Calificación Comunidad'!S:S,ROW())=\"Sin información\", INDEX('Calificación Comunidad'!S:S,ROW())=\"Seleccione…\"), \"\", MATCH(INDEX('Calificación Comunidad'!S:S,ROW()), INDEX('Calificación Comunidad'!$H:$K,ROW(),0), 0))","v":{"$error":"#N/A"}},{"$f":"IF(OR(INDEX('Calificación Comunidad'!T:T,ROW())=\"Sin información\", INDEX('Calificación Comunidad'!T:T,ROW())=\"Seleccione…\"), \"\", MATCH(INDEX('Calificación Comunidad'!T:T,ROW()), INDEX('Calificación Comunidad'!$H:$K,ROW(),0), 0))","v":{"$error":"#N/A"}},{"$f":"IF(OR(INDEX('Calificación Comunidad'!U:U,ROW())=\"Sin información\", INDEX('Calificación Comunidad'!U:U,ROW())=\"Seleccione…\"), \"\", MATCH(INDEX('Calificación Comunidad'!U:U,ROW()), INDEX('Calificación Comunidad'!$H:$K,ROW(),0), 0))","v":{"$error":"#N/A"}}]
[{"$f":"INDEX('Calificación Comunidad'!B:B,ROW())","v":0},{"$f":"INDEX('Calificación Comunidad'!C:C,ROW())","v":0},{"$f":"IF(OR(INDEX('Calificación Comunidad'!L:L,ROW())=\"Sin información\", INDEX('Calificación Comunidad'!L:L,ROW())=\"Seleccione…\"), \"\", MATCH(INDEX('Calificación Comunidad'!L:L,ROW()), INDEX('Calificación Comunidad'!$H:$K,ROW(),0), 0))","v":{"$error":"#N/A"}},{"$f":"IF(OR(INDEX('Calificación Comunidad'!M:M,ROW())=\"Sin información\", INDEX('Calificación Comunidad'!M:M,ROW())=\"Seleccione…\"), \"\", MATCH(INDEX('Calificación Comunidad'!M:M,ROW()), INDEX('Calificación Comunidad'!$H:$K,ROW(),0), 0))","v":{"$error":"#N/A"}},{"$f":"IF(OR(INDEX('Calificación Comunidad'!N:N,ROW())=\"Sin información\", INDEX('Calificación Comunidad'!N:N,ROW())=\"Seleccione…\"), \"\", MATCH(INDEX('Calificación Comunidad'!N:N,ROW()), INDEX('Calificación Comunidad'!$H:$K,ROW(),0), 0))","v":{"$error":"#N/A"}},{"$f":"IF(OR(INDEX('Calificación Comunidad'!O:O,ROW())=\"Sin información\", INDEX('Calificación Comunidad'!O:O,ROW())=\"Seleccione…\"), \"\", MATCH(INDEX('Calificación Comunidad'!O:O,ROW()), INDEX('Calificación Comunidad'!$H:$K,ROW(),0), 0))","v":{"$error":"#N/A"}},{"$f":"IF(OR(INDEX('Calificación Comunidad'!P:P,ROW())=\"Sin información\", INDEX('Calificación Comunidad'!P:P,ROW())=\"Seleccione…\"), \"\", MATCH(INDEX('Calificación Comunidad'!P:P,ROW()), INDEX('Calificación Comunidad'!$H:$K,ROW(),0), 0))","v":{"$error":"#N/A"}},{"$f":"IF(OR(INDEX('Calificación Comunidad'!Q:Q,ROW())=\"Sin información\", INDEX('Calificación Comunidad'!Q:Q,ROW())=\"Seleccione…\"), \"\", MATCH(INDEX('Calificación Comunidad'!Q:Q,ROW()), INDEX('Calificación Comunidad'!$H:$K,ROW(),0), 0))","v":{"$error":"#N/A"}},{"$f":"IF(OR(INDEX('Calificación Comunidad'!R:R,ROW())=\"Sin información\", INDEX('Calificación Comunidad'!R:R,ROW())=\"Seleccione…\"), \"\", MATCH(INDEX('Calificación Comunidad'!R:R,ROW()), INDEX('Calificación Comunidad'!$H:$K,ROW(),0), 0))","v":{"$error":"#N/A"}},{"$f":"IF(OR(INDEX('Calificación Comunidad'!S:S,ROW())=\"Sin información\", INDEX('Calificación Comunidad'!S:S,ROW())=\"Seleccione…\"), \"\", MATCH(INDEX('Calificación Comunidad'!S:S,ROW()), INDEX('Calificación Comunidad'!$H:$K,ROW(),0), 0))","v":{"$error":"#N/A"}},{"$f":"IF(OR(INDEX('Calificación Comunidad'!T:T,ROW())=\"Sin información\", INDEX('Calificación Comunidad'!T:T,ROW())=\"Seleccione…\"), \"\", MATCH(INDEX('Calificación Comunidad'!T:T,ROW()), INDEX('Calificación Comunidad'!$H:$K,ROW(),0), 0))","v":{"$error":"#N/A"}},{"$f":"IF(OR(INDEX('Calificación Comunidad'!U:U,ROW())=\"Sin información\", INDEX('Calificación Comunidad'!U:U,ROW())=\"Seleccione…\"), \"\", MATCH(INDEX('Calificación Comunidad'!U:U,ROW()), INDEX('Calificación Comunidad'!$H:$K,ROW(),0), 0))","v":{"$error":"#N/A"}}]
[{"$f":"INDEX('Calificación Comunidad'!B:B,ROW())","v":0},{"$f":"INDEX('Calificación Comunidad'!C:C,ROW())","v":0},{"$f":"IF(OR(INDEX('Calificación Comunidad'!L:L,ROW())=\"Sin información\", INDEX('Calificación Comunidad'!L:L,ROW())=\"Seleccione…\"), \"\", MATCH(INDEX('Calificación Comunidad'!L:L,ROW()), INDEX('Calificación Comunidad'!$H:$K,ROW(),0), 0))","v":{"$error":"#N/A"}},{"$f":"IF(OR(INDEX('Calificación Comunidad'!M:M,ROW())=\"Sin información\", INDEX('Calificación Comunidad'!M:M,ROW())=\"Seleccione…\"), \"\", MATCH(INDEX('Calificación Comunidad'!M:M,ROW()), INDEX('Calificación Comunidad'!$H:$K,ROW(),0), 0))","v":{"$error":"#N/A"}},{"$f":"IF(OR(INDEX('Calificación Comunidad'!N:N,ROW())=\"Sin información\", INDEX('Calificación Comunidad'!N:N,ROW())=\"Seleccione…\"), \"\", MATCH(INDEX('Calificación Comunidad'!N:N,ROW()), INDEX('Calificación Comunidad'!$H:$K,ROW(),0), 0))","v":{"$error":"#N/A"}},{"$f":"IF(OR(INDEX('Calificación Comunidad'!O:O,ROW())=\"Sin información\", INDEX('Calificación Comunidad'!O:O,ROW())=\"Seleccione…\"), \"\", MATCH(INDEX('Calificación Comunidad'!O:O,ROW()), INDEX('Calificación Comunidad'!$H:$K,ROW(),0), 0))","v":{"$error":"#N/A"}},{"$f":"IF(OR(INDEX('Calificación Comunidad'!P:P,ROW())=\"Sin información\", INDEX('Calificación Comunidad'!P:P,ROW())=\"Seleccione…\"), \"\", MATCH(INDEX('Calificación Comunidad'!P:P,ROW()), INDEX('Calificación Comunidad'!$H:$K,ROW(),0), 0))","v":{"$error":"#N/A"}},{"$f":"IF(OR(INDEX('Calificación Comunidad'!Q:Q,ROW())=\"Sin información\", INDEX('Calificación Comunidad'!Q:Q,ROW())=\"Seleccione…\"), \"\", MATCH(INDEX('Calificación Comunidad'!Q:Q,ROW()), INDEX('Calificación Comunidad'!$H:$K,ROW(),0), 0))","v":{"$error":"#N/A"}},{"$f":"IF(OR(INDEX('Calificación Comunidad'!R:R,ROW())=\"Sin información\", INDEX('Calificación Comunidad'!R:R,ROW())=\"Seleccione…\"), \"\", MATCH(INDEX('Calificación Comunidad'!R:R,ROW()), INDEX('Calificación Comunidad'!$H:$K,ROW(),0), 0))","v":{"$error":"#N/A"}},{"$f":"IF(OR(INDEX('Calificación Comunidad'!S:S,ROW())=\"Sin información\", INDEX('Calificación Comunidad'!S:S,ROW())=\"Seleccione…\"), \"\", MATCH(INDEX('Calificación Comunidad'!S:S,ROW()), INDEX('Calificación Comunidad'!$H:$K,ROW(),0), 0))","v":{"$error":"#N/A"}},{"$f":"IF(OR(INDEX('Calificación Comunidad'!T:T,ROW())=\"Sin información\", INDEX('Calificación Comunidad'!T:T,ROW())=\"Seleccione…\"), \"\", MATCH(INDEX('Calificación Comunidad'!T:T,ROW()), INDEX('Calificación Comunidad'!$H:$K,ROW(),0), 0))","v":{"$error":"#N/A"}},{"$f":"IF(OR(INDEX('Calificación Comunidad'!U:U,ROW())=\"Sin información\", INDEX('Calificación Comunidad'!U:U,ROW())=\"Seleccione…\"), \"\", MATCH(INDEX('Calificación Comunidad'!U:U,ROW()), INDEX('Calificación Comunidad'!$H:$K,ROW(),0), 0))","v":{"$error":"#N/A"}}]
[{"$f":"INDEX('Calificación Comunidad'!B:B,ROW())","v":0},{"$f":"INDEX('Calificación Comunidad'!C:C,ROW())","v":0},{"$f":"IF(OR(INDEX('Calificación Comunidad'!L:L,ROW())=\"Sin información\", INDEX('Calificación Comunidad'!L:L,ROW())=\"Seleccione…\"), \"\", MATCH(INDEX('Calificación Comunidad'!L:L,ROW()), INDEX('Calificación Comunidad'!$H:$K,ROW(),0), 0))","v":{"$error":"#N/A"}},{"$f":"IF(OR(INDEX('Calificación Comunidad'!M:M,ROW())=\"Sin información\", INDEX('Calificación Comunidad'!M:M,ROW())=\"Seleccione…\"), \"\", MATCH(INDEX('Calificación Comunidad'!M:M,ROW()), INDEX('Calificación Comunidad'!$H:$K,ROW(),0), 0))","v":{"$error":"#N/A"}},{"$f":"IF(OR(INDEX('Calificación Comunidad'!N:N,ROW())=\"Sin información\", INDEX('Calificación Comunidad'!N:N,ROW())=\"Seleccione…\"), \"\", MATCH(INDEX('Calificación Comunidad'!N:N,ROW()), INDEX('Calificación Comunidad'!$H:$K,ROW(),0), 0))","v":{"$error":"#N/A"}},{"$f":"IF(OR(INDEX('Calificación Comunidad'!O:O,ROW())=\"Sin información\", INDEX('Calificación Comunidad'!O:O,ROW())=\"Seleccione…\"), \"\", MATCH(INDEX('Calificación Comunidad'!O:O,ROW()), INDEX('Calificación Comunidad'!$H:$K,ROW(),0), 0))","v":{"$error":"#N/A"}},{"$f":"IF(OR(INDEX('Calificación Comunidad'!P:P,ROW())=\"Sin información\", INDEX('Calificación Comunidad'!P:P,ROW())=\"Seleccione…\"), \"\", MATCH(INDEX('Calificación Comunidad'!P:P,ROW()), INDEX('Calificación Comunidad'!$H:$K,ROW(),0), 0))","v":{"$error":"#N/A"}},{"$f":"IF(OR(INDEX('Calificación Comunidad'!Q:Q,ROW())=\"Sin información\", INDEX('Calificación Comunidad'!Q:Q,ROW())=\"Seleccione…\"), \"\", MATCH(INDEX('Calificación Comunidad'!Q:Q,ROW()), INDEX('Calificación Comunidad'!$H:$K,ROW(),0), 0))","v":{"$error":"#N/A"}},{"$f":"IF(OR(INDEX('Calificación Comunidad'!R:R,ROW())=\"Sin información\", INDEX('Calificación Comunidad'!R:R,ROW())=\"Seleccione…\"), \"\", MATCH(INDEX('Calificación Comunidad'!R:R,ROW()), INDEX('Calificación Comunidad'!$H:$K,ROW(),0), 0))","v":{"$error":"#N/A"}},{"$f":"IF(OR(INDEX('Calificación Comunidad'!S:S,ROW())=\"Sin información\", INDEX('Calificación Comunidad'!S:S,ROW())=\"Seleccione…\"), \"\", MATCH(INDEX('Calificación Comunidad'!S:S,ROW()), INDEX('Calificación Comunidad'!$H:$K,ROW(),0), 0))","v":{"$error":"#N/A"}},{"$f":"IF(OR(INDEX('Calificación Comunidad'!T:T,ROW())=\"Sin información\", INDEX('Calificación Comunidad'!T:T,ROW())=\"Seleccione…\"), \"\", MATCH(INDEX('Calificación Comunidad'!T:T,ROW()), INDEX('Calificación Comunidad'!$H:$K,ROW(),0), 0))","v":{"$error":"#N/A"}},{"$f":"IF(OR(INDEX('Calificación Comunidad'!U:U,ROW())=\"Sin información\", INDEX('Calificación Comunidad'!U:U,ROW())=\"Seleccione…\"), \"\", MATCH(INDEX('Calificación Comunidad'!U:U,ROW()), INDEX('Calificación Comunidad'!$H:$K,ROW(),0), 0))","v":{"$error":"#N/A"}}]

{"sheet":"Resultados Comunidad","index":15,"n_rows":43,"n_cols":14,"rows_kept":43,"merged":[[0,0,0,11],[1,0,1,10],[21,0,21,6],[23,0,24,0],[23,1,24,1],[23,2,24,2],[23,3,24,3],[23,4,24,4],[23,5,24,5],[23,6,24,6],[23,7,24,7],[23,8,24,8],[23,9,24,9],[23,10,24,10],[23,11,24,11],[23,12,24,12],[23,13,24,14],[25,13,25,14],[26,13,26,14],[27,13,27,14],[28,13,28,14],[29,13,29,14],[30,13,30,14],[31,13,31,14],[32,13,32,14],[33,13,33,14],[34,13,34,14],[35,13,35,14],[36,13,36,14],[37,13,37,14],[38,13,38,14],[39,13,39,14],[40,13,40,14],[41,13,41,14]]}
["Resultados de Priorización"]
["Bienvenido a la sección de resultados. A continuación, podrás consultar los valores calculados para cada categoría y el resultado final de la priorización para cada comunidad.\n1. Ajusta las ponderaciones:    Modifica los porcentajes de las categorías según tus necesidades o criterios específicos.\n2. Consulta los resultados:    La priorización actualizada se mostrará automáticamente. \n     (Recuerda seleccionar el municipio y el tipo de energía a implementar en la Caracterización de la comunidad)\n     El Potencial se toma directamente de los resultados del potencial energético, evaluados según lo descrito en la Sección 4 de la Hoja de Ruta para el Despliegue de \n       Comunidades Energéticas. Quieres ver estos resultados, haz clic en \"Consulta el potencial por municipio\"\n3. Consulta los resultados ordenados de mayor a menor,    para que identifiques las mejores opciones rápidamente.\n"]
[]
["Categoría de indicadores","Porcentaje de ponderación"]
["Ambiental ",{"v":0.1,"d":"10%"}]
["Económico",{"v":0.2,"d":"20%"}]
["Legislativo/ Normativo",{"v":0.2,"d":"20%"}]
["Social ",{"v":0.4,"d":"40%"}]
["Técnico ",{"v":0.1,"d":"10%"}]
["Total",{"$f":"SUM(B5:B9)","v":{"v":1,"d":"100%"}}]
[]
["Resultados de la calificación de la priorización para las comunidades por categoría de variables"]
[]
["Categoría/comunidad ",{"$f":"Caracterización!B8","v":"C1"},{"$f":"Caracterización!C8","v":"C2"},{"$f":"Caracterización!D8","v":"C3"},{"$f":"Caracterización!E8","v":"C4"},{"$f":"Caracterización!F8","v":"C5"},{"$f":"Caracterización!G8","v":"C6"},{"$f":"Caracterización!H8","v":"C7"},{"$f":"Caracterización!I8","v":"C8"},{"$f":"Caracterización!J8","v":"C9"},{"$f":"Caracterización!K8","v":"C10"}]
["Ambiental",{"$f":"IFERROR(AVERAGEIF('ResParcial Comunidad'!$A$7:$A$60,'Resultados Comunidad'!$A$15,'ResParcial Comunidad'!C$7:C$60),\"\")","v":{"v":1.5,"d":"1.50"}},{"$f":"IFERROR(AVERAGEIF('ResParcial Comunidad'!$A$7:$A$60,'Resultados Comunidad'!$A$15,'ResParcial Comunidad'!D$7:D$60),\"\")","v":{"v":3,"d":"3.00"}},{"$f":"IFERROR(AVERAGEIF('ResParcial Comunidad'!$A$7:$A$60,'Resultados Comunidad'!$A$15,'ResParcial Comunidad'!E$7:E$60),\"\")","v":""},{"$f":"IFERROR(AVERAGEIF('ResParcial Comunidad'!$A$7:$A$60,'Resultados Comunidad'!$A$15,'ResParcial Comunidad'!F$7:F$60),\"\")","v":""},{"$f":"IFERROR(AVERAGEIF('ResParcial Comunidad'!$A$7:$A$60,'Resultados Comunidad'!$A$15,'ResParcial Comunidad'!G$7:G$60),\"\")","v":""},{"$f":"IFERROR(AVERAGEIF('ResParcial Comunidad'!$A$7:$A$60,'Resultados Comunidad'!$A$15,'ResParcial Comunidad'!H$7:H$60),\"\")","v":""},{"$f":"IFERROR(AVERAGEIF('ResParcial Comunidad'!$A$7:$A$60,'Resultados Comunidad'!$A$15,'ResParcial Comunidad'!I$7:I$60),\"\")","v":""},{"$f":"IFERROR(AVERAGEIF('ResParcial Comunidad'!$A$7:$A$60,'Resultados Comunidad'!$A$15,'ResParcial Comunidad'!J$7:J$60),\"\")","v":""},{"$f":"IFERROR(AVERAGEIF('ResParcial Comunidad'!$A$7:$A$60,'Resultados Comunidad'!$A$15,'ResParcial Comunidad'!K$7:K$60),\"\")","v":""},{"$f":"IFERROR(AVERAGEIF('ResParcial Comunidad'!$A$7:$A$60,'Resultados Comunidad'!$A$15,'ResParcial Comunidad'!L$7:L$60),\"\")","v":""}]
["Económico",{"$f":"IFERROR(AVERAGEIF('ResParcial Comunidad'!$A$7:$A$60,'Resultados Comunidad'!$A$16,'ResParcial Comunidad'!C$7:C$60),\"\")","v":""},{"$f":"IFERROR(AVERAGEIF('ResParcial Comunidad'!$A$7:$A$60,'Resultados Comunidad'!$A$16,'ResParcial Comunidad'!D$7:D$60),\"\")","v":""},{"$f":"IFERROR(AVERAGEIF('ResParcial Comunidad'!$A$7:$A$60,'Resultados Comunidad'!$A$16,'ResParcial Comunidad'!E$7:E$60),\"\")","v":""},{"$f":"IFERROR(AVERAGEIF('ResParcial Comunidad'!$A$7:$A$60,'Resultados Comunidad'!$A$16,'ResParcial Comunidad'!F$7:F$60),\"\")","v":""},{"$f":"IFERROR(AVERAGEIF('ResParcial Comunidad'!$A$7:$A$60,'Resultados Comunidad'!$A$16,'ResParcial Comunidad'!G$7:G$60),\"\")","v":""},{"$f":"IFERROR(AVERAGEIF('ResParcial Comunidad'!$A$7:$A$60,'Resultados Comunidad'!$A$16,'ResParcial Comunidad'!H$7:H$60),\"\")","v":""},{"$f":"IFERROR(AVERAGEIF('ResParcial Comunidad'!$A$7:$A$60,'Resultados Comunidad'!$A$16,'ResParcial Comunidad'!I$7:I$60),\"\")","v":""},{"$f":"IFERROR(AVERAGEIF('ResParcial Comunidad'!$A$7:$A$60,'Resultados Comunidad'!$A$16,'ResParcial Comunidad'!J$7:J$60),\"\")","v":""},{"$f":"IFERROR(AVERAGEIF('ResParcial Comunidad'!$A$7:$A$60,'Resultados Comunidad'!$A$16,'ResParcial Comunidad'!K$7:K$60),\"\")","v":""},{"$f":"IFERROR(AVERAGEIF('ResParcial Comunidad'!$A$7:$A$60,'Resultados Comunidad'!$A$16,'ResParcial Comunidad'!L$7:L$60),\"\")","v":""}]
["Legislativo/ normativo",{"$f":"IFERROR(AVERAGEIF('ResParcial Comunidad'!$A$7:$A$60,'Resultados Comunidad'!$A$17,'ResParcial Comunidad'!C$7:C$60),\"\")","v":""},{"$f":"IFERROR(AVERAGEIF('ResParcial Comunidad'!$A$7:$A$60,'Resultados Comunidad'!$A$17,'ResParcial Comunidad'!D$7:D$60),\"\")","v":""},{"$f":"IFERROR(AVERAGEIF('ResParcial Comunidad'!$A$7:$A$60,'Resultados Comunidad'!$A$17,'ResParcial Comunidad'!E$7:E$60),\"\")","v":""},{"$f":"IFERROR(AVERAGEIF('ResParcial Comunidad'!$A$7:$A$60,'Resultados Comunidad'!$A$17,'ResParcial Comunidad'!F$7:F$60),\"\")","v":""},{"$f":"IFERROR(AVERAGEIF('ResParcial Comunidad'!$A$7:$A$60,'Resultados Comunidad'!$A$17,'ResParcial Comunidad'!G$7:G$60),\"\")","v":""},{"$f":"IFERROR(AVERAGEIF('ResParcial Comunidad'!$A$7:$A$60,'Resultados Comunidad'!$A$17,'ResParcial Comunidad'!H$7:H$60),\"\")","v":""},{"$f":"IFERROR(AVERAGEIF('ResParcial Comunidad'!$A$7:$A$60,'Resultados Comunidad'!$A$17,'ResParcial Comunidad'!I$7:I$60),\"\")","v":""},{"$f":"IFERROR(AVERAGEIF('ResParcial Comunidad'!$A$7:$A$60,'Resultados Comunidad'!$A$17,'ResParcial Comunidad'!J$7:J$60),\"\")","v":""},{"$f":"IFERROR(AVERAGEIF('ResParcial Comunidad'!$A$7:$A$60,'Resultados Comunidad'!$A$17,'ResParcial Comunidad'!K$7:K$60),\"\")","v":""},{"$f":"IFERROR(AVERAGEIF('ResParcial Comunidad'!$A$7:$A$60,'Resultados Comunidad'!$A$17,'ResParcial Comunidad'!L$7:L$60),\"\")","v":""}]
["Social",{"$f":"IFERROR(AVERAGEIF('ResParcial Comunidad'!$A$7:$A$60,'Resultados Comunidad'!$A$18,'ResParcial Comunidad'!C$7:C$60),\"\")","v":""},{"$f":"IFERROR(AVERAGEIF('ResParcial Comunidad'!$A$7:$A$60,'Resultados Comunidad'!$A$18,'ResParcial Comunidad'!D$7:D$60),\"\")","v":""},{"$f":"IFERROR(AVERAGEIF('ResParcial Comunidad'!$A$7:$A$60,'Resultados Comunidad'!$A$18,'ResParcial Comunidad'!E$7:E$60),\"\")","v":""},{"$f":"IFERROR(AVERAGEIF('ResParcial Comunidad'!$A$7:$A$60,'Resultados Comunidad'!$A$18,'ResParcial Comunidad'!F$7:F$60),\"\")","v":""},{"$f":"IFERROR(AVERAGEIF('ResParcial Comunidad'!$A$7:$A$60,'Resultados Comunidad'!$A$18,'ResParcial Comunidad'!G$7:G$60),\"\")","v":""},{"$f":"IFERROR(AVERAGEIF('ResParcial Comunidad'!$A$7:$A$60,'Resultados Comunidad'!$A$18,'ResParcial Comunidad'!H$7:H$60),\"\")","v":""},{"$f":"IFERROR(AVERAGEIF('ResParcial Comunidad'!$A$7:$A$60,'Resultados Comunidad'!$A$18,'ResParcial Comunidad'!I$7:I$60),\"\")","v":""},{"$f":"IFERROR(AVERAGEIF('ResParcial Comunidad'!$A$7:$A$60,'Resultados Comunidad'!$A$18,'ResParcial Comunidad'!J$7:J$60),\"\")","v":""},{"$f":"IFERROR(AVERAGEIF('ResParcial Comunidad'!$A$7:$A$60,'Resultados Comunidad'!$A$18,'ResParcial Comunidad'!K$7:K$60),\"\")","v":""},{"$f":"IFERROR(AVERAGEIF('ResParcial Comunidad'!$A$7:$A$60,'Resultados Comunidad'!$A$18,'ResParcial Comunidad'!L$7:L$60),\"\")","v":""}]
["Técnico",{"$f":"IFERROR(AVERAGEIF('ResParcial Comunidad'!$A$7:$A$60,'Resultados Comunidad'!$A$19,'ResParcial Comunidad'!C$7:C$60),\"\")","v":""},{"$f":"IFERROR(AVERAGEIF('ResParcial Comunidad'!$A$7:$A$60,'Resultados Comunidad'!$A$19,'ResParcial Comunidad'!D$7:D$60),\"\")","v":""},{"$f":"IFERROR(AVERAGEIF('ResParcial Comunidad'!$A$7:$A$60,'Resultados Comunidad'!$A$19,'ResParcial Comunidad'!E$7:E$60),\"\")","v":""},{"$f":"IFERROR(AVERAGEIF('ResParcial Comunidad'!$A$7:$A$60,'Resultados Comunidad'!$A$19,'ResParcial Comunidad'!F$7:F$60),\"\")","v":""},{"$f":"IFERROR(AVERAGEIF('ResParcial Comunidad'!$A$7:$A$60,'Resultados Comunidad'!$A$19,'ResParcial Comunidad'!G$7:G$60),\"\")","v":""},{"$f":"IFERROR(AVERAGEIF('ResParcial Comunidad'!$A$7:$A$60,'Resultados Comunidad'!$A$19,'ResParcial Comunidad'!H$7:H$60),\"\")","v":""},{"$f":"IFERROR(AVERAGEIF('ResParcial Comunidad'!$A$7:$A$60,'Resultados Comunidad'!$A$19,'ResParcial Comunidad'!I$7:I$60),\"\")","v":""},{"$f":"IFERROR(AVERAGEIF('ResParcial Comunidad'!$A$7:$A$60,'Resultados Comunidad'!$A$19,'ResParcial Comunidad'!J$7:J$60),\"\")","v":""},{"$f":"IFERROR(AVERAGEIF('ResParcial Comunidad'!$A$7:$A$60,'Resultados Comunidad'!$A$19,'ResParcial Comunidad'!K$7:K$60),\"\")","v":""},{"$f":"IFERROR(AVERAGEIF('ResParcial Comunidad'!$A$7:$A$60,'Resultados Comunidad'!$A$19,'ResParcial Comunidad'!L$7:L$60),\"\")","v":""}]
["Potencial",{"$f":"IF(Caracterización!B20=\"Seleccione…\",\"\",INDEX('Consulta de Potencial'!$D$14:$H$1134, MATCH(Caracterización!B11, 'Consulta de Potencial'!$C$14:$C$1134, 0), MATCH(Caracterización!B20, 'Consulta de Potencial'!$D$13:$H$13, 0)))","v":{"v":0.2784938053,"d":"0.28"}},{"$f":"IF(Caracterización!C20=\"Seleccione…\",\"\",INDEX('Consulta de Potencial'!$D$14:$H$1134, MATCH(Caracterización!C11, 'Consulta de Potencial'!$C$14:$C$1134, 0), MATCH(Caracterización!C20, 'Consulta de Potencial'!$D$13:$H$13, 0)))","v":{"v":0.2207527931,"d":"0.22"}},{"$f":"IF(Caracterización!D20=\"Seleccione…\",\"\",INDEX('Consulta de Potencial'!$D$14:$H$1134, MATCH(Caracterización!D11, 'Consulta de Potencial'!$C$14:$C$1134, 0), MATCH(Caracterización!D20, 'Consulta de Potencial'!$D$13:$H$13, 0)))","v":{"v":0.2603108106,"d":"0.26"}},{"$f":"IF(Caracterización!E20=\"Seleccione…\",\"\",INDEX('Consulta de Potencial'!$D$14:$H$1134, MATCH(Caracterización!E11, 'Consulta de Potencial'!$C$14:$C$1134, 0), MATCH(Caracterización!E20, 'Consulta de Potencial'!$D$13:$H$13, 0)))","v":{"v":0.292302467,"d":"0.29"}},{"$f":"IF(Caracterización!F20=\"Seleccione…\",\"\",INDEX('Consulta de Potencial'!$D$14:$H$1134, MATCH(Caracterización!F11, 'Consulta de Potencial'!$C$14:$C$1134, 0), MATCH(Caracterización!F20, 'Consulta de Potencial'!$D$13:$H$13, 0)))","v":{"v":0.2726994114,"d":"0.27"}},{"$f":"IF(Caracterización!G20=\"Seleccione…\",\"\",INDEX('Consulta de Potencial'!$D$14:$H$1134, MATCH(Caracterización!G11, 'Consulta de Potencial'!$C$14:$C$1134, 0), MATCH(Caracterización!G20, 'Consulta de Potencial'!$D$13:$H$13, 0)))","v":{"v":0.4280307356,"d":"0.43"}},{"$f":"IF(Caracterización!H20=\"Seleccione…\",\"\",INDEX('Consulta de Potencial'!$D$14:$H$1134, MATCH(Caracterización!H11, 'Consulta de Potencial'!$C$14:$C$1134, 0), MATCH(Caracterización!H20, 'Consulta de Potencial'!$D$13:$H$13, 0)))","v":{"v":0.3475150136,"d":"0.35"}},{"$f":"IF(Caracterización!I20=\"Seleccione…\",\"\",INDEX('Consulta de Potencial'!$D$14:$H$1134, MATCH(Caracterización!I11, 'Consulta de Potencial'!$C$14:$C$1134, 0), MATCH(Caracterización!I20, 'Consulta de Potencial'!$D$13:$H$13, 0)))","v":{"v":0.2207527931,"d":"0.22"}},{"$f":"IF(Caracterización!J20=\"Seleccione…\",\"\",INDEX('Consulta de Potencial'!$D$14:$H$1134, MATCH(Caracterización!J11, 'Consulta de Potencial'!$C$14:$C$1134, 0), MATCH(Caracterización!J20, 'Consulta de Potencial'!$D$13:$H$13, 0)))","v":{"v":0.2084452707,"d":"0.21"}},{"$f":"IF(Caracterización!K20=\"Seleccione…\",\"\",INDEX('Consulta de Potencial'!$D$14:$H$1134, MATCH(Caracterización!K11, 'Consulta de Potencial'!$C$14:$C$1134, 0), MATCH(Caracterización!K20, 'Consulta de Potencial'!$D$13:$H$13, 0)))","v":{"v":0.6580858588,"d":"0.66"}}]
["Puntaje de Priorización",{"$f":"IF(SUMPRODUCT((B15:B19<>0)*(B15:B19<>\"\"))=0,0,IF(OR(Caracterización!B11=\"Seleccione…\",Caracterización!B20=\"Seleccione…\"),\"Debe seleccionar el municipio y el tipo de energía a implementar\",(SUMPRODUCT('Calificación Comunidad'!$E$7:$E$8,'ResParcial Comunidad'!C7:C8)*'Resultados Comunidad'!$B$5+SUMPRODUCT('Calificación Comunidad'!$E$9:$E$15,'ResParcial Comunidad'!C9:C15)*'Resultados Comunidad'!$B$6+SUMPRODUCT('Calificación Comunidad'!$E$16:$E$18,'ResParcial Comunidad'!C16:C18)*'Resultados Comunidad'!$B$7+SUMPRODUCT('Calificación Comunidad'!$E$19:$E$27,'ResParcial Comunidad'!C19:C27)*'Resultados Comunidad'!$B$8+SUMPRODUCT('Calificación Comunidad'!$E$28:$E$33,'ResParcial Comunidad'!C28:C33)*'Resultados Comunidad'!$B$9)+B20))","v":{"v":0.42849380530000003,"d":"0.43"}},{"$f":"IF(SUMPRODUCT((C15:C19<>0)*(C15:C19<>\"\"))=0,0,IF(OR(Caracterización!C11=\"Seleccione…\",Caracterización!C20=\"Seleccione…\"),\"Debe seleccionar el municipio y el tipo de energía a implementar\",(SUMPRODUCT('Calificación Comunidad'!$E$7:$E$8,'ResParcial Comunidad'!D7:D8)*'Resultados Comunidad'!$B$5+SUMPRODUCT('Calificación Comunidad'!$E$9:$E$15,'ResParcial Comunidad'!D9:D15)*'Resultados Comunidad'!$B$6+SUMPRODUCT('Calificación Comunidad'!$E$16:$E$18,'ResParcial Comunidad'!D16:D18)*'Resultados Comunidad'!$B$7+SUMPRODUCT('Calificación Comunidad'!$E$19:$E$27,'ResParcial Comunidad'!D19:D27)*'Resultados Comunidad'!$B$8+SUMPRODUCT('Calificación Comunidad'!$E$28:$E$33,'ResParcial Comunidad'!D28:D33)*'Resultados Comunidad'!$B$9)+C20))","v":{"v":0.37075279310000003,"d":"0.37"}},{"$f":"IF(SUMPRODUCT((D15:D19<>0)*(D15:D19<>\"\"))=0,0,IF(OR(Caracterización!D11=\"Seleccione…\",Caracterización!D20=\"Seleccione…\"),\"Debe seleccionar el municipio y el tipo de energía a implementar\",(SUMPRODUCT('Calificación Comunidad'!$E$7:$E$8,'ResParcial Comunidad'!E7:E8)*'Resultados Comunidad'!$B$5+SUMPRODUCT('Calificación Comunidad'!$E$9:$E$15,'ResParcial Comunidad'!E9:E15)*'Resultados Comunidad'!$B$6+SUMPRODUCT('Calificación Comunidad'!$E$16:$E$18,'ResParcial Comunidad'!E16:E18)*'Resultados Comunidad'!$B$7+SUMPRODUCT('Calificación Comunidad'!$E$19:$E$27,'ResParcial Comunidad'!E19:E27)*'Resultados Comunidad'!$B$8+SUMPRODUCT('Calificación Comunidad'!$E$28:$E$33,'ResParcial Comunidad'!E28:E33)*'Resultados Comunidad'!$B$9)+D20))","v":{"v":0,"d":"0.00"}},{"$f":"IF(SUMPRODUCT((E15:E19<>0)*(E15:E19<>\"\"))=0,0,IF(OR(Caracterización!E11=\"Seleccione…\",Caracterización!E20=\"Seleccione…\"),\"Debe seleccionar el municipio y el tipo de energía a implementar\",(SUMPRODUCT('Calificación Comunidad'!$E$7:$E$8,'ResParcial Comunidad'!F7:F8)*'Resultados Comunidad'!$B$5+SUMPRODUCT('Calificación Comunidad'!$E$9:$E$15,'ResParcial Comunidad'!F9:F15)*'Resultados Comunidad'!$B$6+SUMPRODUCT('Calificación Comunidad'!$E$16:$E$18,'ResParcial Comunidad'!F16:F18)*'Resultados Comunidad'!$B$7+SUMPRODUCT('Calificación Comunidad'!$E$19:$E$27,'ResParcial Comunidad'!F19:F27)*'Resultados Comunidad'!$B$8+SUMPRODUCT('Calificación Comunidad'!$E$28:$E$33,'ResParcial Comunidad'!F28:F33)*'Resultados Comunidad'!$B$9)+E20))","v":{"v":0,"d":"0.00"}},{"$f":"IF(SUMPRODUCT((F15:F19<>0)*(F15:F19<>\"\"))=0,0,IF(OR(Caracterización!F11=\"Seleccione…\",Caracterización!F20=\"Seleccione…\"),\"Debe seleccionar el municipio y el tipo de energía a implementar\",(SUMPRODUCT('Calificación Comunidad'!$E$7:$E$8,'ResParcial Comunidad'!G7:G8)*'Resultados Comunidad'!$B$5+SUMPRODUCT('Calificación Comunidad'!$E$9:$E$15,'ResParcial Comunidad'!G9:G15)*'Resultados Comunidad'!$B$6+SUMPRODUCT('Calificación Comunidad'!$E$16:$E$18,'ResParcial Comunidad'!G16:G18)*'Resultados Comunidad'!$B$7+SUMPRODUCT('Calificación Comunidad'!$E$19:$E$27,'ResParcial Comunidad'!G19:G27)*'Resultados Comunidad'!$B$8+SUMPRODUCT('Calificación Comunidad'!$E$28:$E$33,'ResParcial Comunidad'!G28:G33)*'Resultados Comunidad'!$B$9)+F20))","v":{"v":0,"d":"0.00"}},{"$f":"IF(SUMPRODUCT((G15:G19<>0)*(G15:G19<>\"\"))=0,0,IF(OR(Caracterización!G11=\"Seleccione…\",Caracterización!G20=\"Seleccione…\"),\"Debe seleccionar el municipio y el tipo de energía a implementar\",(SUMPRODUCT('Calificación Comunidad'!$E$7:$E$8,'ResParcial Comunidad'!H7:H8)*'Resultados Comunidad'!$B$5+SUMPRODUCT('Calificación Comunidad'!$E$9:$E$15,'ResParcial Comunidad'!H9:H15)*'Resultados Comunidad'!$B$6+SUMPRODUCT('Calificación Comunidad'!$E$16:$E$18,'ResParcial Comunidad'!H16:H18)*'Resultados Comunidad'!$B$7+SUMPRODUCT('Calificación Comunidad'!$E$19:$E$27,'ResParcial Comunidad'!H19:H27)*'Resultados Comunidad'!$B$8+SUMPRODUCT('Calificación Comunidad'!$E$28:$E$33,'ResParcial Comunidad'!H28:H33)*'Resultados Comunidad'!$B$9)+G20))","v":{"v":0,"d":"0.00"}},{"$f":"IF(SUMPRODUCT((H15:H19<>0)*(H15:H19<>\"\"))=0,0,IF(OR(Caracterización!H11=\"Seleccione…\",Caracterización!H20=\"Seleccione…\"),\"Debe seleccionar el municipio y el tipo de energía a implementar\",(SUMPRODUCT('Calificación Comunidad'!$E$7:$E$8,'ResParcial Comunidad'!I7:I8)*'Resultados Comunidad'!$B$5+SUMPRODUCT('Calificación Comunidad'!$E$9:$E$15,'ResParcial Comunidad'!I9:I15)*'Resultados Comunidad'!$B$6+SUMPRODUCT('Calificación Comunidad'!$E$16:$E$18,'ResParcial Comunidad'!I16:I18)*'Resultados Comunidad'!$B$7+SUMPRODUCT('Calificación Comunidad'!$E$19:$E$27,'ResParcial Comunidad'!I19:I27)*'Resultados Comunidad'!$B$8+SUMPRODUCT('Calificación Comunidad'!$E$28:$E$33,'ResParcial Comunidad'!I28:I33)*'Resultados Comunidad'!$B$9)+H20))","v":{"v":0,"d":"0.00"}},{"$f":"IF(SUMPRODUCT((I15:I19<>0)*(I15:I19<>\"\"))=0,0,IF(OR(Caracterización!I11=\"Seleccione…\",Caracterización!I20=\"Seleccione…\"),\"Debe seleccionar el municipio y el tipo de energía a implementar\",(SUMPRODUCT('Calificación Comunidad'!$E$7:$E$8,'ResParcial Comunidad'!J7:J8)*'Resultados Comunidad'!$B$5+SUMPRODUCT('Calificación Comunidad'!$E$9:$E$15,'ResParcial Comunidad'!J9:J15)*'Resultados Comunidad'!$B$6+SUMPRODUCT('Calificación Comunidad'!$E$16:$E$18,'ResParcial Comunidad'!J16:J18)*'Resultados Comunidad'!$B$7+SUMPRODUCT('Calificación Comunidad'!$E$19:$E$27,'ResParcial Comunidad'!J19:J27)*'Resultados Comunidad'!$B$8+SUMPRODUCT('Calificación Comunidad'!$E$28:$E$33,'ResParcial Comunidad'!J28:J33)*'Resultados Comunidad'!$B$9)+I20))","v":{"v":0,"d":"0.00"}},{"$f":"IF(SUMPRODUCT((J15:J19<>0)*(J15:J19<>\"\"))=0,0,IF(OR(Caracterización!J11=\"Seleccione…\",Caracterización!J20=\"Seleccione…\"),\"Debe seleccionar el municipio y el tipo de energía a implementar\",(SUMPRODUCT('Calificación Comunidad'!$E$7:$E$8,'ResParcial Comunidad'!K7:K8)*'Resultados Comunidad'!$B$5+SUMPRODUCT('Calificación Comunidad'!$E$9:$E$15,'ResParcial Comunidad'!K9:K15)*'Resultados Comunidad'!$B$6+SUMPRODUCT('Calificación Comunidad'!$E$16:$E$18,'ResParcial Comunidad'!K16:K18)*'Resultados Comunidad'!$B$7+SUMPRODUCT('Calificación Comunidad'!$E$19:$E$27,'ResParcial Comunidad'!K19:K27)*'Resultados Comunidad'!$B$8+SUMPRODUCT('Calificación Comunidad'!$E$28:$E$33,'ResParcial Comunidad'!K28:K33)*'Resultados Comunidad'!$B$9)+J20))","v":{"v":0,"d":"0.00"}},{"$f":"IF(SUMPRODUCT((K15:K19<>0)*(K15:K19<>\"\"))=0,0,IF(OR(Caracterización!K11=\"Seleccione…\",Caracterización!K20=\"Seleccione…\"),\"Debe seleccionar el municipio y el tipo de energía a implementar\",(SUMPRODUCT('Calificación Comunidad'!$E$7:$E$8,'ResParcial Comunidad'!L7:L8)*'Resultados Comunidad'!$B$5+SUMPRODUCT('Calificación Comunidad'!$E$9:$E$15,'ResParcial Comunidad'!L9:L15)*'Resultados Comunidad'!$B$6+SUMPRODUCT('Calificación Comunidad'!$E$16:$E$18,'ResParcial Comunidad'!L16:L18)*'Resultados Comunidad'!$B$7+SUMPRODUCT('Calificación Comunidad'!$E$19:$E$27,'ResParcial Comunidad'!L19:L27)*'Resultados Comunidad'!$B$8+SUMPRODUCT('Calificación Comunidad'!$E$28:$E$33,'ResParcial Comunidad'!L28:L33)*'Resultados Comunidad'!$B$9)+K20))","v":{"v":0,"d":"0.00"}}]
["Resultados ordenados de mayor a menor\nAquí puedes ver las calificaciones organizadas de forma automática para que identifiques las mejores opciones rápidamente."]
[]
["Comunidad","Calificación Final Priorización","Departamento ","Municipio","Estado actual de la comunidad energética","Tipo de energía a implementar en la comunidad","Capacidad estimada de generación de energía del proyecto (kWh)","No. Miembros en la comunidad","Descripción del área (Ha)","Zona no interconectada ZNI","Costo total del proyecto (COP)","% de los costos de capital que se requiere sean cubiertos","% Fortalezas","Alerta área protegida "]
[]
[{"$f":"_xlfn._xlws.SORT(_xlfn._xlws.FILTER(_xlfn.HSTACK(TRANSPOSE(B14:K14),TRANSPOSE(B21:K21)),(TRANSPOSE(B21:K21)<>0)*(TRANSPOSE(B21:K21)<>\"Debe seleccionar el municipio y el tipo de energía a implementar\")),2,-1)","v":"C1"},{"v":0.42849380530000003,"d":"0.43"},{"$f":"IF(AND(A26<>0, _xlfn.XLOOKUP(A26,Caracterización!$B$8:$K$8,Caracterización!$B$10:$K$10,\"\")=\"Seleccione ...\"), \"Debe indicarlo en la caracterización de la comunidad\", IF(A26<>0, _xlfn.XLOOKUP(A26,Caracterización!$B$8:$K$8,Caracterización!$B$10:$K$10,\"\"), \"\"))","v":"Tolima"},{"$f":"IF(AND(A26<>0, _xlfn.XLOOKUP(A26,Caracterización!$B$8:$K$8,Caracterización!$B$11:$K$11,\"\")=\"Seleccione ...\"), \"Debe indicarlo en la caracterización de la comunidad\", IF(A26<>0, _xlfn.XLOOKUP(A26,Caracterización!$B$8:$K$8,Caracterización!$B$11:$K$11,\"\"), \"\"))","v":"Casabianca"},{"$f":"IF(AND(A26<>0, _xlfn.XLOOKUP(A26,Caracterización!$B$8:$K$8,Caracterización!$B$19:$K$19,\"\")=\"Seleccione ...\"), \"Debe indicarlo en la caracterización de la comunidad\", IF(A26<>0, _xlfn.XLOOKUP(A26,Caracterización!$B$8:$K$8,Caracterización!$B$19:$K$19,\"\"), \"\"))","v":"Inicial"},{"$f":"IF(AND(A26<>0, _xlfn.XLOOKUP(A26,Caracterización!$B$8:$K$8,Caracterización!$B$20:$K$20,\"\")=\"Seleccione ...\"), \"Debe indicarlo en la caracterización de la comunidad\", IF(A26<>0, _xlfn.XLOOKUP(A26,Caracterización!$B$8:$K$8,Caracterización!$B$20:$K$20,\"\"), \"\"))","v":"Biomasa vegetal"},{"$f":"IF(AND(A26<>0, _xlfn.XLOOKUP(A26,Caracterización!$B$8:$K$8,Caracterización!$B$22:$K$22,\"\")=\"Seleccione ...\"), \"Debe indicarlo en la caracterización de la comunidad\", IF(A26<>0, _xlfn.XLOOKUP(A26,Caracterización!$B$8:$K$8,Caracterización!$B$22:$K$22,\"\"), \"\"))","v":0},{"$f":"IF(AND(A26<>0, _xlfn.XLOOKUP(A26,Caracterización!$B$8:$K$8,Caracterización!$B$23:$K$23,\"\")=\"Seleccione ...\"), \"Debe indicarlo en la caracterización de la comunidad\", IF(A26<>0, _xlfn.XLOOKUP(A26,Caracterización!$B$8:$K$8,Caracterización!$B$23:$K$23,\"\"), \"\"))","v":0},{"$f":"IF(AND(A26<>0, _xlfn.XLOOKUP(A26,Caracterización!$B$8:$K$8,Caracterización!$B$28:$K$28,\"\")=\"Seleccione ...\"), \"Debe indicarlo en la caracterización de la comunidad\", IF(A26<>0, _xlfn.XLOOKUP(A26,Caracterización!$B$8:$K$8,Caracterización!$B$28:$K$28,\"\"), \"\"))","v":0},{"$f":"IF(AND(A26<>0, _xlfn.XLOOKUP(A26,Caracterización!$B$8:$K$8,Caracterización!$B$37:$K$37,\"\")=\"Seleccione ...\"), \"Debe indicarlo en la caracterización de la comunidad\", IF(A26<>0, _xlfn.XLOOKUP(A26,Caracterización!$B$8:$K$8,Caracterización!$B$37:$K$37,\"\"), \"\"))","v":0},{"$f":"IF(AND(A26<>0, _xlfn.XLOOKUP(A26,Caracterización!$B$8:$K$8,Caracterización!$B$40:$K$40,\"\")=\"Seleccione ...\"), \"Debe indicarlo en la caracterización de la comunidad\", IF(A26<>0, _xlfn.XLOOKUP(A26,Caracterización!$B$8:$K$8,Caracterización!$B$40:$K$40,\"\"), \"\"))","v":50},{"$f":"IF(AND(A26<>0, _xlfn.XLOOKUP(A26,Caracterización!$B$8:$K$8,Caracterización!$B$42:$K$42,\"\")=\"Seleccione ...\"), \"Debe indicarlo en la caracterización de la comunidad\", IF(A26<>0, _xlfn.XLOOKUP(A26,Caracterización!$B$8:$K$8,Caracterización!$B$42:$K$42,\"\"), \"\"))","v":1},{"$f":"IF(AND(A26<>0, _xlfn.XLOOKUP(A26,Caracterización!$B$8:$K$8,Caracterización!$B$72:$K$72,\"\")=\"Seleccione ...\"), \"Debe indicarlo en la caracterización de la comunidad\", IF(A26<>0, _xlfn.XLOOKUP(A26,Caracterización!$B$8:$K$8,Caracterización!$B$72:$K$72,\"\"), \"\"))","v":{"v":0.68,"d":"68%"}},{"$f":"IF(AND(A26<>0, _xlfn.XLOOKUP(A26,Caracterización!$B$8:$K$8,Caracterización!$B$36:$K$36,\"\")=\"Seleccione ...\"), \"Debe indicarlo en la caracterización de la comunidad\", IF(A26<>0, _xlfn.XLOOKUP(A26,Caracterización!$B$8:$K$8,Caracterización!$B$36:$K$36,\"\"), \"\"))","v":"Sí está en área protegida"}]
["C2",{"v":0.37075279310000003,"d":"0.37"},{"$f":"IF(AND(A27<>0, _xlfn.XLOOKUP(A27,Caracterización!$B$8:$K$8,Caracterización!$B$10:$K$10,\"\")=\"Seleccione ...\"), \"Debe indicarlo en la caracterización de la comunidad\", IF(A27<>0, _xlfn.XLOOKUP(A27,Caracterización!$B$8:$K$8,Caracterización!$B$10:$K$10,\"\"), \"\"))","v":"Bogotá, D.C"},{"$f":"IF(AND(A27<>0, _xlfn.XLOOKUP(A27,Caracterización!$B$8:$K$8,Caracterización!$B$11:$K$11,\"\")=\"Seleccione ...\"), \"Debe indicarlo en la caracterización de la comunidad\", IF(A27<>0, _xlfn.XLOOKUP(A27,Caracterización!$B$8:$K$8,Caracterización!$B$11:$K$11,\"\"), \"\"))","v":"Bogotá, D.C."},{"$f":"IF(AND(A27<>0, _xlfn.XLOOKUP(A27,Caracterización!$B$8:$K$8,Caracterización!$B$19:$K$19,\"\")=\"Seleccione ...\"), \"Debe indicarlo en la caracterización de la comunidad\", IF(A27<>0, _xlfn.XLOOKUP(A27,Caracterización!$B$8:$K$8,Caracterización!$B$19:$K$19,\"\"), \"\"))","v":"En operación"},{"$f":"IF(AND(A27<>0, _xlfn.XLOOKUP(A27,Caracterización!$B$8:$K$8,Caracterización!$B$20:$K$20,\"\")=\"Seleccione ...\"), \"Debe indicarlo en la caracterización de la comunidad\", IF(A27<>0, _xlfn.XLOOKUP(A27,Caracterización!$B$8:$K$8,Caracterización!$B$20:$K$20,\"\"), \"\"))","v":"Biomasa vegetal"},{"$f":"IF(AND(A27<>0, _xlfn.XLOOKUP(A27,Caracterización!$B$8:$K$8,Caracterización!$B$22:$K$22,\"\")=\"Seleccione ...\"), \"Debe indicarlo en la caracterización de la comunidad\", IF(A27<>0, _xlfn.XLOOKUP(A27,Caracterización!$B$8:$K$8,Caracterización!$B$22:$K$22,\"\"), \"\"))","v":0},{"$f":"IF(AND(A27<>0, _xlfn.XLOOKUP(A27,Caracterización!$B$8:$K$8,Caracterización!$B$23:$K$23,\"\")=\"Seleccione ...\"), \"Debe indicarlo en la caracterización de la comunidad\", IF(A27<>0, _xlfn.XLOOKUP(A27,Caracterización!$B$8:$K$8,Caracterización!$B$23:$K$23,\"\"), \"\"))","v":0},{"$f":"IF(AND(A27<>0, _xlfn.XLOOKUP(A27,Caracterización!$B$8:$K$8,Caracterización!$B$28:$K$28,\"\")=\"Seleccione ...\"), \"Debe indicarlo en la caracterización de la comunidad\", IF(A27<>0, _xlfn.XLOOKUP(A27,Caracterización!$B$8:$K$8,Caracterización!$B$28:$K$28,\"\"), \"\"))","v":0},{"$f":"IF(AND(A27<>0, _xlfn.XLOOKUP(A27,Caracterización!$B$8:$K$8,Caracterización!$B$37:$K$37,\"\")=\"Seleccione ...\"), \"Debe indicarlo en la caracterización de la comunidad\", IF(A27<>0, _xlfn.XLOOKUP(A27,Caracterización!$B$8:$K$8,Caracterización!$B$37:$K$37,\"\"), \"\"))","v":0},{"$f":"IF(AND(A27<>0, _xlfn.XLOOKUP(A27,Caracterización!$B$8:$K$8,Caracterización!$B$40:$K$40,\"\")=\"Seleccione ...\"), \"Debe indicarlo en la caracterización de la comunidad\", IF(A27<>0, _xlfn.XLOOKUP(A27,Caracterización!$B$8:$K$8,Caracterización!$B$40:$K$40,\"\"), \"\"))","v":0},{"$f":"IF(AND(A27<>0, _xlfn.XLOOKUP(A27,Caracterización!$B$8:$K$8,Caracterización!$B$42:$K$42,\"\")=\"Seleccione ...\"), \"Debe indicarlo en la caracterización de la comunidad\", IF(A27<>0, _xlfn.XLOOKUP(A27,Caracterización!$B$8:$K$8,Caracterización!$B$42:$K$42,\"\"), \"\"))","v":0},{"$f":"IF(AND(A27<>0, _xlfn.XLOOKUP(A27,Caracterización!$B$8:$K$8,Caracterización!$B$72:$K$72,\"\")=\"Seleccione ...\"), \"Debe indicarlo en la caracterización de la comunidad\", IF(A27<>0, _xlfn.XLOOKUP(A27,Caracterización!$B$8:$K$8,Caracterización!$B$72:$K$72,\"\"), \"\"))","v":{"v":0.72,"d":"72%"}},{"$f":"IF(AND(A27<>0, _xlfn.XLOOKUP(A27,Caracterización!$B$8:$K$8,Caracterización!$B$36:$K$36,\"\")=\"Seleccione ...\"), \"Debe indicarlo en la caracterización de la comunidad\", IF(A27<>0, _xlfn.XLOOKUP(A27,Caracterización!$B$8:$K$8,Caracterización!$B$36:$K$36,\"\"), \"\"))","v":"No está en área protegida "}]
[null,null,{"$f":"IF(AND(A28<>0, _xlfn.XLOOKUP(A28,Caracterización!$B$8:$K$8,Caracterización!$B$10:$K$10,\"\")=\"Seleccione ...\"), \"Debe indicarlo en la caracterización de la comunidad\", IF(A28<>0, _xlfn.XLOOKUP(A28,Caracterización!$B$8:$K$8,Caracterización!$B$10:$K$10,\"\"), \"\"))","v":""},{"$f":"IF(AND(A28<>0, _xlfn.XLOOKUP(A28,Caracterización!$B$8:$K$8,Caracterización!$B$11:$K$11,\"\")=\"Seleccione ...\"), \"Debe indicarlo en la caracterización de la comunidad\", IF(A28<>0, _xlfn.XLOOKUP(A28,Caracterización!$B$8:$K$8,Caracterización!$B$11:$K$11,\"\"), \"\"))","v":""},{"$f":"IF(AND(A28<>0, _xlfn.XLOOKUP(A28,Caracterización!$B$8:$K$8,Caracterización!$B$19:$K$19,\"\")=\"Seleccione ...\"), \"Debe indicarlo en la caracterización de la comunidad\", IF(A28<>0, _xlfn.XLOOKUP(A28,Caracterización!$B$8:$K$8,Caracterización!$B$19:$K$19,\"\"), \"\"))","v":""},{"$f":"IF(AND(A28<>0, _xlfn.XLOOKUP(A28,Caracterización!$B$8:$K$8,Caracterización!$B$20:$K$20,\"\")=\"Seleccione ...\"), \"Debe indicarlo en la caracterización de la comunidad\", IF(A28<>0, _xlfn.XLOOKUP(A28,Caracterización!$B$8:$K$8,Caracterización!$B$20:$K$20,\"\"), \"\"))","v":""},{"$f":"IF(AND(A28<>0, _xlfn.XLOOKUP(A28,Caracterización!$B$8:$K$8,Caracterización!$B$22:$K$22,\"\")=\"Seleccione ...\"), \"Debe indicarlo en la caracterización de la comunidad\", IF(A28<>0, _xlfn.XLOOKUP(A28,Caracterización!$B$8:$K$8,Caracterización!$B$22:$K$22,\"\"), \"\"))","v":""},{"$f":"IF(AND(A28<>0, _xlfn.XLOOKUP(A28,Caracterización!$B$8:$K$8,Caracterización!$B$23:$K$23,\"\")=\"Seleccione ...\"), \"Debe indicarlo en la caracterización de la comunidad\", IF(A28<>0, _xlfn.XLOOKUP(A28,Caracterización!$B$8:$K$8,Caracterización!$B$23:$K$23,\"\"), \"\"))","v":""},{"$f":"IF(AND(A28<>0, _xlfn.XLOOKUP(A28,Caracterización!$B$8:$K$8,Caracterización!$B$28:$K$28,\"\")=\"Seleccione ...\"), \"Debe indicarlo en la caracterización de la comunidad\", IF(A28<>0, _xlfn.XLOOKUP(A28,Caracterización!$B$8:$K$8,Caracterización!$B$28:$K$28,\"\"), \"\"))","v":""},{"$f":"IF(AND(A28<>0, _xlfn.XLOOKUP(A28,Caracterización!$B$8:$K$8,Caracterización!$B$37:$K$37,\"\")=\"Seleccione ...\"), \"Debe indicarlo en la caracterización de la comunidad\", IF(A28<>0, _xlfn.XLOOKUP(A28,Caracterización!$B$8:$K$8,Caracterización!$B$37:$K$37,\"\"), \"\"))","v":""},{"$f":"IF(AND(A28<>0, _xlfn.XLOOKUP(A28,Caracterización!$B$8:$K$8,Caracterización!$B$40:$K$40,\"\")=\"Seleccione ...\"), \"Debe indicarlo en la caracterización de la comunidad\", IF(A28<>0, _xlfn.XLOOKUP(A28,Caracterización!$B$8:$K$8,Caracterización!$B$40:$K$40,\"\"), \"\"))","v":""},{"$f":"IF(AND(A28<>0, _xlfn.XLOOKUP(A28,Caracterización!$B$8:$K$8,Caracterización!$B$42:$K$42,\"\")=\"Seleccione ...\"), \"Debe indicarlo en la caracterización de la comunidad\", IF(A28<>0, _xlfn.XLOOKUP(A28,Caracterización!$B$8:$K$8,Caracterización!$B$42:$K$42,\"\"), \"\"))","v":""},{"$f":"IF(AND(A28<>0, _xlfn.XLOOKUP(A28,Caracterización!$B$8:$K$8,Caracterización!$B$72:$K$72,\"\")=\"Seleccione ...\"), \"Debe indicarlo en la caracterización de la comunidad\", IF(A28<>0, _xlfn.XLOOKUP(A28,Caracterización!$B$8:$K$8,Caracterización!$B$72:$K$72,\"\"), \"\"))","v":""},{"$f":"IF(AND(A28<>0, _xlfn.XLOOKUP(A28,Caracterización!$B$8:$K$8,Caracterización!$B$36:$K$36,\"\")=\"Seleccione ...\"), \"Debe indicarlo en la caracterización de la comunidad\", IF(A28<>0, _xlfn.XLOOKUP(A28,Caracterización!$B$8:$K$8,Caracterización!$B$36:$K$36,\"\"), \"\"))","v":""}]
[null,null,{"$f":"IF(AND(A29<>0, _xlfn.XLOOKUP(A29,Caracterización!$B$8:$K$8,Caracterización!$B$10:$K$10,\"\")=\"Seleccione ...\"), \"Debe indicarlo en la caracterización de la comunidad\", IF(A29<>0, _xlfn.XLOOKUP(A29,Caracterización!$B$8:$K$8,Caracterización!$B$10:$K$10,\"\"), \"\"))","v":""},{"$f":"IF(AND(A29<>0, _xlfn.XLOOKUP(A29,Caracterización!$B$8:$K$8,Caracterización!$B$11:$K$11,\"\")=\"Seleccione ...\"), \"Debe indicarlo en la caracterización de la comunidad\", IF(A29<>0, _xlfn.XLOOKUP(A29,Caracterización!$B$8:$K$8,Caracterización!$B$11:$K$11,\"\"), \"\"))","v":""},{"$f":"IF(AND(A29<>0, _xlfn.XLOOKUP(A29,Caracterización!$B$8:$K$8,Caracterización!$B$19:$K$19,\"\")=\"Seleccione ...\"), \"Debe indicarlo en la caracterización de la comunidad\", IF(A29<>0, _xlfn.XLOOKUP(A29,Caracterización!$B$8:$K$8,Caracterización!$B$19:$K$19,\"\"), \"\"))","v":""},{"$f":"IF(AND(A29<>0, _xlfn.XLOOKUP(A29,Caracterización!$B$8:$K$8,Caracterización!$B$20:$K$20,\"\")=\"Seleccione ...\"), \"Debe indicarlo en la caracterización de la comunidad\", IF(A29<>0, _xlfn.XLOOKUP(A29,Caracterización!$B$8:$K$8,Caracterización!$B$20:$K$20,\"\"), \"\"))","v":""},{"$f":"IF(AND(A29<>0, _xlfn.XLOOKUP(A29,Caracterización!$B$8:$K$8,Caracterización!$B$22:$K$22,\"\")=\"Seleccione ...\"), \"Debe indicarlo en la caracterización de la comunidad\", IF(A29<>0, _xlfn.XLOOKUP(A29,Caracterización!$B$8:$K$8,Caracterización!$B$22:$K$22,\"\"), \"\"))","v":""},{"$f":"IF(AND(A29<>0, _xlfn.XLOOKUP(A29,Caracterización!$B$8:$K$8,Caracterización!$B$23:$K$23,\"\")=\"Seleccione ...\"), \"Debe indicarlo en la caracterización de la comunidad\", IF(A29<>0, _xlfn.XLOOKUP(A29,Caracterización!$B$8:$K$8,Caracterización!$B$23:$K$23,\"\"), \"\"))","v":""},{"$f":"IF(AND(A29<>0, _xlfn.XLOOKUP(A29,Caracterización!$B$8:$K$8,Caracterización!$B$28:$K$28,\"\")=\"Seleccione ...\"), \"Debe indicarlo en la caracterización de la comunidad\", IF(A29<>0, _xlfn.XLOOKUP(A29,Caracterización!$B$8:$K$8,Caracterización!$B$28:$K$28,\"\"), \"\"))","v":""},{"$f":"IF(AND(A29<>0, _xlfn.XLOOKUP(A29,Caracterización!$B$8:$K$8,Caracterización!$B$37:$K$37,\"\")=\"Seleccione ...\"), \"Debe indicarlo en la caracterización de la comunidad\", IF(A29<>0, _xlfn.XLOOKUP(A29,Caracterización!$B$8:$K$8,Caracterización!$B$37:$K$37,\"\"), \"\"))","v":""},{"$f":"IF(AND(A29<>0, _xlfn.XLOOKUP(A29,Caracterización!$B$8:$K$8,Caracterización!$B$40:$K$40,\"\")=\"Seleccione ...\"), \"Debe indicarlo en la caracterización de la comunidad\", IF(A29<>0, _xlfn.XLOOKUP(A29,Caracterización!$B$8:$K$8,Caracterización!$B$40:$K$40,\"\"), \"\"))","v":""},{"$f":"IF(AND(A29<>0, _xlfn.XLOOKUP(A29,Caracterización!$B$8:$K$8,Caracterización!$B$42:$K$42,\"\")=\"Seleccione ...\"), \"Debe indicarlo en la caracterización de la comunidad\", IF(A29<>0, _xlfn.XLOOKUP(A29,Caracterización!$B$8:$K$8,Caracterización!$B$42:$K$42,\"\"), \"\"))","v":""},{"$f":"IF(AND(A29<>0, _xlfn.XLOOKUP(A29,Caracterización!$B$8:$K$8,Caracterización!$B$72:$K$72,\"\")=\"Seleccione ...\"), \"Debe indicarlo en la caracterización de la comunidad\", IF(A29<>0, _xlfn.XLOOKUP(A29,Caracterización!$B$8:$K$8,Caracterización!$B$72:$K$72,\"\"), \"\"))","v":""},{"$f":"IF(AND(A29<>0, _xlfn.XLOOKUP(A29,Caracterización!$B$8:$K$8,Caracterización!$B$36:$K$36,\"\")=\"Seleccione ...\"), \"Debe indicarlo en la caracterización de la comunidad\", IF(A29<>0, _xlfn.XLOOKUP(A29,Caracterización!$B$8:$K$8,Caracterización!$B$36:$K$36,\"\"), \"\"))","v":""}]
[null,null,{"$f":"IF(AND(A30<>0, _xlfn.XLOOKUP(A30,Caracterización!$B$8:$K$8,Caracterización!$B$10:$K$10,\"\")=\"Seleccione ...\"), \"Debe indicarlo en la caracterización de la comunidad\", IF(A30<>0, _xlfn.XLOOKUP(A30,Caracterización!$B$8:$K$8,Caracterización!$B$10:$K$10,\"\"), \"\"))","v":""},{"$f":"IF(AND(A30<>0, _xlfn.XLOOKUP(A30,Caracterización!$B$8:$K$8,Caracterización!$B$11:$K$11,\"\")=\"Seleccione ...\"), \"Debe indicarlo en la caracterización de la comunidad\", IF(A30<>0, _xlfn.XLOOKUP(A30,Caracterización!$B$8:$K$8,Caracterización!$B$11:$K$11,\"\"), \"\"))","v":""},{"$f":"IF(AND(A30<>0, _xlfn.XLOOKUP(A30,Caracterización!$B$8:$K$8,Caracterización!$B$19:$K$19,\"\")=\"Seleccione ...\"), \"Debe indicarlo en la caracterización de la comunidad\", IF(A30<>0, _xlfn.XLOOKUP(A30,Caracterización!$B$8:$K$8,Caracterización!$B$19:$K$19,\"\"), \"\"))","v":""},{"$f":"IF(AND(A30<>0, _xlfn.XLOOKUP(A30,Caracterización!$B$8:$K$8,Caracterización!$B$20:$K$20,\"\")=\"Seleccione ...\"), \"Debe indicarlo en la caracterización de la comunidad\", IF(A30<>0, _xlfn.XLOOKUP(A30,Caracterización!$B$8:$K$8,Caracterización!$B$20:$K$20,\"\"), \"\"))","v":""},{"$f":"IF(AND(A30<>0, _xlfn.XLOOKUP(A30,Caracterización!$B$8:$K$8,Caracterización!$B$22:$K$22,\"\")=\"Seleccione ...\"), \"Debe indicarlo en la caracterización de la comunidad\", IF(A30<>0, _xlfn.XLOOKUP(A30,Caracterización!$B$8:$K$8,Caracterización!$B$22:$K$22,\"\"), \"\"))","v":""},{"$f":"IF(AND(A30<>0, _xlfn.XLOOKUP(A30,Caracterización!$B$8:$K$8,Caracterización!$B$23:$K$23,\"\")=\"Seleccione ...\"), \"Debe indicarlo en la caracterización de la comunidad\", IF(A30<>0, _xlfn.XLOOKUP(A30,Caracterización!$B$8:$K$8,Caracterización!$B$23:$K$23,\"\"), \"\"))","v":""},{"$f":"IF(AND(A30<>0, _xlfn.XLOOKUP(A30,Caracterización!$B$8:$K$8,Caracterización!$B$28:$K$28,\"\")=\"Seleccione ...\"), \"Debe indicarlo en la caracterización de la comunidad\", IF(A30<>0, _xlfn.XLOOKUP(A30,Caracterización!$B$8:$K$8,Caracterización!$B$28:$K$28,\"\"), \"\"))","v":""},{"$f":"IF(AND(A30<>0, _xlfn.XLOOKUP(A30,Caracterización!$B$8:$K$8,Caracterización!$B$37:$K$37,\"\")=\"Seleccione ...\"), \"Debe indicarlo en la caracterización de la comunidad\", IF(A30<>0, _xlfn.XLOOKUP(A30,Caracterización!$B$8:$K$8,Caracterización!$B$37:$K$37,\"\"), \"\"))","v":""},{"$f":"IF(AND(A30<>0, _xlfn.XLOOKUP(A30,Caracterización!$B$8:$K$8,Caracterización!$B$40:$K$40,\"\")=\"Seleccione ...\"), \"Debe indicarlo en la caracterización de la comunidad\", IF(A30<>0, _xlfn.XLOOKUP(A30,Caracterización!$B$8:$K$8,Caracterización!$B$40:$K$40,\"\"), \"\"))","v":""},{"$f":"IF(AND(A30<>0, _xlfn.XLOOKUP(A30,Caracterización!$B$8:$K$8,Caracterización!$B$42:$K$42,\"\")=\"Seleccione ...\"), \"Debe indicarlo en la caracterización de la comunidad\", IF(A30<>0, _xlfn.XLOOKUP(A30,Caracterización!$B$8:$K$8,Caracterización!$B$42:$K$42,\"\"), \"\"))","v":""},{"$f":"IF(AND(A30<>0, _xlfn.XLOOKUP(A30,Caracterización!$B$8:$K$8,Caracterización!$B$72:$K$72,\"\")=\"Seleccione ...\"), \"Debe indicarlo en la caracterización de la comunidad\", IF(A30<>0, _xlfn.XLOOKUP(A30,Caracterización!$B$8:$K$8,Caracterización!$B$72:$K$72,\"\"), \"\"))","v":""},{"$f":"IF(AND(A30<>0, _xlfn.XLOOKUP(A30,Caracterización!$B$8:$K$8,Caracterización!$B$36:$K$36,\"\")=\"Seleccione ...\"), \"Debe indicarlo en la caracterización de la comunidad\", IF(A30<>0, _xlfn.XLOOKUP(A30,Caracterización!$B$8:$K$8,Caracterización!$B$36:$K$36,\"\"), \"\"))","v":""}]
[null,null,{"$f":"IF(AND(A31<>0, _xlfn.XLOOKUP(A31,Caracterización!$B$8:$K$8,Caracterización!$B$10:$K$10,\"\")=\"Seleccione ...\"), \"Debe indicarlo en la caracterización de la comunidad\", IF(A31<>0, _xlfn.XLOOKUP(A31,Caracterización!$B$8:$K$8,Caracterización!$B$10:$K$10,\"\"), \"\"))","v":""},{"$f":"IF(AND(A31<>0, _xlfn.XLOOKUP(A31,Caracterización!$B$8:$K$8,Caracterización!$B$11:$K$11,\"\")=\"Seleccione ...\"), \"Debe indicarlo en la caracterización de la comunidad\", IF(A31<>0, _xlfn.XLOOKUP(A31,Caracterización!$B$8:$K$8,Caracterización!$B$11:$K$11,\"\"), \"\"))","v":""},{"$f":"IF(AND(A31<>0, _xlfn.XLOOKUP(A31,Caracterización!$B$8:$K$8,Caracterización!$B$19:$K$19,\"\")=\"Seleccione ...\"), \"Debe indicarlo en la caracterización de la comunidad\", IF(A31<>0, _xlfn.XLOOKUP(A31,Caracterización!$B$8:$K$8,Caracterización!$B$19:$K$19,\"\"), \"\"))","v":""},{"$f":"IF(AND(A31<>0, _xlfn.XLOOKUP(A31,Caracterización!$B$8:$K$8,Caracterización!$B$20:$K$20,\"\")=\"Seleccione ...\"), \"Debe indicarlo en la caracterización de la comunidad\", IF(A31<>0, _xlfn.XLOOKUP(A31,Caracterización!$B$8:$K$8,Caracterización!$B$20:$K$20,\"\"), \"\"))","v":""},{"$f":"IF(AND(A31<>0, _xlfn.XLOOKUP(A31,Caracterización!$B$8:$K$8,Caracterización!$B$22:$K$22,\"\")=\"Seleccione ...\"), \"Debe indicarlo en la caracterización de la comunidad\", IF(A31<>0, _xlfn.XLOOKUP(A31,Caracterización!$B$8:$K$8,Caracterización!$B$22:$K$22,\"\"), \"\"))","v":""},{"$f":"IF(AND(A31<>0, _xlfn.XLOOKUP(A31,Caracterización!$B$8:$K$8,Caracterización!$B$23:$K$23,\"\")=\"Seleccione ...\"), \"Debe indicarlo en la caracterización de la comunidad\", IF(A31<>0, _xlfn.XLOOKUP(A31,Caracterización!$B$8:$K$8,Caracterización!$B$23:$K$23,\"\"), \"\"))","v":""},{"$f":"IF(AND(A31<>0, _xlfn.XLOOKUP(A31,Caracterización!$B$8:$K$8,Caracterización!$B$28:$K$28,\"\")=\"Seleccione ...\"), \"Debe indicarlo en la caracterización de la comunidad\", IF(A31<>0, _xlfn.XLOOKUP(A31,Caracterización!$B$8:$K$8,Caracterización!$B$28:$K$28,\"\"), \"\"))","v":""},{"$f":"IF(AND(A31<>0, _xlfn.XLOOKUP(A31,Caracterización!$B$8:$K$8,Caracterización!$B$37:$K$37,\"\")=\"Seleccione ...\"), \"Debe indicarlo en la caracterización de la comunidad\", IF(A31<>0, _xlfn.XLOOKUP(A31,Caracterización!$B$8:$K$8,Caracterización!$B$37:$K$37,\"\"), \"\"))","v":""},{"$f":"IF(AND(A31<>0, _xlfn.XLOOKUP(A31,Caracterización!$B$8:$K$8,Caracterización!$B$40:$K$40,\"\")=\"Seleccione ...\"), \"Debe indicarlo en la caracterización de la comunidad\", IF(A31<>0, _xlfn.XLOOKUP(A31,Caracterización!$B$8:$K$8,Caracterización!$B$40:$K$40,\"\"), \"\"))","v":""},{"$f":"IF(AND(A31<>0, _xlfn.XLOOKUP(A31,Caracterización!$B$8:$K$8,Caracterización!$B$42:$K$42,\"\")=\"Seleccione ...\"), \"Debe indicarlo en la caracterización de la comunidad\", IF(A31<>0, _xlfn.XLOOKUP(A31,Caracterización!$B$8:$K$8,Caracterización!$B$42:$K$42,\"\"), \"\"))","v":""},{"$f":"IF(AND(A31<>0, _xlfn.XLOOKUP(A31,Caracterización!$B$8:$K$8,Caracterización!$B$72:$K$72,\"\")=\"Seleccione ...\"), \"Debe indicarlo en la caracterización de la comunidad\", IF(A31<>0, _xlfn.XLOOKUP(A31,Caracterización!$B$8:$K$8,Caracterización!$B$72:$K$72,\"\"), \"\"))","v":""},{"$f":"IF(AND(A31<>0, _xlfn.XLOOKUP(A31,Caracterización!$B$8:$K$8,Caracterización!$B$36:$K$36,\"\")=\"Seleccione ...\"), \"Debe indicarlo en la caracterización de la comunidad\", IF(A31<>0, _xlfn.XLOOKUP(A31,Caracterización!$B$8:$K$8,Caracterización!$B$36:$K$36,\"\"), \"\"))","v":""}]
[null,null,{"$f":"IF(AND(A32<>0, _xlfn.XLOOKUP(A32,Caracterización!$B$8:$K$8,Caracterización!$B$10:$K$10,\"\")=\"Seleccione ...\"), \"Debe indicarlo en la caracterización de la comunidad\", IF(A32<>0, _xlfn.XLOOKUP(A32,Caracterización!$B$8:$K$8,Caracterización!$B$10:$K$10,\"\"), \"\"))","v":""},{"$f":"IF(AND(A32<>0, _xlfn.XLOOKUP(A32,Caracterización!$B$8:$K$8,Caracterización!$B$11:$K$11,\"\")=\"Seleccione ...\"), \"Debe indicarlo en la caracterización de la comunidad\", IF(A32<>0, _xlfn.XLOOKUP(A32,Caracterización!$B$8:$K$8,Caracterización!$B$11:$K$11,\"\"), \"\"))","v":""},{"$f":"IF(AND(A32<>0, _xlfn.XLOOKUP(A32,Caracterización!$B$8:$K$8,Caracterización!$B$19:$K$19,\"\")=\"Seleccione ...\"), \"Debe indicarlo en la caracterización de la comunidad\", IF(A32<>0, _xlfn.XLOOKUP(A32,Caracterización!$B$8:$K$8,Caracterización!$B$19:$K$19,\"\"), \"\"))","v":""},{"$f":"IF(AND(A32<>0, _xlfn.XLOOKUP(A32,Caracterización!$B$8:$K$8,Caracterización!$B$20:$K$20,\"\")=\"Seleccione ...\"), \"Debe indicarlo en la caracterización de la comunidad\", IF(A32<>0, _xlfn.XLOOKUP(A32,Caracterización!$B$8:$K$8,Caracterización!$B$20:$K$20,\"\"), \"\"))","v":""},{"$f":"IF(AND(A32<>0, _xlfn.XLOOKUP(A32,Caracterización!$B$8:$K$8,Caracterización!$B$22:$K$22,\"\")=\"Seleccione ...\"), \"Debe indicarlo en la caracterización de la comunidad\", IF(A32<>0, _xlfn.XLOOKUP(A32,Caracterización!$B$8:$K$8,Caracterización!$B$22:$K$22,\"\"), \"\"))","v":""},{"$f":"IF(AND(A32<>0, _xlfn.XLOOKUP(A32,Caracterización!$B$8:$K$8,Caracterización!$B$23:$K$23,\"\")=\"Seleccione ...\"), \"Debe indicarlo en la caracterización de la comunidad\", IF(A32<>0, _xlfn.XLOOKUP(A32,Caracterización!$B$8:$K$8,Caracterización!$B$23:$K$23,\"\"), \"\"))","v":""},{"$f":"IF(AND(A32<>0, _xlfn.XLOOKUP(A32,Caracterización!$B$8:$K$8,Caracterización!$B$28:$K$28,\"\")=\"Seleccione ...\"), \"Debe indicarlo en la caracterización de la comunidad\", IF(A32<>0, _xlfn.XLOOKUP(A32,Caracterización!$B$8:$K$8,Caracterización!$B$28:$K$28,\"\"), \"\"))","v":""},{"$f":"IF(AND(A32<>0, _xlfn.XLOOKUP(A32,Caracterización!$B$8:$K$8,Caracterización!$B$37:$K$37,\"\")=\"Seleccione ...\"), \"Debe indicarlo en la caracterización de la comunidad\", IF(A32<>0, _xlfn.XLOOKUP(A32,Caracterización!$B$8:$K$8,Caracterización!$B$37:$K$37,\"\"), \"\"))","v":""},{"$f":"IF(AND(A32<>0, _xlfn.XLOOKUP(A32,Caracterización!$B$8:$K$8,Caracterización!$B$40:$K$40,\"\")=\"Seleccione ...\"), \"Debe indicarlo en la caracterización de la comunidad\", IF(A32<>0, _xlfn.XLOOKUP(A32,Caracterización!$B$8:$K$8,Caracterización!$B$40:$K$40,\"\"), \"\"))","v":""},{"$f":"IF(AND(A32<>0, _xlfn.XLOOKUP(A32,Caracterización!$B$8:$K$8,Caracterización!$B$42:$K$42,\"\")=\"Seleccione ...\"), \"Debe indicarlo en la caracterización de la comunidad\", IF(A32<>0, _xlfn.XLOOKUP(A32,Caracterización!$B$8:$K$8,Caracterización!$B$42:$K$42,\"\"), \"\"))","v":""},{"$f":"IF(AND(A32<>0, _xlfn.XLOOKUP(A32,Caracterización!$B$8:$K$8,Caracterización!$B$72:$K$72,\"\")=\"Seleccione ...\"), \"Debe indicarlo en la caracterización de la comunidad\", IF(A32<>0, _xlfn.XLOOKUP(A32,Caracterización!$B$8:$K$8,Caracterización!$B$72:$K$72,\"\"), \"\"))","v":""},{"$f":"IF(AND(A32<>0, _xlfn.XLOOKUP(A32,Caracterización!$B$8:$K$8,Caracterización!$B$36:$K$36,\"\")=\"Seleccione ...\"), \"Debe indicarlo en la caracterización de la comunidad\", IF(A32<>0, _xlfn.XLOOKUP(A32,Caracterización!$B$8:$K$8,Caracterización!$B$36:$K$36,\"\"), \"\"))","v":""}]
[null,null,{"$f":"IF(AND(A33<>0, _xlfn.XLOOKUP(A33,Caracterización!$B$8:$K$8,Caracterización!$B$10:$K$10,\"\")=\"Seleccione ...\"), \"Debe indicarlo en la caracterización de la comunidad\", IF(A33<>0, _xlfn.XLOOKUP(A33,Caracterización!$B$8:$K$8,Caracterización!$B$10:$K$10,\"\"), \"\"))","v":""},{"$f":"IF(AND(A33<>0, _xlfn.XLOOKUP(A33,Caracterización!$B$8:$K$8,Caracterización!$B$11:$K$11,\"\")=\"Seleccione ...\"), \"Debe indicarlo en la caracterización de la comunidad\", IF(A33<>0, _xlfn.XLOOKUP(A33,Caracterización!$B$8:$K$8,Caracterización!$B$11:$K$11,\"\"), \"\"))","v":""},{"$f":"IF(AND(A33<>0, _xlfn.XLOOKUP(A33,Caracterización!$B$8:$K$8,Caracterización!$B$19:$K$19,\"\")=\"Seleccione ...\"), \"Debe indicarlo en la caracterización de la comunidad\", IF(A33<>0, _xlfn.XLOOKUP(A33,Caracterización!$B$8:$K$8,Caracterización!$B$19:$K$19,\"\"), \"\"))","v":""},{"$f":"IF(AND(A33<>0, _xlfn.XLOOKUP(A33,Caracterización!$B$8:$K$8,Caracterización!$B$20:$K$20,\"\")=\"Seleccione ...\"), \"Debe indicarlo en la caracterización de la comunidad\", IF(A33<>0, _xlfn.XLOOKUP(A33,Caracterización!$B$8:$K$8,Caracterización!$B$20:$K$20,\"\"), \"\"))","v":""},{"$f":"IF(AND(A33<>0, _xlfn.XLOOKUP(A33,Caracterización!$B$8:$K$8,Caracterización!$B$22:$K$22,\"\")=\"Seleccione ...\"), \"Debe indicarlo en la caracterización de la comunidad\", IF(A33<>0, _xlfn.XLOOKUP(A33,Caracterización!$B$8:$K$8,Caracterización!$B$22:$K$22,\"\"), \"\"))","v":""},{"$f":"IF(AND(A33<>0, _xlfn.XLOOKUP(A33,Caracterización!$B$8:$K$8,Caracterización!$B$23:$K$23,\"\")=\"Seleccione ...\"), \"Debe indicarlo en la caracterización de la comunidad\", IF(A33<>0, _xlfn.XLOOKUP(A33,Caracterización!$B$8:$K$8,Caracterización!$B$23:$K$23,\"\"), \"\"))","v":""},{"$f":"IF(AND(A33<>0, _xlfn.XLOOKUP(A33,Caracterización!$B$8:$K$8,Caracterización!$B$28:$K$28,\"\")=\"Seleccione ...\"), \"Debe indicarlo en la caracterización de la comunidad\", IF(A33<>0, _xlfn.XLOOKUP(A33,Caracterización!$B$8:$K$8,Caracterización!$B$28:$K$28,\"\"), \"\"))","v":""},{"$f":"IF(AND(A33<>0, _xlfn.XLOOKUP(A33,Caracterización!$B$8:$K$8,Caracterización!$B$37:$K$37,\"\")=\"Seleccione ...\"), \"Debe indicarlo en la caracterización de la comunidad\", IF(A33<>0, _xlfn.XLOOKUP(A33,Caracterización!$B$8:$K$8,Caracterización!$B$37:$K$37,\"\"), \"\"))","v":""},{"$f":"IF(AND(A33<>0, _xlfn.XLOOKUP(A33,Caracterización!$B$8:$K$8,Caracterización!$B$40:$K$40,\"\")=\"Seleccione ...\"), \"Debe indicarlo en la caracterización de la comunidad\", IF(A33<>0, _xlfn.XLOOKUP(A33,Caracterización!$B$8:$K$8,Caracterización!$B$40:$K$40,\"\"), \"\"))","v":""},{"$f":"IF(AND(A33<>0, _xlfn.XLOOKUP(A33,Caracterización!$B$8:$K$8,Caracterización!$B$42:$K$42,\"\")=\"Seleccione ...\"), \"Debe indicarlo en la caracterización de la comunidad\", IF(A33<>0, _xlfn.XLOOKUP(A33,Caracterización!$B$8:$K$8,Caracterización!$B$42:$K$42,\"\"), \"\"))","v":""},{"$f":"IF(AND(A33<>0, _xlfn.XLOOKUP(A33,Caracterización!$B$8:$K$8,Caracterización!$B$72:$K$72,\"\")=\"Seleccione ...\"), \"Debe indicarlo en la caracterización de la comunidad\", IF(A33<>0, _xlfn.XLOOKUP(A33,Caracterización!$B$8:$K$8,Caracterización!$B$72:$K$72,\"\"), \"\"))","v":""},{"$f":"IF(AND(A33<>0, _xlfn.XLOOKUP(A33,Caracterización!$B$8:$K$8,Caracterización!$B$36:$K$36,\"\")=\"Seleccione ...\"), \"Debe indicarlo en la caracterización de la comunidad\", IF(A33<>0, _xlfn.XLOOKUP(A33,Caracterización!$B$8:$K$8,Caracterización!$B$36:$K$36,\"\"), \"\"))","v":""}]
[null,null,{"$f":"IF(AND(A34<>0, _xlfn.XLOOKUP(A34,Caracterización!$B$8:$K$8,Caracterización!$B$10:$K$10,\"\")=\"Seleccione ...\"), \"Debe indicarlo en la caracterización de la comunidad\", IF(A34<>0, _xlfn.XLOOKUP(A34,Caracterización!$B$8:$K$8,Caracterización!$B$10:$K$10,\"\"), \"\"))","v":""},{"$f":"IF(AND(A34<>0, _xlfn.XLOOKUP(A34,Caracterización!$B$8:$K$8,Caracterización!$B$11:$K$11,\"\")=\"Seleccione ...\"), \"Debe indicarlo en la caracterización de la comunidad\", IF(A34<>0, _xlfn.XLOOKUP(A34,Caracterización!$B$8:$K$8,Caracterización!$B$11:$K$11,\"\"), \"\"))","v":""},{"$f":"IF(AND(A34<>0, _xlfn.XLOOKUP(A34,Caracterización!$B$8:$K$8,Caracterización!$B$19:$K$19,\"\")=\"Seleccione ...\"), \"Debe indicarlo en la caracterización de la comunidad\", IF(A34<>0, _xlfn.XLOOKUP(A34,Caracterización!$B$8:$K$8,Caracterización!$B$19:$K$19,\"\"), \"\"))","v":""},{"$f":"IF(AND(A34<>0, _xlfn.XLOOKUP(A34,Caracterización!$B$8:$K$8,Caracterización!$B$20:$K$20,\"\")=\"Seleccione ...\"), \"Debe indicarlo en la caracterización de la comunidad\", IF(A34<>0, _xlfn.XLOOKUP(A34,Caracterización!$B$8:$K$8,Caracterización!$B$20:$K$20,\"\"), \"\"))","v":""},{"$f":"IF(AND(A34<>0, _xlfn.XLOOKUP(A34,Caracterización!$B$8:$K$8,Caracterización!$B$22:$K$22,\"\")=\"Seleccione ...\"), \"Debe indicarlo en la caracterización de la comunidad\", IF(A34<>0, _xlfn.XLOOKUP(A34,Caracterización!$B$8:$K$8,Caracterización!$B$22:$K$22,\"\"), \"\"))","v":""},{"$f":"IF(AND(A34<>0, _xlfn.XLOOKUP(A34,Caracterización!$B$8:$K$8,Caracterización!$B$23:$K$23,\"\")=\"Seleccione ...\"), \"Debe indicarlo en la caracterización de la comunidad\", IF(A34<>0, _xlfn.XLOOKUP(A34,Caracterización!$B$8:$K$8,Caracterización!$B$23:$K$23,\"\"), \"\"))","v":""},{"$f":"IF(AND(A34<>0, _xlfn.XLOOKUP(A34,Caracterización!$B$8:$K$8,Caracterización!$B$28:$K$28,\"\")=\"Seleccione ...\"), \"Debe indicarlo en la caracterización de la comunidad\", IF(A34<>0, _xlfn.XLOOKUP(A34,Caracterización!$B$8:$K$8,Caracterización!$B$28:$K$28,\"\"), \"\"))","v":""},{"$f":"IF(AND(A34<>0, _xlfn.XLOOKUP(A34,Caracterización!$B$8:$K$8,Caracterización!$B$37:$K$37,\"\")=\"Seleccione ...\"), \"Debe indicarlo en la caracterización de la comunidad\", IF(A34<>0, _xlfn.XLOOKUP(A34,Caracterización!$B$8:$K$8,Caracterización!$B$37:$K$37,\"\"), \"\"))","v":""},{"$f":"IF(AND(A34<>0, _xlfn.XLOOKUP(A34,Caracterización!$B$8:$K$8,Caracterización!$B$40:$K$40,\"\")=\"Seleccione ...\"), \"Debe indicarlo en la caracterización de la comunidad\", IF(A34<>0, _xlfn.XLOOKUP(A34,Caracterización!$B$8:$K$8,Caracterización!$B$40:$K$40,\"\"), \"\"))","v":""},{"$f":"IF(AND(A34<>0, _xlfn.XLOOKUP(A34,Caracterización!$B$8:$K$8,Caracterización!$B$42:$K$42,\"\")=\"Seleccione ...\"), \"Debe indicarlo en la caracterización de la comunidad\", IF(A34<>0, _xlfn.XLOOKUP(A34,Caracterización!$B$8:$K$8,Caracterización!$B$42:$K$42,\"\"), \"\"))","v":""},{"$f":"IF(AND(A34<>0, _xlfn.XLOOKUP(A34,Caracterización!$B$8:$K$8,Caracterización!$B$72:$K$72,\"\")=\"Seleccione ...\"), \"Debe indicarlo en la caracterización de la comunidad\", IF(A34<>0, _xlfn.XLOOKUP(A34,Caracterización!$B$8:$K$8,Caracterización!$B$72:$K$72,\"\"), \"\"))","v":""},{"$f":"IF(AND(A34<>0, _xlfn.XLOOKUP(A34,Caracterización!$B$8:$K$8,Caracterización!$B$36:$K$36,\"\")=\"Seleccione ...\"), \"Debe indicarlo en la caracterización de la comunidad\", IF(A34<>0, _xlfn.XLOOKUP(A34,Caracterización!$B$8:$K$8,Caracterización!$B$36:$K$36,\"\"), \"\"))","v":""}]
[null,null,{"$f":"IF(AND(A35<>0, _xlfn.XLOOKUP(A35,Caracterización!$B$8:$K$8,Caracterización!$B$10:$K$10,\"\")=\"Seleccione ...\"), \"Debe indicarlo en la caracterización de la comunidad\", IF(A35<>0, _xlfn.XLOOKUP(A35,Caracterización!$B$8:$K$8,Caracterización!$B$10:$K$10,\"\"), \"\"))","v":""},{"$f":"IF(AND(A35<>0, _xlfn.XLOOKUP(A35,Caracterización!$B$8:$K$8,Caracterización!$B$11:$K$11,\"\")=\"Seleccione ...\"), \"Debe indicarlo en la caracterización de la comunidad\", IF(A35<>0, _xlfn.XLOOKUP(A35,Caracterización!$B$8:$K$8,Caracterización!$B$11:$K$11,\"\"), \"\"))","v":""},{"$f":"IF(AND(A35<>0, _xlfn.XLOOKUP(A35,Caracterización!$B$8:$K$8,Caracterización!$B$19:$K$19,\"\")=\"Seleccione ...\"), \"Debe indicarlo en la caracterización de la comunidad\", IF(A35<>0, _xlfn.XLOOKUP(A35,Caracterización!$B$8:$K$8,Caracterización!$B$19:$K$19,\"\"), \"\"))","v":""},{"$f":"IF(AND(A35<>0, _xlfn.XLOOKUP(A35,Caracterización!$B$8:$K$8,Caracterización!$B$20:$K$20,\"\")=\"Seleccione ...\"), \"Debe indicarlo en la caracterización de la comunidad\", IF(A35<>0, _xlfn.XLOOKUP(A35,Caracterización!$B$8:$K$8,Caracterización!$B$20:$K$20,\"\"), \"\"))","v":""},{"$f":"IF(AND(A35<>0, _xlfn.XLOOKUP(A35,Caracterización!$B$8:$K$8,Caracterización!$B$22:$K$22,\"\")=\"Seleccione ...\"), \"Debe indicarlo en la caracterización de la comunidad\", IF(A35<>0, _xlfn.XLOOKUP(A35,Caracterización!$B$8:$K$8,Caracterización!$B$22:$K$22,\"\"), \"\"))","v":""},{"$f":"IF(AND(A35<>0, _xlfn.XLOOKUP(A35,Caracterización!$B$8:$K$8,Caracterización!$B$23:$K$23,\"\")=\"Seleccione ...\"), \"Debe indicarlo en la caracterización de la comunidad\", IF(A35<>0, _xlfn.XLOOKUP(A35,Caracterización!$B$8:$K$8,Caracterización!$B$23:$K$23,\"\"), \"\"))","v":""},{"$f":"IF(AND(A35<>0, _xlfn.XLOOKUP(A35,Caracterización!$B$8:$K$8,Caracterización!$B$28:$K$28,\"\")=\"Seleccione ...\"), \"Debe indicarlo en la caracterización de la comunidad\", IF(A35<>0, _xlfn.XLOOKUP(A35,Caracterización!$B$8:$K$8,Caracterización!$B$28:$K$28,\"\"), \"\"))","v":""},{"$f":"IF(AND(A35<>0, _xlfn.XLOOKUP(A35,Caracterización!$B$8:$K$8,Caracterización!$B$37:$K$37,\"\")=\"Seleccione ...\"), \"Debe indicarlo en la caracterización de la comunidad\", IF(A35<>0, _xlfn.XLOOKUP(A35,Caracterización!$B$8:$K$8,Caracterización!$B$37:$K$37,\"\"), \"\"))","v":""},{"$f":"IF(AND(A35<>0, _xlfn.XLOOKUP(A35,Caracterización!$B$8:$K$8,Caracterización!$B$40:$K$40,\"\")=\"Seleccione ...\"), \"Debe indicarlo en la caracterización de la comunidad\", IF(A35<>0, _xlfn.XLOOKUP(A35,Caracterización!$B$8:$K$8,Caracterización!$B$40:$K$40,\"\"), \"\"))","v":""},{"$f":"IF(AND(A35<>0, _xlfn.XLOOKUP(A35,Caracterización!$B$8:$K$8,Caracterización!$B$42:$K$42,\"\")=\"Seleccione ...\"), \"Debe indicarlo en la caracterización de la comunidad\", IF(A35<>0, _xlfn.XLOOKUP(A35,Caracterización!$B$8:$K$8,Caracterización!$B$42:$K$42,\"\"), \"\"))","v":""},{"$f":"IF(AND(A35<>0, _xlfn.XLOOKUP(A35,Caracterización!$B$8:$K$8,Caracterización!$B$72:$K$72,\"\")=\"Seleccione ...\"), \"Debe indicarlo en la caracterización de la comunidad\", IF(A35<>0, _xlfn.XLOOKUP(A35,Caracterización!$B$8:$K$8,Caracterización!$B$72:$K$72,\"\"), \"\"))","v":""},{"$f":"IF(AND(A35<>0, _xlfn.XLOOKUP(A35,Caracterización!$B$8:$K$8,Caracterización!$B$36:$K$36,\"\")=\"Seleccione ...\"), \"Debe indicarlo en la caracterización de la comunidad\", IF(A35<>0, _xlfn.XLOOKUP(A35,Caracterización!$B$8:$K$8,Caracterización!$B$36:$K$36,\"\"), \"\"))","v":""}]
[null,null,{"$f":"IF(AND(A36<>0, _xlfn.XLOOKUP(A36,Caracterización!$B$8:$K$8,Caracterización!$B$10:$K$10,\"\")=\"Seleccione ...\"), \"Debe indicarlo en la caracterización de la comunidad\", IF(A36<>0, _xlfn.XLOOKUP(A36,Caracterización!$B$8:$K$8,Caracterización!$B$10:$K$10,\"\"), \"\"))","v":""},{"$f":"IF(AND(A36<>0, _xlfn.XLOOKUP(A36,Caracterización!$B$8:$K$8,Caracterización!$B$11:$K$11,\"\")=\"Seleccione ...\"), \"Debe indicarlo en la caracterización de la comunidad\", IF(A36<>0, _xlfn.XLOOKUP(A36,Caracterización!$B$8:$K$8,Caracterización!$B$11:$K$11,\"\"), \"\"))","v":""},{"$f":"IF(AND(A36<>0, _xlfn.XLOOKUP(A36,Caracterización!$B$8:$K$8,Caracterización!$B$19:$K$19,\"\")=\"Seleccione ...\"), \"Debe indicarlo en la caracterización de la comunidad\", IF(A36<>0, _xlfn.XLOOKUP(A36,Caracterización!$B$8:$K$8,Caracterización!$B$19:$K$19,\"\"), \"\"))","v":""},{"$f":"IF(AND(A36<>0, _xlfn.XLOOKUP(A36,Caracterización!$B$8:$K$8,Caracterización!$B$20:$K$20,\"\")=\"Seleccione ...\"), \"Debe indicarlo en la caracterización de la comunidad\", IF(A36<>0, _xlfn.XLOOKUP(A36,Caracterización!$B$8:$K$8,Caracterización!$B$20:$K$20,\"\"), \"\"))","v":""},{"$f":"IF(AND(A36<>0, _xlfn.XLOOKUP(A36,Caracterización!$B$8:$K$8,Caracterización!$B$22:$K$22,\"\")=\"Seleccione ...\"), \"Debe indicarlo en la caracterización de la comunidad\", IF(A36<>0, _xlfn.XLOOKUP(A36,Caracterización!$B$8:$K$8,Caracterización!$B$22:$K$22,\"\"), \"\"))","v":""},{"$f":"IF(AND(A36<>0, _xlfn.XLOOKUP(A36,Caracterización!$B$8:$K$8,Caracterización!$B$23:$K$23,\"\")=\"Seleccione ...\"), \"Debe indicarlo en la caracterización de la comunidad\", IF(A36<>0, _xlfn.XLOOKUP(A36,Caracterización!$B$8:$K$8,Caracterización!$B$23:$K$23,\"\"), \"\"))","v":""},{"$f":"IF(AND(A36<>0, _xlfn.XLOOKUP(A36,Caracterización!$B$8:$K$8,Caracterización!$B$28:$K$28,\"\")=\"Seleccione ...\"), \"Debe indicarlo en la caracterización de la comunidad\", IF(A36<>0, _xlfn.XLOOKUP(A36,Caracterización!$B$8:$K$8,Caracterización!$B$28:$K$28,\"\"), \"\"))","v":""},{"$f":"IF(AND(A36<>0, _xlfn.XLOOKUP(A36,Caracterización!$B$8:$K$8,Caracterización!$B$37:$K$37,\"\")=\"Seleccione ...\"), \"Debe indicarlo en la caracterización de la comunidad\", IF(A36<>0, _xlfn.XLOOKUP(A36,Caracterización!$B$8:$K$8,Caracterización!$B$37:$K$37,\"\"), \"\"))","v":""},{"$f":"IF(AND(A36<>0, _xlfn.XLOOKUP(A36,Caracterización!$B$8:$K$8,Caracterización!$B$40:$K$40,\"\")=\"Seleccione ...\"), \"Debe indicarlo en la caracterización de la comunidad\", IF(A36<>0, _xlfn.XLOOKUP(A36,Caracterización!$B$8:$K$8,Caracterización!$B$40:$K$40,\"\"), \"\"))","v":""},{"$f":"IF(AND(A36<>0, _xlfn.XLOOKUP(A36,Caracterización!$B$8:$K$8,Caracterización!$B$42:$K$42,\"\")=\"Seleccione ...\"), \"Debe indicarlo en la caracterización de la comunidad\", IF(A36<>0, _xlfn.XLOOKUP(A36,Caracterización!$B$8:$K$8,Caracterización!$B$42:$K$42,\"\"), \"\"))","v":""},{"$f":"IF(AND(A36<>0, _xlfn.XLOOKUP(A36,Caracterización!$B$8:$K$8,Caracterización!$B$72:$K$72,\"\")=\"Seleccione ...\"), \"Debe indicarlo en la caracterización de la comunidad\", IF(A36<>0, _xlfn.XLOOKUP(A36,Caracterización!$B$8:$K$8,Caracterización!$B$72:$K$72,\"\"), \"\"))","v":""},{"$f":"IF(AND(A36<>0, _xlfn.XLOOKUP(A36,Caracterización!$B$8:$K$8,Caracterización!$B$36:$K$36,\"\")=\"Seleccione ...\"), \"Debe indicarlo en la caracterización de la comunidad\", IF(A36<>0, _xlfn.XLOOKUP(A36,Caracterización!$B$8:$K$8,Caracterización!$B$36:$K$36,\"\"), \"\"))","v":""}]
[null,null,{"$f":"IF(AND(A37<>0, _xlfn.XLOOKUP(A37,Caracterización!$B$8:$K$8,Caracterización!$B$10:$K$10,\"\")=\"Seleccione ...\"), \"Debe indicarlo en la caracterización de la comunidad\", IF(A37<>0, _xlfn.XLOOKUP(A37,Caracterización!$B$8:$K$8,Caracterización!$B$10:$K$10,\"\"), \"\"))","v":""},{"$f":"IF(AND(A37<>0, _xlfn.XLOOKUP(A37,Caracterización!$B$8:$K$8,Caracterización!$B$11:$K$11,\"\")=\"Seleccione ...\"), \"Debe indicarlo en la caracterización de la comunidad\", IF(A37<>0, _xlfn.XLOOKUP(A37,Caracterización!$B$8:$K$8,Caracterización!$B$11:$K$11,\"\"), \"\"))","v":""},{"$f":"IF(AND(A37<>0, _xlfn.XLOOKUP(A37,Caracterización!$B$8:$K$8,Caracterización!$B$19:$K$19,\"\")=\"Seleccione ...\"), \"Debe indicarlo en la caracterización de la comunidad\", IF(A37<>0, _xlfn.XLOOKUP(A37,Caracterización!$B$8:$K$8,Caracterización!$B$19:$K$19,\"\"), \"\"))","v":""},{"$f":"IF(AND(A37<>0, _xlfn.XLOOKUP(A37,Caracterización!$B$8:$K$8,Caracterización!$B$20:$K$20,\"\")=\"Seleccione ...\"), \"Debe indicarlo en la caracterización de la comunidad\", IF(A37<>0, _xlfn.XLOOKUP(A37,Caracterización!$B$8:$K$8,Caracterización!$B$20:$K$20,\"\"), \"\"))","v":""},{"$f":"IF(AND(A37<>0, _xlfn.XLOOKUP(A37,Caracterización!$B$8:$K$8,Caracterización!$B$22:$K$22,\"\")=\"Seleccione ...\"), \"Debe indicarlo en la caracterización de la comunidad\", IF(A37<>0, _xlfn.XLOOKUP(A37,Caracterización!$B$8:$K$8,Caracterización!$B$22:$K$22,\"\"), \"\"))","v":""},{"$f":"IF(AND(A37<>0, _xlfn.XLOOKUP(A37,Caracterización!$B$8:$K$8,Caracterización!$B$23:$K$23,\"\")=\"Seleccione ...\"), \"Debe indicarlo en la caracterización de la comunidad\", IF(A37<>0, _xlfn.XLOOKUP(A37,Caracterización!$B$8:$K$8,Caracterización!$B$23:$K$23,\"\"), \"\"))","v":""},{"$f":"IF(AND(A37<>0, _xlfn.XLOOKUP(A37,Caracterización!$B$8:$K$8,Caracterización!$B$28:$K$28,\"\")=\"Seleccione ...\"), \"Debe indicarlo en la caracterización de la comunidad\", IF(A37<>0, _xlfn.XLOOKUP(A37,Caracterización!$B$8:$K$8,Caracterización!$B$28:$K$28,\"\"), \"\"))","v":""},{"$f":"IF(AND(A37<>0, _xlfn.XLOOKUP(A37,Caracterización!$B$8:$K$8,Caracterización!$B$37:$K$37,\"\")=\"Seleccione ...\"), \"Debe indicarlo en la caracterización de la comunidad\", IF(A37<>0, _xlfn.XLOOKUP(A37,Caracterización!$B$8:$K$8,Caracterización!$B$37:$K$37,\"\"), \"\"))","v":""},{"$f":"IF(AND(A37<>0, _xlfn.XLOOKUP(A37,Caracterización!$B$8:$K$8,Caracterización!$B$40:$K$40,\"\")=\"Seleccione ...\"), \"Debe indicarlo en la caracterización de la comunidad\", IF(A37<>0, _xlfn.XLOOKUP(A37,Caracterización!$B$8:$K$8,Caracterización!$B$40:$K$40,\"\"), \"\"))","v":""},{"$f":"IF(AND(A37<>0, _xlfn.XLOOKUP(A37,Caracterización!$B$8:$K$8,Caracterización!$B$42:$K$42,\"\")=\"Seleccione ...\"), \"Debe indicarlo en la caracterización de la comunidad\", IF(A37<>0, _xlfn.XLOOKUP(A37,Caracterización!$B$8:$K$8,Caracterización!$B$42:$K$42,\"\"), \"\"))","v":""},{"$f":"IF(AND(A37<>0, _xlfn.XLOOKUP(A37,Caracterización!$B$8:$K$8,Caracterización!$B$72:$K$72,\"\")=\"Seleccione ...\"), \"Debe indicarlo en la caracterización de la comunidad\", IF(A37<>0, _xlfn.XLOOKUP(A37,Caracterización!$B$8:$K$8,Caracterización!$B$72:$K$72,\"\"), \"\"))","v":""},{"$f":"IF(AND(A37<>0, _xlfn.XLOOKUP(A37,Caracterización!$B$8:$K$8,Caracterización!$B$36:$K$36,\"\")=\"Seleccione ...\"), \"Debe indicarlo en la caracterización de la comunidad\", IF(A37<>0, _xlfn.XLOOKUP(A37,Caracterización!$B$8:$K$8,Caracterización!$B$36:$K$36,\"\"), \"\"))","v":""}]
[null,null,{"$f":"IF(AND(A38<>0, _xlfn.XLOOKUP(A38,Caracterización!$B$8:$K$8,Caracterización!$B$10:$K$10,\"\")=\"Seleccione ...\"), \"Debe indicarlo en la caracterización de la comunidad\", IF(A38<>0, _xlfn.XLOOKUP(A38,Caracterización!$B$8:$K$8,Caracterización!$B$10:$K$10,\"\"), \"\"))","v":""},{"$f":"IF(AND(A38<>0, _xlfn.XLOOKUP(A38,Caracterización!$B$8:$K$8,Caracterización!$B$11:$K$11,\"\")=\"Seleccione ...\"), \"Debe indicarlo en la caracterización de la comunidad\", IF(A38<>0, _xlfn.XLOOKUP(A38,Caracterización!$B$8:$K$8,Caracterización!$B$11:$K$11,\"\"), \"\"))","v":""},{"$f":"IF(AND(A38<>0, _xlfn.XLOOKUP(A38,Caracterización!$B$8:$K$8,Caracterización!$B$19:$K$19,\"\")=\"Seleccione ...\"), \"Debe indicarlo en la caracterización de la comunidad\", IF(A38<>0, _xlfn.XLOOKUP(A38,Caracterización!$B$8:$K$8,Caracterización!$B$19:$K$19,\"\"), \"\"))","v":""},{"$f":"IF(AND(A38<>0, _xlfn.XLOOKUP(A38,Caracterización!$B$8:$K$8,Caracterización!$B$20:$K$20,\"\")=\"Seleccione ...\"), \"Debe indicarlo en la caracterización de la comunidad\", IF(A38<>0, _xlfn.XLOOKUP(A38,Caracterización!$B$8:$K$8,Caracterización!$B$20:$K$20,\"\"), \"\"))","v":""},{"$f":"IF(AND(A38<>0, _xlfn.XLOOKUP(A38,Caracterización!$B$8:$K$8,Caracterización!$B$22:$K$22,\"\")=\"Seleccione ...\"), \"Debe indicarlo en la caracterización de la comunidad\", IF(A38<>0, _xlfn.XLOOKUP(A38,Caracterización!$B$8:$K$8,Caracterización!$B$22:$K$22,\"\"), \"\"))","v":""},{"$f":"IF(AND(A38<>0, _xlfn.XLOOKUP(A38,Caracterización!$B$8:$K$8,Caracterización!$B$23:$K$23,\"\")=\"Seleccione ...\"), \"Debe indicarlo en la caracterización de la comunidad\", IF(A38<>0, _xlfn.XLOOKUP(A38,Caracterización!$B$8:$K$8,Caracterización!$B$23:$K$23,\"\"), \"\"))","v":""},{"$f":"IF(AND(A38<>0, _xlfn.XLOOKUP(A38,Caracterización!$B$8:$K$8,Caracterización!$B$28:$K$28,\"\")=\"Seleccione ...\"), \"Debe indicarlo en la caracterización de la comunidad\", IF(A38<>0, _xlfn.XLOOKUP(A38,Caracterización!$B$8:$K$8,Caracterización!$B$28:$K$28,\"\"), \"\"))","v":""},{"$f":"IF(AND(A38<>0, _xlfn.XLOOKUP(A38,Caracterización!$B$8:$K$8,Caracterización!$B$37:$K$37,\"\")=\"Seleccione ...\"), \"Debe indicarlo en la caracterización de la comunidad\", IF(A38<>0, _xlfn.XLOOKUP(A38,Caracterización!$B$8:$K$8,Caracterización!$B$37:$K$37,\"\"), \"\"))","v":""},{"$f":"IF(AND(A38<>0, _xlfn.XLOOKUP(A38,Caracterización!$B$8:$K$8,Caracterización!$B$40:$K$40,\"\")=\"Seleccione ...\"), \"Debe indicarlo en la caracterización de la comunidad\", IF(A38<>0, _xlfn.XLOOKUP(A38,Caracterización!$B$8:$K$8,Caracterización!$B$40:$K$40,\"\"), \"\"))","v":""},{"$f":"IF(AND(A38<>0, _xlfn.XLOOKUP(A38,Caracterización!$B$8:$K$8,Caracterización!$B$42:$K$42,\"\")=\"Seleccione ...\"), \"Debe indicarlo en la caracterización de la comunidad\", IF(A38<>0, _xlfn.XLOOKUP(A38,Caracterización!$B$8:$K$8,Caracterización!$B$42:$K$42,\"\"), \"\"))","v":""},{"$f":"IF(AND(A38<>0, _xlfn.XLOOKUP(A38,Caracterización!$B$8:$K$8,Caracterización!$B$72:$K$72,\"\")=\"Seleccione ...\"), \"Debe indicarlo en la caracterización de la comunidad\", IF(A38<>0, _xlfn.XLOOKUP(A38,Caracterización!$B$8:$K$8,Caracterización!$B$72:$K$72,\"\"), \"\"))","v":""},{"$f":"IF(AND(A38<>0, _xlfn.XLOOKUP(A38,Caracterización!$B$8:$K$8,Caracterización!$B$36:$K$36,\"\")=\"Seleccione ...\"), \"Debe indicarlo en la caracterización de la comunidad\", IF(A38<>0, _xlfn.XLOOKUP(A38,Caracterización!$B$8:$K$8,Caracterización!$B$36:$K$36,\"\"), \"\"))","v":""}]
[null,null,{"$f":"IF(AND(A39<>0, _xlfn.XLOOKUP(A39,Caracterización!$B$8:$K$8,Caracterización!$B$10:$K$10,\"\")=\"Seleccione ...\"), \"Debe indicarlo en la caracterización de la comunidad\", IF(A39<>0, _xlfn.XLOOKUP(A39,Caracterización!$B$8:$K$8,Caracterización!$B$10:$K$10,\"\"), \"\"))","v":""},{"$f":"IF(AND(A39<>0, _xlfn.XLOOKUP(A39,Caracterización!$B$8:$K$8,Caracterización!$B$11:$K$11,\"\")=\"Seleccione ...\"), \"Debe indicarlo en la caracterización de la comunidad\", IF(A39<>0, _xlfn.XLOOKUP(A39,Caracterización!$B$8:$K$8,Caracterización!$B$11:$K$11,\"\"), \"\"))","v":""},{"$f":"IF(AND(A39<>0, _xlfn.XLOOKUP(A39,Caracterización!$B$8:$K$8,Caracterización!$B$19:$K$19,\"\")=\"Seleccione ...\"), \"Debe indicarlo en la caracterización de la comunidad\", IF(A39<>0, _xlfn.XLOOKUP(A39,Caracterización!$B$8:$K$8,Caracterización!$B$19:$K$19,\"\"), \"\"))","v":""},{"$f":"IF(AND(A39<>0, _xlfn.XLOOKUP(A39,Caracterización!$B$8:$K$8,Caracterización!$B$20:$K$20,\"\")=\"Seleccione ...\"), \"Debe indicarlo en la caracterización de la comunidad\", IF(A39<>0, _xlfn.XLOOKUP(A39,Caracterización!$B$8:$K$8,Caracterización!$B$20:$K$20,\"\"), \"\"))","v":""},{"$f":"IF(AND(A39<>0, _xlfn.XLOOKUP(A39,Caracterización!$B$8:$K$8,Caracterización!$B$22:$K$22,\"\")=\"Seleccione ...\"), \"Debe indicarlo en la caracterización de la comunidad\", IF(A39<>0, _xlfn.XLOOKUP(A39,Caracterización!$B$8:$K$8,Caracterización!$B$22:$K$22,\"\"), \"\"))","v":""},{"$f":"IF(AND(A39<>0, _xlfn.XLOOKUP(A39,Caracterización!$B$8:$K$8,Caracterización!$B$23:$K$23,\"\")=\"Seleccione ...\"), \"Debe indicarlo en la caracterización de la comunidad\", IF(A39<>0, _xlfn.XLOOKUP(A39,Caracterización!$B$8:$K$8,Caracterización!$B$23:$K$23,\"\"), \"\"))","v":""},{"$f":"IF(AND(A39<>0, _xlfn.XLOOKUP(A39,Caracterización!$B$8:$K$8,Caracterización!$B$28:$K$28,\"\")=\"Seleccione ...\"), \"Debe indicarlo en la caracterización de la comunidad\", IF(A39<>0, _xlfn.XLOOKUP(A39,Caracterización!$B$8:$K$8,Caracterización!$B$28:$K$28,\"\"), \"\"))","v":""},{"$f":"IF(AND(A39<>0, _xlfn.XLOOKUP(A39,Caracterización!$B$8:$K$8,Caracterización!$B$37:$K$37,\"\")=\"Seleccione ...\"), \"Debe indicarlo en la caracterización de la comunidad\", IF(A39<>0, _xlfn.XLOOKUP(A39,Caracterización!$B$8:$K$8,Caracterización!$B$37:$K$37,\"\"), \"\"))","v":""},{"$f":"IF(AND(A39<>0, _xlfn.XLOOKUP(A39,Caracterización!$B$8:$K$8,Caracterización!$B$40:$K$40,\"\")=\"Seleccione ...\"), \"Debe indicarlo en la caracterización de la comunidad\", IF(A39<>0, _xlfn.XLOOKUP(A39,Caracterización!$B$8:$K$8,Caracterización!$B$40:$K$40,\"\"), \"\"))","v":""},{"$f":"IF(AND(A39<>0, _xlfn.XLOOKUP(A39,Caracterización!$B$8:$K$8,Caracterización!$B$42:$K$42,\"\")=\"Seleccione ...\"), \"Debe indicarlo en la caracterización de la comunidad\", IF(A39<>0, _xlfn.XLOOKUP(A39,Caracterización!$B$8:$K$8,Caracterización!$B$42:$K$42,\"\"), \"\"))","v":""},{"$f":"IF(AND(A39<>0, _xlfn.XLOOKUP(A39,Caracterización!$B$8:$K$8,Caracterización!$B$72:$K$72,\"\")=\"Seleccione ...\"), \"Debe indicarlo en la caracterización de la comunidad\", IF(A39<>0, _xlfn.XLOOKUP(A39,Caracterización!$B$8:$K$8,Caracterización!$B$72:$K$72,\"\"), \"\"))","v":""},{"$f":"IF(AND(A39<>0, _xlfn.XLOOKUP(A39,Caracterización!$B$8:$K$8,Caracterización!$B$36:$K$36,\"\")=\"Seleccione ...\"), \"Debe indicarlo en la caracterización de la comunidad\", IF(A39<>0, _xlfn.XLOOKUP(A39,Caracterización!$B$8:$K$8,Caracterización!$B$36:$K$36,\"\"), \"\"))","v":""}]
[null,null,{"$f":"IF(AND(A40<>0, _xlfn.XLOOKUP(A40,Caracterización!$B$8:$K$8,Caracterización!$B$10:$K$10,\"\")=\"Seleccione ...\"), \"Debe indicarlo en la caracterización de la comunidad\", IF(A40<>0, _xlfn.XLOOKUP(A40,Caracterización!$B$8:$K$8,Caracterización!$B$10:$K$10,\"\"), \"\"))","v":""},{"$f":"IF(AND(A40<>0, _xlfn.XLOOKUP(A40,Caracterización!$B$8:$K$8,Caracterización!$B$11:$K$11,\"\")=\"Seleccione ...\"), \"Debe indicarlo en la caracterización de la comunidad\", IF(A40<>0, _xlfn.XLOOKUP(A40,Caracterización!$B$8:$K$8,Caracterización!$B$11:$K$11,\"\"), \"\"))","v":""},{"$f":"IF(AND(A40<>0, _xlfn.XLOOKUP(A40,Caracterización!$B$8:$K$8,Caracterización!$B$19:$K$19,\"\")=\"Seleccione ...\"), \"Debe indicarlo en la caracterización de la comunidad\", IF(A40<>0, _xlfn.XLOOKUP(A40,Caracterización!$B$8:$K$8,Caracterización!$B$19:$K$19,\"\"), \"\"))","v":""},{"$f":"IF(AND(A40<>0, _xlfn.XLOOKUP(A40,Caracterización!$B$8:$K$8,Caracterización!$B$20:$K$20,\"\")=\"Seleccione ...\"), \"Debe indicarlo en la caracterización de la comunidad\", IF(A40<>0, _xlfn.XLOOKUP(A40,Caracterización!$B$8:$K$8,Caracterización!$B$20:$K$20,\"\"), \"\"))","v":""},{"$f":"IF(AND(A40<>0, _xlfn.XLOOKUP(A40,Caracterización!$B$8:$K$8,Caracterización!$B$22:$K$22,\"\")=\"Seleccione ...\"), \"Debe indicarlo en la caracterización de la comunidad\", IF(A40<>0, _xlfn.XLOOKUP(A40,Caracterización!$B$8:$K$8,Caracterización!$B$22:$K$22,\"\"), \"\"))","v":""},{"$f":"IF(AND(A40<>0, _xlfn.XLOOKUP(A40,Caracterización!$B$8:$K$8,Caracterización!$B$23:$K$23,\"\")=\"Seleccione ...\"), \"Debe indicarlo en la caracterización de la comunidad\", IF(A40<>0, _xlfn.XLOOKUP(A40,Caracterización!$B$8:$K$8,Caracterización!$B$23:$K$23,\"\"), \"\"))","v":""},{"$f":"IF(AND(A40<>0, _xlfn.XLOOKUP(A40,Caracterización!$B$8:$K$8,Caracterización!$B$28:$K$28,\"\")=\"Seleccione ...\"), \"Debe indicarlo en la caracterización de la comunidad\", IF(A40<>0, _xlfn.XLOOKUP(A40,Caracterización!$B$8:$K$8,Caracterización!$B$28:$K$28,\"\"), \"\"))","v":""},{"$f":"IF(AND(A40<>0, _xlfn.XLOOKUP(A40,Caracterización!$B$8:$K$8,Caracterización!$B$37:$K$37,\"\")=\"Seleccione ...\"), \"Debe indicarlo en la caracterización de la comunidad\", IF(A40<>0, _xlfn.XLOOKUP(A40,Caracterización!$B$8:$K$8,Caracterización!$B$37:$K$37,\"\"), \"\"))","v":""},{"$f":"IF(AND(A40<>0, _xlfn.XLOOKUP(A40,Caracterización!$B$8:$K$8,Caracterización!$B$40:$K$40,\"\")=\"Seleccione ...\"), \"Debe indicarlo en la caracterización de la comunidad\", IF(A40<>0, _xlfn.XLOOKUP(A40,Caracterización!$B$8:$K$8,Caracterización!$B$40:$K$40,\"\"), \"\"))","v":""},{"$f":"IF(AND(A40<>0, _xlfn.XLOOKUP(A40,Caracterización!$B$8:$K$8,Caracterización!$B$42:$K$42,\"\")=\"Seleccione ...\"), \"Debe indicarlo en la caracterización de la comunidad\", IF(A40<>0, _xlfn.XLOOKUP(A40,Caracterización!$B$8:$K$8,Caracterización!$B$42:$K$42,\"\"), \"\"))","v":""},{"$f":"IF(AND(A40<>0, _xlfn.XLOOKUP(A40,Caracterización!$B$8:$K$8,Caracterización!$B$72:$K$72,\"\")=\"Seleccione ...\"), \"Debe indicarlo en la caracterización de la comunidad\", IF(A40<>0, _xlfn.XLOOKUP(A40,Caracterización!$B$8:$K$8,Caracterización!$B$72:$K$72,\"\"), \"\"))","v":""},{"$f":"IF(AND(A40<>0, _xlfn.XLOOKUP(A40,Caracterización!$B$8:$K$8,Caracterización!$B$36:$K$36,\"\")=\"Seleccione ...\"), \"Debe indicarlo en la caracterización de la comunidad\", IF(A40<>0, _xlfn.XLOOKUP(A40,Caracterización!$B$8:$K$8,Caracterización!$B$36:$K$36,\"\"), \"\"))","v":""}]
[null,null,{"$f":"IF(AND(A41<>0, _xlfn.XLOOKUP(A41,Caracterización!$B$8:$K$8,Caracterización!$B$10:$K$10,\"\")=\"Seleccione ...\"), \"Debe indicarlo en la caracterización de la comunidad\", IF(A41<>0, _xlfn.XLOOKUP(A41,Caracterización!$B$8:$K$8,Caracterización!$B$10:$K$10,\"\"), \"\"))","v":""},{"$f":"IF(AND(A41<>0, _xlfn.XLOOKUP(A41,Caracterización!$B$8:$K$8,Caracterización!$B$11:$K$11,\"\")=\"Seleccione ...\"), \"Debe indicarlo en la caracterización de la comunidad\", IF(A41<>0, _xlfn.XLOOKUP(A41,Caracterización!$B$8:$K$8,Caracterización!$B$11:$K$11,\"\"), \"\"))","v":""},{"$f":"IF(AND(A41<>0, _xlfn.XLOOKUP(A41,Caracterización!$B$8:$K$8,Caracterización!$B$19:$K$19,\"\")=\"Seleccione ...\"), \"Debe indicarlo en la caracterización de la comunidad\", IF(A41<>0, _xlfn.XLOOKUP(A41,Caracterización!$B$8:$K$8,Caracterización!$B$19:$K$19,\"\"), \"\"))","v":""},{"$f":"IF(AND(A41<>0, _xlfn.XLOOKUP(A41,Caracterización!$B$8:$K$8,Caracterización!$B$20:$K$20,\"\")=\"Seleccione ...\"), \"Debe indicarlo en la caracterización de la comunidad\", IF(A41<>0, _xlfn.XLOOKUP(A41,Caracterización!$B$8:$K$8,Caracterización!$B$20:$K$20,\"\"), \"\"))","v":""},{"$f":"IF(AND(A41<>0, _xlfn.XLOOKUP(A41,Caracterización!$B$8:$K$8,Caracterización!$B$22:$K$22,\"\")=\"Seleccione ...\"), \"Debe indicarlo en la caracterización de la comunidad\", IF(A41<>0, _xlfn.XLOOKUP(A41,Caracterización!$B$8:$K$8,Caracterización!$B$22:$K$22,\"\"), \"\"))","v":""},{"$f":"IF(AND(A41<>0, _xlfn.XLOOKUP(A41,Caracterización!$B$8:$K$8,Caracterización!$B$23:$K$23,\"\")=\"Seleccione ...\"), \"Debe indicarlo en la caracterización de la comunidad\", IF(A41<>0, _xlfn.XLOOKUP(A41,Caracterización!$B$8:$K$8,Caracterización!$B$23:$K$23,\"\"), \"\"))","v":""},{"$f":"IF(AND(A41<>0, _xlfn.XLOOKUP(A41,Caracterización!$B$8:$K$8,Caracterización!$B$28:$K$28,\"\")=\"Seleccione ...\"), \"Debe indicarlo en la caracterización de la comunidad\", IF(A41<>0, _xlfn.XLOOKUP(A41,Caracterización!$B$8:$K$8,Caracterización!$B$28:$K$28,\"\"), \"\"))","v":""},{"$f":"IF(AND(A41<>0, _xlfn.XLOOKUP(A41,Caracterización!$B$8:$K$8,Caracterización!$B$37:$K$37,\"\")=\"Seleccione ...\"), \"Debe indicarlo en la caracterización de la comunidad\", IF(A41<>0, _xlfn.XLOOKUP(A41,Caracterización!$B$8:$K$8,Caracterización!$B$37:$K$37,\"\"), \"\"))","v":""},{"$f":"IF(AND(A41<>0, _xlfn.XLOOKUP(A41,Caracterización!$B$8:$K$8,Caracterización!$B$40:$K$40,\"\")=\"Seleccione ...\"), \"Debe indicarlo en la caracterización de la comunidad\", IF(A41<>0, _xlfn.XLOOKUP(A41,Caracterización!$B$8:$K$8,Caracterización!$B$40:$K$40,\"\"), \"\"))","v":""},{"$f":"IF(AND(A41<>0, _xlfn.XLOOKUP(A41,Caracterización!$B$8:$K$8,Caracterización!$B$42:$K$42,\"\")=\"Seleccione ...\"), \"Debe indicarlo en la caracterización de la comunidad\", IF(A41<>0, _xlfn.XLOOKUP(A41,Caracterización!$B$8:$K$8,Caracterización!$B$42:$K$42,\"\"), \"\"))","v":""},{"$f":"IF(AND(A41<>0, _xlfn.XLOOKUP(A41,Caracterización!$B$8:$K$8,Caracterización!$B$72:$K$72,\"\")=\"Seleccione ...\"), \"Debe indicarlo en la caracterización de la comunidad\", IF(A41<>0, _xlfn.XLOOKUP(A41,Caracterización!$B$8:$K$8,Caracterización!$B$72:$K$72,\"\"), \"\"))","v":""},{"$f":"IF(AND(A41<>0, _xlfn.XLOOKUP(A41,Caracterización!$B$8:$K$8,Caracterización!$B$36:$K$36,\"\")=\"Seleccione ...\"), \"Debe indicarlo en la caracterización de la comunidad\", IF(A41<>0, _xlfn.XLOOKUP(A41,Caracterización!$B$8:$K$8,Caracterización!$B$36:$K$36,\"\"), \"\"))","v":""}]
[null,null,{"$f":"IF(AND(A42<>0, _xlfn.XLOOKUP(A42,Caracterización!$B$8:$K$8,Caracterización!$B$10:$K$10,\"\")=\"Seleccione ...\"), \"Debe indicarlo en la caracterización de la comunidad\", IF(A42<>0, _xlfn.XLOOKUP(A42,Caracterización!$B$8:$K$8,Caracterización!$B$10:$K$10,\"\"), \"\"))","v":""},{"$f":"IF(AND(A42<>0, _xlfn.XLOOKUP(A42,Caracterización!$B$8:$K$8,Caracterización!$B$11:$K$11,\"\")=\"Seleccione ...\"), \"Debe indicarlo en la caracterización de la comunidad\", IF(A42<>0, _xlfn.XLOOKUP(A42,Caracterización!$B$8:$K$8,Caracterización!$B$11:$K$11,\"\"), \"\"))","v":""},{"$f":"IF(AND(A42<>0, _xlfn.XLOOKUP(A42,Caracterización!$B$8:$K$8,Caracterización!$B$19:$K$19,\"\")=\"Seleccione ...\"), \"Debe indicarlo en la caracterización de la comunidad\", IF(A42<>0, _xlfn.XLOOKUP(A42,Caracterización!$B$8:$K$8,Caracterización!$B$19:$K$19,\"\"), \"\"))","v":""},{"$f":"IF(AND(A42<>0, _xlfn.XLOOKUP(A42,Caracterización!$B$8:$K$8,Caracterización!$B$20:$K$20,\"\")=\"Seleccione ...\"), \"Debe indicarlo en la caracterización de la comunidad\", IF(A42<>0, _xlfn.XLOOKUP(A42,Caracterización!$B$8:$K$8,Caracterización!$B$20:$K$20,\"\"), \"\"))","v":""},{"$f":"IF(AND(A42<>0, _xlfn.XLOOKUP(A42,Caracterización!$B$8:$K$8,Caracterización!$B$22:$K$22,\"\")=\"Seleccione ...\"), \"Debe indicarlo en la caracterización de la comunidad\", IF(A42<>0, _xlfn.XLOOKUP(A42,Caracterización!$B$8:$K$8,Caracterización!$B$22:$K$22,\"\"), \"\"))","v":""},{"$f":"IF(AND(A42<>0, _xlfn.XLOOKUP(A42,Caracterización!$B$8:$K$8,Caracterización!$B$23:$K$23,\"\")=\"Seleccione ...\"), \"Debe indicarlo en la caracterización de la comunidad\", IF(A42<>0, _xlfn.XLOOKUP(A42,Caracterización!$B$8:$K$8,Caracterización!$B$23:$K$23,\"\"), \"\"))","v":""},{"$f":"IF(AND(A42<>0, _xlfn.XLOOKUP(A42,Caracterización!$B$8:$K$8,Caracterización!$B$28:$K$28,\"\")=\"Seleccione ...\"), \"Debe indicarlo en la caracterización de la comunidad\", IF(A42<>0, _xlfn.XLOOKUP(A42,Caracterización!$B$8:$K$8,Caracterización!$B$28:$K$28,\"\"), \"\"))","v":""},{"$f":"IF(AND(A42<>0, _xlfn.XLOOKUP(A42,Caracterización!$B$8:$K$8,Caracterización!$B$37:$K$37,\"\")=\"Seleccione ...\"), \"Debe indicarlo en la caracterización de la comunidad\", IF(A42<>0, _xlfn.XLOOKUP(A42,Caracterización!$B$8:$K$8,Caracterización!$B$37:$K$37,\"\"), \"\"))","v":""},{"$f":"IF(AND(A42<>0, _xlfn.XLOOKUP(A42,Caracterización!$B$8:$K$8,Caracterización!$B$40:$K$40,\"\")=\"Seleccione ...\"), \"Debe indicarlo en la caracterización de la comunidad\", IF(A42<>0, _xlfn.XLOOKUP(A42,Caracterización!$B$8:$K$8,Caracterización!$B$40:$K$40,\"\"), \"\"))","v":""},{"$f":"IF(AND(A42<>0, _xlfn.XLOOKUP(A42,Caracterización!$B$8:$K$8,Caracterización!$B$42:$K$42,\"\")=\"Seleccione ...\"), \"Debe indicarlo en la caracterización de la comunidad\", IF(A42<>0, _xlfn.XLOOKUP(A42,Caracterización!$B$8:$K$8,Caracterización!$B$42:$K$42,\"\"), \"\"))","v":""},{"$f":"IF(AND(A42<>0, _xlfn.XLOOKUP(A42,Caracterización!$B$8:$K$8,Caracterización!$B$72:$K$72,\"\")=\"Seleccione ...\"), \"Debe indicarlo en la caracterización de la comunidad\", IF(A42<>0, _xlfn.XLOOKUP(A42,Caracterización!$B$8:$K$8,Caracterización!$B$72:$K$72,\"\"), \"\"))","v":""},{"$f":"IF(AND(A42<>0, _xlfn.XLOOKUP(A42,Caracterización!$B$8:$K$8,Caracterización!$B$36:$K$36,\"\")=\"Seleccione ...\"), \"Debe indicarlo en la caracterización de la comunidad\", IF(A42<>0, _xlfn.XLOOKUP(A42,Caracterización!$B$8:$K$8,Caracterización!$B$36:$K$36,\"\"), \"\"))","v":""}]
[null,null,{"$f":"IF(AND(A43<>0, _xlfn.XLOOKUP(A43,Caracterización!$B$8:$K$8,Caracterización!$B$10:$K$10,\"\")=\"Seleccione ...\"), \"Debe indicarlo en la caracterización de la comunidad\", IF(A43<>0, _xlfn.XLOOKUP(A43,Caracterización!$B$8:$K$8,Caracterización!$B$10:$K$10,\"\"), \"\"))","v":""},{"$f":"IF(AND(A43<>0, _xlfn.XLOOKUP(A43,Caracterización!$B$8:$K$8,Caracterización!$B$11:$K$11,\"\")=\"Seleccione ...\"), \"Debe indicarlo en la caracterización de la comunidad\", IF(A43<>0, _xlfn.XLOOKUP(A43,Caracterización!$B$8:$K$8,Caracterización!$B$11:$K$11,\"\"), \"\"))","v":""},{"$f":"IF(AND(A43<>0, _xlfn.XLOOKUP(A43,Caracterización!$B$8:$K$8,Caracterización!$B$19:$K$19,\"\")=\"Seleccione ...\"), \"Debe indicarlo en la caracterización de la comunidad\", IF(A43<>0, _xlfn.XLOOKUP(A43,Caracterización!$B$8:$K$8,Caracterización!$B$19:$K$19,\"\"), \"\"))","v":""},{"$f":"IF(AND(A43<>0, _xlfn.XLOOKUP(A43,Caracterización!$B$8:$K$8,Caracterización!$B$20:$K$20,\"\")=\"Seleccione ...\"), \"Debe indicarlo en la caracterización de la comunidad\", IF(A43<>0, _xlfn.XLOOKUP(A43,Caracterización!$B$8:$K$8,Caracterización!$B$20:$K$20,\"\"), \"\"))","v":""},{"$f":"IF(AND(A43<>0, _xlfn.XLOOKUP(A43,Caracterización!$B$8:$K$8,Caracterización!$B$22:$K$22,\"\")=\"Seleccione ...\"), \"Debe indicarlo en la caracterización de la comunidad\", IF(A43<>0, _xlfn.XLOOKUP(A43,Caracterización!$B$8:$K$8,Caracterización!$B$22:$K$22,\"\"), \"\"))","v":""},{"$f":"IF(AND(A43<>0, _xlfn.XLOOKUP(A43,Caracterización!$B$8:$K$8,Caracterización!$B$23:$K$23,\"\")=\"Seleccione ...\"), \"Debe indicarlo en la caracterización de la comunidad\", IF(A43<>0, _xlfn.XLOOKUP(A43,Caracterización!$B$8:$K$8,Caracterización!$B$23:$K$23,\"\"), \"\"))","v":""},{"$f":"IF(AND(A43<>0, _xlfn.XLOOKUP(A43,Caracterización!$B$8:$K$8,Caracterización!$B$28:$K$28,\"\")=\"Seleccione ...\"), \"Debe indicarlo en la caracterización de la comunidad\", IF(A43<>0, _xlfn.XLOOKUP(A43,Caracterización!$B$8:$K$8,Caracterización!$B$28:$K$28,\"\"), \"\"))","v":""},{"$f":"IF(AND(A43<>0, _xlfn.XLOOKUP(A43,Caracterización!$B$8:$K$8,Caracterización!$B$37:$K$37,\"\")=\"Seleccione ...\"), \"Debe indicarlo en la caracterización de la comunidad\", IF(A43<>0, _xlfn.XLOOKUP(A43,Caracterización!$B$8:$K$8,Caracterización!$B$37:$K$37,\"\"), \"\"))","v":""},{"$f":"IF(AND(A43<>0, _xlfn.XLOOKUP(A43,Caracterización!$B$8:$K$8,Caracterización!$B$40:$K$40,\"\")=\"Seleccione ...\"), \"Debe indicarlo en la caracterización de la comunidad\", IF(A43<>0, _xlfn.XLOOKUP(A43,Caracterización!$B$8:$K$8,Caracterización!$B$40:$K$40,\"\"), \"\"))","v":""},{"$f":"IF(AND(A43<>0, _xlfn.XLOOKUP(A43,Caracterización!$B$8:$K$8,Caracterización!$B$42:$K$42,\"\")=\"Seleccione ...\"), \"Debe indicarlo en la caracterización de la comunidad\", IF(A43<>0, _xlfn.XLOOKUP(A43,Caracterización!$B$8:$K$8,Caracterización!$B$42:$K$42,\"\"), \"\"))","v":""},{"$f":"IF(AND(A43<>0, _xlfn.XLOOKUP(A43,Caracterización!$B$8:$K$8,Caracterización!$B$72:$K$72,\"\")=\"Seleccione ...\"), \"Debe indicarlo en la caracterización de la comunidad\", IF(A43<>0, _xlfn.XLOOKUP(A43,Caracterización!$B$8:$K$8,Caracterización!$B$72:$K$72,\"\"), \"\"))","v":""}]

{"sheet":"Rangos","index":16,"n_rows":44,"n_cols":15,"rows_kept":44,"hidden":true}
["Categoría","Público","Privado","Mixto","Comunidad","Indicador / Criterios","Definición",null,"Tipo de variable","Unidades","Nivel Rojo","Nivel Naranja","Nivel Amarillo","Nivel Verde","Sin nivel"]
["Ambiental","X","X","X","X","Vulnerabilidad Ambiental del Territorio al cambio climático periodo 2011-2040","define el grado de susceptibilidad de un sistema para afrontar los efectos adversos del cambio climático. El mapa representa la vulnerabilidad de Colombia al cambio climatico para el periodo 2011-2040, a partir de los impactos potenciales (IP) 2011-2040 y la capacidad de adaptacion (CA), a traves de la formula (IP)-(IP*CA). Los Impactos Potenciales son resultado del cruce del Cambio de Precipitación para el periodo 2011-2040, del indice de sensibiliad ambiental (ISA), el Índice Relativo de Afectación (IRA), y la Capacidad de Adaptación es determinada por las condiciones socioeconómicas e institucionales, y las capacidades técnicas, que pueden actuar como barreras u oportunidades frente al cambio climático.","Automático","Cuantitatitivo - Automático","Calificación","5","4","3","1-2"]
["Ambiental","X","X","X",null," EROI (tasa de retorno energético)","Mide la relación entre la energía obtenida de un proyecto y la energía invertida para producirla. Un valor mayor indica mayor eficiencia energética. (Relación de energía generada/energía invertida)","Opcional","Cuantitativo","Relación adimensional ","< 3","3-5","5-10","> 10 ","Sin información "]
["Ambiental","X","X","X","X","Reducción anual de gases de efecto invernadero","Reducción estimada de gases de efecto invernadero (CO2e) que se espera reducir cada año debido al cambio en la fuene de energía.","Opcional","Cuantitativo","Porcentaje (%)","< 10% reducción","10%-20% reducción","20%-30% reducción","> 30% reducción","Sin información "]
["Ambiental","X","X","X","X","Territorios de alta dependencia de carbón térmico","Variable incluida para focalizar aquellas comunidades ubicadas en entes territoriales cuya estructura económica muestre altos grados de dependencia de la explotación de carbón térmico, bien sea para la exportación de este mineral o para su uso interno en el país, conforme lo informado por la Unidad de Planeación Minero-Energética (UPME) en el portal del Sistema de Información Minero Colombiano (SIMCO).","Opcional","Cuantitativo","Porcentaje (%)","< 10% dependencia","10%-20% dependencia","20%-30% dependencia","> 30% dependencia","Sin información "]
["Económico","X","X","X","X","Ahorro monetario del usuario en la factura eléctrica","Ahorros monetarios que experimenta el usuario final al formar parte de la Comunidad Energética (CEC) y consumir energía renovable.","Obligatorio","Cuantitativo","Porcentaje (%)","< 10% ahorro","10%-20% ahorro","20%-30% ahorro","> 30% ahorro","Sin información "]
["Económico","X","X","X","PORCENTAJE MENOR","Coste de generación de energía ($/MWh)","Mide el costo promedio de producir energía eléctrica desde el Sistema Interconectado Nacional (SIN). Este costo incluye los gastos de inversión inicial, operación, mantenimiento y combustibles asociados a la generación de un megavatio-hora (MWh).","Obligatorio","Cuantitativo","USD/MWh","< 230 USD/MWh","230-250 USD/MWh"," 250-280 USD/MWh","> 280 USD/MWh","Sin información "]
["Económico","X","X","X","X","La comunidad realiza el pago por servicio de energía de manera cumplida","Porcentaje de usuarios de la comunidad energética que realizan el pago del servicio energético de manera regular y dentro de los plazos establecidos.","Obligatorio","Porcentaje","Porcentaje de Usuarios (%)","> 60% ","40%-60% ","20%-40% ","< 20% ","Sin información "]
["Económico","X","X","X",null,"Tiempo de retorno de la inversión","El periodo de tiempo necesario para que las ganancias acumuladas de un proyecto igualen el costo total de la inversión. ","Obligatorio","Cuantitativo","Años","> 15 años","10-15 años","6-10 años","< 6 años","Sin información "]
["Económico","X","X","X",null,"Tasa interna de rentabilidad (TIR)","Medida de la rentabilidad de una inversión. ","Obligatorio","Cuantitativo","Porcentaje (%)","< 5%","5%-7% ","7%-10%","> 10%","Sin información "]
["Económico","X","X","X","X","Identificación de fuentes de financiación alternativas viables","Mide la existencia y diversidad de fuentes de financiación alternativas (subsidios, donaciones, préstamos) para el proyecto.","Obligatorio","Cualitativo","Categórica","No se han identificado fuentes alternativas viables.","Identificación limitada con alta dependencia de una fuente.","Identificación moderada con al menos dos fuentes viables.","Identificación robusta con múltiples fuentes viables y diversificadas.","Sin información "]
["Económico","X","X","X","X","Capacidad de cofinanciación local","Evalúa el porcentaje de recursos que la comunidad puede aportar para financiar el proyecto.","Obligatorio","Cuantitativo","Porcentaje (%)","< 10% ","10%-30% ","30%-50% ","> 50% ","Sin información "]
["Económico","X","X","X","X","Capacidad y voluntad de los miembros de la comunidad para financiar el proyecto","Grado en que los miembros de la comunidad pueden y desean contribuir financieramente al proyecto.","Opcional","Cuantitativo","% miembros de la comunidad","< 15% ","15%-30% ","30%-50% ","> 50% ","Sin información "]
["Económico","X","X","X","X","Costos energéticos promedio por usuario","Promedio de gastos en energía por hogar en la comunidad evaluada.","Opcional","Cuantitativo","$ COP/ vivienda","< 40.000 COP","40.000-80.000 COP","80.000-120.000","> 120.000 COP","Sin información "]
["Legislativo/ normativo","X","X","X","X","Disposición de instituciones externas para representar a la comunidad energética ","Evalúa cualitativamente la disposición de instituciones externas para representar formalmente a una comunidad energética en aspectos legales, técnicos, financieros o de gobernanza.","Obligatorio","Cualitativo","Categórica","Baja disposición","Media disposición","Alta disposición","Muy alta disposición","Sin información "]
["Legislativo/ normativo","X","X","X","X","¿Se cuenta con avances en lineamientos para la distribución y almacenamiento de energía? Autoconsumo","Existencia de lineamiento  que faciliten el autoconsumo y el almacenamiento energético en la comunidad.","Obligatorio","Cualitativo","Categórica","Sin avances regulatorios","Avances iniciales","Avances moderados","Lineamientos establecidos","Sin información "]
["Legislativo/ normativo","X",{"$nulls":3},"Políticas de Inclusión de Género en la Gobernanza de las Comunidades Energéticas","Evalúa la existencia, alcance y efectividad de medidas específicas orientadas a promover la inclusión de género en la gobernanza de las comunidades energéticas. ","Obligatorio","Cualitativo","Categórica","Sin medidas de inclusión","Avances iniciales en medidas","Medidas parcialmente implementadas","Medidas plenamente implementadas","Sin información "]
["Legislativo/ normativo",{"$nulls":3},"X","Facilidad de trámites y permisos","Evalúa el nivel de complejidad, costo y tiempo necesario para obtener permisos legales y normativos para el proyecto.","Obligatorio","Cualitativo","Categórica","Procesos complejos, costosos y prolongados (> 12 meses).","Procesos moderadamente complejos (6-12 meses).","Procesos simplificados (3-6 meses).","Procesos rápidos y accesibles (< 3 meses).","Sin información "]
["Social","X","X","X","X","Pobreza energética Multidimensional","Variable incluida para focalizar a aquellas comunidades ubicadas en entidades territoriales con ausencia, déficit o indisponibilidad de servicios energéticos. La Dirección de Energía Eléctrica y la Oficina de Planeación y Gestión Internacional del Ministerio de Minas y Energía construirán, dentro del mes siguiente a la expedición de la presente Resolución, el Indicador de Pobreza Energética Multidimensional (IPEM), que se aplicará para la definición de este criterio de focalización.","Automático","Cuantitativo - Automático ","Índice adimensional","> 0.7","0.4 - 0.7","0.2 - 0.4","< 0.2"]
["Social","X","X","X","X","Pobreza Multidimensional","Variable incluida para focalizar a aquellas comunidades ubicadas en entidades territoriales con los más altos niveles de pobreza multidimensional, esto es, con un índice IPM superior al 50%; como indicador prioritario a intervenir en el marco de los cierres de brechas socioeconómicas. Su medición estará dada por el último registro de Pobreza Multidimensional publicado por el DANE al nivel de desagregación municipal.","Automático","Cuantitativo - Automático ","Índice adimensional","> 0.7","0.4 - 0.7","0.2 - 0.4","< 0.2"]
["Social","X","X","X","X","Tasa de desempleo por género","Proporción de desempleo desagregado por género dentro de la comunidad.","Automático","Porcentaje -  Automático ","Porcentaje de diferencia de desempleo (%)","< 5% diferencia","5%-10% diferencia","10%-20% diferencia","> 20% diferencia"]
["Social","X","PORCENTAJE MEJOR","X",null,"Participación Femenina en la Comunidad Energética","Nivel de involucramiento de las mujeres en las actividades y decisiones de la comunidad energética.","Obligatorio","Cuantitativo","Porcentaje de mujeres en la comunidad (%)","< 20% ","20%-35% ","35%-50% ","> 50% ","Sin información "]
["Social","X","PORCENTAJE MEJOR","X",null,"Población de especial protección constitucional del sector Paz (víctimas, personas en proceso de reincorporación)","Variable incluida para focalizar poblacionalmente a aquellas comunidades que en su constitución cuente con personas registradas en el Registro Único de Víctimas (RUV), conforme a los parámetros establecidos en la Ley 1448 de 2011, o que hayan sido reconocidas como sujetos de reparación colectiva, así como personas que se encuentren activas en el proceso de reincorporación de acuerdo con el Acto Legislativo 001 del 2017 y su normatividad regulatoria.","Obligatorio","Cuantitativo","Porcentaje (%)","< 30% ","30%-40% ","40%-60% ","> 60% ","Sin información "]
["Social","X","PORCENTAJE MEJOR","X",null,"Presencia de comunidades étnicas","Variable incluida para focalizar poblacionalmente a aquellas comunidades que en su constitución cuenten con personas o comunidades autorreconocidas como étnicas según el Censo Nacional de Población y Vivienda, y/o el último registro que dé cuenta de la población étnica con fuente DANE, y lo que en la materia haya dispuesto el Ministerio del Interior.","Obligatorio","Cualitativo","Categórica","Sin presencia de comunidades étnicas","Moderada presencia de comunidades étnicas","Alta presencia de comunidades étnicas","Corresponde a una comunidad étnica","Sin información "]
["Social","X","PORCENTAJE MEJOR","X",null,"Territorios colectivos de pueblos originarios o comunidades indígenas","Variable incluida para focalizar a aquellas comunidades ubicadas en estos territorios legalmente establecidos.","Obligatorio","Cualitativo","Categórica","Sin presencia de comunidades indígenas","Moderada presencia de comunidades indígenas","Alta presencia de comunidades indígenas","Corresponde a una comunidad indígena","Sin información "]
["Social","X","PORCENTAJE MEJOR","X",null,"Territorios de Antiguos espacios territoriales de capacitación y reincorporación y áreas especiales de reincorporación colectiva","Variable incluida para focalizar a aquellas comunidades ubicadas en los AETCR en los cuales residen firmantes del Acuerdo Final de Paz, sus familias y comunidades contemplados en Decreto número 1274 del 2017, y de las AERC contemplados en el decreto del Programa de Reincorporación Integral.","Obligatorio","Cualitativo","Categórica","Sin presencia de comunidades","Moderada presencia de comunidades","Alta presencia de comunidades","Corresponde a una comunidad ","Sin información "]
["Social","X","PORCENTAJE MEJOR","X",null,"Territorios de Paz","Variable incluida para focalizar a aquellas comunidades ubicadas en entidades territoriales que están contempladas en el Programa de Desarrollo con Enfoque Territorial (PDET) y en las Zonas Más Afectadas por el Conflicto Armado (ZOMAC) que se constituyen dentro del marco para la paz, en relación con lo establecido por la Ley 2272 de 2022 “Ley de Paz Total”.","Obligatorio","Cualitativo","Categórica","Sin proyectos de paz","Proyectos en planeación","Proyectos implementados","Proyectos activos","Sin información "]
["Social","X","PORCENTAJE MEJOR","X",null,"Territorios de Sistema Nacional de la Reforma Agraria y Desarrollo Rural, entre otras","Variable incluida para focalizar a aquellas comunidades ubicadas en territorios constituidos en el marco de los términos de la Ley 160 de 1994 o demás normas concordantes o las normas que lo modifiquen o complementen.","Obligatorio","Cualitativo","Categórica","No están priorizados","Priorización en fase de planeación","Priorización en etapas iniciales","Priorización avanzada","Sin información "]
["Social","X","X","X","X","Redes de cooperación intercomunitaria","Grado de colaboración entre la comunidad y otras localidades o instituciones.","Obligatorio","Cualitativo","Categórica","No existen redes de cooperación.","Cooperación limitada y ocasional.","Cooperación moderada con al menos dos comunidades o instituciones.","Cooperación activa y sólida con múltiples comunidades o instituciones.","Sin información "]
["Social","X","X","X","X","Transparencia de los datos","Grado de acceso y claridad de la información del proyecto proporcionada a la comunidad.","Obligatorio","Cualitativo","Categórica","No existe acceso a datos","Información limitada y poco clara.","Información moderadamente accesible y clara.","Información completamente accesible, clara y actualizada.","Sin información "]
["Social","X","X","X","X","¿Cómo es la relación entre los miembros de la comunidad y las instituciones públicas y privadas pertinentes?","Evaluar la calidad de las interacciones entre la comunidad y las instituciones que podrían apoyar el proyecto.","Opcional","Cuantitativo","% miembros de la comunidad que considerar que su relación con las instituciones es buena","< 30% ","30%-50% ","50%-70% ","> 70% ","Sin información "]
["Social","X","X","X","X","¿Están dispuestos los miembros de la comunidad a invertir tiempo en actividades comunitarias de voluntariado?","Grado de disposición de los miembros de la comunidad para contribuir con tiempo y esfuerzo al proyecto.","Opcional","Cuantitativo","Porcentaje de miembros de la comunidad (%)","< 15% ","15%-30% ","30%-50% ","> 50% ","Sin información "]
["Social","X","X","X","X","¿Los techos o superficies de tierra potencialmente viables son propiedad de los miembros de la comunidad?","Evaluación de la titularidad de las áreas donde se implementará el proyecto.","Opcional","Cuantitativo","Porcentaje (%)","Ninguna superficie viable es de propiedad comunitaria.","Menos del 50% de las superficies viables son de propiedad comunitaria.","Entre 50%-80% de las superficies viables son de propiedad comunitaria.","> 80% de las superficies viables son de propiedad comunitaria.","Sin información "]
["Social","X","X","X","X","Aceptación del usuario","Grado de aprobación de los usuarios hacia el proyecto energético propuesto.","Opcional","Cuantitativo","Porcentaje (%)","< 50% aceptación","50%-60% aceptación","60-70% aceptación","> 70% aceptación","Sin información "]
["Social","X","X","X","X","Impacto de las Iniciativas Energéticas en las Mujeres de la Comunidad","Evaluación de los beneficios específicos que las mujeres obtendrán del proyecto energético.","Opcional","Porcentaje","Porcentaje de mujeres esperado que pueden obtener empleo en estos proyectos (%)","< 30% ","30%-40% ","40%-60% ","> 60% ","Sin información "]
["Social","X","X","X",null,"Capacitación en Energías Renovables con Enfoque de Género","Formación técnica ofrecida a los miembros de la comunidad, garantizando la inclusión equitativa de género.","Opcional","Cualitativa","Categórica","No se han realizado capacitaciones","Capacitaciones no completadas ","Capacitaciones completamente  ejecutadas, no documentadas","Capacitaciones completamente ejecutadas y documentadas","Sin información "]
["Social","X","X","X","X","Cumplimiento de consultas previas","Verificar si se han realizado las consultas previas requeridas por la normativa legal en la comunidad.","Opcional","Cualitativa","Categórica","No se han realizado consultas previas","Consultas previas en proceso","Consultas previas completamente realizadas, no documentadas","Consultas previas completamente realizadas y documentadas","Sin información "]
["Técnico","X","X","X",null,"¿Hay capacidad disponible en el circuito de distribución local para la capacidad de generación estimada?\n(límite del 50%)","Verificación técnica de que el circuito de distribución puede manejar el incremento de generación sin exceder el límite del 50% de capacidad.","Obligatorio","Porcentaje","Porcentaje (%)","< 10% ","10%-30% ","30%-50% ","> 50% ","Sin información "]
["Técnico","X","X","X","X","¿Se trata de una comunidad ya postulada y focalizada?","Indica si la comunidad ha sido identificada previamente en programas o estrategias relacionadas con comunidades energéticas.","Obligatorio","Cualitativo","Categórica","Ni postulada ni focalizada","En proceso de postulación","Postulada y parcialmente focalizada ","Postulada y focalizada","Sin información "]
["Técnico","X","X","X","X","Ahorro de energía de la red","Reducción estimada en el consumo de energía de la red eléctrica del SIN como resultado del proyecto.","Obligatorio","Cuantitativo","Porcentaje (%)","< 20% ","20%-35% ","35%-50% ","> 50% ","Sin información "]
["Técnico","X","X","X","X","Capacidad técnica local (no siempre es esencial, ya que la capacitación puede ser parte del proyecto.)","Habilidad de los miembros de la comunidad para operar y mantener los sistemas energéticos. ","Opcional","Cuantitativo","Porcentaje de miembros de la comunidad (%)","< 10% ","10%-20% ","20%-30% ","> 30% ","Sin información "]
["Técnico","X","X","X","X","Grado de avance del sistema energético que se proyecta implementar","Nivel de preparación técnica, operativa y administrativa del sistema energético que se busca desarrollar.","Opcional","Cualitativa","Categórica","Sin planificación","Planificación inicial","Planificación intermedia","Sistema listo para implementación","Sin información "]
["Técnico","X","X","X","X","Pérdidas de Energía Eléctrica","Evaluar las pérdidas eléctricas en áreas específicas es esencial para identificar zonas con problemáticas de conexiones irregulares. En estos casos, las soluciones orientadas a Comunidades Energéticas pueden actuar como habilitadoras para la normalización de redes eléctricas, contribuyendo a la mejora de la infraestructura, la formalización del acceso al servicio y disminución de riesgos de recaer en comportamientos ilegales o pasar a condiciones de morosidad en los pagos.","Opcional","Cuantitativo","Porcentaje","< 10% ","10%-15% ","15%-20% ","> 20% ","Sin información "]
["Técnico","X","X","X","X","Calidad del servicio (Frecuencia y duración de interrupciones)","Incorporar variables de calidad del servicio permitirá reflejar la continuidad percibida del servicio eléctrico en áreas específicas. Esto puede aportar información valiosa para priorizar aquellas zonas con deficiencias en la calidad del servicio, donde las Comunidades Energéticas podrían generar impactos positivos.","Opcional","Cualitativa","Categórica","Alta calidad: Menos de 3 interrupciones al mes con duración promedio inferior a 1 hora.","Moderada calidad - alta: Entre 3 y 6 interrupciones al mes con duración promedio entre 1 y 2 horas.","Moderada calidad - baja: Entre 7 y 10 interrupciones al mes con duración promedio entre 2 y 4 horas.","Baja calidad: Más de 10 interrupciones al mes con duración promedio superior a 4 horas.","Sin información "]

{"sheet":"Fortalezas_y_Debilidades","index":17,"n_rows":32,"n_cols":7,"rows_kept":32,"hidden":true}
[]
[]
[null,"Categoría","Pregunta","Respuesta (Sí/No)",null,null,"Viabilidad"]
[null,"Ambiental","¿Se han realizado estudios de impacto ambiental para asegurar que la infraestructura no afecta negativamente al entorno natural?","No sé",null,null,"Sí"]
[null,"Ambiental","¿La Comunidad Energética ya tiene identificado los permisos ambientales y la gestión administrativa que se requiere para la implementación del proyecto ?",{"$nulls":3},"No"]
[null,"Económica","¿Existe capacidad y disposición de los miembros de la comunidad para financiar parcialmente el proyecto?",{"$nulls":3},"No sé"]
[null,"Social","¿Existen porcentajes significativos de viviendas sin acceso a energía? (referencia +70%)"]
[null,"Social","¿Hay disposición por parte de los miembros de la comunidad para participar en actividades de voluntariado relacionadas con el proyecto?"]
[null,"Social","¿Existen iniciativas comunitarias previas que puedan ser aprovechadas para este proyecto?"]
[null,"Social","¿La comunidad incluye poblaciones de especial protección constitucional o comunidades étnicas?\n*Entre los grupos de especial protección se encuentran los niños, los ancianos, los disminuidos físicos, síquicos y sensoriales, las mujeres cabeza de familia, las personas desplazadas por la violencia, y aquellas que se encuentran en extrema pobreza ."]
[null,"Social","¿Se observa una participación femenina activa en las actividades comunitarias?"]
[null,"Social","¿Se han cuantificado los beneficios a los miembros de la comunidad, en términos de acceso a energía, generación de empleo o mejoras de infraestructura?"]
[null,"Social","¿Se incluyen grupos sociales vulnerables o priorizados, por ej. comunidades étnicas, asegurando el acceso a la energía generada por la comunidad?"]
[null,"Social","¿Se tienen estructuradas actividades educativas sobre energías renovables, eficiencia energética y la importancia de la participación en el proyecto?"]
[null,"Normativa","¿Se dispone de una regulación adecuada para el almacenamiento de energía?"]
[null,"Normativa","¿Alguna institución externa apoya o respalda la comunidad en el desarrollo del proyecto?"]
[null,"Normativa","¿La comunidad tiene acceso a asesoramiento legal para cumplir con los trámites normativos? "]
[null,"Normativa","¿Se cuenta con permisos de uso de suelo y otros derechos para instalar las infraestructuras de generación de energía?"]
[null,"Normativa","¿La Comunidad Energética está o se encuentra en proceso de estar reconocida legalmente como entidad jurídica (asociación, cooperativa o consorcio)?"]
[null,"Técnica","¿El circuito de distribución local tiene capacidad para soportar la generación estimada (límite del 50%)?"]
[null,"Técnica","¿En la Comunidad se cuentan con espacios accesibles para la instalación de infraestructura requerida para la generación de energía?"]
[null,"Técnica","¿Existen subestaciones cercanas a la Comunidad Energética para la conexión a la red? Considerando una distancia a la redonda de hasta 5 kilómetros."]
[null,"Técnica","¿Se han evaluado los posibles riesgos financieros, operativos y/o sociales que pueden afectar el funcionamiento de la Comunidad Energética?"]
[null,"Financiera","¿Actualmente existen incentivos, subvenciones o apoyos gubernamentales disponibles para la comunidad energética?"]
[null,"Participativa","¿Existe un sistema de gobernanza establecido y están definidos los mecanismos de participación en el área donde se implementará la comunidad energética?"]
[null,"Participativa","¿Están definidas las formas de distribución de la energía y las actividades de la Comunidad Energética, desde su uso hasta la distribución de los beneficios?"]
[{"$nulls":3},{"$f":"COUNTIF(D4:D26, \"Sí\") / COUNTA(D4:D26)","v":{"v":0,"d":"0%"}}]
[{"$nulls":3},{"$f":"COUNTIF(D4:D26, \"No\") / COUNTA(D4:D26)","v":{"v":0,"d":"0%"}}]
[null,"SEMÁFORO",null,{"$f":"COUNTIF(D4:D26, \"No sé\") / COUNTA(D4:D26)","v":{"v":1,"d":"100%"}}]
[null,"Verde: Más del 70% son fortalezas"]
[null,"Amarillo: Más del 50% son fortalezas "]
[null,"Rojo: Menos del 50% son fortalezas"]